{"text_format":"2","workbook":"xlsx","n_sheets":11,"sheets":["Home","InfoReti","listaReti","dBase","dbFissaggi","dbMat","gestImg","SupGen","Dwh_mig","Trads","tradsDB"],"not_rendered":{"charts":0,"images":70,"macros":1,"external_links":0,"defined_names":156,"comments":0,"pivot_tables":0},"unopened":[],"bounds":{"document_bytes":16777216,"sheet_cells":100000,"run_cost":"one","rows_first":2000,"rows_last":500,"rows_between":2000,"halvings":0,"cell_chars":16384,"cell_head_chars":4096},"cells_cut":0,"cells_raw":0,"read":"whole","date_system":"1900"}

{"sheet":"Home","index":0,"n_rows":49,"n_cols":32,"rows_kept":49,"cut":false,"hidden":false,"merged":[[33,10,34,10],[33,15,34,16],[42,10,43,10],[42,11,43,11],[42,12,43,14],[42,15,43,16],[33,9,34,9],[36,9,37,9],[33,11,34,11],[33,12,34,14],[39,9,40,9],[42,9,43,9],[39,10,40,10],[39,11,40,11],[39,12,40,14],[39,15,40,16],[36,10,37,10],[36,11,37,11],[36,12,37,14],[36,15,37,16],[36,1,37,3],[36,4,37,7],[9,31,10,31],[6,28,7,29],[6,30,7,30],[12,28,13,28],[12,29,13,29],[6,18,7,19],[12,30,13,30],[12,31,13,31],[9,28,10,29],[12,9,13,9],[6,31,8,31],[9,30,10,30],[9,9,10,9],[15,9,16,9],[9,12,10,14],[9,15,10,16],[12,12,13,14],[12,10,13,10],[12,11,13,11],[12,15,13,16],[33,1,34,3],[33,4,34,7],[3,10,4,12],[18,1,19,3],[15,1,16,3],[15,4,16,7],[9,1,10,7],[18,9,19,9],[21,10,22,10],[21,11,22,11],[21,12,22,14],[15,12,16,14],[3,13,4,13],[18,17,19,21],[9,11,10,11],[18,11,19,11],[12,1,13,3],[12,4,13,7],[6,1,7,3],[9,10,10,10],[21,9,22,9],[18,4,19,7],[6,15,7,17],[1,21,1,25],[3,21,4,23],[6,24,7,25],[18,12,19,14],[18,15,19,16],[3,24,4,25],[9,25,10,25],[12,25,13,25],[12,22,13,24],[9,22,10,24],[9,17,10,21],[12,17,13,21],[15,25,16,25],[15,22,16,24],[15,17,16,21],[18,25,19,25],[3,15,4,17],[1,10,1,16],[6,21,7,23],[3,18,4,19],[15,10,16,10],[15,11,16,11],[15,15,16,16],[18,22,19,24],[30,11,31,11],[30,12,31,14],[30,15,31,16],[18,10,19,10],[27,1,28,4],[27,5,28,7],[21,1,22,4],[21,5,22,7],[27,10,28,10],[27,11,28,11],[27,12,28,14],[27,15,28,16],[24,5,25,6],[27,9,28,9],[30,1,31,3],[30,4,31,7],[24,1,25,4],[24,9,25,9],[30,9,31,9],[30,10,31,10],[24,10,25,10],[24,11,25,11],[24,12,25,14],[24,15,25,16],[48,15,49,17],[48,18,49,23],[24,25,25,25],[27,25,28,25],[30,25,31,25],[33,25,34,25],[36,25,37,25],[21,17,22,21],[24,17,25,21],[27,17,28,21],[30,17,31,21],[33,17,34,21],[36,17,37,21],[21,22,22,24],[24,22,25,24],[27,22,28,24],[30,22,31,24],[33,22,34,24],[36,22,37,24],[21,15,22,16],[21,25,22,25],[1,1,1,7],[1,28,1,31],[6,4,7,6],[6,7,7,8],[45,1,48,7],[39,22,40,24],[42,22,43,24],[45,22,46,24],[42,28,42,30],[43,28,43,30],[44,28,44,30],[40,28,41,30],[40,31,41,31],[39,25,40,25],[42,25,43,25],[45,25,46,25],[45,9,46,9],[45,10,46,10],[45,11,46,11],[45,12,46,14],[45,15,46,16],[39,17,40,21],[42,17,43,21],[45,17,46,21]]}
[]
[null,{"$f":"Dwh_mig!A35","v":"Safety Net Calculator 1.31"},{"$nulls":8},{"$f":"+tradN(477)","v":"SKYLIGHT GEOMETRIC DATA"},{"$nulls":10},{"$f":"+tradN(483)","v":"SAFETY NET COMPOSITION"},{"$nulls":6},{"$f":"tradN(446)","v":"LIST OF MATERIALS"}]
[]
[{"$nulls":10},{"$f":"+tradN(476)","v":"NUMBER OF SKYLIGHTS"},{"$nulls":4},{"$f":"tradN(275)&(IF(schemaSel=\"E\",\" (Y) [cm] <= (\"&dBase!AE2&\")\",\" (X) [cm]\"& CHAR(10) &\" <= (\"&dBase!AE2&\")\"))","v":"WIDTH (X) [cm]\n <= (450)"},{"$nulls":5},{"$f":"tradN(485)","v":"INSTALLATION OF FALL PROTECTION NET"}]
[]
[]
[null,{"$f":"+tradN(4)","v":"LANGUAGE"},null,null,"English",null,null,{"$f":"+_xlfn.XLOOKUP(linguaSel,Dwh_mig!A3:A22,Dwh_mig!E3:E22)","v":{"$error":"#VALUE!"}},{"$nulls":7},{"$f":"tradN(276)&\" (L) [m]\"","v":"LENGTH (L) [m]"},{"$nulls":5},{"$f":"tradN(484)","v":"FALL ARREST NET MODEL CHOSEN"},{"$nulls":6},{"$f":"+tradN(26)&\" \"","v":"DISCOUNT "},null,null,{"$f":"+tradN(167)","v":"TOTAL WEIGHT"}]
[]
[]
[null,{"$f":"tradN(482)","v":"GENERAL PROJECT DATA"},{"$nulls":8},{"$f":"tradN(23)","v":"NO."},{"$f":"tradN(286)","v":"SCHEME"},{"$f":"tradN(275)&\" (X/Y) [cm] x \"&tradN(276)&\"(L) [m]\"","v":"WIDTH (X/Y) [cm] x LENGTH(L) [m]"},null,null,{"$f":"tradN(12)","v":"CODE"},null,{"$f":"tradN(7)&\" /\n[i] \"&\"[mm] / \"&tradN(290)","v":"SUBSTRUCTURE /\n[i] [mm] / FIXING ACCESSORY"},{"$nulls":4},{"$f":"+tradN(231)","v":"FIXINGS"},null,null,{"$f":"tradN(119)","v":"QT."},null,null,{"$f":"+tradN(26)&\" \"&tradN(62)","v":"DISCOUNT FASTENINGS"},null,null,{"$f":"+IFERROR(SUM(AF15:AF46),0)","v":0}]
[]
[]
[null,{"$f":"+tradN(285)","v":"INSTALLATION TYPE"},null,null,"INTERNAL INSTALLATION",{"$nulls":4},1,{"$f":"UniciFiltro(2,J13)","v":""},{"$f":"UniciFiltro(3,J13)","v":""},{"$f":"IF(K13=\"\",\"\",UniciFiltro(4,J13)&\" [cm]\"&\" x \"&UniciFiltro(5,J13)&\" [m]\")","v":""},null,null,{"$f":"UniciFiltro(16,J13)","v":""},null,{"$f":"+_xlfn.IFS(L13=\"\",\"\",OR(L13=\"A\",L13=\"B\",L13=\"C\"),UniciFiltro(8,J13)&\" / \"&UniciFiltro(9,J13),L13=\"D\",UniciFiltro(8,J13),L13=\"E\",UniciFiltro(8,J13)&\" /\"&CHAR(10) &\" [i] \"&UniciFiltro(18,J13)&\" mm\")","v":""},{"$nulls":4},{"$f":"UniciFiltro(17,J13)","v":""},null,null,{"$f":"+_xlfn.IFNA(_xlfn.XLOOKUP(J13,dbMat!$F$33:$F$51,dbMat!$G$33:$G$51),\"\")","v":""},null,null,{"$f":"+tradN(12)","v":"CODE"},{"$f":"+tradN(119)","v":"QT."},{"$f":"+tradN(26)","v":"DISCOUNT"},{"$f":"+tradN(121)","v":"WEIGHT"}]
[]
[{"$nulls":28},{"$f":"IFERROR(_xlfn._xlws.FILTER(_xlfn.CHOOSECOLS(dbMat[],1,5,3,7),dbMat[Qt]<>0),\"\")","v":""}]
[null,{"$f":"+tradN(472)","v":"ENVIRONMENT TYPE"},null,null,"CORROSIVE",{"$nulls":4},2,{"$f":"UniciFiltro(2,J16)","v":""},{"$f":"UniciFiltro(3,J16)","v":""},{"$f":"IF(K16=\"\",\"\",UniciFiltro(4,J16)&\" [cm]\"&\" x \"&UniciFiltro(5,J16)&\" [m]\")","v":""},null,null,{"$f":"UniciFiltro(16,J16)","v":""},null,{"$f":"+_xlfn.IFS(L16=\"\",\"\",OR(L16=\"A\",L16=\"B\",L16=\"C\"),UniciFiltro(8,J16)&\" / \"&UniciFiltro(9,J16),L16=\"D\",UniciFiltro(8,J16),L16=\"E\",UniciFiltro(8,J16)&\" /\"&CHAR(10) &\" [i] \"&UniciFiltro(18,J16)&\" mm\")","v":""},{"$nulls":4},{"$f":"UniciFiltro(17,J16)","v":""},null,null,{"$f":"+_xlfn.IFNA(_xlfn.XLOOKUP(J16,dbMat!$F$33:$F$51,dbMat!$G$33:$G$51),\"\")","v":""}]
[]
[]
[null,{"$f":"tradN(2)&\" \"&tradN(471)","v":"SUPPORT INSTALLATION"},null,null,"WITH SUPPORTS",{"$nulls":4},3,{"$f":"UniciFiltro(2,J19)","v":""},{"$f":"UniciFiltro(3,J19)","v":""},{"$f":"IF(K19=\"\",\"\",UniciFiltro(4,J19)&\" [cm]\"&\" x \"&UniciFiltro(5,J19)&\" [m]\")","v":""},null,null,{"$f":"UniciFiltro(16,J19)","v":""},null,{"$f":"+_xlfn.IFS(L19=\"\",\"\",OR(L19=\"A\",L19=\"B\",L19=\"C\"),UniciFiltro(8,J19)&\" / \"&UniciFiltro(9,J19),L19=\"D\",UniciFiltro(8,J19),L19=\"E\",UniciFiltro(8,J19)&\" /\"&CHAR(10) &\" [i] \"&UniciFiltro(18,J19)&\" mm\")","v":""},{"$nulls":4},{"$f":"UniciFiltro(17,J19)","v":""},null,null,{"$f":"+_xlfn.IFNA(_xlfn.XLOOKUP(J19,dbMat!$F$33:$F$51,dbMat!$G$33:$G$51),\"\")","v":""}]
[]
[]
[null,{"$f":"+tradN(475)","v":"DISTANCE FROM FLOOR LEVEL"},null,null,null,"0-50 cm",null,null,null,4,{"$f":"UniciFiltro(2,J22)","v":""},{"$f":"UniciFiltro(3,J22)","v":""},{"$f":"IF(K22=\"\",\"\",UniciFiltro(4,J22)&\" [cm]\"&\" x \"&UniciFiltro(5,J22)&\" [m]\")","v":""},null,null,{"$f":"UniciFiltro(16,J22)","v":""},null,{"$f":"+_xlfn.IFS(L22=\"\",\"\",OR(L22=\"A\",L22=\"B\",L22=\"C\"),UniciFiltro(8,J22)&\" / \"&UniciFiltro(9,J22),L22=\"D\",UniciFiltro(8,J22),L22=\"E\",UniciFiltro(8,J22)&\" /\"&CHAR(10) &\" [i] \"&UniciFiltro(18,J22)&\" mm\")","v":""},{"$nulls":4},{"$f":"UniciFiltro(17,J22)","v":""},null,null,{"$f":"+_xlfn.IFNA(_xlfn.XLOOKUP(J22,dbMat!$F$33:$F$51,dbMat!$G$33:$G$51),\"\")","v":""}]
[]
[]
[null,{"$f":"tradN(286)&\" \"&tradN(471)","v":"SCHEME INSTALLATION"},null,null,null,"A",null,null,null,5,{"$f":"UniciFiltro(2,J25)","v":""},{"$f":"UniciFiltro(3,J25)","v":""},{"$f":"IF(K25=\"\",\"\",UniciFiltro(4,J25)&\" [cm]\"&\" x \"&UniciFiltro(5,J25)&\" [m]\")","v":""},null,null,{"$f":"UniciFiltro(16,J25)","v":""},null,{"$f":"+_xlfn.IFS(L25=\"\",\"\",OR(L25=\"A\",L25=\"B\",L25=\"C\"),UniciFiltro(8,J25)&\" / \"&UniciFiltro(9,J25),L25=\"D\",UniciFiltro(8,J25),L25=\"E\",UniciFiltro(8,J25)&\" /\"&CHAR(10) &\" [i] \"&UniciFiltro(18,J25)&\" mm\")","v":""},{"$nulls":4},{"$f":"UniciFiltro(17,J25)","v":""},null,null,{"$f":"+_xlfn.IFNA(_xlfn.XLOOKUP(J25,dbMat!$F$33:$F$51,dbMat!$G$33:$G$51),\"\")","v":""}]
[]
[]
[null,{"$f":"+SupGen!I16","v":"SUBSTRUCTURE"},null,null,null,"CONCRETE",null,null,null,6,{"$f":"UniciFiltro(2,J28)","v":""},{"$f":"UniciFiltro(3,J28)","v":""},{"$f":"IF(K28=\"\",\"\",UniciFiltro(4,J28)&\" [cm]\"&\" x \"&UniciFiltro(5,J28)&\" [m]\")","v":""},null,null,{"$f":"UniciFiltro(16,J28)","v":""},null,{"$f":"+_xlfn.IFS(L28=\"\",\"\",OR(L28=\"A\",L28=\"B\",L28=\"C\"),UniciFiltro(8,J28)&\" / \"&UniciFiltro(9,J28),L28=\"D\",UniciFiltro(8,J28),L28=\"E\",UniciFiltro(8,J28)&\" /\"&CHAR(10) &\" [i] \"&UniciFiltro(18,J28)&\" mm\")","v":""},{"$nulls":4},{"$f":"UniciFiltro(17,J28)","v":""},null,null,{"$f":"+_xlfn.IFNA(_xlfn.XLOOKUP(J28,dbMat!$F$33:$F$51,dbMat!$G$33:$G$51),\"\")","v":""}]
[]
[]
[null,{"$f":"tradN(290)","v":"FIXING ACCESSORY"},null,null,"LBB4030 40X3 MM",{"$nulls":4},7,{"$f":"UniciFiltro(2,J31)","v":""},{"$f":"UniciFiltro(3,J31)","v":""},{"$f":"IF(K31=\"\",\"\",UniciFiltro(4,J31)&\" [cm]\"&\" x \"&UniciFiltro(5,J31)&\" [m]\")","v":""},null,null,{"$f":"UniciFiltro(16,J31)","v":""},null,{"$f":"+_xlfn.IFS(L31=\"\",\"\",OR(L31=\"A\",L31=\"B\",L31=\"C\"),UniciFiltro(8,J31)&\" / \"&UniciFiltro(9,J31),L31=\"D\",UniciFiltro(8,J31),L31=\"E\",UniciFiltro(8,J31)&\" /\"&CHAR(10) &\" [i] \"&UniciFiltro(18,J31)&\" mm\")","v":""},{"$nulls":4},{"$f":"UniciFiltro(17,J31)","v":""},null,null,{"$f":"+_xlfn.IFNA(_xlfn.XLOOKUP(J31,dbMat!$F$33:$F$51,dbMat!$G$33:$G$51),\"\")","v":""}]
[]
[]
[null,{"$f":"tradN(231)","v":"FIXINGS"},null,null,"SKREVO7580",{"$nulls":4},8,{"$f":"UniciFiltro(2,J34)","v":""},{"$f":"UniciFiltro(3,J34)","v":""},{"$f":"IF(K34=\"\",\"\",UniciFiltro(4,J34)&\" [cm]\"&\" x \"&UniciFiltro(5,J34)&\" [m]\")","v":""},null,null,{"$f":"UniciFiltro(16,J34)","v":""},null,{"$f":"+_xlfn.IFS(L34=\"\",\"\",OR(L34=\"A\",L34=\"B\",L34=\"C\"),UniciFiltro(8,J34)&\" / \"&UniciFiltro(9,J34),L34=\"D\",UniciFiltro(8,J34),L34=\"E\",UniciFiltro(8,J34)&\" /\"&CHAR(10) &\" [i] \"&UniciFiltro(18,J34)&\" mm\")","v":""},{"$nulls":4},{"$f":"UniciFiltro(17,J34)","v":""},null,null,{"$f":"+_xlfn.IFNA(_xlfn.XLOOKUP(J34,dbMat!$F$33:$F$51,dbMat!$G$33:$G$51),\"\")","v":""}]
[]
[]
[{"$nulls":9},9,{"$f":"UniciFiltro(2,J37)","v":""},{"$f":"UniciFiltro(3,J37)","v":""},{"$f":"IF(K37=\"\",\"\",UniciFiltro(4,J37)&\" [cm]\"&\" x \"&UniciFiltro(5,J37)&\" [m]\")","v":""},null,null,{"$f":"UniciFiltro(16,J37)","v":""},null,{"$f":"+_xlfn.IFS(L37=\"\",\"\",OR(L37=\"A\",L37=\"B\",L37=\"C\"),UniciFiltro(8,J37)&\" / \"&UniciFiltro(9,J37),L37=\"D\",UniciFiltro(8,J37),L37=\"E\",UniciFiltro(8,J37)&\" /\"&CHAR(10) &\" [i] \"&UniciFiltro(18,J37)&\" mm\")","v":""},{"$nulls":4},{"$f":"UniciFiltro(17,J37)","v":""},null,null,{"$f":"+_xlfn.IFNA(_xlfn.XLOOKUP(J37,dbMat!$F$33:$F$51,dbMat!$G$33:$G$51),\"\")","v":""}]
[]
[]
[{"$nulls":9},10,{"$f":"UniciFiltro(2,J40)","v":""},{"$f":"UniciFiltro(3,J40)","v":""},{"$f":"IF(K40=\"\",\"\",UniciFiltro(4,J40)&\" [cm]\"&\" x \"&UniciFiltro(5,J40)&\" [m]\")","v":""},null,null,{"$f":"UniciFiltro(16,J40)","v":""},null,{"$f":"+_xlfn.IFS(L40=\"\",\"\",OR(L40=\"A\",L40=\"B\",L40=\"C\"),UniciFiltro(8,J40)&\" / \"&UniciFiltro(9,J40),L40=\"D\",UniciFiltro(8,J40),L40=\"E\",UniciFiltro(8,J40)&\" /\"&CHAR(10) &\" [i] \"&UniciFiltro(18,J40)&\" mm\")","v":""},{"$nulls":4},{"$f":"UniciFiltro(17,J40)","v":""},null,null,{"$f":"+_xlfn.IFNA(_xlfn.XLOOKUP(J40,dbMat!$F$33:$F$51,dbMat!$G$33:$G$51),\"\")","v":""}]
[{"$nulls":28},{"$f":"+tradN(290)","v":"FIXING ACCESSORY"},null,null,{"$f":"+tradN(119)","v":"QT."}]
[]
[{"$nulls":9},11,{"$f":"UniciFiltro(2,J43)","v":""},{"$f":"UniciFiltro(3,J43)","v":""},{"$f":"IF(K43=\"\",\"\",UniciFiltro(4,J43)&\" [cm]\"&\" x \"&UniciFiltro(5,J43)&\" [m]\")","v":""},null,null,{"$f":"UniciFiltro(16,J43)","v":""},null,{"$f":"+_xlfn.IFS(L43=\"\",\"\",OR(L43=\"A\",L43=\"B\",L43=\"C\"),UniciFiltro(8,J43)&\" / \"&UniciFiltro(9,J43),L43=\"D\",UniciFiltro(8,J43),L43=\"E\",UniciFiltro(8,J43)&\" /\"&CHAR(10) &\" [i] \"&UniciFiltro(18,J43)&\" mm\")","v":""},{"$nulls":4},{"$f":"UniciFiltro(17,J43)","v":""},null,null,{"$f":"+_xlfn.IFNA(_xlfn.XLOOKUP(J43,dbMat!$F$33:$F$51,dbMat!$G$33:$G$51),\"\")","v":""},null,null,{"$f":"IF(dbMat!A68=0,\"\",dbMat!A68)","v":""},null,null,{"$f":"IF(dbMat!B68=\"\",\"\",dbMat!B68)","v":""}]
[{"$nulls":28},{"$f":"IF(dbMat!A69=\"\",\"\",dbMat!A69)","v":""},null,null,{"$f":"IF(dbMat!B69=\"\",\"\",dbMat!B69)","v":""}]
[{"$nulls":28},{"$f":"IF(dbMat!A70=\"\",\"\",dbMat!A70)","v":""},null,null,{"$f":"IF(dbMat!B70=\"\",\"\",dbMat!B70)","v":""}]
[null,"You are using the latest available version",{"$nulls":7},12,{"$f":"UniciFiltro(2,J46)","v":""},{"$f":"UniciFiltro(3,J46)","v":""},{"$f":"IF(K46=\"\",\"\",UniciFiltro(4,J46)&\" [cm]\"&\" x \"&UniciFiltro(5,J46)&\" [m]\")","v":""},null,null,{"$f":"UniciFiltro(16,J46)","v":""},null,{"$f":"+_xlfn.IFS(L46=\"\",\"\",OR(L46=\"A\",L46=\"B\",L46=\"C\"),UniciFiltro(8,J46)&\" / \"&UniciFiltro(9,J46),L46=\"D\",UniciFiltro(8,J46),L46=\"E\",UniciFiltro(8,J46)&\" /\"&CHAR(10) &\" [i] \"&UniciFiltro(18,J46)&\" mm\")","v":""},{"$nulls":4},{"$f":"UniciFiltro(17,J46)","v":""},null,null,{"$f":"+_xlfn.IFNA(_xlfn.XLOOKUP(J46,dbMat!$F$33:$F$51,dbMat!$G$33:$G$51),\"\")","v":""}]
[]
[]
[{"$nulls":15},{"$f":"+tradN(6)","v":"PROJECT REF."}]

{"sheet":"InfoReti","index":1,"n_rows":2,"n_cols":20,"rows_kept":2,"cut":false,"hidden":true,"merged":[]}
[null,{"$f":"+_xlfn.SEQUENCE(1,19,2)","v":2},3,4,5,6,7,8,9,10,11,12,13,14,15,16,17,18,19,20]
["ID","num","schema","WIDTH (X/Y) [cm]","(L) [m]","code","intGreche","subStruc","fixiAcc","doppSing","interFix","Sbordo","IntStaple","Sovra","infoCalcolo","ResumeReti","ResumeFixHome","interasse"]

{"sheet":"listaReti","index":2,"n_rows":1249,"n_cols":532,"rows_kept":139,"cut":true,"hidden":true,"merged":[],"bounds":{"rows_first":62,"rows_last":15,"rows_between":62,"halvings":5}}
["ID","OVERNET1020B","Sovra",{"$nulls":15},"ID","OVERNET1020B","Sovra",{"$nulls":17},"ID",{"$f":"+ov1220B","v":"OVERNET1220B"},"Sovra",{"$nulls":15},"ID",{"$f":"+ov1220B","v":"OVERNET1220B"},"Sovra",{"$nulls":17},"ID",{"$f":"+ov1520B","v":"OVERNET1520B"},"Sovra",{"$nulls":15},"ID",{"$f":"+ov1520B","v":"OVERNET1520B"},"Sovra",{"$nulls":17},"ID",{"$f":"ov1830B","v":"OVERNET1830B"},"Sovra",{"$nulls":15},"ID",{"$f":"DL1","v":"OVERNET1830B"},"Sovra",{"$nulls":17},"ID",{"$f":"ov2030B","v":"OVERNET2030B"},{"$nulls":16},"ID",{"$f":"EX1","v":"OVERNET2030B"},{"$nulls":18},"ID",{"$f":"ov2230B","v":"OVERNET2230B"},{"$nulls":16},"ID",{"$f":"GJ1","v":"OVERNET2230B"},{"$nulls":18},"ID",{"$f":"ov2440B","v":"OVERNET2440B"},{"$nulls":16},"ID",{"$f":"HV1","v":"OVERNET2440B"},{"$nulls":18},"ID",{"$f":"+ro1020G","v":"RONET1020"},"Sovra",{"$nulls":15},"ID",{"$f":"JH1","v":"RONET1020"},"Sovra",{"$nulls":17},"ID",{"$f":"+ro1220G","v":"RONET1220"},"Sovra",{"$nulls":15},"ID",{"$f":"+ro1220G","v":"RONET1220"},"Sovra",{"$nulls":17},"ID",{"$f":"+ro1520G","v":"RONET1520"},"Sovra",{"$nulls":15},"ID",{"$f":"+MF1","v":"RONET1520"},"Sovra",{"$nulls":17},"ID",{"$f":"+ro1830G","v":"RONET1830"},"Sovra",{"$nulls":15},"ID",{"$f":"NR1","v":"RONET1830"},"Sovra",{"$nulls":17},"ID",{"$f":"+ro2030G","v":"RONET2030"},{"$nulls":16},"ID",{"$f":"PD1","v":"RONET2030"},{"$nulls":18},"ID",{"$f":"+ro2230G","v":"RONET2230"},{"$nulls":16},"ID",{"$f":"QP1","v":"RONET2230"},{"$nulls":18},"ID",{"$f":"+ro2530G","v":"RONET2530"},{"$nulls":16},"ID",{"$f":"SB1","v":"RONET2530"}]
[null,{"$f":"+D17","v":0},0.5,{"$nulls":8},{"$f":"B1&\" [i]\"","v":"OVERNET1020B [i]"},"fissaggiX","Accessori","Qt Accessori","Fix","qt Fix",null,null,{"$f":"+V17*2","v":0},0.5,{"$nulls":8},{"$f":"T1&\" [i]\"","v":"OVERNET1020B [i]"},"fissaggiX","Accessori","Qt Accessori","Fix","qt Fix",null,"OVERSPRING","OVERSTAPLE",null,{"$f":"+AP17","v":0},0.5,{"$nulls":8},{"$f":"AN1&\" [i]\"","v":"OVERNET1220B [i]"},"fissaggiX","Accessori","Qt Accessori","Fix","qt Fix",null,null,{"$f":"+BH17*BF17","v":0},0.5,{"$nulls":8},{"$f":"BF1&\" [i]\"","v":"OVERNET1220B [i]"},"fissaggiX","Accessori","Qt Accessori","Fix","qt Fix",null,"OVERSPRING","OVERSTAPLE",null,{"$f":"+CB17*BZ17","v":0},0.5,{"$nulls":8},{"$f":"BZ1&\" [i]\"","v":"OVERNET1520B [i]"},"fissaggiX","Accessori","Qt Accessori","Fix","qt Fix",null,null,{"$f":"+CT17*CR17","v":0},0.5,{"$nulls":8},{"$f":"CR1&\" [i]\"","v":"OVERNET1520B [i]"},"fissaggiX","Accessori","Qt Accessori","Fix","qt Fix",null,"OVERSPRING","OVERSTAPLE",null,{"$f":"+DN17*DL17","v":0},0.5,{"$nulls":8},{"$f":"DL1&\" [i]\"","v":"OVERNET1830B [i]"},"fissaggiX","Accessori","Qt Accessori","Fix","qt Fix",null,null,{"$f":"+EF17*ED17","v":0},0.5,{"$nulls":8},{"$f":"ED1&\" [i]\"","v":"OVERNET1830B [i]"},"fissaggiX","Accessori","Qt Accessori","Fix","qt Fix",null,"OVERSPRING","OVERSTAPLE",null,{"$f":"+EZ17*EX17","v":0},1,{"$nulls":8},{"$f":"EX1&\" [i]\"","v":"OVERNET2030B [i]"},"fissaggiX","Accessori","Qt Accessori","Fix","qt Fix",null,null,{"$f":"+FR17*FP17","v":0},{"$nulls":9},{"$f":"FP1&\" [i]\"","v":"OVERNET2030B [i]"},"fissaggiX","Accessori","Qt Accessori","Fix","qt Fix",null,"OVERSPRING","OVERSTAPLE",null,{"$f":"+GL17*GJ17","v":0},{"$nulls":9},{"$f":"GJ1&\" [i]\"","v":"OVERNET2230B [i]"},"fissaggiX","Accessori","Qt Accessori","Fix","qt Fix",null,null,{"$f":"+HD17*HB17","v":0},{"$nulls":9},{"$f":"HB1&\" [i]\"","v":"OVERNET2230B [i]"},"fissaggiX","Accessori","Qt Accessori","Fix","qt Fix",null,"OVERSPRING","OVERSTAPLE",null,{"$f":"+HX17*HV17","v":0},{"$nulls":9},{"$f":"HV1&\" [i]\"","v":"OVERNET2440B [i]"},"fissaggiX","Accessori","Qt Accessori","Fix","qt Fix",null,null,{"$f":"+IP17*IN17","v":0},{"$nulls":9},{"$f":"IN1&\" [i]\"","v":"OVERNET2440B [i]"},"fissaggiX","Accessori","Qt Accessori","Fix","qt Fix",null,"OVERSPRING","OVERSTAPLE",null,{"$f":"+JJ17*JH17","v":0},0.5,{"$nulls":8},{"$f":"JH1&\" [i]\"","v":"RONET1020 [i]"},"fissaggiX","Accessori","Qt Accessori","Fix","qt Fix",null,null,{"$f":"+KB17*JZ17","v":0},0.5,{"$nulls":8},{"$f":"JZ1&\" [i]\"","v":"RONET1020 [i]"},"fissaggiX","Accessori","Qt Accessori","Fix","qt Fix",null,"OVERSPRING","OVERSTAPLE",null,{"$f":"+KV17*KT17","v":0},0.5,{"$nulls":8},{"$f":"KT1&\" [i]\"","v":"RONET1220 [i]"},"fissaggiX","Accessori","Qt Accessori","Fix","qt Fix",null,null,{"$f":"+LN17*LL17","v":0},0.5,{"$nulls":8},{"$f":"LL1&\" [i]\"","v":"RONET1220 [i]"},"fissaggiX","Accessori","Qt Accessori","Fix","qt Fix",null,"OVERSPRING","OVERSTAPLE",null,{"$f":"+MH17*MF17","v":0},0.5,{"$nulls":8},{"$f":"MF1&\" [i]\"","v":"RONET1520 [i]"},"fissaggiX","Accessori","Qt Accessori","Fix","qt Fix",null,null,{"$f":"+MZ17*MX17","v":0},0.5,{"$nulls":8},{"$f":"MX1&\" [i]\"","v":"RONET1520 [i]"},"fissaggiX","Accessori","Qt Accessori","Fix","qt Fix",null,"OVERSPRING","OVERSTAPLE",null,{"$f":"+NT17*NR17","v":0},0.5,{"$nulls":8},{"$f":"NR1&\" [i]\"","v":"RONET1830 [i]"},"fissaggiX","Accessori","Qt Accessori","Fix","qt Fix",null,null,{"$f":"+OL17*OJ17","v":0},0.5,{"$nulls":8},{"$f":"OJ1&\" [i]\"","v":"RONET1830 [i]"},"fissaggiX","Accessori","Qt Accessori","Fix","qt Fix",null,"OVERSPRING","OVERSTAPLE",null,{"$f":"+PF17*PD17","v":0},{"$nulls":9},{"$f":"PD1&\" [i]\"","v":"RONET2030 [i]"},"fissaggiX","Accessori","Qt Accessori","Fix","qt Fix",null,null,{"$f":"+PX17*PV17","v":0},{"$nulls":9},{"$f":"PV1&\" [i]\"","v":"RONET2030 [i]"},"fissaggiX","Accessori","Qt Accessori","Fix","qt Fix",null,"OVERSPRING","OVERSTAPLE",null,{"$f":"+QR17*QP17","v":0},{"$nulls":9},{"$f":"QP1&\" [i]\"","v":"RONET2230 [i]"},"fissaggiX","Accessori","Qt Accessori","Fix","qt Fix",null,null,{"$f":"+RJ17*RH17","v":0},{"$nulls":9},{"$f":"RH1&\" [i]\"","v":"RONET2230 [i]"},"fissaggiX","Accessori","Qt Accessori","Fix","qt Fix",null,"OVERSPRING","OVERSTAPLE",null,{"$f":"+SD17*SB17","v":0},{"$nulls":9},{"$f":"SB1&\" [i]\"","v":"RONET2530 [i]"},"fissaggiX","Accessori","Qt Accessori","Fix","qt Fix",null,null,{"$f":"+SV17*ST17","v":0},{"$nulls":9},{"$f":"ST1&\" [i]\"","v":"RONET2530 [i]"},"fissaggiX","Accessori","Qt Accessori","Fix","qt Fix",null,"OVERSPRING","OVERSTAPLE"]
[{"$nulls":10},{"$f":"+B1","v":"OVERNET1020B"},{"$f":"IFERROR(_xlfn.UNIQUE((_xlfn._xlws.FILTER(_xlfn.CHOOSECOLS(infoReti[],1),(infoReti[code]=B1)*( infoReti[doppSing]=B17)))),0)","v":0},{"$f":"_xlfn.IFNA(IF(P3=\"PIASTRA\",SUMIF(A$19:A$1600,L3,P$19:P$1600),SUMIF(A$19:A$1600,L3,R$19:R$1600)),0)","v":0},{"$f":"_xlfn.IFNA(IF(L3=\"\",\"\",_xlfn.XLOOKUP(L3,A:A,N:N)),0)","v":0},{"$f":"+SUMIF(A$19:A$1600,L3,Q$19:Q$1600)","v":0},{"$f":"_xlfn.IFNA(IF(L3=\"\",\"\",_xlfn.XLOOKUP(L3,A:A,O:O)),0)","v":0},{"$f":"IFERROR(IF(O19<>\"PIASTRA\",SUMIF(_xlfn._TRO_ALL(O$19:O$1600),P3,P$19:P$1600),(SUMIF(_xlfn._TRO_ALL(O$19:O$1600),P3,R$19:R$1600))),0)","v":0},"limite",{"$nulls":10},{"$f":"+T1","v":"OVERNET1020B"},{"$f":"IFERROR(_xlfn.UNIQUE((_xlfn._xlws.FILTER(_xlfn.CHOOSECOLS(infoReti[],1),(infoReti[code]=T1)*( infoReti[doppSing]=T17)))),0)","v":0},{"$f":"_xlfn.IFNA(IF(AH3=\"PIASTRA\",SUMIF(S$19:S$1600,AD3,AH$19:AH$1600),SUMIF(S$19:S$1600,AD3,AJ$19:AJ$1600)),0)","v":0},{"$f":"_xlfn.IFNA(IF(AD3=\"\",\"\",_xlfn.XLOOKUP(AD3,S:S,AF:AF)),0)","v":0},{"$f":"+SUMIF(S$19:S$1600,AD3,AI$19:AI$1600)","v":0},{"$f":"_xlfn.IFNA(IF(AD3=\"\",\"\",_xlfn.XLOOKUP(AD3,S:S,AG:AG)),0)","v":0},{"$f":"IFERROR(IF(AG19<>\"PIASTRA\",SUMIF(_xlfn._TRO_ALL(AG$19:AG$1600),AH3,AH$19:AH$1600),(SUMIF(_xlfn._TRO_ALL(AG$19:AG$1600),AH3,AJ$19:AJ$1600))),0)","v":0},"limite",{"$f":"+SUM(AK19:AK1600)","v":0},{"$f":"+SUM(AL19:AL1600)","v":0},{"$nulls":10},{"$f":"+AN1","v":"OVERNET1220B"},{"$f":"IFERROR(_xlfn.UNIQUE((_xlfn._xlws.FILTER(_xlfn.CHOOSECOLS(infoReti[],1),(infoReti[code]=AN1)*( infoReti[doppSing]=AN17)))),0)","v":0},{"$f":"_xlfn.IFNA(IF(BB3=\"PIASTRA\",SUMIF(AM$19:AM$1600,AX3,BB$19:BB$1600),SUMIF(AM$19:AM$1600,AX3,BD$19:BD$1600)),0)","v":0},{"$f":"_xlfn.IFNA(IF(AX3=\"\",\"\",_xlfn.XLOOKUP(AX3,AM:AM,AZ:AZ)),0)","v":0},{"$f":"+SUMIF(AM$19:AM$1600,AX3,BC$19:BC$1600)","v":0},{"$f":"_xlfn.IFNA(IF(AX3=\"\",\"\",_xlfn.XLOOKUP(AX3,AM:AM,BA:BA)),0)","v":0},{"$f":"IFERROR(IF(BA19<>\"PIASTRA\",SUMIF(_xlfn._TRO_ALL(BA$19:BA$1600),BB3,BB$19:BB$1600),(SUMIF(_xlfn._TRO_ALL(BA$19:BA$1600),BB3,BD$19:BD$1600))),0)","v":0},"limite",{"$nulls":10},{"$f":"+BF1","v":"OVERNET1220B"},{"$f":"IFERROR(_xlfn.UNIQUE((_xlfn._xlws.FILTER(_xlfn.CHOOSECOLS(infoReti[],1),(infoReti[code]=BF1)*( infoReti[doppSing]=BF17)))),0)","v":0},{"$f":"_xlfn.IFNA(IF(BT3=\"PIASTRA\",SUMIF(BE$19:BE$1600,BP3,BT$19:BT$1600),SUMIF(BE$19:BE$1600,BP3,BV$19:BV$1600)),0)","v":0},{"$f":"_xlfn.IFNA(IF(BP3=\"\",\"\",_xlfn.XLOOKUP(BP3,BE:BE,BR:BR)),0)","v":0},{"$f":"+SUMIF(BE$19:BE$1600,BP3,BU$19:BU$1600)","v":0},{"$f":"_xlfn.IFNA(IF(BP3=\"\",\"\",_xlfn.XLOOKUP(BP3,BE:BE,BS:BS)),0)","v":0},{"$f":"IFERROR(IF(BS19<>\"PIASTRA\",SUMIF(_xlfn._TRO_ALL(BS$19:BS$1600),BT3,BT$19:BT$1600),(SUMIF(_xlfn._TRO_ALL(BS$19:BS$1600),BT3,BV$19:BV$1600))),0)","v":0},"limite",{"$f":"+SUM(BW19:BW1600)","v":0},{"$f":"+SUM(BX19:BX1600)","v":0},{"$nulls":10},{"$f":"+BZ1","v":"OVERNET1520B"},{"$f":"IFERROR(_xlfn.UNIQUE((_xlfn._xlws.FILTER(_xlfn.CHOOSECOLS(infoReti[],1),(infoReti[code]=BZ1)*( infoReti[doppSing]=BZ17)))),0)","v":0},{"$f":"_xlfn.IFNA(IF(CN3=\"PIASTRA\",SUMIF(BY$19:BY$1600,CJ3,CN$19:CN$1600),SUMIF(BY$19:BY$1600,CJ3,CP$19:CP$1600)),0)","v":0},{"$f":"_xlfn.IFNA(IF(CJ3=\"\",\"\",_xlfn.XLOOKUP(CJ3,BY:BY,CL:CL)),0)","v":0},{"$f":"+SUMIF(BY$19:BY$1600,CJ3,CO$19:CO$1600)","v":0},{"$f":"_xlfn.IFNA(IF(CJ3=\"\",\"\",_xlfn.XLOOKUP(CJ3,BY:BY,CM:CM)),0)","v":0},{"$f":"IFERROR(IF(CM19<>\"PIASTRA\",SUMIF(_xlfn._TRO_ALL(CM$19:CM$1600),CN3,CN$19:CN$1600),(SUMIF(_xlfn._TRO_ALL(CM$19:CM$1600),CN3,CP$19:CP$1600))),0)","v":0},"limite",{"$nulls":10},{"$f":"+CR1","v":"OVERNET1520B"},{"$f":"IFERROR(_xlfn.UNIQUE((_xlfn._xlws.FILTER(_xlfn.CHOOSECOLS(infoReti[],1),(infoReti[code]=CR1)*( infoReti[doppSing]=CR17)))),0)","v":0},{"$f":"_xlfn.IFNA(IF(DF3=\"PIASTRA\",SUMIF(CQ$19:CQ$1600,DB3,DF$19:DF$1600),SUMIF(CQ$19:CQ$1600,DB3,DH$19:DH$1600)),0)","v":0},{"$f":"_xlfn.IFNA(IF(DB3=\"\",\"\",_xlfn.XLOOKUP(DB3,CQ:CQ,DD:DD)),0)","v":0},{"$f":"+SUMIF(CQ$19:CQ$1600,DB3,DG$19:DG$1600)","v":0},{"$f":"_xlfn.IFNA(IF(DB3=\"\",\"\",_xlfn.XLOOKUP(DB3,CQ:CQ,DE:DE)),0)","v":0},{"$f":"IFERROR(IF(DE19<>\"PIASTRA\",SUMIF(_xlfn._TRO_ALL(DE$19:DE$1600),DF3,DF$19:DF$1600),(SUMIF(_xlfn._TRO_ALL(DE$19:DE$1600),DF3,DH$19:DH$1600))),0)","v":0},"limite",{"$f":"+SUM(DI19:DI1600)","v":0},{"$f":"+SUM(DJ19:DJ1600)","v":0},{"$nulls":10},{"$f":"+DL1","v":"OVERNET1830B"},{"$f":"IFERROR(_xlfn.UNIQUE((_xlfn._xlws.FILTER(_xlfn.CHOOSECOLS(infoReti[],1),(infoReti[code]=DL1)*( infoReti[doppSing]=DL17)))),0)","v":0},{"$f":"_xlfn.IFNA(IF(DZ3=\"PIASTRA\",SUMIF(DK$19:DK$1600,DV3,DZ$19:DZ$1600),SUMIF(DK$19:DK$1600,DV3,EB$19:EB$1600)),0)","v":0},{"$f":"_xlfn.IFNA(IF(DV3=\"\",\"\",_xlfn.XLOOKUP(DV3,DK:DK,DX:DX)),0)","v":0},{"$f":"+SUMIF(DK$19:DK$1600,DV3,EA$19:EA$1600)","v":0},{"$f":"_xlfn.IFNA(IF(DV3=\"\",\"\",_xlfn.XLOOKUP(DV3,DK:DK,DY:DY)),0)","v":0},{"$f":"IFERROR(IF(DY19<>\"PIASTRA\",SUMIF(_xlfn._TRO_ALL(DY$19:DY$1600),DZ3,DZ$19:DZ$1600),(SUMIF(_xlfn._TRO_ALL(DY$19:DY$1600),DZ3,EB$19:EB$1600))),0)","v":0},"limite",{"$nulls":10},{"$f":"+ED1","v":"OVERNET1830B"},{"$f":"IFERROR(_xlfn.UNIQUE((_xlfn._xlws.FILTER(_xlfn.CHOOSECOLS(infoReti[],1),(infoReti[code]=ED1)*( infoReti[doppSing]=ED17)))),0)","v":0},{"$f":"_xlfn.IFNA(IF(ER3=\"PIASTRA\",SUMIF(EC$19:EC$1600,EN3,ER$19:ER$1600),SUMIF(EC$19:EC$1600,EN3,ET$19:ET$1600)),0)","v":0},{"$f":"_xlfn.IFNA(IF(EN3=\"\",\"\",_xlfn.XLOOKUP(EN3,EC:EC,EP:EP)),0)","v":0},{"$f":"+SUMIF(EC$19:EC$1600,EN3,ES$19:ES$1600)","v":0},{"$f":"_xlfn.IFNA(IF(EN3=\"\",\"\",_xlfn.XLOOKUP(EN3,EC:EC,EQ:EQ)),0)","v":0},{"$f":"IFERROR(IF(EQ19<>\"PIASTRA\",SUMIF(_xlfn._TRO_ALL(EQ$19:EQ$1600),ER3,ER$19:ER$1600),(SUMIF(_xlfn._TRO_ALL(EQ$19:EQ$1600),ER3,ET$19:ET$1600))),0)","v":0},"limite",{"$f":"+SUM(EU19:EU1600)","v":0},{"$f":"+SUM(EV19:EV1600)","v":0},{"$nulls":10},{"$f":"+EX1","v":"OVERNET2030B"},{"$f":"IFERROR(_xlfn.UNIQUE((_xlfn._xlws.FILTER(_xlfn.CHOOSECOLS(infoReti[],1),(infoReti[code]=EX1)*( infoReti[doppSing]=EX17)))),0)","v":0},{"$f":"_xlfn.IFNA(IF(FL3=\"PIASTRA\",SUMIF(EW$19:EW$1600,FH3,FL$19:FL$1600),SUMIF(EW$19:EW$1600,FH3,FN$19:FN$1600)),0)","v":0},{"$f":"_xlfn.IFNA(IF(FH3=\"\",\"\",_xlfn.XLOOKUP(FH3,EW:EW,FJ:FJ)),0)","v":0},{"$f":"+SUMIF(EW$19:EW$1600,FH3,FM$19:FM$1600)","v":0},{"$f":"_xlfn.IFNA(IF(FH3=\"\",\"\",_xlfn.XLOOKUP(FH3,EW:EW,FK:FK)),0)","v":0},{"$f":"IFERROR(IF(FK19<>\"PIASTRA\",SUMIF(_xlfn._TRO_ALL(FK$19:FK$1600),FL3,FL$19:FL$1600),(SUMIF(_xlfn._TRO_ALL(FK$19:FK$1600),FL3,FN$19:FN$1600))),0)","v":0},"limite",{"$nulls":10},{"$f":"+FP1","v":"OVERNET2030B"},{"$f":"IFERROR(_xlfn.UNIQUE((_xlfn._xlws.FILTER(_xlfn.CHOOSECOLS(infoReti[],1),(infoReti[code]=FP1)*( infoReti[doppSing]=FP17)))),0)","v":0},{"$f":"_xlfn.IFNA(IF(GD3=\"PIASTRA\",SUMIF(FO$19:FO$1600,FZ3,GD$19:GD$1600),SUMIF(FO$19:FO$1600,FZ3,GF$19:GF$1600)),0)","v":0},{"$f":"_xlfn.IFNA(IF(FZ3=\"\",\"\",_xlfn.XLOOKUP(FZ3,FO:FO,GB:GB)),0)","v":0},{"$f":"+SUMIF(FO$19:FO$1600,FZ3,GE$19:GE$1600)","v":0},{"$f":"_xlfn.IFNA(IF(FZ3=\"\",\"\",_xlfn.XLOOKUP(FZ3,FO:FO,GC:GC)),0)","v":0},{"$f":"IFERROR(IF(GC19<>\"PIASTRA\",SUMIF(_xlfn._TRO_ALL(GC$19:GC$1600),GD3,GD$19:GD$1600),(SUMIF(_xlfn._TRO_ALL(GC$19:GC$1600),GD3,GF$19:GF$1600))),0)","v":0},"limite",{"$f":"+SUM(GG19:GG1600)","v":0},{"$f":"+SUM(GH19:GH1600)","v":0},{"$nulls":10},{"$f":"+GJ1","v":"OVERNET2230B"},{"$f":"IFERROR(_xlfn.UNIQUE((_xlfn._xlws.FILTER(_xlfn.CHOOSECOLS(infoReti[],1),(infoReti[code]=GJ1)*( infoReti[doppSing]=GJ17)))),0)","v":0},{"$f":"_xlfn.IFNA(IF(GX3=\"PIASTRA\",SUMIF(GI$19:GI$1600,GT3,GX$19:GX$1600),SUMIF(GI$19:GI$1600,GT3,GZ$19:GZ$1600)),0)","v":0},{"$f":"_xlfn.IFNA(IF(GT3=\"\",\"\",_xlfn.XLOOKUP(GT3,GI:GI,GV:GV)),0)","v":0},{"$f":"+SUMIF(GI$19:GI$1600,GT3,GY$19:GY$1600)","v":0},{"$f":"_xlfn.IFNA(IF(GT3=\"\",\"\",_xlfn.XLOOKUP(GT3,GI:GI,GW:GW)),0)","v":0},{"$f":"IFERROR(IF(GW19<>\"PIASTRA\",SUMIF(_xlfn._TRO_ALL(GW$19:GW$1600),GX3,GX$19:GX$1600),(SUMIF(_xlfn._TRO_ALL(GW$19:GW$1600),GX3,GZ$19:GZ$1600))),0)","v":0},"limite",{"$nulls":10},{"$f":"+HB1","v":"OVERNET2230B"},{"$f":"IFERROR(_xlfn.UNIQUE((_xlfn._xlws.FILTER(_xlfn.CHOOSECOLS(infoReti[],1),(infoReti[code]=HB1)*( infoReti[doppSing]=HB17)))),0)","v":0},{"$f":"_xlfn.IFNA(IF(HP3=\"PIASTRA\",SUMIF(HA$19:HA$1600,HL3,HP$19:HP$1600),SUMIF(HA$19:HA$1600,HL3,HR$19:HR$1600)),0)","v":0},{"$f":"_xlfn.IFNA(IF(HL3=\"\",\"\",_xlfn.XLOOKUP(HL3,HA:HA,HN:HN)),0)","v":0},{"$f":"+SUMIF(HA$19:HA$1600,HL3,HQ$19:HQ$1600)","v":0},{"$f":"_xlfn.IFNA(IF(HL3=\"\",\"\",_xlfn.XLOOKUP(HL3,HA:HA,HO:HO)),0)","v":0},{"$f":"IFERROR(IF(HO19<>\"PIASTRA\",SUMIF(_xlfn._TRO_ALL(HO$19:HO$1600),HP3,HP$19:HP$1600),(SUMIF(_xlfn._TRO_ALL(HO$19:HO$1600),HP3,HR$19:HR$1600))),0)","v":0},"limite",{"$f":"+SUM(HS19:HS1600)","v":0},{"$f":"+SUM(HT19:HT1600)","v":0},{"$nulls":10},{"$f":"+HV1","v":"OVERNET2440B"},{"$f":"IFERROR(_xlfn.UNIQUE((_xlfn._xlws.FILTER(_xlfn.CHOOSECOLS(infoReti[],1),(infoReti[code]=HV1)*( infoReti[doppSing]=HV17)))),0)","v":0},{"$f":"_xlfn.IFNA(IF(IJ3=\"PIASTRA\",SUMIF(HU$19:HU$1600,IF3,IJ$19:IJ$1600),SUMIF(HU$19:HU$1600,IF3,IL$19:IL$1600)),0)","v":0},{"$f":"_xlfn.IFNA(IF(IF3=\"\",\"\",_xlfn.XLOOKUP(IF3,HU:HU,IH:IH)),0)","v":0},{"$f":"+SUMIF(HU$19:HU$1600,IF3,IK$19:IK$1600)","v":0},{"$f":"_xlfn.IFNA(IF(IF3=\"\",\"\",_xlfn.XLOOKUP(IF3,HU:HU,II:II)),0)","v":0},{"$f":"IFERROR(IF(II19<>\"PIASTRA\",SUMIF(_xlfn._TRO_ALL(II$19:II$1600),IJ3,IJ$19:IJ$1600),(SUMIF(_xlfn._TRO_ALL(II$19:II$1600),IJ3,IL$19:IL$1600))),0)","v":0},"limite",{"$nulls":10},{"$f":"+IN1","v":"OVERNET2440B"},{"$f":"IFERROR(_xlfn.UNIQUE((_xlfn._xlws.FILTER(_xlfn.CHOOSECOLS(infoReti[],1),(infoReti[code]=IN1)*( infoReti[doppSing]=IN17)))),0)","v":0},{"$f":"_xlfn.IFNA(IF(JB3=\"PIASTRA\",SUMIF(IM$19:IM$1600,IX3,JB$19:JB$1600),SUMIF(IM$19:IM$1600,IX3,JD$19:JD$1600)),0)","v":0},{"$f":"_xlfn.IFNA(IF(IX3=\"\",\"\",_xlfn.XLOOKUP(IX3,IM:IM,IZ:IZ)),0)","v":0},{"$f":"+SUMIF(IM$19:IM$1600,IX3,JC$19:JC$1600)","v":0},{"$f":"_xlfn.IFNA(IF(IX3=\"\",\"\",_xlfn.XLOOKUP(IX3,IM:IM,JA:JA)),0)","v":0},{"$f":"IFERROR(IF(JA19<>\"PIASTRA\",SUMIF(_xlfn._TRO_ALL(JA$19:JA$1600),JB3,JB$19:JB$1600),(SUMIF(_xlfn._TRO_ALL(JA$19:JA$1600),JB3,JD$19:JD$1600))),0)","v":0},"limite",{"$f":"+SUM(JE19:JE1600)","v":0},{"$f":"+SUM(JF19:JF1600)","v":0},{"$nulls":10},{"$f":"+JH1","v":"RONET1020"},{"$f":"IFERROR(_xlfn.UNIQUE((_xlfn._xlws.FILTER(_xlfn.CHOOSECOLS(infoReti[],1),(infoReti[code]=JH1)*( infoReti[doppSing]=JH17)))),0)","v":0},{"$f":"_xlfn.IFNA(IF(JV3=\"PIASTRA\",SUMIF(JG$19:JG$1600,JR3,JV$19:JV$1600),SUMIF(JG$19:JG$1600,JR3,JX$19:JX$1600)),0)","v":0},{"$f":"_xlfn.IFNA(IF(JR3=\"\",\"\",_xlfn.XLOOKUP(JR3,JG:JG,JT:JT)),0)","v":0},{"$f":"+SUMIF(JG$19:JG$1600,JR3,JW$19:JW$1600)","v":0},{"$f":"_xlfn.IFNA(IF(JR3=\"\",\"\",_xlfn.XLOOKUP(JR3,JG:JG,JU:JU)),0)","v":0},{"$f":"IFERROR(IF(JU19<>\"PIASTRA\",SUMIF(_xlfn._TRO_ALL(JU$19:JU$1600),JV3,JV$19:JV$1600),(SUMIF(_xlfn._TRO_ALL(JU$19:JU$1600),JV3,JX$19:JX$1600))),0)","v":0},"limite",{"$nulls":10},{"$f":"+JZ1","v":"RONET1020"},{"$f":"IFERROR(_xlfn.UNIQUE((_xlfn._xlws.FILTER(_xlfn.CHOOSECOLS(infoReti[],1),(infoReti[code]=JZ1)*( infoReti[doppSing]=JZ17)))),0)","v":0},{"$f":"_xlfn.IFNA(IF(KN3=\"PIASTRA\",SUMIF(JY$19:JY$1600,KJ3,KN$19:KN$1600),SUMIF(JY$19:JY$1600,KJ3,KP$19:KP$1600)),0)","v":0},{"$f":"_xlfn.IFNA(IF(KJ3=\"\",\"\",_xlfn.XLOOKUP(KJ3,JY:JY,KL:KL)),0)","v":0},{"$f":"+SUMIF(JY$19:JY$1600,KJ3,KO$19:KO$1600)","v":0},{"$f":"_xlfn.IFNA(IF(KJ3=\"\",\"\",_xlfn.XLOOKUP(KJ3,JY:JY,KM:KM)),0)","v":0},{"$f":"IFERROR(IF(KM19<>\"PIASTRA\",SUMIF(_xlfn._TRO_ALL(KM$19:KM$1600),KN3,KN$19:KN$1600),(SUMIF(_xlfn._TRO_ALL(KM$19:KM$1600),KN3,KP$19:KP$1600))),0)","v":0},"limite",{"$f":"+SUM(KQ19:KQ1600)","v":0},{"$f":"+SUM(KR19:KR1600)","v":0},{"$nulls":10},{"$f":"+KT1","v":"RONET1220"},{"$f":"IFERROR(_xlfn.UNIQUE((_xlfn._xlws.FILTER(_xlfn.CHOOSECOLS(infoReti[],1),(infoReti[code]=KT1)*( infoReti[doppSing]=KT17)))),0)","v":0},{"$f":"_xlfn.IFNA(IF(LH3=\"PIASTRA\",SUMIF(KS$19:KS$1600,LD3,LH$19:LH$1600),SUMIF(KS$19:KS$1600,LD3,LJ$19:LJ$1600)),0)","v":0},{"$f":"_xlfn.IFNA(IF(LD3=\"\",\"\",_xlfn.XLOOKUP(LD3,KS:KS,LF:LF)),0)","v":0},{"$f":"+SUMIF(KS$19:KS$1600,LD3,LI$19:LI$1600)","v":0},{"$f":"_xlfn.IFNA(IF(LD3=\"\",\"\",_xlfn.XLOOKUP(LD3,KS:KS,LG:LG)),0)","v":0},{"$f":"IFERROR(IF(LG19<>\"PIASTRA\",SUMIF(_xlfn._TRO_ALL(LG$19:LG$1600),LH3,LH$19:LH$1600),(SUMIF(_xlfn._TRO_ALL(LG$19:LG$1600),LH3,LJ$19:LJ$1600))),0)","v":0},"limite",{"$nulls":10},{"$f":"+LL1","v":"RONET1220"},{"$f":"IFERROR(_xlfn.UNIQUE((_xlfn._xlws.FILTER(_xlfn.CHOOSECOLS(infoReti[],1),(infoReti[code]=LL1)*( infoReti[doppSing]=LL17)))),0)","v":0},{"$f":"_xlfn.IFNA(IF(LZ3=\"PIASTRA\",SUMIF(LK$19:LK$1600,LV3,LZ$19:LZ$1600),SUMIF(LK$19:LK$1600,LV3,MB$19:MB$1600)),0)","v":0},{"$f":"_xlfn.IFNA(IF(LV3=\"\",\"\",_xlfn.XLOOKUP(LV3,LK:LK,LX:LX)),0)","v":0},{"$f":"+SUMIF(LK$19:LK$1600,LV3,MA$19:MA$1600)","v":0},{"$f":"_xlfn.IFNA(IF(LV3=\"\",\"\",_xlfn.XLOOKUP(LV3,LK:LK,LY:LY)),0)","v":0},{"$f":"IFERROR(IF(LY19<>\"PIASTRA\",SUMIF(_xlfn._TRO_ALL(LY$19:LY$1600),LZ3,LZ$19:LZ$1600),(SUMIF(_xlfn._TRO_ALL(LY$19:LY$1600),LZ3,MB$19:MB$1600))),0)","v":0},"limite",{"$f":"+SUM(MC19:MC1600)","v":0},{"$f":"+SUM(MD19:MD1600)","v":0},{"$nulls":10},{"$f":"+MF1","v":"RONET1520"},{"$f":"IFERROR(_xlfn.UNIQUE((_xlfn._xlws.FILTER(_xlfn.CHOOSECOLS(infoReti[],1),(infoReti[code]=MF1)*( infoReti[doppSing]=MF17)))),0)","v":0},{"$f":"_xlfn.IFNA(IF(MT3=\"PIASTRA\",SUMIF(ME$19:ME$1600,MP3,MT$19:MT$1600),SUMIF(ME$19:ME$1600,MP3,MV$19:MV$1600)),0)","v":0},{"$f":"_xlfn.IFNA(IF(MP3=\"\",\"\",_xlfn.XLOOKUP(MP3,ME:ME,MR:MR)),0)","v":0},{"$f":"+SUMIF(ME$19:ME$1600,MP3,MU$19:MU$1600)","v":0},{"$f":"_xlfn.IFNA(IF(MP3=\"\",\"\",_xlfn.XLOOKUP(MP3,ME:ME,MS:MS)),0)","v":0},{"$f":"IFERROR(IF(MS19<>\"PIASTRA\",SUMIF(_xlfn._TRO_ALL(MS$19:MS$1600),MT3,MT$19:MT$1600),(SUMIF(_xlfn._TRO_ALL(MS$19:MS$1600),MT3,MV$19:MV$1600))),0)","v":0},"limite",{"$nulls":10},{"$f":"+MX1","v":"RONET1520"},{"$f":"IFERROR(_xlfn.UNIQUE((_xlfn._xlws.FILTER(_xlfn.CHOOSECOLS(infoReti[],1),(infoReti[code]=MX1)*( infoReti[doppSing]=MX17)))),0)","v":0},{"$f":"_xlfn.IFNA(IF(NL3=\"PIASTRA\",SUMIF(MW$19:MW$1600,NH3,NL$19:NL$1600),SUMIF(MW$19:MW$1600,NH3,NN$19:NN$1600)),0)","v":0},{"$f":"_xlfn.IFNA(IF(NH3=\"\",\"\",_xlfn.XLOOKUP(NH3,MW:MW,NJ:NJ)),0)","v":0},{"$f":"+SUMIF(MW$19:MW$1600,NH3,NM$19:NM$1600)","v":0},{"$f":"_xlfn.IFNA(IF(NH3=\"\",\"\",_xlfn.XLOOKUP(NH3,MW:MW,NK:NK)),0)","v":0},{"$f":"IFERROR(IF(NK19<>\"PIASTRA\",SUMIF(_xlfn._TRO_ALL(NK$19:NK$1600),NL3,NL$19:NL$1600),(SUMIF(_xlfn._TRO_ALL(NK$19:NK$1600),NL3,NN$19:NN$1600))),0)","v":0},"limite",{"$f":"+SUM(NO19:NO1600)","v":0},{"$f":"+SUM(NP19:NP1600)","v":0},{"$nulls":10},{"$f":"+NR1","v":"RONET1830"},{"$f":"IFERROR(_xlfn.UNIQUE((_xlfn._xlws.FILTER(_xlfn.CHOOSECOLS(infoReti[],1),(infoReti[code]=NR1)*( infoReti[doppSing]=NR17)))),0)","v":0},{"$f":"_xlfn.IFNA(IF(OF3=\"PIASTRA\",SUMIF(NQ$19:NQ$1600,OB3,OF$19:OF$1600),SUMIF(NQ$19:NQ$1600,OB3,OH$19:OH$1600)),0)","v":0},{"$f":"_xlfn.IFNA(IF(OB3=\"\",\"\",_xlfn.XLOOKUP(OB3,NQ:NQ,OD:OD)),0)","v":0},{"$f":"+SUMIF(NQ$19:NQ$1600,OB3,OG$19:OG$1600)","v":0},{"$f":"_xlfn.IFNA(IF(OB3=\"\",\"\",_xlfn.XLOOKUP(OB3,NQ:NQ,OE:OE)),0)","v":0},{"$f":"IFERROR(IF(OE19<>\"PIASTRA\",SUMIF(_xlfn._TRO_ALL(OE$19:OE$1600),OF3,OF$19:OF$1600),(SUMIF(_xlfn._TRO_ALL(OE$19:OE$1600),OF3,OH$19:OH$1600))),0)","v":0},"limite",{"$nulls":10},{"$f":"+OJ1","v":"RONET1830"},{"$f":"IFERROR(_xlfn.UNIQUE((_xlfn._xlws.FILTER(_xlfn.CHOOSECOLS(infoReti[],1),(infoReti[code]=OJ1)*( infoReti[doppSing]=OJ17)))),0)","v":0},{"$f":"_xlfn.IFNA(IF(OX3=\"PIASTRA\",SUMIF(OI$19:OI$1600,OT3,OX$19:OX$1600),SUMIF(OI$19:OI$1600,OT3,OZ$19:OZ$1600)),0)","v":0},{"$f":"_xlfn.IFNA(IF(OT3=\"\",\"\",_xlfn.XLOOKUP(OT3,OI:OI,OV:OV)),0)","v":0},{"$f":"+SUMIF(OI$19:OI$1600,OT3,OY$19:OY$1600)","v":0},{"$f":"_xlfn.IFNA(IF(OT3=\"\",\"\",_xlfn.XLOOKUP(OT3,OI:OI,OW:OW)),0)","v":0},{"$f":"IFERROR(IF(OW19<>\"PIASTRA\",SUMIF(_xlfn._TRO_ALL(OW$19:OW$1600),OX3,OX$19:OX$1600),(SUMIF(_xlfn._TRO_ALL(OW$19:OW$1600),OX3,OZ$19:OZ$1600))),0)","v":0},"limite",{"$f":"+SUM(PA19:PA1600)","v":0},{"$f":"+SUM(PB19:PB1600)","v":0},{"$nulls":10},{"$f":"+PD1","v":"RONET2030"},{"$f":"IFERROR(_xlfn.UNIQUE((_xlfn._xlws.FILTER(_xlfn.CHOOSECOLS(infoReti[],1),(infoReti[code]=PD1)*( infoReti[doppSing]=PD17)))),0)","v":0},{"$f":"_xlfn.IFNA(IF(PR3=\"PIASTRA\",SUMIF(PC$19:PC$1600,PN3,PR$19:PR$1600),SUMIF(PC$19:PC$1600,PN3,PT$19:PT$1600)),0)","v":0},{"$f":"_xlfn.IFNA(IF(PN3=\"\",\"\",_xlfn.XLOOKUP(PN3,PC:PC,PP:PP)),0)","v":0},{"$f":"+SUMIF(PC$19:PC$1600,PN3,PS$19:PS$1600)","v":0},{"$f":"_xlfn.IFNA(IF(PN3=\"\",\"\",_xlfn.XLOOKUP(PN3,PC:PC,PQ:PQ)),0)","v":0},{"$f":"IFERROR(IF(PQ19<>\"PIASTRA\",SUMIF(_xlfn._TRO_ALL(PQ$19:PQ$1600),PR3,PR$19:PR$1600),(SUMIF(_xlfn._TRO_ALL(PQ$19:PQ$1600),PR3,PT$19:PT$1600))),0)","v":0},"limite",{"$nulls":10},{"$f":"+PV1","v":"RONET2030"},{"$f":"IFERROR(_xlfn.UNIQUE((_xlfn._xlws.FILTER(_xlfn.CHOOSECOLS(infoReti[],1),(infoReti[code]=PV1)*( infoReti[doppSing]=PV17)))),0)","v":0},{"$f":"_xlfn.IFNA(IF(QJ3=\"PIASTRA\",SUMIF(PU$19:PU$1600,QF3,QJ$19:QJ$1600),SUMIF(PU$19:PU$1600,QF3,QL$19:QL$1600)),0)","v":0},{"$f":"_xlfn.IFNA(IF(QF3=\"\",\"\",_xlfn.XLOOKUP(QF3,PU:PU,QH:QH)),0)","v":0},{"$f":"+SUMIF(PU$19:PU$1600,QF3,QK$19:QK$1600)","v":0},{"$f":"_xlfn.IFNA(IF(QF3=\"\",\"\",_xlfn.XLOOKUP(QF3,PU:PU,QI:QI)),0)","v":0},{"$f":"IFERROR(IF(QI19<>\"PIASTRA\",SUMIF(_xlfn._TRO_ALL(QI$19:QI$1600),QJ3,QJ$19:QJ$1600),(SUMIF(_xlfn._TRO_ALL(QI$19:QI$1600),QJ3,QL$19:QL$1600))),0)","v":0},"limite",{"$f":"+SUM(QM19:QM1600)","v":0},{"$f":"+SUM(QN19:QN1600)","v":0},{"$nulls":10},{"$f":"+QP1","v":"RONET2230"},{"$f":"IFERROR(_xlfn.UNIQUE((_xlfn._xlws.FILTER(_xlfn.CHOOSECOLS(infoReti[],1),(infoReti[code]=QP1)*( infoReti[doppSing]=QP17)))),0)","v":0},{"$f":"_xlfn.IFNA(IF(RD3=\"PIASTRA\",SUMIF(QO$19:QO$1600,QZ3,RD$19:RD$1600),SUMIF(QO$19:QO$1600,QZ3,RF$19:RF$1600)),0)","v":0},{"$f":"_xlfn.IFNA(IF(QZ3=\"\",\"\",_xlfn.XLOOKUP(QZ3,QO:QO,RB:RB)),0)","v":0},{"$f":"+SUMIF(QO$19:QO$1600,QZ3,RE$19:RE$1600)","v":0},{"$f":"_xlfn.IFNA(IF(QZ3=\"\",\"\",_xlfn.XLOOKUP(QZ3,QO:QO,RC:RC)),0)","v":0},{"$f":"IFERROR(IF(RC19<>\"PIASTRA\",SUMIF(_xlfn._TRO_ALL(RC$19:RC$1600),RD3,RD$19:RD$1600),(SUMIF(_xlfn._TRO_ALL(RC$19:RC$1600),RD3,RF$19:RF$1600))),0)","v":0},"limite",{"$nulls":10},{"$f":"+RH1","v":"RONET2230"},{"$f":"IFERROR(_xlfn.UNIQUE((_xlfn._xlws.FILTER(_xlfn.CHOOSECOLS(infoReti[],1),(infoReti[code]=RH1)*( infoReti[doppSing]=RH17)))),0)","v":0},{"$f":"_xlfn.IFNA(IF(RV3=\"PIASTRA\",SUMIF(RG$19:RG$1600,RR3,RV$19:RV$1600),SUMIF(RG$19:RG$1600,RR3,RX$19:RX$1600)),0)","v":0},{"$f":"_xlfn.IFNA(IF(RR3=\"\",\"\",_xlfn.XLOOKUP(RR3,RG:RG,RT:RT)),0)","v":0},{"$f":"+SUMIF(RG$19:RG$1600,RR3,RW$19:RW$1600)","v":0},{"$f":"_xlfn.IFNA(IF(RR3=\"\",\"\",_xlfn.XLOOKUP(RR3,RG:RG,RU:RU)),0)","v":0},{"$f":"IFERROR(IF(RU19<>\"PIASTRA\",SUMIF(_xlfn._TRO_ALL(RU$19:RU$1600),RV3,RV$19:RV$1600),(SUMIF(_xlfn._TRO_ALL(RU$19:RU$1600),RV3,RX$19:RX$1600))),0)","v":0},"limite",{"$f":"+SUM(RY19:RY1600)","v":0},{"$f":"+SUM(RZ19:RZ1600)","v":0},{"$nulls":10},{"$f":"+SB1","v":"RONET2530"},{"$f":"IFERROR(_xlfn.UNIQUE((_xlfn._xlws.FILTER(_xlfn.CHOOSECOLS(infoReti[],1),(infoReti[code]=SB1)*( infoReti[doppSing]=SB17)))),0)","v":0},{"$f":"_xlfn.IFNA(IF(SP3=\"PIASTRA\",SUMIF(SA$19:SA$1600,SL3,SP$19:SP$1600),SUMIF(SA$19:SA$1600,SL3,SR$19:SR$1600)),0)","v":0},{"$f":"_xlfn.IFNA(IF(SL3=\"\",\"\",_xlfn.XLOOKUP(SL3,SA:SA,SN:SN)),0)","v":0},{"$f":"+SUMIF(SA$19:SA$1600,SL3,SQ$19:SQ$1600)","v":0},{"$f":"_xlfn.IFNA(IF(SL3=\"\",\"\",_xlfn.XLOOKUP(SL3,SA:SA,SO:SO)),0)","v":0},{"$f":"IFERROR(IF(SO19<>\"PIASTRA\",SUMIF(_xlfn._TRO_ALL(SO$19:SO$1600),SP3,SP$19:SP$1600),(SUMIF(_xlfn._TRO_ALL(SO$19:SO$1600),SP3,SR$19:SR$1600))),0)","v":0},"limite",{"$nulls":10},{"$f":"+ST1","v":"RONET2530"},{"$f":"IFERROR(_xlfn.UNIQUE((_xlfn._xlws.FILTER(_xlfn.CHOOSECOLS(infoReti[],1),(infoReti[code]=ST1)*( infoReti[doppSing]=ST17)))),0)","v":0},{"$f":"_xlfn.IFNA(IF(TH3=\"PIASTRA\",SUMIF(SS$19:SS$1600,TD3,TH$19:TH$1600),SUMIF(SS$19:SS$1600,TD3,TJ$19:TJ$1600)),0)","v":0},{"$f":"_xlfn.IFNA(IF(TD3=\"\",\"\",_xlfn.XLOOKUP(TD3,SS:SS,TF:TF)),0)","v":0},{"$f":"+SUMIF(SS$19:SS$1600,TD3,TI$19:TI$1600)","v":0},{"$f":"_xlfn.IFNA(IF(TD3=\"\",\"\",_xlfn.XLOOKUP(TD3,SS:SS,TG:TG)),0)","v":0},{"$f":"IFERROR(IF(TG19<>\"PIASTRA\",SUMIF(_xlfn._TRO_ALL(TG$19:TG$1600),TH3,TH$19:TH$1600),(SUMIF(_xlfn._TRO_ALL(TG$19:TG$1600),TH3,TJ$19:TJ$1600))),0)","v":0},"limite",{"$f":"+SUM(TK19:TK1600)","v":0},{"$f":"+SUM(TL19:TL1600)","v":0}]
[{"$nulls":10},{"$f":"+B17","v":1},null,{"$f":"(IF(P4=\"PIASTRA\",SUMIF(A$19:A$1600,L4,P$19:P$1600),SUMIF(A$19:A$1600,L4,R$19:R$1600)))","v":0},{"$f":"IF(L4=\"\",\"\",_xlfn.XLOOKUP(L4,A:A,N:N))","v":""},{"$f":"+SUMIF(A$19:A$1600,L4,Q$19:Q$1600)","v":0},{"$f":"IF(L4=\"\",\"\",_xlfn.XLOOKUP(L4,A:A,O:O))","v":""},{"$f":"IFERROR(IF(O20<>\"PIASTRA\",SUMIF(_xlfn._TRO_ALL(O$19:O$1600),P4,P$19:P$1600),(SUMIF(_xlfn._TRO_ALL(O$19:O$1600),P4,R$19:R$1600))),0)","v":0},"limite",{"$nulls":10},{"$f":"+T17","v":2},null,{"$f":"(IF(AH4=\"PIASTRA\",SUMIF(S$19:S$1600,AD4,AH$19:AH$1600),SUMIF(S$19:S$1600,AD4,AJ$19:AJ$1600)))","v":0},{"$f":"IF(AD4=\"\",\"\",_xlfn.XLOOKUP(AD4,S:S,AF:AF))","v":""},{"$f":"+SUMIF(S$19:S$1600,AD4,AI$19:AI$1600)","v":0},{"$f":"IF(AD4=\"\",\"\",_xlfn.XLOOKUP(AD4,S:S,AG:AG))","v":""},{"$f":"IFERROR(IF(AG20<>\"PIASTRA\",SUMIF(_xlfn._TRO_ALL(AG$19:AG$1600),AH4,AH$19:AH$1600),(SUMIF(_xlfn._TRO_ALL(AG$19:AG$1600),AH4,AJ$19:AJ$1600))),0)","v":0},"limite",{"$nulls":12},{"$f":"+AN17","v":1},null,{"$f":"(IF(BB4=\"PIASTRA\",SUMIF(AM$19:AM$1600,AX4,BB$19:BB$1600),SUMIF(AM$19:AM$1600,AX4,BD$19:BD$1600)))","v":0},{"$f":"IF(AX4=\"\",\"\",_xlfn.XLOOKUP(AX4,AM:AM,AZ:AZ))","v":""},{"$f":"+SUMIF(AM$19:AM$1600,AX4,BC$19:BC$1600)","v":0},{"$f":"IF(AX4=\"\",\"\",_xlfn.XLOOKUP(AX4,AM:AM,BA:BA))","v":""},{"$f":"IFERROR(IF(BA20<>\"PIASTRA\",SUMIF(_xlfn._TRO_ALL(BA$19:BA$1600),BB4,BB$19:BB$1600),(SUMIF(_xlfn._TRO_ALL(BA$19:BA$1600),BB4,BD$19:BD$1600))),0)","v":0},"limite",{"$nulls":10},{"$f":"+BF17","v":2},null,{"$f":"(IF(BT4=\"PIASTRA\",SUMIF(BE$19:BE$1600,BP4,BT$19:BT$1600),SUMIF(BE$19:BE$1600,BP4,BV$19:BV$1600)))","v":0},{"$f":"IF(BP4=\"\",\"\",_xlfn.XLOOKUP(BP4,BE:BE,BR:BR))","v":""},{"$f":"+SUMIF(BE$19:BE$1600,BP4,BU$19:BU$1600)","v":0},{"$f":"IF(BP4=\"\",\"\",_xlfn.XLOOKUP(BP4,BE:BE,BS:BS))","v":""},{"$f":"IFERROR(IF(BS20<>\"PIASTRA\",SUMIF(_xlfn._TRO_ALL(BS$19:BS$1600),BT4,BT$19:BT$1600),(SUMIF(_xlfn._TRO_ALL(BS$19:BS$1600),BT4,BV$19:BV$1600))),0)","v":0},"limite",{"$nulls":12},{"$f":"+BZ17","v":1},null,{"$f":"(IF(CN4=\"PIASTRA\",SUMIF(BY$19:BY$1600,CJ4,CN$19:CN$1600),SUMIF(BY$19:BY$1600,CJ4,CP$19:CP$1600)))","v":0},{"$f":"IF(CJ4=\"\",\"\",_xlfn.XLOOKUP(CJ4,BY:BY,CL:CL))","v":""},{"$f":"+SUMIF(BY$19:BY$1600,CJ4,CO$19:CO$1600)","v":0},{"$f":"IF(CJ4=\"\",\"\",_xlfn.XLOOKUP(CJ4,BY:BY,CM:CM))","v":""},{"$f":"IFERROR(IF(CM20<>\"PIASTRA\",SUMIF(_xlfn._TRO_ALL(CM$19:CM$1600),CN4,CN$19:CN$1600),(SUMIF(_xlfn._TRO_ALL(CM$19:CM$1600),CN4,CP$19:CP$1600))),0)","v":0},"limite",{"$nulls":10},{"$f":"+CR17","v":2},null,{"$f":"(IF(DF4=\"PIASTRA\",SUMIF(CQ$19:CQ$1600,DB4,DF$19:DF$1600),SUMIF(CQ$19:CQ$1600,DB4,DH$19:DH$1600)))","v":0},{"$f":"IF(DB4=\"\",\"\",_xlfn.XLOOKUP(DB4,CQ:CQ,DD:DD))","v":""},{"$f":"+SUMIF(CQ$19:CQ$1600,DB4,DG$19:DG$1600)","v":0},{"$f":"IF(DB4=\"\",\"\",_xlfn.XLOOKUP(DB4,CQ:CQ,DE:DE))","v":""},{"$f":"IFERROR(IF(DE20<>\"PIASTRA\",SUMIF(_xlfn._TRO_ALL(DE$19:DE$1600),DF4,DF$19:DF$1600),(SUMIF(_xlfn._TRO_ALL(DE$19:DE$1600),DF4,DH$19:DH$1600))),0)","v":0},"limite",{"$nulls":12},{"$f":"+DL17","v":1},null,{"$f":"(IF(DZ4=\"PIASTRA\",SUMIF(DK$19:DK$1600,DV4,DZ$19:DZ$1600),SUMIF(DK$19:DK$1600,DV4,EB$19:EB$1600)))","v":0},{"$f":"IF(DV4=\"\",\"\",_xlfn.XLOOKUP(DV4,DK:DK,DX:DX))","v":""},{"$f":"+SUMIF(DK$19:DK$1600,DV4,EA$19:EA$1600)","v":0},{"$f":"IF(DV4=\"\",\"\",_xlfn.XLOOKUP(DV4,DK:DK,DY:DY))","v":""},{"$f":"IFERROR(IF(DY20<>\"PIASTRA\",SUMIF(_xlfn._TRO_ALL(DY$19:DY$1600),DZ4,DZ$19:DZ$1600),(SUMIF(_xlfn._TRO_ALL(DY$19:DY$1600),DZ4,EB$19:EB$1600))),0)","v":0},"limite",{"$nulls":10},{"$f":"+ED17","v":2},null,{"$f":"(IF(ER4=\"PIASTRA\",SUMIF(EC$19:EC$1600,EN4,ER$19:ER$1600),SUMIF(EC$19:EC$1600,EN4,ET$19:ET$1600)))","v":0},{"$f":"IF(EN4=\"\",\"\",_xlfn.XLOOKUP(EN4,EC:EC,EP:EP))","v":""},{"$f":"+SUMIF(EC$19:EC$1600,EN4,ES$19:ES$1600)","v":0},{"$f":"IF(EN4=\"\",\"\",_xlfn.XLOOKUP(EN4,EC:EC,EQ:EQ))","v":""},{"$f":"IFERROR(IF(EQ20<>\"PIASTRA\",SUMIF(_xlfn._TRO_ALL(EQ$19:EQ$1600),ER4,ER$19:ER$1600),(SUMIF(_xlfn._TRO_ALL(EQ$19:EQ$1600),ER4,ET$19:ET$1600))),0)","v":0},"limite",{"$nulls":12},{"$f":"+EX17","v":1},null,{"$f":"(IF(FL4=\"PIASTRA\",SUMIF(EW$19:EW$1600,FH4,FL$19:FL$1600),SUMIF(EW$19:EW$1600,FH4,FN$19:FN$1600)))","v":0},{"$f":"IF(FH4=\"\",\"\",_xlfn.XLOOKUP(FH4,EW:EW,FJ:FJ))","v":""},{"$f":"+SUMIF(EW$19:EW$1600,FH4,FM$19:FM$1600)","v":0},{"$f":"IF(FH4=\"\",\"\",_xlfn.XLOOKUP(FH4,EW:EW,FK:FK))","v":""},{"$f":"IFERROR(IF(FK20<>\"PIASTRA\",SUMIF(_xlfn._TRO_ALL(FK$19:FK$1600),FL4,FL$19:FL$1600),(SUMIF(_xlfn._TRO_ALL(FK$19:FK$1600),FL4,FN$19:FN$1600))),0)","v":0},"limite",{"$nulls":10},{"$f":"+FP17","v":2},null,{"$f":"(IF(GD4=\"PIASTRA\",SUMIF(FO$19:FO$1600,FZ4,GD$19:GD$1600),SUMIF(FO$19:FO$1600,FZ4,GF$19:GF$1600)))","v":0},{"$f":"IF(FZ4=\"\",\"\",_xlfn.XLOOKUP(FZ4,FO:FO,GB:GB))","v":""},{"$f":"+SUMIF(FO$19:FO$1600,FZ4,GE$19:GE$1600)","v":0},{"$f":"IF(FZ4=\"\",\"\",_xlfn.XLOOKUP(FZ4,FO:FO,GC:GC))","v":""},{"$f":"IFERROR(IF(GC20<>\"PIASTRA\",SUMIF(_xlfn._TRO_ALL(GC$19:GC$1600),GD4,GD$19:GD$1600),(SUMIF(_xlfn._TRO_ALL(GC$19:GC$1600),GD4,GF$19:GF$1600))),0)","v":0},"limite",{"$nulls":12},{"$f":"+GJ17","v":1},null,{"$f":"(IF(GX4=\"PIASTRA\",SUMIF(GI$19:GI$1600,GT4,GX$19:GX$1600),SUMIF(GI$19:GI$1600,GT4,GZ$19:GZ$1600)))","v":0},{"$f":"IF(GT4=\"\",\"\",_xlfn.XLOOKUP(GT4,GI:GI,GV:GV))","v":""},{"$f":"+SUMIF(GI$19:GI$1600,GT4,GY$19:GY$1600)","v":0},{"$f":"IF(GT4=\"\",\"\",_xlfn.XLOOKUP(GT4,GI:GI,GW:GW))","v":""},{"$f":"IFERROR(IF(GW20<>\"PIASTRA\",SUMIF(_xlfn._TRO_ALL(GW$19:GW$1600),GX4,GX$19:GX$1600),(SUMIF(_xlfn._TRO_ALL(GW$19:GW$1600),GX4,GZ$19:GZ$1600))),0)","v":0},"limite",{"$nulls":10},{"$f":"+HB17","v":2},null,{"$f":"(IF(HP4=\"PIASTRA\",SUMIF(HA$19:HA$1600,HL4,HP$19:HP$1600),SUMIF(HA$19:HA$1600,HL4,HR$19:HR$1600)))","v":0},{"$f":"IF(HL4=\"\",\"\",_xlfn.XLOOKUP(HL4,HA:HA,HN:HN))","v":""},{"$f":"+SUMIF(HA$19:HA$1600,HL4,HQ$19:HQ$1600)","v":0},{"$f":"IF(HL4=\"\",\"\",_xlfn.XLOOKUP(HL4,HA:HA,HO:HO))","v":""},{"$f":"IFERROR(IF(HO20<>\"PIASTRA\",SUMIF(_xlfn._TRO_ALL(HO$19:HO$1600),HP4,HP$19:HP$1600),(SUMIF(_xlfn._TRO_ALL(HO$19:HO$1600),HP4,HR$19:HR$1600))),0)","v":0},"limite",{"$nulls":12},{"$f":"+HV17","v":1},null,{"$f":"(IF(IJ4=\"PIASTRA\",SUMIF(HU$19:HU$1600,IF4,IJ$19:IJ$1600),SUMIF(HU$19:HU$1600,IF4,IL$19:IL$1600)))","v":0},{"$f":"IF(IF4=\"\",\"\",_xlfn.XLOOKUP(IF4,HU:HU,IH:IH))","v":""},{"$f":"+SUMIF(HU$19:HU$1600,IF4,IK$19:IK$1600)","v":0},{"$f":"IF(IF4=\"\",\"\",_xlfn.XLOOKUP(IF4,HU:HU,II:II))","v":""},{"$f":"IFERROR(IF(II20<>\"PIASTRA\",SUMIF(_xlfn._TRO_ALL(II$19:II$1600),IJ4,IJ$19:IJ$1600),(SUMIF(_xlfn._TRO_ALL(II$19:II$1600),IJ4,IL$19:IL$1600))),0)","v":0},"limite",{"$nulls":10},{"$f":"+IN17","v":2},null,{"$f":"(IF(JB4=\"PIASTRA\",SUMIF(IM$19:IM$1600,IX4,JB$19:JB$1600),SUMIF(IM$19:IM$1600,IX4,JD$19:JD$1600)))","v":0},{"$f":"IF(IX4=\"\",\"\",_xlfn.XLOOKUP(IX4,IM:IM,IZ:IZ))","v":""},{"$f":"+SUMIF(IM$19:IM$1600,IX4,JC$19:JC$1600)","v":0},{"$f":"IF(IX4=\"\",\"\",_xlfn.XLOOKUP(IX4,IM:IM,JA:JA))","v":""},{"$f":"IFERROR(IF(JA20<>\"PIASTRA\",SUMIF(_xlfn._TRO_ALL(JA$19:JA$1600),JB4,JB$19:JB$1600),(SUMIF(_xlfn._TRO_ALL(JA$19:JA$1600),JB4,JD$19:JD$1600))),0)","v":0},"limite",{"$nulls":12},{"$f":"+JH17","v":1},null,{"$f":"(IF(JV4=\"PIASTRA\",SUMIF(JG$19:JG$1600,JR4,JV$19:JV$1600),SUMIF(JG$19:JG$1600,JR4,JX$19:JX$1600)))","v":0},{"$f":"IF(JR4=\"\",\"\",_xlfn.XLOOKUP(JR4,JG:JG,JT:JT))","v":""},{"$f":"+SUMIF(JG$19:JG$1600,JR4,JW$19:JW$1600)","v":0},{"$f":"IF(JR4=\"\",\"\",_xlfn.XLOOKUP(JR4,JG:JG,JU:JU))","v":""},{"$f":"IFERROR(IF(JU20<>\"PIASTRA\",SUMIF(_xlfn._TRO_ALL(JU$19:JU$1600),JV4,JV$19:JV$1600),(SUMIF(_xlfn._TRO_ALL(JU$19:JU$1600),JV4,JX$19:JX$1600))),0)","v":0},"limite",{"$nulls":10},{"$f":"+JZ17","v":2},null,{"$f":"(IF(KN4=\"PIASTRA\",SUMIF(JY$19:JY$1600,KJ4,KN$19:KN$1600),SUMIF(JY$19:JY$1600,KJ4,KP$19:KP$1600)))","v":0},{"$f":"IF(KJ4=\"\",\"\",_xlfn.XLOOKUP(KJ4,JY:JY,KL:KL))","v":""},{"$f":"+SUMIF(JY$19:JY$1600,KJ4,KO$19:KO$1600)","v":0},{"$f":"IF(KJ4=\"\",\"\",_xlfn.XLOOKUP(KJ4,JY:JY,KM:KM))","v":""},{"$f":"IFERROR(IF(KM20<>\"PIASTRA\",SUMIF(_xlfn._TRO_ALL(KM$19:KM$1600),KN4,KN$19:KN$1600),(SUMIF(_xlfn._TRO_ALL(KM$19:KM$1600),KN4,KP$19:KP$1600))),0)","v":0},"limite",{"$nulls":12},{"$f":"+KT17","v":1},null,{"$f":"(IF(LH4=\"PIASTRA\",SUMIF(KS$19:KS$1600,LD4,LH$19:LH$1600),SUMIF(KS$19:KS$1600,LD4,LJ$19:LJ$1600)))","v":0},{"$f":"IF(LD4=\"\",\"\",_xlfn.XLOOKUP(LD4,KS:KS,LF:LF))","v":""},{"$f":"+SUMIF(KS$19:KS$1600,LD4,LI$19:LI$1600)","v":0},{"$f":"IF(LD4=\"\",\"\",_xlfn.XLOOKUP(LD4,KS:KS,LG:LG))","v":""},{"$f":"IFERROR(IF(LG20<>\"PIASTRA\",SUMIF(_xlfn._TRO_ALL(LG$19:LG$1600),LH4,LH$19:LH$1600),(SUMIF(_xlfn._TRO_ALL(LG$19:LG$1600),LH4,LJ$19:LJ$1600))),0)","v":0},"limite",{"$nulls":10},{"$f":"+LL17","v":2},null,{"$f":"(IF(LZ4=\"PIASTRA\",SUMIF(LK$19:LK$1600,LV4,LZ$19:LZ$1600),SUMIF(LK$19:LK$1600,LV4,MB$19:MB$1600)))","v":0},{"$f":"IF(LV4=\"\",\"\",_xlfn.XLOOKUP(LV4,LK:LK,LX:LX))","v":""},{"$f":"+SUMIF(LK$19:LK$1600,LV4,MA$19:MA$1600)","v":0},{"$f":"IF(LV4=\"\",\"\",_xlfn.XLOOKUP(LV4,LK:LK,LY:LY))","v":""},{"$f":"IFERROR(IF(LY20<>\"PIASTRA\",SUMIF(_xlfn._TRO_ALL(LY$19:LY$1600),LZ4,LZ$19:LZ$1600),(SUMIF(_xlfn._TRO_ALL(LY$19:LY$1600),LZ4,MB$19:MB$1600))),0)","v":0},"limite",{"$nulls":12},{"$f":"+MF17","v":1},null,{"$f":"(IF(MT4=\"PIASTRA\",SUMIF(ME$19:ME$1600,MP4,MT$19:MT$1600),SUMIF(ME$19:ME$1600,MP4,MV$19:MV$1600)))","v":0},{"$f":"IF(MP4=\"\",\"\",_xlfn.XLOOKUP(MP4,ME:ME,MR:MR))","v":""},{"$f":"+SUMIF(ME$19:ME$1600,MP4,MU$19:MU$1600)","v":0},{"$f":"IF(MP4=\"\",\"\",_xlfn.XLOOKUP(MP4,ME:ME,MS:MS))","v":""},{"$f":"IFERROR(IF(MS20<>\"PIASTRA\",SUMIF(_xlfn._TRO_ALL(MS$19:MS$1600),MT4,MT$19:MT$1600),(SUMIF(_xlfn._TRO_ALL(MS$19:MS$1600),MT4,MV$19:MV$1600))),0)","v":0},"limite",{"$nulls":10},{"$f":"+MX17","v":2},null,{"$f":"(IF(NL4=\"PIASTRA\",SUMIF(MW$19:MW$1600,NH4,NL$19:NL$1600),SUMIF(MW$19:MW$1600,NH4,NN$19:NN$1600)))","v":0},{"$f":"IF(NH4=\"\",\"\",_xlfn.XLOOKUP(NH4,MW:MW,NJ:NJ))","v":""},{"$f":"+SUMIF(MW$19:MW$1600,NH4,NM$19:NM$1600)","v":0},{"$f":"IF(NH4=\"\",\"\",_xlfn.XLOOKUP(NH4,MW:MW,NK:NK))","v":""},{"$f":"IFERROR(IF(NK20<>\"PIASTRA\",SUMIF(_xlfn._TRO_ALL(NK$19:NK$1600),NL4,NL$19:NL$1600),(SUMIF(_xlfn._TRO_ALL(NK$19:NK$1600),NL4,NN$19:NN$1600))),0)","v":0},"limite",{"$nulls":12},{"$f":"+NR17","v":1},null,{"$f":"(IF(OF4=\"PIASTRA\",SUMIF(NQ$19:NQ$1600,OB4,OF$19:OF$1600),SUMIF(NQ$19:NQ$1600,OB4,OH$19:OH$1600)))","v":0},{"$f":"IF(OB4=\"\",\"\",_xlfn.XLOOKUP(OB4,NQ:NQ,OD:OD))","v":""},{"$f":"+SUMIF(NQ$19:NQ$1600,OB4,OG$19:OG$1600)","v":0},{"$f":"IF(OB4=\"\",\"\",_xlfn.XLOOKUP(OB4,NQ:NQ,OE:OE))","v":""},{"$f":"IFERROR(IF(OE20<>\"PIASTRA\",SUMIF(_xlfn._TRO_ALL(OE$19:OE$1600),OF4,OF$19:OF$1600),(SUMIF(_xlfn._TRO_ALL(OE$19:OE$1600),OF4,OH$19:OH$1600))),0)","v":0},"limite",{"$nulls":10},{"$f":"+OJ17","v":2},null,{"$f":"(IF(OX4=\"PIASTRA\",SUMIF(OI$19:OI$1600,OT4,OX$19:OX$1600),SUMIF(OI$19:OI$1600,OT4,OZ$19:OZ$1600)))","v":0},{"$f":"IF(OT4=\"\",\"\",_xlfn.XLOOKUP(OT4,OI:OI,OV:OV))","v":""},{"$f":"+SUMIF(OI$19:OI$1600,OT4,OY$19:OY$1600)","v":0},{"$f":"IF(OT4=\"\",\"\",_xlfn.XLOOKUP(OT4,OI:OI,OW:OW))","v":""},{"$f":"IFERROR(IF(OW20<>\"PIASTRA\",SUMIF(_xlfn._TRO_ALL(OW$19:OW$1600),OX4,OX$19:OX$1600),(SUMIF(_xlfn._TRO_ALL(OW$19:OW$1600),OX4,OZ$19:OZ$1600))),0)","v":0},"limite",{"$nulls":12},{"$f":"+PD17","v":1},null,{"$f":"(IF(PR4=\"PIASTRA\",SUMIF(PC$19:PC$1600,PN4,PR$19:PR$1600),SUMIF(PC$19:PC$1600,PN4,PT$19:PT$1600)))","v":0},{"$f":"IF(PN4=\"\",\"\",_xlfn.XLOOKUP(PN4,PC:PC,PP:PP))","v":""},{"$f":"+SUMIF(PC$19:PC$1600,PN4,PS$19:PS$1600)","v":0},{"$f":"IF(PN4=\"\",\"\",_xlfn.XLOOKUP(PN4,PC:PC,PQ:PQ))","v":""},{"$f":"IFERROR(IF(PQ20<>\"PIASTRA\",SUMIF(_xlfn._TRO_ALL(PQ$19:PQ$1600),PR4,PR$19:PR$1600),(SUMIF(_xlfn._TRO_ALL(PQ$19:PQ$1600),PR4,PT$19:PT$1600))),0)","v":0},"limite",{"$nulls":10},{"$f":"+PV17","v":2},null,{"$f":"(IF(QJ4=\"PIASTRA\",SUMIF(PU$19:PU$1600,QF4,QJ$19:QJ$1600),SUMIF(PU$19:PU$1600,QF4,QL$19:QL$1600)))","v":0},{"$f":"IF(QF4=\"\",\"\",_xlfn.XLOOKUP(QF4,PU:PU,QH:QH))","v":""},{"$f":"+SUMIF(PU$19:PU$1600,QF4,QK$19:QK$1600)","v":0},{"$f":"IF(QF4=\"\",\"\",_xlfn.XLOOKUP(QF4,PU:PU,QI:QI))","v":""},{"$f":"IFERROR(IF(QI20<>\"PIASTRA\",SUMIF(_xlfn._TRO_ALL(QI$19:QI$1600),QJ4,QJ$19:QJ$1600),(SUMIF(_xlfn._TRO_ALL(QI$19:QI$1600),QJ4,QL$19:QL$1600))),0)","v":0},"limite",{"$nulls":12},{"$f":"+QP17","v":1},null,{"$f":"(IF(RD4=\"PIASTRA\",SUMIF(QO$19:QO$1600,QZ4,RD$19:RD$1600),SUMIF(QO$19:QO$1600,QZ4,RF$19:RF$1600)))","v":0},{"$f":"IF(QZ4=\"\",\"\",_xlfn.XLOOKUP(QZ4,QO:QO,RB:RB))","v":""},{"$f":"+SUMIF(QO$19:QO$1600,QZ4,RE$19:RE$1600)","v":0},{"$f":"IF(QZ4=\"\",\"\",_xlfn.XLOOKUP(QZ4,QO:QO,RC:RC))","v":""},{"$f":"IFERROR(IF(RC20<>\"PIASTRA\",SUMIF(_xlfn._TRO_ALL(RC$19:RC$1600),RD4,RD$19:RD$1600),(SUMIF(_xlfn._TRO_ALL(RC$19:RC$1600),RD4,RF$19:RF$1600))),0)","v":0},"limite",{"$nulls":10},{"$f":"+RH17","v":2},null,{"$f":"(IF(RV4=\"PIASTRA\",SUMIF(RG$19:RG$1600,RR4,RV$19:RV$1600),SUMIF(RG$19:RG$1600,RR4,RX$19:RX$1600)))","v":0},{"$f":"IF(RR4=\"\",\"\",_xlfn.XLOOKUP(RR4,RG:RG,RT:RT))","v":""},{"$f":"+SUMIF(RG$19:RG$1600,RR4,RW$19:RW$1600)","v":0},{"$f":"IF(RR4=\"\",\"\",_xlfn.XLOOKUP(RR4,RG:RG,RU:RU))","v":""},{"$f":"IFERROR(IF(RU20<>\"PIASTRA\",SUMIF(_xlfn._TRO_ALL(RU$19:RU$1600),RV4,RV$19:RV$1600),(SUMIF(_xlfn._TRO_ALL(RU$19:RU$1600),RV4,RX$19:RX$1600))),0)","v":0},"limite",{"$nulls":12},{"$f":"+SB17","v":1},null,{"$f":"(IF(SP4=\"PIASTRA\",SUMIF(SA$19:SA$1600,SL4,SP$19:SP$1600),SUMIF(SA$19:SA$1600,SL4,SR$19:SR$1600)))","v":0},{"$f":"IF(SL4=\"\",\"\",_xlfn.XLOOKUP(SL4,SA:SA,SN:SN))","v":""},{"$f":"+SUMIF(SA$19:SA$1600,SL4,SQ$19:SQ$1600)","v":0},{"$f":"IF(SL4=\"\",\"\",_xlfn.XLOOKUP(SL4,SA:SA,SO:SO))","v":""},{"$f":"IFERROR(IF(SO20<>\"PIASTRA\",SUMIF(_xlfn._TRO_ALL(SO$19:SO$1600),SP4,SP$19:SP$1600),(SUMIF(_xlfn._TRO_ALL(SO$19:SO$1600),SP4,SR$19:SR$1600))),0)","v":0},"limite",{"$nulls":10},{"$f":"+ST17","v":2},null,{"$f":"(IF(TH4=\"PIASTRA\",SUMIF(SS$19:SS$1600,TD4,TH$19:TH$1600),SUMIF(SS$19:SS$1600,TD4,TJ$19:TJ$1600)))","v":0},{"$f":"IF(TD4=\"\",\"\",_xlfn.XLOOKUP(TD4,SS:SS,TF:TF))","v":""},{"$f":"+SUMIF(SS$19:SS$1600,TD4,TI$19:TI$1600)","v":0},{"$f":"IF(TD4=\"\",\"\",_xlfn.XLOOKUP(TD4,SS:SS,TG:TG))","v":""},{"$f":"IFERROR(IF(TG20<>\"PIASTRA\",SUMIF(_xlfn._TRO_ALL(TG$19:TG$1600),TH4,TH$19:TH$1600),(SUMIF(_xlfn._TRO_ALL(TG$19:TG$1600),TH4,TJ$19:TJ$1600))),0)","v":0},"limite"]
[{"$nulls":12},{"$f":"(IF(P5=\"PIASTRA\",SUMIF(A$19:A$1600,L5,P$19:P$1600),SUMIF(A$19:A$1600,L5,R$19:R$1600)))","v":0},"",0,{"$f":"IF(L5=\"\",\"\",_xlfn.XLOOKUP(L5,A:A,O:O))","v":""},{"$f":"IFERROR(IF(O21<>\"PIASTRA\",SUMIF(_xlfn._TRO_ALL(O$19:O$1600),P5,P$19:P$1600),(SUMIF(_xlfn._TRO_ALL(O$19:O$1600),P5,R$19:R$1600))),0)","v":0},"limite",{"$nulls":12},{"$f":"(IF(AH5=\"PIASTRA\",SUMIF(S$19:S$1600,AD5,AH$19:AH$1600),SUMIF(S$19:S$1600,AD5,AJ$19:AJ$1600)))","v":0},"",0,{"$f":"IF(AD5=\"\",\"\",_xlfn.XLOOKUP(AD5,S:S,AG:AG))","v":""},{"$f":"IFERROR(IF(AG21<>\"PIASTRA\",SUMIF(_xlfn._TRO_ALL(AG$19:AG$1600),AH5,AH$19:AH$1600),(SUMIF(_xlfn._TRO_ALL(AG$19:AG$1600),AH5,AJ$19:AJ$1600))),0)","v":0},"limite",{"$nulls":14},{"$f":"(IF(BB5=\"PIASTRA\",SUMIF(AM$19:AM$1600,AX5,BB$19:BB$1600),SUMIF(AM$19:AM$1600,AX5,BD$19:BD$1600)))","v":0},"",0,{"$f":"IF(AX5=\"\",\"\",_xlfn.XLOOKUP(AX5,AM:AM,BA:BA))","v":""},{"$f":"IFERROR(IF(BA21<>\"PIASTRA\",SUMIF(_xlfn._TRO_ALL(BA$19:BA$1600),BB5,BB$19:BB$1600),(SUMIF(_xlfn._TRO_ALL(BA$19:BA$1600),BB5,BD$19:BD$1600))),0)","v":0},"limite",{"$nulls":12},{"$f":"(IF(BT5=\"PIASTRA\",SUMIF(BE$19:BE$1600,BP5,BT$19:BT$1600),SUMIF(BE$19:BE$1600,BP5,BV$19:BV$1600)))","v":0},"",0,{"$f":"IF(BP5=\"\",\"\",_xlfn.XLOOKUP(BP5,BE:BE,BS:BS))","v":""},{"$f":"IFERROR(IF(BS21<>\"PIASTRA\",SUMIF(_xlfn._TRO_ALL(BS$19:BS$1600),BT5,BT$19:BT$1600),(SUMIF(_xlfn._TRO_ALL(BS$19:BS$1600),BT5,BV$19:BV$1600))),0)","v":0},"limite",{"$nulls":14},{"$f":"(IF(CN5=\"PIASTRA\",SUMIF(BY$19:BY$1600,CJ5,CN$19:CN$1600),SUMIF(BY$19:BY$1600,CJ5,CP$19:CP$1600)))","v":0},"",0,{"$f":"IF(CJ5=\"\",\"\",_xlfn.XLOOKUP(CJ5,BY:BY,CM:CM))","v":""},{"$f":"IFERROR(IF(CM21<>\"PIASTRA\",SUMIF(_xlfn._TRO_ALL(CM$19:CM$1600),CN5,CN$19:CN$1600),(SUMIF(_xlfn._TRO_ALL(CM$19:CM$1600),CN5,CP$19:CP$1600))),0)","v":0},"limite",{"$nulls":12},{"$f":"(IF(DF5=\"PIASTRA\",SUMIF(CQ$19:CQ$1600,DB5,DF$19:DF$1600),SUMIF(CQ$19:CQ$1600,DB5,DH$19:DH$1600)))","v":0},"",0,{"$f":"IF(DB5=\"\",\"\",_xlfn.XLOOKUP(DB5,CQ:CQ,DE:DE))","v":""},{"$f":"IFERROR(IF(DE21<>\"PIASTRA\",SUMIF(_xlfn._TRO_ALL(DE$19:DE$1600),DF5,DF$19:DF$1600),(SUMIF(_xlfn._TRO_ALL(DE$19:DE$1600),DF5,DH$19:DH$1600))),0)","v":0},"limite",{"$nulls":14},{"$f":"(IF(DZ5=\"PIASTRA\",SUMIF(DK$19:DK$1600,DV5,DZ$19:DZ$1600),SUMIF(DK$19:DK$1600,DV5,EB$19:EB$1600)))","v":0},"",0,{"$f":"IF(DV5=\"\",\"\",_xlfn.XLOOKUP(DV5,DK:DK,DY:DY))","v":""},{"$f":"IFERROR(IF(DY21<>\"PIASTRA\",SUMIF(_xlfn._TRO_ALL(DY$19:DY$1600),DZ5,DZ$19:DZ$1600),(SUMIF(_xlfn._TRO_ALL(DY$19:DY$1600),DZ5,EB$19:EB$1600))),0)","v":0},"limite",{"$nulls":12},{"$f":"(IF(ER5=\"PIASTRA\",SUMIF(EC$19:EC$1600,EN5,ER$19:ER$1600),SUMIF(EC$19:EC$1600,EN5,ET$19:ET$1600)))","v":0},"",0,{"$f":"IF(EN5=\"\",\"\",_xlfn.XLOOKUP(EN5,EC:EC,EQ:EQ))","v":""},{"$f":"IFERROR(IF(EQ21<>\"PIASTRA\",SUMIF(_xlfn._TRO_ALL(EQ$19:EQ$1600),ER5,ER$19:ER$1600),(SUMIF(_xlfn._TRO_ALL(EQ$19:EQ$1600),ER5,ET$19:ET$1600))),0)","v":0},"limite",{"$nulls":14},{"$f":"(IF(FL5=\"PIASTRA\",SUMIF(EW$19:EW$1600,FH5,FL$19:FL$1600),SUMIF(EW$19:EW$1600,FH5,FN$19:FN$1600)))","v":0},"",0,{"$f":"IF(FH5=\"\",\"\",_xlfn.XLOOKUP(FH5,EW:EW,FK:FK))","v":""},{"$f":"IFERROR(IF(FK21<>\"PIASTRA\",SUMIF(_xlfn._TRO_ALL(FK$19:FK$1600),FL5,FL$19:FL$1600),(SUMIF(_xlfn._TRO_ALL(FK$19:FK$1600),FL5,FN$19:FN$1600))),0)","v":0},"limite",{"$nulls":12},{"$f":"(IF(GD5=\"PIASTRA\",SUMIF(FO$19:FO$1600,FZ5,GD$19:GD$1600),SUMIF(FO$19:FO$1600,FZ5,GF$19:GF$1600)))","v":0},"",0,{"$f":"IF(FZ5=\"\",\"\",_xlfn.XLOOKUP(FZ5,FO:FO,GC:GC))","v":""},{"$f":"IFERROR(IF(GC21<>\"PIASTRA\",SUMIF(_xlfn._TRO_ALL(GC$19:GC$1600),GD5,GD$19:GD$1600),(SUMIF(_xlfn._TRO_ALL(GC$19:GC$1600),GD5,GF$19:GF$1600))),0)","v":0},"limite",{"$nulls":14},{"$f":"(IF(GX5=\"PIASTRA\",SUMIF(GI$19:GI$1600,GT5,GX$19:GX$1600),SUMIF(GI$19:GI$1600,GT5,GZ$19:GZ$1600)))","v":0},"",0,{"$f":"IF(GT5=\"\",\"\",_xlfn.XLOOKUP(GT5,GI:GI,GW:GW))","v":""},{"$f":"IFERROR(IF(GW21<>\"PIASTRA\",SUMIF(_xlfn._TRO_ALL(GW$19:GW$1600),GX5,GX$19:GX$1600),(SUMIF(_xlfn._TRO_ALL(GW$19:GW$1600),GX5,GZ$19:GZ$1600))),0)","v":0},"limite",{"$nulls":12},{"$f":"(IF(HP5=\"PIASTRA\",SUMIF(HA$19:HA$1600,HL5,HP$19:HP$1600),SUMIF(HA$19:HA$1600,HL5,HR$19:HR$1600)))","v":0},"",0,{"$f":"IF(HL5=\"\",\"\",_xlfn.XLOOKUP(HL5,HA:HA,HO:HO))","v":""},{"$f":"IFERROR(IF(HO21<>\"PIASTRA\",SUMIF(_xlfn._TRO_ALL(HO$19:HO$1600),HP5,HP$19:HP$1600),(SUMIF(_xlfn._TRO_ALL(HO$19:HO$1600),HP5,HR$19:HR$1600))),0)","v":0},"limite",{"$nulls":14},{"$f":"(IF(IJ5=\"PIASTRA\",SUMIF(HU$19:HU$1600,IF5,IJ$19:IJ$1600),SUMIF(HU$19:HU$1600,IF5,IL$19:IL$1600)))","v":0},"",0,{"$f":"IF(IF5=\"\",\"\",_xlfn.XLOOKUP(IF5,HU:HU,II:II))","v":""},{"$f":"IFERROR(IF(II21<>\"PIASTRA\",SUMIF(_xlfn._TRO_ALL(II$19:II$1600),IJ5,IJ$19:IJ$1600),(SUMIF(_xlfn._TRO_ALL(II$19:II$1600),IJ5,IL$19:IL$1600))),0)","v":0},"limite",{"$nulls":12},{"$f":"(IF(JB5=\"PIASTRA\",SUMIF(IM$19:IM$1600,IX5,JB$19:JB$1600),SUMIF(IM$19:IM$1600,IX5,JD$19:JD$1600)))","v":0},"",0,{"$f":"IF(IX5=\"\",\"\",_xlfn.XLOOKUP(IX5,IM:IM,JA:JA))","v":""},{"$f":"IFERROR(IF(JA21<>\"PIASTRA\",SUMIF(_xlfn._TRO_ALL(JA$19:JA$1600),JB5,JB$19:JB$1600),(SUMIF(_xlfn._TRO_ALL(JA$19:JA$1600),JB5,JD$19:JD$1600))),0)","v":0},"limite",{"$nulls":14},{"$f":"(IF(JV5=\"PIASTRA\",SUMIF(JG$19:JG$1600,JR5,JV$19:JV$1600),SUMIF(JG$19:JG$1600,JR5,JX$19:JX$1600)))","v":0},"",0,{"$f":"IF(JR5=\"\",\"\",_xlfn.XLOOKUP(JR5,JG:JG,JU:JU))","v":""},{"$f":"IFERROR(IF(JU21<>\"PIASTRA\",SUMIF(_xlfn._TRO_ALL(JU$19:JU$1600),JV5,JV$19:JV$1600),(SUMIF(_xlfn._TRO_ALL(JU$19:JU$1600),JV5,JX$19:JX$1600))),0)","v":0},"limite",{"$nulls":12},{"$f":"(IF(KN5=\"PIASTRA\",SUMIF(JY$19:JY$1600,KJ5,KN$19:KN$1600),SUMIF(JY$19:JY$1600,KJ5,KP$19:KP$1600)))","v":0},"",0,{"$f":"IF(KJ5=\"\",\"\",_xlfn.XLOOKUP(KJ5,JY:JY,KM:KM))","v":""},{"$f":"IFERROR(IF(KM21<>\"PIASTRA\",SUMIF(_xlfn._TRO_ALL(KM$19:KM$1600),KN5,KN$19:KN$1600),(SUMIF(_xlfn._TRO_ALL(KM$19:KM$1600),KN5,KP$19:KP$1600))),0)","v":0},"limite",{"$nulls":14},{"$f":"(IF(LH5=\"PIASTRA\",SUMIF(KS$19:KS$1600,LD5,LH$19:LH$1600),SUMIF(KS$19:KS$1600,LD5,LJ$19:LJ$1600)))","v":0},"",0,{"$f":"IF(LD5=\"\",\"\",_xlfn.XLOOKUP(LD5,KS:KS,LG:LG))","v":""},{"$f":"IFERROR(IF(LG21<>\"PIASTRA\",SUMIF(_xlfn._TRO_ALL(LG$19:LG$1600),LH5,LH$19:LH$1600),(SUMIF(_xlfn._TRO_ALL(LG$19:LG$1600),LH5,LJ$19:LJ$1600))),0)","v":0},"limite",{"$nulls":12},{"$f":"(IF(LZ5=\"PIASTRA\",SUMIF(LK$19:LK$1600,LV5,LZ$19:LZ$1600),SUMIF(LK$19:LK$1600,LV5,MB$19:MB$1600)))","v":0},"",0,{"$f":"IF(LV5=\"\",\"\",_xlfn.XLOOKUP(LV5,LK:LK,LY:LY))","v":""},{"$f":"IFERROR(IF(LY21<>\"PIASTRA\",SUMIF(_xlfn._TRO_ALL(LY$19:LY$1600),LZ5,LZ$19:LZ$1600),(SUMIF(_xlfn._TRO_ALL(LY$19:LY$1600),LZ5,MB$19:MB$1600))),0)","v":0},"limite",{"$nulls":14},{"$f":"(IF(MT5=\"PIASTRA\",SUMIF(ME$19:ME$1600,MP5,MT$19:MT$1600),SUMIF(ME$19:ME$1600,MP5,MV$19:MV$1600)))","v":0},"",0,{"$f":"IF(MP5=\"\",\"\",_xlfn.XLOOKUP(MP5,ME:ME,MS:MS))","v":""},{"$f":"IFERROR(IF(MS21<>\"PIASTRA\",SUMIF(_xlfn._TRO_ALL(MS$19:MS$1600),MT5,MT$19:MT$1600),(SUMIF(_xlfn._TRO_ALL(MS$19:MS$1600),MT5,MV$19:MV$1600))),0)","v":0},"limite",{"$nulls":12},{"$f":"(IF(NL5=\"PIASTRA\",SUMIF(MW$19:MW$1600,NH5,NL$19:NL$1600),SUMIF(MW$19:MW$1600,NH5,NN$19:NN$1600)))","v":0},"",0,{"$f":"IF(NH5=\"\",\"\",_xlfn.XLOOKUP(NH5,MW:MW,NK:NK))","v":""},{"$f":"IFERROR(IF(NK21<>\"PIASTRA\",SUMIF(_xlfn._TRO_ALL(NK$19:NK$1600),NL5,NL$19:NL$1600),(SUMIF(_xlfn._TRO_ALL(NK$19:NK$1600),NL5,NN$19:NN$1600))),0)","v":0},"limite",{"$nulls":14},{"$f":"(IF(OF5=\"PIASTRA\",SUMIF(NQ$19:NQ$1600,OB5,OF$19:OF$1600),SUMIF(NQ$19:NQ$1600,OB5,OH$19:OH$1600)))","v":0},"",0,{"$f":"IF(OB5=\"\",\"\",_xlfn.XLOOKUP(OB5,NQ:NQ,OE:OE))","v":""},{"$f":"IFERROR(IF(OE21<>\"PIASTRA\",SUMIF(_xlfn._TRO_ALL(OE$19:OE$1600),OF5,OF$19:OF$1600),(SUMIF(_xlfn._TRO_ALL(OE$19:OE$1600),OF5,OH$19:OH$1600))),0)","v":0},"limite",{"$nulls":12},{"$f":"(IF(OX5=\"PIASTRA\",SUMIF(OI$19:OI$1600,OT5,OX$19:OX$1600),SUMIF(OI$19:OI$1600,OT5,OZ$19:OZ$1600)))","v":0},"",0,{"$f":"IF(OT5=\"\",\"\",_xlfn.XLOOKUP(OT5,OI:OI,OW:OW))","v":""},{"$f":"IFERROR(IF(OW21<>\"PIASTRA\",SUMIF(_xlfn._TRO_ALL(OW$19:OW$1600),OX5,OX$19:OX$1600),(SUMIF(_xlfn._TRO_ALL(OW$19:OW$1600),OX5,OZ$19:OZ$1600))),0)","v":0},"limite",{"$nulls":14},{"$f":"(IF(PR5=\"PIASTRA\",SUMIF(PC$19:PC$1600,PN5,PR$19:PR$1600),SUMIF(PC$19:PC$1600,PN5,PT$19:PT$1600)))","v":0},"",0,{"$f":"IF(PN5=\"\",\"\",_xlfn.XLOOKUP(PN5,PC:PC,PQ:PQ))","v":""},{"$f":"IFERROR(IF(PQ21<>\"PIASTRA\",SUMIF(_xlfn._TRO_ALL(PQ$19:PQ$1600),PR5,PR$19:PR$1600),(SUMIF(_xlfn._TRO_ALL(PQ$19:PQ$1600),PR5,PT$19:PT$1600))),0)","v":0},"limite",{"$nulls":12},{"$f":"(IF(QJ5=\"PIASTRA\",SUMIF(PU$19:PU$1600,QF5,QJ$19:QJ$1600),SUMIF(PU$19:PU$1600,QF5,QL$19:QL$1600)))","v":0},"",0,{"$f":"IF(QF5=\"\",\"\",_xlfn.XLOOKUP(QF5,PU:PU,QI:QI))","v":""},{"$f":"IFERROR(IF(QI21<>\"PIASTRA\",SUMIF(_xlfn._TRO_ALL(QI$19:QI$1600),QJ5,QJ$19:QJ$1600),(SUMIF(_xlfn._TRO_ALL(QI$19:QI$1600),QJ5,QL$19:QL$1600))),0)","v":0},"limite",{"$nulls":14},{"$f":"(IF(RD5=\"PIASTRA\",SUMIF(QO$19:QO$1600,QZ5,RD$19:RD$1600),SUMIF(QO$19:QO$1600,QZ5,RF$19:RF$1600)))","v":0},"",0,{"$f":"IF(QZ5=\"\",\"\",_xlfn.XLOOKUP(QZ5,QO:QO,RC:RC))","v":""},{"$f":"IFERROR(IF(RC21<>\"PIASTRA\",SUMIF(_xlfn._TRO_ALL(RC$19:RC$1600),RD5,RD$19:RD$1600),(SUMIF(_xlfn._TRO_ALL(RC$19:RC$1600),RD5,RF$19:RF$1600))),0)","v":0},"limite",{"$nulls":12},{"$f":"(IF(RV5=\"PIASTRA\",SUMIF(RG$19:RG$1600,RR5,RV$19:RV$1600),SUMIF(RG$19:RG$1600,RR5,RX$19:RX$1600)))","v":0},"",0,{"$f":"IF(RR5=\"\",\"\",_xlfn.XLOOKUP(RR5,RG:RG,RU:RU))","v":""},{"$f":"IFERROR(IF(RU21<>\"PIASTRA\",SUMIF(_xlfn._TRO_ALL(RU$19:RU$1600),RV5,RV$19:RV$1600),(SUMIF(_xlfn._TRO_ALL(RU$19:RU$1600),RV5,RX$19:RX$1600))),0)","v":0},"limite",{"$nulls":14},{"$f":"(IF(SP5=\"PIASTRA\",SUMIF(SA$19:SA$1600,SL5,SP$19:SP$1600),SUMIF(SA$19:SA$1600,SL5,SR$19:SR$1600)))","v":0},"",0,{"$f":"IF(SL5=\"\",\"\",_xlfn.XLOOKUP(SL5,SA:SA,SO:SO))","v":""},{"$f":"IFERROR(IF(SO21<>\"PIASTRA\",SUMIF(_xlfn._TRO_ALL(SO$19:SO$1600),SP5,SP$19:SP$1600),(SUMIF(_xlfn._TRO_ALL(SO$19:SO$1600),SP5,SR$19:SR$1600))),0)","v":0},"limite",{"$nulls":12},{"$f":"(IF(TH5=\"PIASTRA\",SUMIF(SS$19:SS$1600,TD5,TH$19:TH$1600),SUMIF(SS$19:SS$1600,TD5,TJ$19:TJ$1600)))","v":0},"",0,{"$f":"IF(TD5=\"\",\"\",_xlfn.XLOOKUP(TD5,SS:SS,TG:TG))","v":""},{"$f":"IFERROR(IF(TG21<>\"PIASTRA\",SUMIF(_xlfn._TRO_ALL(TG$19:TG$1600),TH5,TH$19:TH$1600),(SUMIF(_xlfn._TRO_ALL(TG$19:TG$1600),TH5,TJ$19:TJ$1600))),0)","v":0},"limite"]
[{"$nulls":12},0,"",0,{"$f":"IF(L6=\"\",\"\",_xlfn.XLOOKUP(L6,A:A,O:O))","v":""},0,"limite",{"$nulls":12},0,"",0,{"$f":"IF(AD6=\"\",\"\",_xlfn.XLOOKUP(AD6,S:S,AG:AG))","v":""},0,"limite",{"$nulls":14},0,"",0,{"$f":"IF(AX6=\"\",\"\",_xlfn.XLOOKUP(AX6,AM:AM,BA:BA))","v":""},0,"limite",{"$nulls":12},0,"",0,{"$f":"IF(BP6=\"\",\"\",_xlfn.XLOOKUP(BP6,BE:BE,BS:BS))","v":""},0,"limite",{"$nulls":14},0,"",0,{"$f":"IF(CJ6=\"\",\"\",_xlfn.XLOOKUP(CJ6,BY:BY,CM:CM))","v":""},0,"limite",{"$nulls":12},0,"",0,{"$f":"IF(DB6=\"\",\"\",_xlfn.XLOOKUP(DB6,CQ:CQ,DE:DE))","v":""},0,"limite",{"$nulls":14},0,"",0,{"$f":"IF(DV6=\"\",\"\",_xlfn.XLOOKUP(DV6,DK:DK,DY:DY))","v":""},0,"limite",{"$nulls":12},0,"",0,{"$f":"IF(EN6=\"\",\"\",_xlfn.XLOOKUP(EN6,EC:EC,EQ:EQ))","v":""},0,"limite",{"$nulls":14},0,"",0,{"$f":"IF(FH6=\"\",\"\",_xlfn.XLOOKUP(FH6,EW:EW,FK:FK))","v":""},0,"limite",{"$nulls":12},0,"",0,{"$f":"IF(FZ6=\"\",\"\",_xlfn.XLOOKUP(FZ6,FO:FO,GC:GC))","v":""},0,"limite",{"$nulls":14},0,"",0,{"$f":"IF(GT6=\"\",\"\",_xlfn.XLOOKUP(GT6,GI:GI,GW:GW))","v":""},0,"limite",{"$nulls":12},0,"",0,{"$f":"IF(HL6=\"\",\"\",_xlfn.XLOOKUP(HL6,HA:HA,HO:HO))","v":""},0,"limite",{"$nulls":14},0,"",0,{"$f":"IF(IF6=\"\",\"\",_xlfn.XLOOKUP(IF6,HU:HU,II:II))","v":""},0,"limite",{"$nulls":12},0,"",0,{"$f":"IF(IX6=\"\",\"\",_xlfn.XLOOKUP(IX6,IM:IM,JA:JA))","v":""},0,"limite",{"$nulls":14},0,"",0,{"$f":"IF(JR6=\"\",\"\",_xlfn.XLOOKUP(JR6,JG:JG,JU:JU))","v":""},0,"limite",{"$nulls":12},0,"",0,{"$f":"IF(KJ6=\"\",\"\",_xlfn.XLOOKUP(KJ6,JY:JY,KM:KM))","v":""},0,"limite",{"$nulls":14},0,"",0,{"$f":"IF(LD6=\"\",\"\",_xlfn.XLOOKUP(LD6,KS:KS,LG:LG))","v":""},0,"limite",{"$nulls":12},0,"",0,{"$f":"IF(LV6=\"\",\"\",_xlfn.XLOOKUP(LV6,LK:LK,LY:LY))","v":""},0,"limite",{"$nulls":14},0,"",0,{"$f":"IF(MP6=\"\",\"\",_xlfn.XLOOKUP(MP6,ME:ME,MS:MS))","v":""},0,"limite",{"$nulls":12},0,"",0,{"$f":"IF(NH6=\"\",\"\",_xlfn.XLOOKUP(NH6,MW:MW,NK:NK))","v":""},0,"limite",{"$nulls":14},0,"",0,{"$f":"IF(OB6=\"\",\"\",_xlfn.XLOOKUP(OB6,NQ:NQ,OE:OE))","v":""},0,"limite",{"$nulls":12},0,"",0,{"$f":"IF(OT6=\"\",\"\",_xlfn.XLOOKUP(OT6,OI:OI,OW:OW))","v":""},0,"limite",{"$nulls":14},0,"",0,{"$f":"IF(PN6=\"\",\"\",_xlfn.XLOOKUP(PN6,PC:PC,PQ:PQ))","v":""},0,"limite",{"$nulls":12},0,"",0,{"$f":"IF(QF6=\"\",\"\",_xlfn.XLOOKUP(QF6,PU:PU,QI:QI))","v":""},0,"limite",{"$nulls":14},0,"",0,{"$f":"IF(QZ6=\"\",\"\",_xlfn.XLOOKUP(QZ6,QO:QO,RC:RC))","v":""},0,"limite",{"$nulls":12},0,"",0,{"$f":"IF(RR6=\"\",\"\",_xlfn.XLOOKUP(RR6,RG:RG,RU:RU))","v":""},0,"limite",{"$nulls":14},0,"",0,{"$f":"IF(SL6=\"\",\"\",_xlfn.XLOOKUP(SL6,SA:SA,SO:SO))","v":""},0,"limite",{"$nulls":12},0,"",0,{"$f":"IF(TD6=\"\",\"\",_xlfn.XLOOKUP(TD6,SS:SS,TG:TG))","v":""},0,"limite"]
[{"$nulls":12},0,"",0,"",0,"limite",{"$nulls":12},0,"",0,"",0,"limite",{"$nulls":14},0,"",0,"",0,"limite",{"$nulls":12},0,"",0,"",0,"limite",{"$nulls":14},0,"",0,"",0,"limite",{"$nulls":12},0,"",0,"",0,"limite",{"$nulls":14},0,"",0,"",0,"limite",{"$nulls":12},0,"",0,"",0,"limite",{"$nulls":14},0,"",0,"",0,"limite",{"$nulls":12},0,"",0,"",0,"limite",{"$nulls":14},0,"",0,"",0,"limite",{"$nulls":12},0,"",0,"",0,"limite",{"$nulls":14},0,"",0,"",0,"limite",{"$nulls":12},0,"",0,"",0,"limite",{"$nulls":14},0,"",0,"",0,"limite",{"$nulls":12},0,"",0,"",0,"limite",{"$nulls":14},0,"",0,"",0,"limite",{"$nulls":12},0,"",0,"",0,"limite",{"$nulls":14},0,"",0,"",0,"limite",{"$nulls":12},0,"",0,"",0,"limite",{"$nulls":14},0,"",0,"",0,"limite",{"$nulls":12},0,"",0,"",0,"limite",{"$nulls":14},0,"",0,"",0,"limite",{"$nulls":12},0,"",0,"",0,"limite",{"$nulls":14},0,"",0,"",0,"limite",{"$nulls":12},0,"",0,"",0,"limite",{"$nulls":14},0,"",0,"",0,"limite",{"$nulls":12},0,"",0,"",0,"limite"]
[{"$nulls":12},0,"",0,"",0,"limite",{"$nulls":12},0,"",0,"",0,"limite",{"$nulls":14},0,"",0,"",0,"limite",{"$nulls":12},0,"",0,"",0,"limite",{"$nulls":14},0,"",0,"",0,"limite",{"$nulls":12},0,"",0,"",0,"limite",{"$nulls":14},0,"",0,"",0,"limite",{"$nulls":12},0,"",0,"",0,"limite",{"$nulls":14},0,"",0,"",0,"limite",{"$nulls":12},0,"",0,"",0,"limite",{"$nulls":14},0,"",0,"",0,"limite",{"$nulls":12},0,"",0,"",0,"limite",{"$nulls":14},0,"",0,"",0,"limite",{"$nulls":12},0,"",0,"",0,"limite",{"$nulls":14},0,"",0,"",0,"limite",{"$nulls":12},0,"",0,"",0,"limite",{"$nulls":14},0,"",0,"",0,"limite",{"$nulls":12},0,"",0,"",0,"limite",{"$nulls":14},0,"",0,"",0,"limite",{"$nulls":12},0,"",0,"",0,"limite",{"$nulls":14},0,"",0,"",0,"limite",{"$nulls":12},0,"",0,"",0,"limite",{"$nulls":14},0,"",0,"",0,"limite",{"$nulls":12},0,"",0,"",0,"limite",{"$nulls":14},0,"",0,"",0,"limite",{"$nulls":12},0,"",0,"",0,"limite",{"$nulls":14},0,"",0,"",0,"limite",{"$nulls":12},0,"",0,"",0,"limite"]
[{"$nulls":12},0,"",0,"",0,"limite",{"$nulls":12},0,"",0,"",0,"limite",{"$nulls":14},0,"",0,"",0,"limite",{"$nulls":12},0,"",0,"",0,"limite",{"$nulls":14},0,"",0,"",0,"limite",{"$nulls":12},0,"",0,"",0,"limite",{"$nulls":14},0,"",0,"",0,"limite",{"$nulls":12},0,"",0,"",0,"limite",{"$nulls":14},0,"",0,"",0,"limite",{"$nulls":12},0,"",0,"",0,"limite",{"$nulls":14},0,"",0,"",0,"limite",{"$nulls":12},0,"",0,"",0,"limite",{"$nulls":14},0,"",0,"",0,"limite",{"$nulls":12},0,"",0,"",0,"limite",{"$nulls":14},0,"",0,"",0,"limite",{"$nulls":12},0,"",0,"",0,"limite",{"$nulls":14},0,"",0,"",0,"limite",{"$nulls":12},0,"",0,"",0,"limite",{"$nulls":14},0,"",0,"",0,"limite",{"$nulls":12},0,"",0,"",0,"limite",{"$nulls":14},0,"",0,"",0,"limite",{"$nulls":12},0,"",0,"",0,"limite",{"$nulls":14},0,"",0,"",0,"limite",{"$nulls":12},0,"",0,"",0,"limite",{"$nulls":14},0,"",0,"",0,"limite",{"$nulls":12},0,"",0,"",0,"limite",{"$nulls":14},0,"",0,"",0,"limite",{"$nulls":12},0,"",0,"",0,"limite"]
[{"$nulls":12},0,"",0,"",0,"limite",{"$nulls":12},0,"",0,"",0,"limite",{"$nulls":14},0,"",0,"",0,"limite",{"$nulls":12},0,"",0,"",0,"limite",{"$nulls":14},0,"",0,"",0,"limite",{"$nulls":12},0,"",0,"",0,"limite",{"$nulls":14},0,"",0,"",0,"limite",{"$nulls":12},0,"",0,"",0,"limite",{"$nulls":14},0,"",0,"",0,"limite",{"$nulls":12},0,"",0,"",0,"limite",{"$nulls":14},0,"",0,"",0,"limite",{"$nulls":12},0,"",0,"",0,"limite",{"$nulls":14},0,"",0,"",0,"limite",{"$nulls":12},0,"",0,"",0,"limite",{"$nulls":14},0,"",0,"",0,"limite",{"$nulls":12},0,"",0,"",0,"limite",{"$nulls":14},0,"",0,"",0,"limite",{"$nulls":12},0,"",0,"",0,"limite",{"$nulls":14},0,"",0,"",0,"limite",{"$nulls":12},0,"",0,"",0,"limite",{"$nulls":14},0,"",0,"",0,"limite",{"$nulls":12},0,"",0,"",0,"limite",{"$nulls":14},0,"",0,"",0,"limite",{"$nulls":12},0,"",0,"",0,"limite",{"$nulls":14},0,"",0,"",0,"limite",{"$nulls":12},0,"",0,"",0,"limite",{"$nulls":14},0,"",0,"",0,"limite",{"$nulls":12},0,"",0,"",0,"limite"]
[{"$nulls":12},0,"",0,"",0,"limite",{"$nulls":12},0,"",0,"",0,"limite",{"$nulls":14},0,"",0,"",0,"limite",{"$nulls":12},0,"",0,"",0,"limite",{"$nulls":14},0,"",0,"",0,"limite",{"$nulls":12},0,"",0,"",0,"limite",{"$nulls":14},0,"",0,"",0,"limite",{"$nulls":12},0,"",0,"",0,"limite",{"$nulls":14},0,"",0,"",0,"limite",{"$nulls":12},0,"",0,"",0,"limite",{"$nulls":14},0,"",0,"",0,"limite",{"$nulls":12},0,"",0,"",0,"limite",{"$nulls":14},0,"",0,"",0,"limite",{"$nulls":12},0,"",0,"",0,"limite",{"$nulls":14},0,"",0,"",0,"limite",{"$nulls":12},0,"",0,"",0,"limite",{"$nulls":14},0,"",0,"",0,"limite",{"$nulls":12},0,"",0,"",0,"limite",{"$nulls":14},0,"",0,"",0,"limite",{"$nulls":12},0,"",0,"",0,"limite",{"$nulls":14},0,"",0,"",0,"limite",{"$nulls":12},0,"",0,"",0,"limite",{"$nulls":14},0,"",0,"",0,"limite",{"$nulls":12},0,"",0,"",0,"limite",{"$nulls":14},0,"",0,"",0,"limite",{"$nulls":12},0,"",0,"",0,"limite",{"$nulls":14},0,"",0,"",0,"limite",{"$nulls":12},0,"",0,"",0,"limite"]
[{"$nulls":12},0,"",0,"",0,"limite",{"$nulls":12},0,"",0,"",0,"limite",{"$nulls":14},0,"",0,"",0,"limite",{"$nulls":12},0,"",0,"",0,"limite",{"$nulls":14},0,"",0,"",0,"limite",{"$nulls":12},0,"",0,"",0,"limite",{"$nulls":14},0,"",0,"",0,"limite",{"$nulls":12},0,"",0,"",0,"limite",{"$nulls":14},0,"",0,"",0,"limite",{"$nulls":12},0,"",0,"",0,"limite",{"$nulls":14},0,"",0,"",0,"limite",{"$nulls":12},0,"",0,"",0,"limite",{"$nulls":14},0,"",0,"",0,"limite",{"$nulls":12},0,"",0,"",0,"limite",{"$nulls":14},0,"",0,"",0,"limite",{"$nulls":12},0,"",0,"",0,"limite",{"$nulls":14},0,"",0,"",0,"limite",{"$nulls":12},0,"",0,"",0,"limite",{"$nulls":14},0,"",0,"",0,"limite",{"$nulls":12},0,"",0,"",0,"limite",{"$nulls":14},0,"",0,"",0,"limite",{"$nulls":12},0,"",0,"",0,"limite",{"$nulls":14},0,"",0,"",0,"limite",{"$nulls":12},0,"",0,"",0,"limite",{"$nulls":14},0,"",0,"",0,"limite",{"$nulls":12},0,"",0,"",0,"limite",{"$nulls":14},0,"",0,"",0,"limite",{"$nulls":12},0,"",0,"",0,"limite"]
[{"$nulls":12},0,"",0,"",0,"limite",{"$nulls":12},0,"",0,"",0,"limite",{"$nulls":14},0,"",0,"",0,"limite",{"$nulls":12},0,"",0,"",0,"limite",{"$nulls":14},0,"",0,"",0,"limite",{"$nulls":12},0,"",0,"",0,"limite",{"$nulls":14},0,"",0,"",0,"limite",{"$nulls":12},0,"",0,"",0,"limite",{"$nulls":14},0,"",0,"",0,"limite",{"$nulls":12},0,"",0,"",0,"limite",{"$nulls":14},0,"",0,"",0,"limite",{"$nulls":12},0,"",0,"",0,"limite",{"$nulls":14},0,"",0,"",0,"limite",{"$nulls":12},0,"",0,"",0,"limite",{"$nulls":14},0,"",0,"",0,"limite",{"$nulls":12},0,"",0,"",0,"limite",{"$nulls":14},0,"",0,"",0,"limite",{"$nulls":12},0,"",0,"",0,"limite",{"$nulls":14},0,"",0,"",0,"limite",{"$nulls":12},0,"",0,"",0,"limite",{"$nulls":14},0,"",0,"",0,"limite",{"$nulls":12},0,"",0,"",0,"limite",{"$nulls":14},0,"",0,"",0,"limite",{"$nulls":12},0,"",0,"",0,"limite",{"$nulls":14},0,"",0,"",0,"limite",{"$nulls":12},0,"",0,"",0,"limite",{"$nulls":14},0,"",0,"",0,"limite",{"$nulls":12},0,"",0,"",0,"limite"]
[{"$nulls":12},0,"",0,"",0,"limite",{"$nulls":12},0,"",0,"",0,"limite",{"$nulls":14},0,"",0,"",0,"limite",{"$nulls":12},0,"",0,"",0,"limite",{"$nulls":14},0,"",0,"",0,"limite",{"$nulls":12},0,"",0,"",0,"limite",{"$nulls":14},0,"",0,"",0,"limite",{"$nulls":12},0,"",0,"",0,"limite",{"$nulls":14},0,"",0,"",0,"limite",{"$nulls":12},0,"",0,"",0,"limite",{"$nulls":14},0,"",0,"",0,"limite",{"$nulls":12},0,"",0,"",0,"limite",{"$nulls":14},0,"",0,"",0,"limite",{"$nulls":12},0,"",0,"",0,"limite",{"$nulls":14},0,"",0,"",0,"limite",{"$nulls":12},0,"",0,"",0,"limite",{"$nulls":14},0,"",0,"",0,"limite",{"$nulls":12},0,"",0,"",0,"limite",{"$nulls":14},0,"",0,"",0,"limite",{"$nulls":12},0,"",0,"",0,"limite",{"$nulls":14},0,"",0,"",0,"limite",{"$nulls":12},0,"",0,"",0,"limite",{"$nulls":14},0,"",0,"",0,"limite",{"$nulls":12},0,"",0,"",0,"limite",{"$nulls":14},0,"",0,"",0,"limite",{"$nulls":12},0,"",0,"",0,"limite",{"$nulls":14},0,"",0,"",0,"limite",{"$nulls":12},0,"",0,"",0,"limite"]
[{"$nulls":12},0,"",0,"",0,"limite",{"$nulls":12},0,"",0,"",0,"limite",{"$nulls":14},0,"",0,"",0,"limite",{"$nulls":12},0,"",0,"",0,"limite",{"$nulls":14},0,"",0,"",0,"limite",{"$nulls":12},0,"",0,"",0,"limite",{"$nulls":14},0,"",0,"",0,"limite",{"$nulls":12},0,"",0,"",0,"limite",{"$nulls":14},0,"",0,"",0,"limite",{"$nulls":12},0,"",0,"",0,"limite",{"$nulls":14},0,"",0,"",0,"limite",{"$nulls":12},0,"",0,"",0,"limite",{"$nulls":14},0,"",0,"",0,"limite",{"$nulls":12},0,"",0,"",0,"limite",{"$nulls":14},0,"",0,"",0,"limite",{"$nulls":12},0,"",0,"",0,"limite",{"$nulls":14},0,"",0,"",0,"limite",{"$nulls":12},0,"",0,"",0,"limite",{"$nulls":14},0,"",0,"",0,"limite",{"$nulls":12},0,"",0,"",0,"limite",{"$nulls":14},0,"",0,"",0,"limite",{"$nulls":12},0,"",0,"",0,"limite",{"$nulls":14},0,"",0,"",0,"limite",{"$nulls":12},0,"",0,"",0,"limite",{"$nulls":14},0,"",0,"",0,"limite",{"$nulls":12},0,"",0,"",0,"limite",{"$nulls":14},0,"",0,"",0,"limite",{"$nulls":12},0,"",0,"",0,"limite"]
[null,null,null,"MAX",{"$nulls":7},"limite","limite","limite","limite","limite","limite",{"$nulls":4},"MAX",{"$nulls":7},"limite","limite","limite","limite","limite","limite",{"$nulls":6},"MAX",{"$nulls":7},"limite","limite","limite","limite","limite","limite",{"$nulls":4},"MAX",{"$nulls":7},"limite","limite","limite","limite","limite","limite",{"$nulls":6},"MAX",{"$nulls":7},"limite","limite","limite","limite","limite","limite",{"$nulls":4},"MAX",{"$nulls":7},"limite","limite","limite","limite","limite","limite",{"$nulls":6},"MAX",{"$nulls":7},"limite","limite","limite","limite","limite","limite",{"$nulls":4},"MAX",{"$nulls":7},"limite","limite","limite","limite","limite","limite",{"$nulls":6},"MAX",{"$nulls":7},"limite","limite","limite","limite","limite","limite",{"$nulls":4},"MAX",{"$nulls":7},"limite","limite","limite","limite","limite","limite",{"$nulls":6},"MAX",{"$nulls":7},"limite","limite","limite","limite","limite","limite",{"$nulls":4},"MAX",{"$nulls":7},"limite","limite","limite","limite","limite","limite",{"$nulls":6},"MAX",{"$nulls":7},"limite","limite","limite","limite","limite","limite",{"$nulls":4},"MAX",{"$nulls":7},"limite","limite","limite","limite","limite","limite",{"$nulls":6},"MAX",{"$nulls":7},"limite","limite","limite","limite","limite","limite",{"$nulls":4},"MAX",{"$nulls":7},"limite","limite","limite","limite","limite","limite",{"$nulls":6},"MAX",{"$nulls":7},"limite","limite","limite","limite","limite","limite",{"$nulls":4},"MAX",{"$nulls":7},"limite","limite","limite","limite","limite","limite",{"$nulls":6},"MAX",{"$nulls":7},"limite","limite","limite","limite","limite","limite",{"$nulls":4},"MAX",{"$nulls":7},"limite","limite","limite","limite","limite","limite",{"$nulls":6},"MAX",{"$nulls":7},"limite","limite","limite","limite","limite","limite",{"$nulls":4},"MAX",{"$nulls":7},"limite","limite","limite","limite","limite","limite",{"$nulls":6},"MAX",{"$nulls":7},"limite","limite","limite","limite","limite","limite",{"$nulls":4},"MAX",{"$nulls":7},"limite","limite","limite","limite","limite","limite",{"$nulls":6},"MAX",{"$nulls":7},"limite","limite","limite","limite","limite","limite",{"$nulls":4},"MAX",{"$nulls":7},"limite","limite","limite","limite","limite","limite",{"$nulls":6},"MAX",{"$nulls":7},"limite","limite","limite","limite","limite","limite",{"$nulls":4},"MAX",{"$nulls":7},"limite","limite","limite","limite","limite","limite"]
[null,1,null,{"$f":"IF(B19=\"\",0,IF(restoZero(MAX(D19:D1600),25),spaziIntermedi((MAX(D19:D1600)),25)+1,spaziIntermedi(MAX(D19:D1600),25)))","v":0},{"$nulls":15},2,null,{"$f":"IF(T19=\"\",0,IF(restoZero(MAX(V19:V1600),25),spaziIntermedi((MAX(V19:V1600)),25)+1,spaziIntermedi(MAX(V19:V1600),25)))","v":0},{"$nulls":17},1,null,{"$f":"IF(AN19=\"\",0,IF(restoZero(MAX(AP19:AP1600),25),spaziIntermedi((MAX(AP19:AP1600)),25)+1,spaziIntermedi(MAX(AP19:AP1600),25)))","v":0},{"$nulls":15},2,null,{"$f":"IF(BF19=\"\",0,IF(restoZero(MAX(BH19:BH1600),25),spaziIntermedi((MAX(BH19:BH1600)),25)+1,spaziIntermedi(MAX(BH19:BH1600),25)))","v":0},{"$nulls":17},1,null,{"$f":"IF(BZ19=\"\",0,IF(restoZero(MAX(CB19:CB1600),25),spaziIntermedi((MAX(CB19:CB1600)),25)+1,spaziIntermedi(MAX(CB19:CB1600),25)))","v":0},{"$nulls":15},2,null,{"$f":"IF(CR19=\"\",0,IF(restoZero(MAX(CT19:CT1600),25),spaziIntermedi((MAX(CT19:CT1600)),25)+1,spaziIntermedi(MAX(CT19:CT1600),25)))","v":0},{"$nulls":17},1,null,{"$f":"IF(DL19=\"\",0,IF(restoZero(MAX(DN19:DN1600),25),spaziIntermedi((MAX(DN19:DN1600)),25)+1,spaziIntermedi(MAX(DN19:DN1600),25)))","v":0},{"$nulls":15},2,null,{"$f":"IF(ED19=\"\",0,IF(restoZero(MAX(EF19:EF1600),25),spaziIntermedi((MAX(EF19:EF1600)),25)+1,spaziIntermedi(MAX(EF19:EF1600),25)))","v":0},{"$nulls":17},1,null,{"$f":"IF(EX19=\"\",0,IF(restoZero(MAX(EZ19:EZ1600),25),spaziIntermedi((MAX(EZ19:EZ1600)),25)+1,spaziIntermedi(MAX(EZ19:EZ1600),25)))","v":0},{"$nulls":15},2,null,{"$f":"IF(FP19=\"\",0,IF(restoZero(MAX(FR19:FR1600),25),spaziIntermedi((MAX(FR19:FR1600)),25)+1,spaziIntermedi(MAX(FR19:FR1600),25)))","v":0},{"$nulls":17},1,null,{"$f":"IF(GJ19=\"\",0,IF(restoZero(MAX(GL19:GL1600),25),spaziIntermedi((MAX(GL19:GL1600)),25)+1,spaziIntermedi(MAX(GL19:GL1600),25)))","v":0},{"$nulls":15},2,null,{"$f":"IF(HB19=\"\",0,IF(restoZero(MAX(HD19:HD1600),25),spaziIntermedi((MAX(HD19:HD1600)),25)+1,spaziIntermedi(MAX(HD19:HD1600),25)))","v":0},{"$nulls":17},1,null,{"$f":"IF(HV19=\"\",0,IF(restoZero(MAX(HX19:HX1600),25),spaziIntermedi((MAX(HX19:HX1600)),25)+1,spaziIntermedi(MAX(HX19:HX1600),25)))","v":0},{"$nulls":15},2,null,{"$f":"IF(IN19=\"\",0,IF(restoZero(MAX(IP19:IP1600),25),spaziIntermedi((MAX(IP19:IP1600)),25)+1,spaziIntermedi(MAX(IP19:IP1600),25)))","v":0},{"$nulls":17},1,null,{"$f":"IF(JH19=\"\",0,IF(restoZero(MAX(JJ19:JJ1600),25),spaziIntermedi((MAX(JJ19:JJ1600)),25)+1,spaziIntermedi(MAX(JJ19:JJ1600),25)))","v":0},{"$nulls":15},2,null,{"$f":"IF(JZ19=\"\",0,IF(restoZero(MAX(KB19:KB1600),25),spaziIntermedi((MAX(KB19:KB1600)),25)+1,spaziIntermedi(MAX(KB19:KB1600),25)))","v":0},{"$nulls":17},1,null,{"$f":"IF(KT19=\"\",0,IF(restoZero(MAX(KV19:KV1600),25),spaziIntermedi((MAX(KV19:KV1600)),25)+1,spaziIntermedi(MAX(KV19:KV1600),25)))","v":0},{"$nulls":15},2,null,{"$f":"IF(LL19=\"\",0,IF(restoZero(MAX(LN19:LN1600),25),spaziIntermedi((MAX(LN19:LN1600)),25)+1,spaziIntermedi(MAX(LN19:LN1600),25)))","v":0},{"$nulls":17},1,null,{"$f":"IF(MF19=\"\",0,IF(restoZero(MAX(MH19:MH1600),25),spaziIntermedi((MAX(MH19:MH1600)),25)+1,spaziIntermedi(MAX(MH19:MH1600),25)))","v":0},{"$nulls":15},2,null,{"$f":"IF(MX19=\"\",0,IF(restoZero(MAX(MZ19:MZ1600),25),spaziIntermedi((MAX(MZ19:MZ1600)),25)+1,spaziIntermedi(MAX(MZ19:MZ1600),25)))","v":0},{"$nulls":17},1,null,{"$f":"IF(NR19=\"\",0,IF(restoZero(MAX(NT19:NT1600),25),spaziIntermedi((MAX(NT19:NT1600)),25)+1,spaziIntermedi(MAX(NT19:NT1600),25)))","v":0},{"$nulls":15},2,null,{"$f":"IF(OJ19=\"\",0,IF(restoZero(MAX(OL19:OL1600),25),spaziIntermedi((MAX(OL19:OL1600)),25)+1,spaziIntermedi(MAX(OL19:OL1600),25)))","v":0},{"$nulls":17},1,null,{"$f":"IF(PD19=\"\",0,IF(restoZero(MAX(PF19:PF1600),25),spaziIntermedi((MAX(PF19:PF1600)),25)+1,spaziIntermedi(MAX(PF19:PF1600),25)))","v":0},{"$nulls":15},2,null,{"$f":"IF(PV19=\"\",0,IF(restoZero(MAX(PX19:PX1600),25),spaziIntermedi((MAX(PX19:PX1600)),25)+1,spaziIntermedi(MAX(PX19:PX1600),25)))","v":0},{"$nulls":17},1,null,{"$f":"IF(QP19=\"\",0,IF(restoZero(MAX(QR19:QR1600),25),spaziIntermedi((MAX(QR19:QR1600)),25)+1,spaziIntermedi(MAX(QR19:QR1600),25)))","v":0},{"$nulls":15},2,null,{"$f":"IF(RH19=\"\",0,IF(restoZero(MAX(RJ19:RJ1600),25),spaziIntermedi((MAX(RJ19:RJ1600)),25)+1,spaziIntermedi(MAX(RJ19:RJ1600),25)))","v":0},{"$nulls":17},1,null,{"$f":"IF(SB19=\"\",0,IF(restoZero(MAX(SD19:SD1600),25),spaziIntermedi((MAX(SD19:SD1600)),25)+1,spaziIntermedi(MAX(SD19:SD1600),25)))","v":0},{"$nulls":15},2,null,{"$f":"IF(ST19=\"\",0,IF(restoZero(MAX(SV19:SV1600),25),spaziIntermedi((MAX(SV19:SV1600)),25)+1,spaziIntermedi(MAX(SV19:SV1600),25)))","v":0}]
["Id","Singole","Inizio","Fine","MisuraDivisa","Lungh %","Resto%","Resto<Sov","RestoM","Sbordo","AggResto","AggSovra","interfix","CalcoloAccessori","TipoFix","n.Piastre","LungAcc","n.fix","Id","Doppie","Inizio","Fine","MisuraDivisa","Lungh %","Resto%","Resto<Sov","RestoM","Sbordo","AggResto","AggSovra","interfix","CalcoloAccessori","TipoFix","n.Piastre","LungAcc","n.fix","no.Spring","n.Staple","Id","Singole","Inizio","Fine","MisuraDivisa","Lungh %","Resto%","Resto<Sov","RestoM","Sbordo","AggResto","AggSovra","interfix","CalcoloAccessori","TipoFix","n.Piastre","LungAcc","n.fix","Id","Doppie","Inizio","Fine","MisuraDivisa","Lungh %","Resto%","Resto<Sov","RestoM","Sbordo","AggResto","AggSovra","interfix","CalcoloAccessori","TipoFix","n.Piastre","LungAcc","n.fix","no.Spring","n.Staple","Id","Singole","Inizio","Fine","MisuraDivisa","Lungh %","Resto%","Resto<Sov","RestoM","Sbordo","AggResto","AggSovra","interfix","CalcoloAccessori","TipoFix","n.Piastre","LungAcc","n.fix","Id","Doppie","Inizio","Fine","MisuraDivisa","Lungh %","Resto%","Resto<Sov","RestoM","Sbordo","AggResto","AggSovra","interfix","CalcoloAccessori","TipoFix","n.Piastre","LungAcc","n.fix","no.Spring","n.Staple","Id","Singole","Inizio","Fine","MisuraDivisa","Lungh %","Resto%","Resto<Sov","RestoM","Sbordo","AggResto","AggSovra","interfix","CalcoloAccessori","TipoFix","n.Piastre","LungAcc","n.fix","Id","Doppie","Inizio","Fine","MisuraDivisa","Lungh %","Resto%","Resto<Sov","RestoM","Sbordo","AggResto","AggSovra","interfix","CalcoloAccessori","TipoFix","n.Piastre","LungAcc","n.fix","no.Spring","n.Staple","Id","Singole","Inizio","Fine","MisuraDivisa","Lungh %","Resto%","Resto<Sov","RestoM","Sbordo","AggResto","AggSovra","interfix","CalcoloAccessori","TipoFix","n.Piastre","LungAcc","n.fix","Id","Doppie","Inizio","Fine","MisuraDivisa","Lungh %","Resto%","Resto<Sov","RestoM","Sbordo","AggResto","AggSovra","interfix","CalcoloAccessori","TipoFix","n.Piastre","LungAcc","n.fix","no.Spring","n.Staple","Id","Singole","Inizio","Fine","MisuraDivisa","Lungh %","Resto%","Resto<Sov","RestoM","Sbordo","AggResto","AggSovra","interfix","CalcoloAccessori","TipoFix","n.Piastre","LungAcc","n.fix","Id","Doppie","Inizio","Fine","MisuraDivisa","Lungh %","Resto%","Resto<Sov","RestoM","Sbordo","AggResto","AggSovra","interfix","CalcoloAccessori","TipoFix","n.Piastre","LungAcc","n.fix","no.Spring","n.Staple","Id","Singole","Inizio","Fine","MisuraDivisa","Lungh %","Resto%","Resto<Sov","RestoM","Sbordo","AggResto","AggSovra","interfix","CalcoloAccessori","TipoFix","n.Piastre","LungAcc","n.fix","Id","Doppie","Inizio","Fine","MisuraDivisa","Lungh %","Resto%","Resto<Sov","RestoM","Sbordo","AggResto","AggSovra","interfix","CalcoloAccessori","TipoFix","n.Piastre","LungAcc","n.fix","no.Spring","n.Staple","Id","Singole","Inizio","Fine","MisuraDivisa","Lungh %","Resto%","Resto<Sov","RestoM","Sbordo","AggResto","AggSovra","interfix","CalcoloAccessori","TipoFix","n.Piastre","LungAcc","n.fix","Id","Doppie","Inizio","Fine","MisuraDivisa","Lungh %","Resto%","Resto<Sov","RestoM","Sbordo","AggResto","AggSovra","interfix","CalcoloAccessori","TipoFix","n.Piastre","LungAcc","n.fix","no.Spring","n.Staple","Id","Singole","Inizio","Fine","MisuraDivisa","Lungh %","Resto%","Resto<Sov","RestoM","Sbordo","AggResto","AggSovra","interfix","CalcoloAccessori","TipoFix","n.Piastre","LungAcc","n.fix","Id","Doppie","Inizio","Fine","MisuraDivisa","Lungh %","Resto%","Resto<Sov","RestoM","Sbordo","AggResto","AggSovra","interfix","CalcoloAccessori","TipoFix","n.Piastre","LungAcc","n.fix","no.Spring","n.Staple","Id","Singole","Inizio","Fine","MisuraDivisa","Lungh %","Resto%","Resto<Sov","RestoM","Sbordo","AggResto","AggSovra","interfix","CalcoloAccessori","TipoFix","n.Piastre","LungAcc","n.fix","Id","Doppie","Inizio","Fine","MisuraDivisa","Lungh %","Resto%","Resto<Sov","RestoM","Sbordo","AggResto","AggSovra","interfix","CalcoloAccessori","TipoFix","n.Piastre","LungAcc","n.fix","no.Spring","n.Staple","Id","Singole","Inizio","Fine","MisuraDivisa","Lungh %","Resto%","Resto<Sov","RestoM","Sbordo","AggResto","AggSovra","interfix","CalcoloAccessori","TipoFix","n.Piastre","LungAcc","n.fix","Id","Doppie","Inizio","Fine","MisuraDivisa","Lungh %","Resto%","Resto<Sov","RestoM","Sbordo","AggResto","AggSovra","interfix","CalcoloAccessori","TipoFix","n.Piastre","LungAcc","n.fix","no.Spring","n.Staple","Id","Singole","Inizio","Fine","MisuraDivisa","Lungh %","Resto%","Resto<Sov","RestoM","Sbordo","AggResto","AggSovra","interfix","CalcoloAccessori","TipoFix","n.Piastre","LungAcc","n.fix","Id","Doppie","Inizio","Fine","MisuraDivisa","Lungh %","Resto%","Resto<Sov","RestoM","Sbordo","AggResto","AggSovra","interfix","CalcoloAccessori","TipoFix","n.Piastre","LungAcc","n.fix","no.Spring","n.Staple","Id","Singole","Inizio","Fine","MisuraDivisa","Lungh %","Resto%","Resto<Sov","RestoM","Sbordo","AggResto","AggSovra","interfix","CalcoloAccessori","TipoFix","n.Piastre","LungAcc","n.fix","Id","Doppie","Inizio","Fine","MisuraDivisa","Lungh %","Resto%","Resto<Sov","RestoM","Sbordo","AggResto","AggSovra","interfix","CalcoloAccessori","TipoFix","n.Piastre","LungAcc","n.fix","no.Spring","n.Staple","Id","Singole","Inizio","Fine","MisuraDivisa","Lungh %","Resto%","Resto<Sov","RestoM","Sbordo","AggResto","AggSovra","interfix","CalcoloAccessori","TipoFix","n.Piastre","LungAcc","n.fix","Id","Doppie","Inizio","Fine","MisuraDivisa","Lungh %","Resto%","Resto<Sov","RestoM","Sbordo","AggResto","AggSovra","interfix","CalcoloAccessori","TipoFix","n.Piastre","LungAcc","n.fix","no.Spring","n.Staple"]
[{"$f":"IFERROR(_xlfn._xlws.FILTER(_xlfn.CHOOSECOLS(infoReti[],1),(infoReti[code]=B1)*( infoReti[doppSing]=B17)),\"\")","v":""},{"$f":"IFERROR(_xlfn._xlws.FILTER(_xlfn.CHOOSECOLS(infoReti[],5),(infoReti[code]=B1)*( infoReti[doppSing]=B17)),\"\")","v":""},{"$f":"IF(B19=\"\",0,)*0","v":0},{"$f":"IF(B19=\"\",0,B19+J19)","v":0},{"$f":"IF((IF(restoZero(C19,25),(spaziIntermedi(C19,25))+1,spaziIntermedi(C19,25)))=(spaziIntermedi(D19,25)),FALSE,TRUE)","v":true},{"$f":"+D19/constLungRot","v":0},{"$f":"+spaziIntermedi(D19,25)-F19","v":0},{"$f":"+G19*constLungRot>=($C$2*2)","v":false},{"$f":"+G19*constLungRot","v":0},{"$f":"IFERROR(_xlfn._xlws.FILTER(_xlfn.CHOOSECOLS(infoReti[],12),(infoReti[code]=B1)*( infoReti[doppSing]=B17)),\"\")","v":""},{"$f":"+IF(H19=FALSE,I19,0)","v":0},{"$f":"+IF(AND(E19=TRUE,H19=TRUE),$C$2,0)","v":0},{"$f":"IFERROR(_xlfn._xlws.FILTER(_xlfn.CHOOSECOLS(infoReti[],11,9,15),(infoReti[code]=B1)*( infoReti[doppSing]=B17)),0)","v":0},null,null,{"$f":"_xlfn.CEILING.MATH(IF(O19<>\"PIASTRA\",0,IFERROR(IF(MOD(B19,M19)=0,(((_xlfn.CEILING.MATH(B19/M19)-1))+(L19/M19))*2,((_xlfn.CEILING.MATH(B19/M19)+(L19/M19))*2)),0)),1)","v":0},{"$f":"IF(N19=0,0,B19*2)","v":0},{"$f":"IF(OR(B19=\"\"),0,IF(O19=\"PIASTRA\",P19*2,_xlfn.CEILING.MATH(SUM(12,(B19/M19),((L19*C$2)/M19))*2,1)))","v":0},{"$f":"IFERROR(_xlfn._xlws.FILTER(_xlfn.CHOOSECOLS(infoReti[],1),(infoReti[code]=T1)*( infoReti[doppSing]=T17)),\"\")","v":""},{"$f":"IFERROR(_xlfn._xlws.FILTER(_xlfn.CHOOSECOLS(infoReti[],5),(infoReti[code]=T1)*( infoReti[doppSing]=T17)),\"\")","v":""},{"$f":"IF(T19=\"\",0,)*0","v":0},{"$f":"IF(T19=\"\",0,T19+AB19)","v":0},{"$f":"IF((IF(restoZero(U19,25),(spaziIntermedi(U19,25))+1,spaziIntermedi(U19,25)))=(spaziIntermedi(V19,25)),FALSE,TRUE)","v":true},{"$f":"+V19/constLungRot","v":0},{"$f":"+spaziIntermedi(V19,25)-X19","v":0},{"$f":"+Y19*constLungRot>=($C$2*2)","v":false},{"$f":"+Y19*constLungRot","v":0},{"$f":"IFERROR(_xlfn._xlws.FILTER(_xlfn.CHOOSECOLS(infoReti[],12),(infoReti[code]=T1)*( infoReti[doppSing]=T17)),\"\")","v":""},{"$f":"+IF(Z19=FALSE,AA19,0)","v":0},{"$f":"+IF(AND(W19=TRUE,Z19=TRUE),$C$2,0)","v":0},{"$f":"IFERROR(_xlfn._xlws.FILTER(_xlfn.CHOOSECOLS(infoReti[],11,9,15),(infoReti[code]=T1)*( infoReti[doppSing]=T17)),0)","v":0},null,null,{"$f":"_xlfn.CEILING.MATH(IF(AG19<>\"PIASTRA\",0,IFERROR(IF(MOD(T19,AE19)=0,(((_xlfn.CEILING.MATH(T19/AE19)-1))+(T19/AE19))*2,((_xlfn.CEILING.MATH(T19/AE19)+(AD19/AE19))*2)),0)),1)","v":0},{"$f":"IF(AF19=0,0,T19*2)","v":0},{"$f":"IF(OR(T19=\"\"),0,IF(AG19=\"PIASTRA\",AH19*2,_xlfn.CEILING.MATH(SUM(12,(T19/AE19),((AD19*U$2)/AE19))*2,1)))","v":0},{"$f":"IFERROR(CEILING((T19/intSpring)*1.5,1),0)","v":0},{"$f":"IFERROR(_xlfn.CEILING.MATH((T19/intStaple)*4,1),0)","v":0},{"$f":"IFERROR(_xlfn._xlws.FILTER(_xlfn.CHOOSECOLS(infoReti[],1),(infoReti[code]=AN1)*( infoReti[doppSing]=AN17)),\"\")","v":""},{"$f":"IFERROR(_xlfn._xlws.FILTER(_xlfn.CHOOSECOLS(infoReti[],5),(infoReti[code]=AN1)*( infoReti[doppSing]=AN17)),\"\")","v":""},{"$f":"IF(AN19=\"\",0,)*0","v":0},{"$f":"IF(AN19=\"\",0,AN19+AV19)","v":0},{"$f":"IF((IF(restoZero(AO19,25),(spaziIntermedi(AO19,25))+1,spaziIntermedi(AO19,25)))=(spaziIntermedi(AP19,25)),FALSE,TRUE)","v":true},{"$f":"+AP19/constLungRot","v":0},{"$f":"+spaziIntermedi(AP19,25)-AR19","v":0},{"$f":"+AS19*constLungRot>=($C$2*2)","v":false},{"$f":"+AS19*constLungRot","v":0},{"$f":"IFERROR(_xlfn._xlws.FILTER(_xlfn.CHOOSECOLS(infoReti[],12),(infoReti[code]=AN1)*( infoReti[doppSing]=AN17)),\"\")","v":""},{"$f":"+IF(AT19=FALSE,AU19,0)","v":0},{"$f":"+IF(AND(AQ19=TRUE,AT19=TRUE),$C$2,0)","v":0},{"$f":"IFERROR(_xlfn._xlws.FILTER(_xlfn.CHOOSECOLS(infoReti[],11,9,15),(infoReti[code]=AN1)*( infoReti[doppSing]=AN17)),0)","v":0},null,null,{"$f":"_xlfn.CEILING.MATH(IF(BA19<>\"PIASTRA\",0,IFERROR(IF(MOD(AN19,AY19)=0,(((_xlfn.CEILING.MATH(AN19/AY19)-1))+(AN19/AY19))*2,((_xlfn.CEILING.MATH(AN19/AY19)+(AX19/AY19))*2)),0)),1)","v":0},{"$f":"IF(AZ19=0,0,AN19*2)","v":0},{"$f":"IF(OR(AN19=\"\"),0,IF(BA19=\"PIASTRA\",BB19*2,_xlfn.CEILING.MATH(SUM(12,(AN19/AY19),((AX19*AO$2)/AY19))*2,1)))","v":0},{"$f":"IFERROR(_xlfn._xlws.FILTER(_xlfn.CHOOSECOLS(infoReti[],1),(infoReti[code]=BF1)*( infoReti[doppSing]=BF17)),\"\")","v":""},{"$f":"IFERROR(_xlfn._xlws.FILTER(_xlfn.CHOOSECOLS(infoReti[],5),(infoReti[code]=BF1)*( infoReti[doppSing]=BF17)),\"\")","v":""},{"$f":"IF(BF19=\"\",0,)*0","v":0},{"$f":"IF(BF19=\"\",0,BF19+BN19)","v":0},{"$f":"IF((IF(restoZero(BG19,25),(spaziIntermedi(BG19,25))+1,spaziIntermedi(BG19,25)))=(spaziIntermedi(BH19,25)),FALSE,TRUE)","v":true},{"$f":"+BH19/constLungRot","v":0},{"$f":"+spaziIntermedi(BH19,25)-BJ19","v":0},{"$f":"+BK19*constLungRot>=($C$2*2)","v":false},{"$f":"+BK19*constLungRot","v":0},{"$f":"IFERROR(_xlfn._xlws.FILTER(_xlfn.CHOOSECOLS(infoReti[],12),(infoReti[code]=BF1)*( infoReti[doppSing]=BF17)),\"\")","v":""},{"$f":"+IF(BL19=FALSE,BM19,0)","v":0},{"$f":"+IF(AND(BI19=TRUE,BL19=TRUE),$C$2,0)","v":0},{"$f":"IFERROR(_xlfn._xlws.FILTER(_xlfn.CHOOSECOLS(infoReti[],11,9,15),(infoReti[code]=BF1)*( infoReti[doppSing]=BF17)),0)","v":0},null,null,{"$f":"_xlfn.CEILING.MATH(IF(BS19<>\"PIASTRA\",0,IFERROR(IF(MOD(BF19,BQ19)=0,(((_xlfn.CEILING.MATH(BF19/BQ19)-1))+(BF19/BQ19))*2,((_xlfn.CEILING.MATH(BF19/BQ19)+(BP19/BQ19))*2)),0)),1)","v":0},{"$f":"IF(BR19=0,0,BF19*2)","v":0},{"$f":"IF(OR(BF19=\"\"),0,IF(BS19=\"PIASTRA\",BT19*2,_xlfn.CEILING.MATH(SUM(12,(BF19/BQ19),((BP19*BG$2)/BQ19))*2,1)))","v":0},{"$f":"IFERROR(CEILING((BF19/intSpring)*1.5,1),0)","v":0},{"$f":"IFERROR(_xlfn.CEILING.MATH((BF19/intStaple)*4,1),0)","v":0},{"$f":"IFERROR(_xlfn._xlws.FILTER(_xlfn.CHOOSECOLS(infoReti[],1),(infoReti[code]=BZ1)*( infoReti[doppSing]=BZ17)),\"\")","v":""},{"$f":"IFERROR(_xlfn._xlws.FILTER(_xlfn.CHOOSECOLS(infoReti[],5),(infoReti[code]=BZ1)*( infoReti[doppSing]=BZ17)),\"\")","v":""},{"$f":"IF(BZ19=\"\",0,)*0","v":0},{"$f":"IF(BZ19=\"\",0,BZ19+CH19)","v":0},{"$f":"IF((IF(restoZero(CA19,25),(spaziIntermedi(CA19,25))+1,spaziIntermedi(CA19,25)))=(spaziIntermedi(CB19,25)),FALSE,TRUE)","v":true},{"$f":"+CB19/constLungRot","v":0},{"$f":"+spaziIntermedi(CB19,25)-CD19","v":0},{"$f":"+CE19*constLungRot>=($C$2*2)","v":false},{"$f":"+CE19*constLungRot","v":0},{"$f":"IFERROR(_xlfn._xlws.FILTER(_xlfn.CHOOSECOLS(infoReti[],12),(infoReti[code]=BZ1)*( infoReti[doppSing]=BZ17)),\"\")","v":""},{"$f":"+IF(CF19=FALSE,CG19,0)","v":0},{"$f":"+IF(AND(CC19=TRUE,CF19=TRUE),$C$2,0)","v":0},{"$f":"IFERROR(_xlfn._xlws.FILTER(_xlfn.CHOOSECOLS(infoReti[],11,9,15),(infoReti[code]=BZ1)*( infoReti[doppSing]=BZ17)),0)","v":0},null,null,{"$f":"_xlfn.CEILING.MATH(IF(CM19<>\"PIASTRA\",0,IFERROR(IF(MOD(BZ19,CK19)=0,(((_xlfn.CEILING.MATH(BZ19/CK19)-1))+(BZ19/CK19))*2,((_xlfn.CEILING.MATH(BZ19/CK19)+(CJ19/CK19))*2)),0)),1)","v":0},{"$f":"IF(CL19=0,0,BZ19*2)","v":0},{"$f":"IF(OR(BZ19=\"\"),0,IF(CM19=\"PIASTRA\",CN19*2,_xlfn.CEILING.MATH(SUM(12,(BZ19/CK19),((CJ19*CA$2)/CK19))*2,1)))","v":0},{"$f":"IFERROR(_xlfn._xlws.FILTER(_xlfn.CHOOSECOLS(infoReti[],1),(infoReti[code]=CR1)*( infoReti[doppSing]=CR17)),\"\")","v":""},{"$f":"IFERROR(_xlfn._xlws.FILTER(_xlfn.CHOOSECOLS(infoReti[],5),(infoReti[code]=CR1)*( infoReti[doppSing]=CR17)),\"\")","v":""},{"$f":"IF(CR19=\"\",0,)*0","v":0},{"$f":"IF(CR19=\"\",0,CR19+CZ19)","v":0},{"$f":"IF((IF(restoZero(CS19,25),(spaziIntermedi(CS19,25))+1,spaziIntermedi(CS19,25)))=(spaziIntermedi(CT19,25)),FALSE,TRUE)","v":true},{"$f":"+CT19/constLungRot","v":0},{"$f":"+spaziIntermedi(CT19,25)-CV19","v":0},{"$f":"+CW19*constLungRot>=($C$2*2)","v":false},{"$f":"+CW19*constLungRot","v":0},{"$f":"IFERROR(_xlfn._xlws.FILTER(_xlfn.CHOOSECOLS(infoReti[],12),(infoReti[code]=CR1)*( infoReti[doppSing]=CR17)),\"\")","v":""},{"$f":"+IF(CX19=FALSE,CY19,0)","v":0},{"$f":"+IF(AND(CU19=TRUE,CX19=TRUE),$C$2,0)","v":0},{"$f":"IFERROR(_xlfn._xlws.FILTER(_xlfn.CHOOSECOLS(infoReti[],11,9,15),(infoReti[code]=CR1)*( infoReti[doppSing]=CR17)),0)","v":0},null,null,{"$f":"_xlfn.CEILING.MATH(IF(DE19<>\"PIASTRA\",0,IFERROR(IF(MOD(CR19,DC19)=0,(((_xlfn.CEILING.MATH(CR19/DC19)-1))+(CR19/DC19))*2,((_xlfn.CEILING.MATH(CR19/DC19)+(DB19/DC19))*2)),0)),1)","v":0},{"$f":"IF(DD19=0,0,CR19*2)","v":0},{"$f":"IF(OR(CR19=\"\"),0,IF(DE19=\"PIASTRA\",DF19*2,_xlfn.CEILING.MATH(SUM(12,(CR19/DC19),((DB19*CS$2)/DC19))*2,1)))","v":0},{"$f":"IFERROR(CEILING((CR19/intSpring)*1.5,1),0)","v":0},{"$f":"IFERROR(_xlfn.CEILING.MATH((CR19/intStaple)*4,1),0)","v":0},{"$f":"IFERROR(_xlfn._xlws.FILTER(_xlfn.CHOOSECOLS(infoReti[],1),(infoReti[code]=DL1)*( infoReti[doppSing]=DL17)),\"\")","v":""},{"$f":"IFERROR(_xlfn._xlws.FILTER(_xlfn.CHOOSECOLS(infoReti[],5),(infoReti[code]=DL1)*( infoReti[doppSing]=DL17)),\"\")","v":""},{"$f":"IF(DL19=\"\",0,)*0","v":0},{"$f":"IF(DL19=\"\",0,DL19+DT19)","v":0},{"$f":"IF((IF(restoZero(DM19,25),(spaziIntermedi(DM19,25))+1,spaziIntermedi(DM19,25)))=(spaziIntermedi(DN19,25)),FALSE,TRUE)","v":true},{"$f":"+DN19/constLungRot","v":0},{"$f":"+spaziIntermedi(DN19,25)-DP19","v":0},{"$f":"+DQ19*constLungRot>=($C$2*2)","v":false},{"$f":"+DQ19*constLungRot","v":0},{"$f":"IFERROR(_xlfn._xlws.FILTER(_xlfn.CHOOSECOLS(infoReti[],12),(infoReti[code]=DL1)*( infoReti[doppSing]=DL17)),\"\")","v":""},{"$f":"+IF(DR19=FALSE,DS19,0)","v":0},{"$f":"+IF(AND(DO19=TRUE,DR19=TRUE),$C$2,0)","v":0},{"$f":"IFERROR(_xlfn._xlws.FILTER(_xlfn.CHOOSECOLS(infoReti[],11,9,15),(infoReti[code]=DL1)*( infoReti[doppSing]=DL17)),0)","v":0},null,null,{"$f":"_xlfn.CEILING.MATH(IF(DY19<>\"PIASTRA\",0,IFERROR(IF(MOD(DL19,DW19)=0,(((_xlfn.CEILING.MATH(DL19/DW19)-1))+(DL19/DW19))*2,((_xlfn.CEILING.MATH(DL19/DW19)+(DV19/DW19))*2)),0)),1)","v":0},{"$f":"IF(DX19=0,0,DL19*2)","v":0},{"$f":"IF(OR(DL19=\"\"),0,IF(DY19=\"PIASTRA\",DZ19*2,_xlfn.CEILING.MATH(SUM(12,(DL19/DW19),((DV19*DM$2)/DW19))*2,1)))","v":0},{"$f":"IFERROR(_xlfn._xlws.FILTER(_xlfn.CHOOSECOLS(infoReti[],1),(infoReti[code]=ED1)*( infoReti[doppSing]=ED17)),\"\")","v":""},{"$f":"IFERROR(_xlfn._xlws.FILTER(_xlfn.CHOOSECOLS(infoReti[],5),(infoReti[code]=ED1)*( infoReti[doppSing]=ED17)),\"\")","v":""},{"$f":"IF(ED19=\"\",0,)*0","v":0},{"$f":"IF(ED19=\"\",0,ED19+EL19)","v":0},{"$f":"IF((IF(restoZero(EE19,25),(spaziIntermedi(EE19,25))+1,spaziIntermedi(EE19,25)))=(spaziIntermedi(EF19,25)),FALSE,TRUE)","v":true},{"$f":"+EF19/constLungRot","v":0},{"$f":"+spaziIntermedi(EF19,25)-EH19","v":0},{"$f":"+EI19*constLungRot>=($C$2*2)","v":false},{"$f":"+EI19*constLungRot","v":0},{"$f":"IFERROR(_xlfn._xlws.FILTER(_xlfn.CHOOSECOLS(infoReti[],12),(infoReti[code]=ED1)*( infoReti[doppSing]=ED17)),\"\")","v":""},{"$f":"+IF(EJ19=FALSE,EK19,0)","v":0},{"$f":"+IF(AND(EG19=TRUE,EJ19=TRUE),$C$2,0)","v":0},{"$f":"IFERROR(_xlfn._xlws.FILTER(_xlfn.CHOOSECOLS(infoReti[],11,9,15),(infoReti[code]=ED1)*( infoReti[doppSing]=ED17)),0)","v":0},null,null,{"$f":"_xlfn.CEILING.MATH(IF(EQ19<>\"PIASTRA\",0,IFERROR(IF(MOD(ED19,EO19)=0,(((_xlfn.CEILING.MATH(ED19/EO19)-1))+(ED19/EO19))*2,((_xlfn.CEILING.MATH(ED19/EO19)+(EN19/EO19))*2)),0)),1)","v":0},{"$f":"IF(EP19=0,0,ED19*2)","v":0},{"$f":"IF(OR(ED19=\"\"),0,IF(EQ19=\"PIASTRA\",ER19*2,_xlfn.CEILING.MATH(SUM(12,(ED19/EO19),((EN19*EE$2)/EO19))*2,1)))","v":0},{"$f":"IFERROR(CEILING((ED19/intSpring)*1.5,1),0)","v":0},{"$f":"IFERROR(_xlfn.CEILING.MATH((ED19/intStaple)*4,1),0)","v":0},{"$f":"IFERROR(_xlfn._xlws.FILTER(_xlfn.CHOOSECOLS(infoReti[],1),(infoReti[code]=EX1)*( infoReti[doppSing]=EX17)),\"\")","v":""},{"$f":"IFERROR(_xlfn._xlws.FILTER(_xlfn.CHOOSECOLS(infoReti[],5),(infoReti[code]=EX1)*( infoReti[doppSing]=EX17)),\"\")","v":""},{"$f":"IF(EX19=\"\",0,)*0","v":0},{"$f":"IF(EX19=\"\",0,EX19+FF19)","v":0},{"$f":"IF((IF(restoZero(EY19,25),(spaziIntermedi(EY19,25))+1,spaziIntermedi(EY19,25)))=(spaziIntermedi(EZ19,25)),FALSE,TRUE)","v":true},{"$f":"+EZ19/constLungRot","v":0},{"$f":"+spaziIntermedi(EZ19,25)-FB19","v":0},{"$f":"+FC19*constLungRot>=($C$2*2)","v":false},{"$f":"+FC19*constLungRot","v":0},{"$f":"IFERROR(_xlfn._xlws.FILTER(_xlfn.CHOOSECOLS(infoReti[],12),(infoReti[code]=EX1)*( infoReti[doppSing]=EX17)),\"\")","v":""},{"$f":"+IF(FD19=FALSE,FE19,0)","v":0},{"$f":"+IF(AND(FA19=TRUE,FD19=TRUE),$C$2,0)","v":0},{"$f":"IFERROR(_xlfn._xlws.FILTER(_xlfn.CHOOSECOLS(infoReti[],11,9,15),(infoReti[code]=EX1)*( infoReti[doppSing]=EX17)),0)","v":0},null,null,{"$f":"_xlfn.CEILING.MATH(IF(FK19<>\"PIASTRA\",0,IFERROR(IF(MOD(EX19,FI19)=0,(((_xlfn.CEILING.MATH(EX19/FI19)-1))+(EX19/FI19))*2,((_xlfn.CEILING.MATH(EX19/FI19)+(FH19/FI19))*2)),0)),1)","v":0},{"$f":"IF(FJ19=0,0,EX19*2)","v":0},{"$f":"IF(OR(EX19=\"\"),0,IF(FK19=\"PIASTRA\",FL19*2,_xlfn.CEILING.MATH(SUM(12,(EX19/FI19),((FH19*EY$2)/FI19))*2,1)))","v":0},{"$f":"IFERROR(_xlfn._xlws.FILTER(_xlfn.CHOOSECOLS(infoReti[],1),(infoReti[code]=FP1)*( infoReti[doppSing]=FP17)),\"\")","v":""},{"$f":"IFERROR(_xlfn._xlws.FILTER(_xlfn.CHOOSECOLS(infoReti[],5),(infoReti[code]=FP1)*( infoReti[doppSing]=FP17)),\"\")","v":""},{"$f":"IF(FP19=\"\",0,)*0","v":0},{"$f":"IF(FP19=\"\",0,FP19+FX19)","v":0},{"$f":"IF((IF(restoZero(FQ19,25),(spaziIntermedi(FQ19,25))+1,spaziIntermedi(FQ19,25)))=(spaziIntermedi(FR19,25)),FALSE,TRUE)","v":true},{"$f":"+FR19/constLungRot","v":0},{"$f":"+spaziIntermedi(FR19,25)-FT19","v":0},{"$f":"+FU19*constLungRot>=($C$2*2)","v":false},{"$f":"+FU19*constLungRot","v":0},{"$f":"IFERROR(_xlfn._xlws.FILTER(_xlfn.CHOOSECOLS(infoReti[],12),(infoReti[code]=FP1)*( infoReti[doppSing]=FP17)),\"\")","v":""},{"$f":"+IF(FV19=FALSE,FW19,0)","v":0},{"$f":"+IF(AND(FS19=TRUE,FV19=TRUE),$C$2,0)","v":0},{"$f":"IFERROR(_xlfn._xlws.FILTER(_xlfn.CHOOSECOLS(infoReti[],11,9,15),(infoReti[code]=FP1)*( infoReti[doppSing]=FP17)),0)","v":0},null,null,{"$f":"_xlfn.CEILING.MATH(IF(GC19<>\"PIASTRA\",0,IFERROR(IF(MOD(FP19,GA19)=0,(((_xlfn.CEILING.MATH(FP19/GA19)-1))+(FP19/GA19))*2,((_xlfn.CEILING.MATH(FP19/GA19)+(FZ19/GA19))*2)),0)),1)","v":0},{"$f":"IF(GB19=0,0,FP19*2)","v":0},{"$f":"IF(OR(FP19=\"\"),0,IF(GC19=\"PIASTRA\",GD19*2,_xlfn.CEILING.MATH(SUM(12,(FP19/GA19),((FZ19*FQ$2)/GA19))*2,1)))","v":0},{"$f":"IFERROR(CEILING((FP19/intSpring)*1.5,1),0)","v":0},{"$f":"IFERROR(_xlfn.CEILING.MATH((FP19/intStaple)*4,1),0)","v":0},{"$f":"IFERROR(_xlfn._xlws.FILTER(_xlfn.CHOOSECOLS(infoReti[],1),(infoReti[code]=GJ1)*( infoReti[doppSing]=GJ17)),\"\")","v":""},{"$f":"IFERROR(_xlfn._xlws.FILTER(_xlfn.CHOOSECOLS(infoReti[],5),(infoReti[code]=GJ1)*( infoReti[doppSing]=GJ17)),\"\")","v":""},{"$f":"IF(GJ19=\"\",0,)*0","v":0},{"$f":"IF(GJ19=\"\",0,GJ19+GR19)","v":0},{"$f":"IF((IF(restoZero(GK19,25),(spaziIntermedi(GK19,25))+1,spaziIntermedi(GK19,25)))=(spaziIntermedi(GL19,25)),FALSE,TRUE)","v":true},{"$f":"+GL19/constLungRot","v":0},{"$f":"+spaziIntermedi(GL19,25)-GN19","v":0},{"$f":"+GO19*constLungRot>=($C$2*2)","v":false},{"$f":"+GO19*constLungRot","v":0},{"$f":"IFERROR(_xlfn._xlws.FILTER(_xlfn.CHOOSECOLS(infoReti[],12),(infoReti[code]=GJ1)*( infoReti[doppSing]=GJ17)),\"\")","v":""},{"$f":"+IF(GP19=FALSE,GQ19,0)","v":0},{"$f":"+IF(AND(GM19=TRUE,GP19=TRUE),$C$2,0)","v":0},{"$f":"IFERROR(_xlfn._xlws.FILTER(_xlfn.CHOOSECOLS(infoReti[],11,9,15),(infoReti[code]=GJ1)*( infoReti[doppSing]=GJ17)),0)","v":0},null,null,{"$f":"_xlfn.CEILING.MATH(IF(GW19<>\"PIASTRA\",0,IFERROR(IF(MOD(GJ19,GU19)=0,(((_xlfn.CEILING.MATH(GJ19/GU19)-1))+(GJ19/GU19))*2,((_xlfn.CEILING.MATH(GJ19/GU19)+(GT19/GU19))*2)),0)),1)","v":0},{"$f":"IF(GV19=0,0,GJ19*2)","v":0},{"$f":"IF(OR(GJ19=\"\"),0,IF(GW19=\"PIASTRA\",GX19*2,_xlfn.CEILING.MATH(SUM(12,(GJ19/GU19),((GT19*GK$2)/GU19))*2,1)))","v":0},{"$f":"IFERROR(_xlfn._xlws.FILTER(_xlfn.CHOOSECOLS(infoReti[],1),(infoReti[code]=HB1)*( infoReti[doppSing]=HB17)),\"\")","v":""},{"$f":"IFERROR(_xlfn._xlws.FILTER(_xlfn.CHOOSECOLS(infoReti[],5),(infoReti[code]=HB1)*( infoReti[doppSing]=HB17)),\"\")","v":""},{"$f":"IF(HB19=\"\",0,)*0","v":0},{"$f":"IF(HB19=\"\",0,HB19+HJ19)","v":0},{"$f":"IF((IF(restoZero(HC19,25),(spaziIntermedi(HC19,25))+1,spaziIntermedi(HC19,25)))=(spaziIntermedi(HD19,25)),FALSE,TRUE)","v":true},{"$f":"+HD19/constLungRot","v":0},{"$f":"+spaziIntermedi(HD19,25)-HF19","v":0},{"$f":"+HG19*constLungRot>=($C$2*2)","v":false},{"$f":"+HG19*constLungRot","v":0},{"$f":"IFERROR(_xlfn._xlws.FILTER(_xlfn.CHOOSECOLS(infoReti[],12),(infoReti[code]=HB1)*( infoReti[doppSing]=HB17)),\"\")","v":""},{"$f":"+IF(HH19=FALSE,HI19,0)","v":0},{"$f":"+IF(AND(HE19=TRUE,HH19=TRUE),$C$2,0)","v":0},{"$f":"IFERROR(_xlfn._xlws.FILTER(_xlfn.CHOOSECOLS(infoReti[],11,9,15),(infoReti[code]=HB1)*( infoReti[doppSing]=HB17)),0)","v":0},null,null,{"$f":"_xlfn.CEILING.MATH(IF(HO19<>\"PIASTRA\",0,IFERROR(IF(MOD(HB19,HM19)=0,(((_xlfn.CEILING.MATH(HB19/HM19)-1))+(HB19/HM19))*2,((_xlfn.CEILING.MATH(HB19/HM19)+(HL19/HM19))*2)),0)),1)","v":0},{"$f":"IF(HN19=0,0,HB19*2)","v":0},{"$f":"IF(OR(HB19=\"\"),0,IF(HO19=\"PIASTRA\",HP19*2,_xlfn.CEILING.MATH(SUM(12,(HB19/HM19),((HL19*HC$2)/HM19))*2,1)))","v":0},{"$f":"IFERROR(CEILING((HB19/intSpring)*1.5,1),0)","v":0},{"$f":"IFERROR(_xlfn.CEILING.MATH((HB19/intStaple)*4,1),0)","v":0},{"$f":"IFERROR(_xlfn._xlws.FILTER(_xlfn.CHOOSECOLS(infoReti[],1),(infoReti[code]=HV1)*( infoReti[doppSing]=HV17)),\"\")","v":""},{"$f":"IFERROR(_xlfn._xlws.FILTER(_xlfn.CHOOSECOLS(infoReti[],5),(infoReti[code]=HV1)*( infoReti[doppSing]=HV17)),\"\")","v":""},{"$f":"IF(HV19=\"\",0,)*0","v":0},{"$f":"IF(HV19=\"\",0,HV19+ID19)","v":0},{"$f":"IF((IF(restoZero(HW19,25),(spaziIntermedi(HW19,25))+1,spaziIntermedi(HW19,25)))=(spaziIntermedi(HX19,25)),FALSE,TRUE)","v":true},{"$f":"+HX19/constLungRot","v":0},{"$f":"+spaziIntermedi(HX19,25)-HZ19","v":0},{"$f":"+IA19*constLungRot>=($C$2*2)","v":false},{"$f":"+IA19*constLungRot","v":0},{"$f":"IFERROR(_xlfn._xlws.FILTER(_xlfn.CHOOSECOLS(infoReti[],12),(infoReti[code]=HV1)*( infoReti[doppSing]=HV17)),\"\")","v":""},{"$f":"+IF(IB19=FALSE,IC19,0)","v":0},{"$f":"+IF(AND(HY19=TRUE,IB19=TRUE),$C$2,0)","v":0},{"$f":"IFERROR(_xlfn._xlws.FILTER(_xlfn.CHOOSECOLS(infoReti[],11,9,15),(infoReti[code]=HV1)*( infoReti[doppSing]=HV17)),0)","v":0},null,null,{"$f":"_xlfn.CEILING.MATH(IF(II19<>\"PIASTRA\",0,IFERROR(IF(MOD(HV19,IG19)=0,(((_xlfn.CEILING.MATH(HV19/IG19)-1))+(HV19/IG19))*2,((_xlfn.CEILING.MATH(HV19/IG19)+(IF19/IG19))*2)),0)),1)","v":0},{"$f":"IF(IH19=0,0,HV19*2)","v":0},{"$f":"IF(OR(HV19=\"\"),0,IF(II19=\"PIASTRA\",IJ19*2,_xlfn.CEILING.MATH(SUM(12,(HV19/IG19),((IF19*HW$2)/IG19))*2,1)))","v":0},{"$f":"IFERROR(_xlfn._xlws.FILTER(_xlfn.CHOOSECOLS(infoReti[],1),(infoReti[code]=IN1)*( infoReti[doppSing]=IN17)),\"\")","v":""},{"$f":"IFERROR(_xlfn._xlws.FILTER(_xlfn.CHOOSECOLS(infoReti[],5),(infoReti[code]=IN1)*( infoReti[doppSing]=IN17)),\"\")","v":""},{"$f":"IF(IN19=\"\",0,)*0","v":0},{"$f":"IF(IN19=\"\",0,IN19+IV19)","v":0},{"$f":"IF((IF(restoZero(IO19,25),(spaziIntermedi(IO19,25))+1,spaziIntermedi(IO19,25)))=(spaziIntermedi(IP19,25)),FALSE,TRUE)","v":true},{"$f":"+IP19/constLungRot","v":0},{"$f":"+spaziIntermedi(IP19,25)-IR19","v":0},{"$f":"+IS19*constLungRot>=($C$2*2)","v":false},{"$f":"+IS19*constLungRot","v":0},{"$f":"IFERROR(_xlfn._xlws.FILTER(_xlfn.CHOOSECOLS(infoReti[],12),(infoReti[code]=IN1)*( infoReti[doppSing]=IN17)),\"\")","v":""},{"$f":"+IF(IT19=FALSE,IU19,0)","v":0},{"$f":"+IF(AND(IQ19=TRUE,IT19=TRUE),$C$2,0)","v":0},{"$f":"IFERROR(_xlfn._xlws.FILTER(_xlfn.CHOOSECOLS(infoReti[],11,9,15),(infoReti[code]=IN1)*( infoReti[doppSing]=IN17)),0)","v":0},null,null,{"$f":"_xlfn.CEILING.MATH(IF(JA19<>\"PIASTRA\",0,IFERROR(IF(MOD(IN19,IY19)=0,(((_xlfn.CEILING.MATH(IN19/IY19)-1))+(IN19/IY19))*2,((_xlfn.CEILING.MATH(IN19/IY19)+(IX19/IY19))*2)),0)),1)","v":0},{"$f":"IF(IZ19=0,0,IN19*2)","v":0},{"$f":"IF(OR(IN19=\"\"),0,IF(JA19=\"PIASTRA\",JB19*2,_xlfn.CEILING.MATH(SUM(12,(IN19/IY19),((IX19*IO$2)/IY19))*2,1)))","v":0},{"$f":"IFERROR(CEILING((IN19/intSpring)*1.5,1),0)","v":0},{"$f":"IFERROR(_xlfn.CEILING.MATH((IN19/intStaple)*4,1),0)","v":0},{"$f":"IFERROR(_xlfn._xlws.FILTER(_xlfn.CHOOSECOLS(infoReti[],1),(infoReti[code]=JH1)*( infoReti[doppSing]=JH17)),\"\")","v":""},{"$f":"IFERROR(_xlfn._xlws.FILTER(_xlfn.CHOOSECOLS(infoReti[],5),(infoReti[code]=JH1)*( infoReti[doppSing]=JH17)),\"\")","v":""},{"$f":"IF(JH19=\"\",0,)*0","v":0},{"$f":"IF(JH19=\"\",0,JH19+JP19)","v":0},{"$f":"IF((IF(restoZero(JI19,25),(spaziIntermedi(JI19,25))+1,spaziIntermedi(JI19,25)))=(spaziIntermedi(JJ19,25)),FALSE,TRUE)","v":true},{"$f":"+JJ19/constLungRot","v":0},{"$f":"+spaziIntermedi(JJ19,25)-JL19","v":0},{"$f":"+JM19*constLungRot>=($C$2*2)","v":false},{"$f":"+JM19*constLungRot","v":0},{"$f":"IFERROR(_xlfn._xlws.FILTER(_xlfn.CHOOSECOLS(infoReti[],12),(infoReti[code]=JH1)*( infoReti[doppSing]=JH17)),\"\")","v":""},{"$f":"+IF(JN19=FALSE,JO19,0)","v":0},{"$f":"+IF(AND(JK19=TRUE,JN19=TRUE),$C$2,0)","v":0},{"$f":"IFERROR(_xlfn._xlws.FILTER(_xlfn.CHOOSECOLS(infoReti[],11,9,15),(infoReti[code]=JH1)*( infoReti[doppSing]=JH17)),0)","v":0},null,null,{"$f":"_xlfn.CEILING.MATH(IF(JU19<>\"PIASTRA\",0,IFERROR(IF(MOD(JH19,JS19)=0,(((_xlfn.CEILING.MATH(JH19/JS19)-1))+(JH19/JS19))*2,((_xlfn.CEILING.MATH(JH19/JS19)+(JR19/JS19))*2)),0)),1)","v":0},{"$f":"IF(JT19=0,0,JH19*2)","v":0},{"$f":"IF(OR(JH19=\"\"),0,IF(JU19=\"PIASTRA\",JV19*2,_xlfn.CEILING.MATH(SUM(12,(JH19/JS19),((JR19*JI$2)/JS19))*2,1)))","v":0},{"$f":"IFERROR(_xlfn._xlws.FILTER(_xlfn.CHOOSECOLS(infoReti[],1),(infoReti[code]=JZ1)*( infoReti[doppSing]=JZ17)),\"\")","v":""},{"$f":"IFERROR(_xlfn._xlws.FILTER(_xlfn.CHOOSECOLS(infoReti[],5),(infoReti[code]=JZ1)*( infoReti[doppSing]=JZ17)),\"\")","v":""},{"$f":"IF(JZ19=\"\",0,)*0","v":0},{"$f":"IF(JZ19=\"\",0,JZ19+KH19)","v":0},{"$f":"IF((IF(restoZero(KA19,25),(spaziIntermedi(KA19,25))+1,spaziIntermedi(KA19,25)))=(spaziIntermedi(KB19,25)),FALSE,TRUE)","v":true},{"$f":"+KB19/constLungRot","v":0},{"$f":"+spaziIntermedi(KB19,25)-KD19","v":0},{"$f":"+KE19*constLungRot>=($C$2*2)","v":false},{"$f":"+KE19*constLungRot","v":0},{"$f":"IFERROR(_xlfn._xlws.FILTER(_xlfn.CHOOSECOLS(infoReti[],12),(infoReti[code]=JZ1)*( infoReti[doppSing]=JZ17)),\"\")","v":""},{"$f":"+IF(KF19=FALSE,KG19,0)","v":0},{"$f":"+IF(AND(KC19=TRUE,KF19=TRUE),$C$2,0)","v":0},{"$f":"IFERROR(_xlfn._xlws.FILTER(_xlfn.CHOOSECOLS(infoReti[],11,9,15),(infoReti[code]=JZ1)*( infoReti[doppSing]=JZ17)),0)","v":0},null,null,{"$f":"_xlfn.CEILING.MATH(IF(KM19<>\"PIASTRA\",0,IFERROR(IF(MOD(JZ19,KK19)=0,(((_xlfn.CEILING.MATH(JZ19/KK19)-1))+(JZ19/KK19))*2,((_xlfn.CEILING.MATH(JZ19/KK19)+(KJ19/KK19))*2)),0)),1)","v":0},{"$f":"IF(KL19=0,0,JZ19*2)","v":0},{"$f":"IF(OR(JZ19=\"\"),0,IF(KM19=\"PIASTRA\",KN19*2,_xlfn.CEILING.MATH(SUM(12,(JZ19/KK19),((KJ19*KA$2)/KK19))*2,1)))","v":0},{"$f":"IFERROR(CEILING((JZ19/intSpring)*1.5,1),0)","v":0},{"$f":"IFERROR(_xlfn.CEILING.MATH((JZ19/intStaple)*4,1),0)","v":0},{"$f":"IFERROR(_xlfn._xlws.FILTER(_xlfn.CHOOSECOLS(infoReti[],1),(infoReti[code]=KT1)*( infoReti[doppSing]=KT17)),\"\")","v":""},{"$f":"IFERROR(_xlfn._xlws.FILTER(_xlfn.CHOOSECOLS(infoReti[],5),(infoReti[code]=KT1)*( infoReti[doppSing]=KT17)),\"\")","v":""},{"$f":"IF(KT19=\"\",0,)*0","v":0},{"$f":"IF(KT19=\"\",0,KT19+LB19)","v":0},{"$f":"IF((IF(restoZero(KU19,25),(spaziIntermedi(KU19,25))+1,spaziIntermedi(KU19,25)))=(spaziIntermedi(KV19,25)),FALSE,TRUE)","v":true},{"$f":"+KV19/constLungRot","v":0},{"$f":"+spaziIntermedi(KV19,25)-KX19","v":0},{"$f":"+KY19*constLungRot>=($C$2*2)","v":false},{"$f":"+KY19*constLungRot","v":0},{"$f":"IFERROR(_xlfn._xlws.FILTER(_xlfn.CHOOSECOLS(infoReti[],12),(infoReti[code]=KT1)*( infoReti[doppSing]=KT17)),\"\")","v":""},{"$f":"+IF(KZ19=FALSE,LA19,0)","v":0},{"$f":"+IF(AND(KW19=TRUE,KZ19=TRUE),$C$2,0)","v":0},{"$f":"IFERROR(_xlfn._xlws.FILTER(_xlfn.CHOOSECOLS(infoReti[],11,9,15),(infoReti[code]=KT1)*( infoReti[doppSing]=KT17)),0)","v":0},null,null,{"$f":"_xlfn.CEILING.MATH(IF(LG19<>\"PIASTRA\",0,IFERROR(IF(MOD(KT19,LE19)=0,(((_xlfn.CEILING.MATH(KT19/LE19)-1))+(KT19/LE19))*2,((_xlfn.CEILING.MATH(KT19/LE19)+(LD19/LE19))*2)),0)),1)","v":0},{"$f":"IF(LF19=0,0,KT19*2)","v":0},{"$f":"IF(OR(KT19=\"\"),0,IF(LG19=\"PIASTRA\",LH19*2,_xlfn.CEILING.MATH(SUM(12,(KT19/LE19),((LD19*KU$2)/LE19))*2,1)))","v":0},{"$f":"IFERROR(_xlfn._xlws.FILTER(_xlfn.CHOOSECOLS(infoReti[],1),(infoReti[code]=LL1)*( infoReti[doppSing]=LL17)),\"\")","v":""},{"$f":"IFERROR(_xlfn._xlws.FILTER(_xlfn.CHOOSECOLS(infoReti[],5),(infoReti[code]=LL1)*( infoReti[doppSing]=LL17)),\"\")","v":""},{"$f":"IF(LL19=\"\",0,)*0","v":0},{"$f":"IF(LL19=\"\",0,LL19+LT19)","v":0},{"$f":"IF((IF(restoZero(LM19,25),(spaziIntermedi(LM19,25))+1,spaziIntermedi(LM19,25)))=(spaziIntermedi(LN19,25)),FALSE,TRUE)","v":true},{"$f":"+LN19/constLungRot","v":0},{"$f":"+spaziIntermedi(LN19,25)-LP19","v":0},{"$f":"+LQ19*constLungRot>=($C$2*2)","v":false},{"$f":"+LQ19*constLungRot","v":0},{"$f":"IFERROR(_xlfn._xlws.FILTER(_xlfn.CHOOSECOLS(infoReti[],12),(infoReti[code]=LL1)*( infoReti[doppSing]=LL17)),\"\")","v":""},{"$f":"+IF(LR19=FALSE,LS19,0)","v":0},{"$f":"+IF(AND(LO19=TRUE,LR19=TRUE),$C$2,0)","v":0},{"$f":"IFERROR(_xlfn._xlws.FILTER(_xlfn.CHOOSECOLS(infoReti[],11,9,15),(infoReti[code]=LL1)*( infoReti[doppSing]=LL17)),0)","v":0},null,null,{"$f":"_xlfn.CEILING.MATH(IF(LY19<>\"PIASTRA\",0,IFERROR(IF(MOD(LL19,LW19)=0,(((_xlfn.CEILING.MATH(LL19/LW19)-1))+(LL19/LW19))*2,((_xlfn.CEILING.MATH(LL19/LW19)+(LV19/LW19))*2)),0)),1)","v":0},{"$f":"IF(LX19=0,0,LL19*2)","v":0},{"$f":"IF(OR(LL19=\"\"),0,IF(LY19=\"PIASTRA\",LZ19*2,_xlfn.CEILING.MATH(SUM(12,(LL19/LW19),((LV19*LM$2)/LW19))*2,1)))","v":0},{"$f":"IFERROR(CEILING((LL19/intSpring)*1.5,1),0)","v":0},{"$f":"IFERROR(_xlfn.CEILING.MATH((LL19/intStaple)*4,1),0)","v":0},{"$f":"IFERROR(_xlfn._xlws.FILTER(_xlfn.CHOOSECOLS(infoReti[],1),(infoReti[code]=MF1)*( infoReti[doppSing]=MF17)),\"\")","v":""},{"$f":"IFERROR(_xlfn._xlws.FILTER(_xlfn.CHOOSECOLS(infoReti[],5),(infoReti[code]=MF1)*( infoReti[doppSing]=MF17)),\"\")","v":""},{"$f":"IF(MF19=\"\",0,)*0","v":0},{"$f":"IF(MF19=\"\",0,MF19+MN19)","v":0},{"$f":"IF((IF(restoZero(MG19,25),(spaziIntermedi(MG19,25))+1,spaziIntermedi(MG19,25)))=(spaziIntermedi(MH19,25)),FALSE,TRUE)","v":true},{"$f":"+MH19/constLungRot","v":0},{"$f":"+spaziIntermedi(MH19,25)-MJ19","v":0},{"$f":"+MK19*constLungRot>=($C$2*2)","v":false},{"$f":"+MK19*constLungRot","v":0},{"$f":"IFERROR(_xlfn._xlws.FILTER(_xlfn.CHOOSECOLS(infoReti[],12),(infoReti[code]=MF1)*( infoReti[doppSing]=MF17)),\"\")","v":""},{"$f":"+IF(ML19=FALSE,MM19,0)","v":0},{"$f":"+IF(AND(MI19=TRUE,ML19=TRUE),$C$2,0)","v":0},{"$f":"IFERROR(_xlfn._xlws.FILTER(_xlfn.CHOOSECOLS(infoReti[],11,9,15),(infoReti[code]=MF1)*( infoReti[doppSing]=MF17)),0)","v":0},null,null,{"$f":"_xlfn.CEILING.MATH(IF(MS19<>\"PIASTRA\",0,IFERROR(IF(MOD(MF19,MQ19)=0,(((_xlfn.CEILING.MATH(MF19/MQ19)-1))+(MF19/MQ19))*2,((_xlfn.CEILING.MATH(MF19/MQ19)+(MP19/MQ19))*2)),0)),1)","v":0},{"$f":"IF(MR19=0,0,MF19*2)","v":0},{"$f":"IF(OR(MF19=\"\"),0,IF(MS19=\"PIASTRA\",MT19*2,_xlfn.CEILING.MATH(SUM(12,(MF19/MQ19),((MP19*MG$2)/MQ19))*2,1)))","v":0},{"$f":"IFERROR(_xlfn._xlws.FILTER(_xlfn.CHOOSECOLS(infoReti[],1),(infoReti[code]=MX1)*( infoReti[doppSing]=MX17)),\"\")","v":""},{"$f":"IFERROR(_xlfn._xlws.FILTER(_xlfn.CHOOSECOLS(infoReti[],5),(infoReti[code]=MX1)*( infoReti[doppSing]=MX17)),\"\")","v":""},{"$f":"IF(MX19=\"\",0,)*0","v":0},{"$f":"IF(MX19=\"\",0,MX19+NF19)","v":0},{"$f":"IF((IF(restoZero(MY19,25),(spaziIntermedi(MY19,25))+1,spaziIntermedi(MY19,25)))=(spaziIntermedi(MZ19,25)),FALSE,TRUE)","v":true},{"$f":"+MZ19/constLungRot","v":0},{"$f":"+spaziIntermedi(MZ19,25)-NB19","v":0},{"$f":"+NC19*constLungRot>=($C$2*2)","v":false},{"$f":"+NC19*constLungRot","v":0},{"$f":"IFERROR(_xlfn._xlws.FILTER(_xlfn.CHOOSECOLS(infoReti[],12),(infoReti[code]=MX1)*( infoReti[doppSing]=MX17)),\"\")","v":""},{"$f":"+IF(ND19=FALSE,NE19,0)","v":0},{"$f":"+IF(AND(NA19=TRUE,ND19=TRUE),$C$2,0)","v":0},{"$f":"IFERROR(_xlfn._xlws.FILTER(_xlfn.CHOOSECOLS(infoReti[],11,9,15),(infoReti[code]=MX1)*( infoReti[doppSing]=MX17)),0)","v":0},null,null,{"$f":"_xlfn.CEILING.MATH(IF(NK19<>\"PIASTRA\",0,IFERROR(IF(MOD(MX19,NI19)=0,(((_xlfn.CEILING.MATH(MX19/NI19)-1))+(MX19/NI19))*2,((_xlfn.CEILING.MATH(MX19/NI19)+(NH19/NI19))*2)),0)),1)","v":0},{"$f":"IF(NJ19=0,0,MX19*2)","v":0},{"$f":"IF(OR(MX19=\"\"),0,IF(NK19=\"PIASTRA\",NL19*2,_xlfn.CEILING.MATH(SUM(12,(MX19/NI19),((NH19*MY$2)/NI19))*2,1)))","v":0},{"$f":"IFERROR(CEILING((MX19/intSpring)*1.5,1),0)","v":0},{"$f":"IFERROR(_xlfn.CEILING.MATH((MX19/intStaple)*4,1),0)","v":0},{"$f":"IFERROR(_xlfn._xlws.FILTER(_xlfn.CHOOSECOLS(infoReti[],1),(infoReti[code]=NR1)*( infoReti[doppSing]=NR17)),\"\")","v":""},{"$f":"IFERROR(_xlfn._xlws.FILTER(_xlfn.CHOOSECOLS(infoReti[],5),(infoReti[code]=NR1)*( infoReti[doppSing]=NR17)),\"\")","v":""},{"$f":"IF(NR19=\"\",0,)*0","v":0},{"$f":"IF(NR19=\"\",0,NR19+NZ19)","v":0},{"$f":"IF((IF(restoZero(NS19,25),(spaziIntermedi(NS19,25))+1,spaziIntermedi(NS19,25)))=(spaziIntermedi(NT19,25)),FALSE,TRUE)","v":true},{"$f":"+NT19/constLungRot","v":0},{"$f":"+spaziIntermedi(NT19,25)-NV19","v":0},{"$f":"+NW19*constLungRot>=($C$2*2)","v":false},{"$f":"+NW19*constLungRot","v":0},{"$f":"IFERROR(_xlfn._xlws.FILTER(_xlfn.CHOOSECOLS(infoReti[],12),(infoReti[code]=NR1)*( infoReti[doppSing]=NR17)),\"\")","v":""},{"$f":"+IF(NX19=FALSE,NY19,0)","v":0},{"$f":"+IF(AND(NU19=TRUE,NX19=TRUE),$C$2,0)","v":0},{"$f":"IFERROR(_xlfn._xlws.FILTER(_xlfn.CHOOSECOLS(infoReti[],11,9,15),(infoReti[code]=NR1)*( infoReti[doppSing]=NR17)),0)","v":0},null,null,{"$f":"_xlfn.CEILING.MATH(IF(OE19<>\"PIASTRA\",0,IFERROR(IF(MOD(NR19,OC19)=0,(((_xlfn.CEILING.MATH(NR19/OC19)-1))+(NR19/OC19))*2,((_xlfn.CEILING.MATH(NR19/OC19)+(OB19/OC19))*2)),0)),1)","v":0},{"$f":"IF(OD19=0,0,NR19*2)","v":0},{"$f":"IF(OR(NR19=\"\"),0,IF(OE19=\"PIASTRA\",OF19*2,_xlfn.CEILING.MATH(SUM(12,(NR19/OC19),((OB19*NS$2)/OC19))*2,1)))","v":0},{"$f":"IFERROR(_xlfn._xlws.FILTER(_xlfn.CHOOSECOLS(infoReti[],1),(infoReti[code]=OJ1)*( infoReti[doppSing]=OJ17)),\"\")","v":""},{"$f":"IFERROR(_xlfn._xlws.FILTER(_xlfn.CHOOSECOLS(infoReti[],5),(infoReti[code]=OJ1)*( infoReti[doppSing]=OJ17)),\"\")","v":""},{"$f":"IF(OJ19=\"\",0,)*0","v":0},{"$f":"IF(OJ19=\"\",0,OJ19+OR19)","v":0},{"$f":"IF((IF(restoZero(OK19,25),(spaziIntermedi(OK19,25))+1,spaziIntermedi(OK19,25)))=(spaziIntermedi(OL19,25)),FALSE,TRUE)","v":true},{"$f":"+OL19/constLungRot","v":0},{"$f":"+spaziIntermedi(OL19,25)-ON19","v":0},{"$f":"+OO19*constLungRot>=($C$2*2)","v":false},{"$f":"+OO19*constLungRot","v":0},{"$f":"IFERROR(_xlfn._xlws.FILTER(_xlfn.CHOOSECOLS(infoReti[],12),(infoReti[code]=OJ1)*( infoReti[doppSing]=OJ17)),\"\")","v":""},{"$f":"+IF(OP19=FALSE,OQ19,0)","v":0},{"$f":"+IF(AND(OM19=TRUE,OP19=TRUE),$C$2,0)","v":0},{"$f":"IFERROR(_xlfn._xlws.FILTER(_xlfn.CHOOSECOLS(infoReti[],11,9,15),(infoReti[code]=OJ1)*( infoReti[doppSing]=OJ17)),0)","v":0},null,null,{"$f":"_xlfn.CEILING.MATH(IF(OW19<>\"PIASTRA\",0,IFERROR(IF(MOD(OJ19,OU19)=0,(((_xlfn.CEILING.MATH(OJ19/OU19)-1))+(OJ19/OU19))*2,((_xlfn.CEILING.MATH(OJ19/OU19)+(OT19/OU19))*2)),0)),1)","v":0},{"$f":"IF(OV19=0,0,OJ19*2)","v":0},{"$f":"IF(OR(OJ19=\"\"),0,IF(OW19=\"PIASTRA\",OX19*2,_xlfn.CEILING.MATH(SUM(12,(OJ19/OU19),((OT19*OK$2)/OU19))*2,1)))","v":0},{"$f":"IFERROR(CEILING((OJ19/intSpring)*1.5,1),0)","v":0},{"$f":"IFERROR(_xlfn.CEILING.MATH((OJ19/intStaple)*4,1),0)","v":0},{"$f":"IFERROR(_xlfn._xlws.FILTER(_xlfn.CHOOSECOLS(infoReti[],1),(infoReti[code]=PD1)*( infoReti[doppSing]=PD17)),\"\")","v":""},{"$f":"IFERROR(_xlfn._xlws.FILTER(_xlfn.CHOOSECOLS(infoReti[],5),(infoReti[code]=PD1)*( infoReti[doppSing]=PD17)),\"\")","v":""},{"$f":"IF(PD19=\"\",0,)*0","v":0},{"$f":"IF(PD19=\"\",0,PD19+PL19)","v":0},{"$f":"IF((IF(restoZero(PE19,25),(spaziIntermedi(PE19,25))+1,spaziIntermedi(PE19,25)))=(spaziIntermedi(PF19,25)),FALSE,TRUE)","v":true},{"$f":"+PF19/constLungRot","v":0},{"$f":"+spaziIntermedi(PF19,25)-PH19","v":0},{"$f":"+PI19*constLungRot>=($C$2*2)","v":false},{"$f":"+PI19*constLungRot","v":0},{"$f":"IFERROR(_xlfn._xlws.FILTER(_xlfn.CHOOSECOLS(infoReti[],12),(infoReti[code]=PD1)*( infoReti[doppSing]=PD17)),\"\")","v":""},{"$f":"+IF(PJ19=FALSE,PK19,0)","v":0},{"$f":"+IF(AND(PG19=TRUE,PJ19=TRUE),$C$2,0)","v":0},{"$f":"IFERROR(_xlfn._xlws.FILTER(_xlfn.CHOOSECOLS(infoReti[],11,9,15),(infoReti[code]=PD1)*( infoReti[doppSing]=PD17)),0)","v":0},null,null,{"$f":"_xlfn.CEILING.MATH(IF(PQ19<>\"PIASTRA\",0,IFERROR(IF(MOD(PD19,PO19)=0,(((_xlfn.CEILING.MATH(PD19/PO19)-1))+(PD19/PO19))*2,((_xlfn.CEILING.MATH(PD19/PO19)+(PN19/PO19))*2)),0)),1)","v":0},{"$f":"IF(PP19=0,0,PD19*2)","v":0},{"$f":"IF(OR(PD19=\"\"),0,IF(PQ19=\"PIASTRA\",PR19*2,_xlfn.CEILING.MATH(SUM(12,(PD19/PO19),((PN19*PE$2)/PO19))*2,1)))","v":0},{"$f":"IFERROR(_xlfn._xlws.FILTER(_xlfn.CHOOSECOLS(infoReti[],1),(infoReti[code]=PV1)*( infoReti[doppSing]=PV17)),\"\")","v":""},{"$f":"IFERROR(_xlfn._xlws.FILTER(_xlfn.CHOOSECOLS(infoReti[],5),(infoReti[code]=PV1)*( infoReti[doppSing]=PV17)),\"\")","v":""},{"$f":"IF(PV19=\"\",0,)*0","v":0},{"$f":"IF(PV19=\"\",0,PV19+QD19)","v":0},{"$f":"IF((IF(restoZero(PW19,25),(spaziIntermedi(PW19,25))+1,spaziIntermedi(PW19,25)))=(spaziIntermedi(PX19,25)),FALSE,TRUE)","v":true},{"$f":"+PX19/constLungRot","v":0},{"$f":"+spaziIntermedi(PX19,25)-PZ19","v":0},{"$f":"+QA19*constLungRot>=($C$2*2)","v":false},{"$f":"+QA19*constLungRot","v":0},{"$f":"IFERROR(_xlfn._xlws.FILTER(_xlfn.CHOOSECOLS(infoReti[],12),(infoReti[code]=PV1)*( infoReti[doppSing]=PV17)),\"\")","v":""},{"$f":"+IF(QB19=FALSE,QC19,0)","v":0},{"$f":"+IF(AND(PY19=TRUE,QB19=TRUE),$C$2,0)","v":0},{"$f":"IFERROR(_xlfn._xlws.FILTER(_xlfn.CHOOSECOLS(infoReti[],11,9,15),(infoReti[code]=PV1)*( infoReti[doppSing]=PV17)),0)","v":0},null,null,{"$f":"_xlfn.CEILING.MATH(IF(QI19<>\"PIASTRA\",0,IFERROR(IF(MOD(PV19,QG19)=0,(((_xlfn.CEILING.MATH(PV19/QG19)-1))+(PV19/QG19))*2,((_xlfn.CEILING.MATH(PV19/QG19)+(QF19/QG19))*2)),0)),1)","v":0},{"$f":"IF(QH19=0,0,PV19*2)","v":0},{"$f":"IF(OR(PV19=\"\"),0,IF(QI19=\"PIASTRA\",QJ19*2,_xlfn.CEILING.MATH(SUM(12,(PV19/QG19),((QF19*PW$2)/QG19))*2,1)))","v":0},{"$f":"IFERROR(CEILING((PV19/intSpring)*1.5,1),0)","v":0},{"$f":"IFERROR(_xlfn.CEILING.MATH((PV19/intStaple)*4,1),0)","v":0},{"$f":"IFERROR(_xlfn._xlws.FILTER(_xlfn.CHOOSECOLS(infoReti[],1),(infoReti[code]=QP1)*( infoReti[doppSing]=QP17)),\"\")","v":""},{"$f":"IFERROR(_xlfn._xlws.FILTER(_xlfn.CHOOSECOLS(infoReti[],5),(infoReti[code]=QP1)*( infoReti[doppSing]=QP17)),\"\")","v":""},{"$f":"IF(QP19=\"\",0,)*0","v":0},{"$f":"IF(QP19=\"\",0,QP19+QX19)","v":0},{"$f":"IF((IF(restoZero(QQ19,25),(spaziIntermedi(QQ19,25))+1,spaziIntermedi(QQ19,25)))=(spaziIntermedi(QR19,25)),FALSE,TRUE)","v":true},{"$f":"+QR19/constLungRot","v":0},{"$f":"+spaziIntermedi(QR19,25)-QT19","v":0},{"$f":"+QU19*constLungRot>=($C$2*2)","v":false},{"$f":"+QU19*constLungRot","v":0},{"$f":"IFERROR(_xlfn._xlws.FILTER(_xlfn.CHOOSECOLS(infoReti[],12),(infoReti[code]=QP1)*( infoReti[doppSing]=QP17)),\"\")","v":""},{"$f":"+IF(QV19=FALSE,QW19,0)","v":0},{"$f":"+IF(AND(QS19=TRUE,QV19=TRUE),$C$2,0)","v":0},{"$f":"IFERROR(_xlfn._xlws.FILTER(_xlfn.CHOOSECOLS(infoReti[],11,9,15),(infoReti[code]=QP1)*( infoReti[doppSing]=QP17)),0)","v":0},null,null,{"$f":"_xlfn.CEILING.MATH(IF(RC19<>\"PIASTRA\",0,IFERROR(IF(MOD(QP19,RA19)=0,(((_xlfn.CEILING.MATH(QP19/RA19)-1))+(QP19/RA19))*2,((_xlfn.CEILING.MATH(QP19/RA19)+(QZ19/RA19))*2)),0)),1)","v":0},{"$f":"IF(RB19=0,0,QP19*2)","v":0},{"$f":"IF(OR(QP19=\"\"),0,IF(RC19=\"PIASTRA\",RD19*2,_xlfn.CEILING.MATH(SUM(12,(QP19/RA19),((QZ19*QQ$2)/RA19))*2,1)))","v":0},{"$f":"IFERROR(_xlfn._xlws.FILTER(_xlfn.CHOOSECOLS(infoReti[],1),(infoReti[code]=RH1)*( infoReti[doppSing]=RH17)),\"\")","v":""},{"$f":"IFERROR(_xlfn._xlws.FILTER(_xlfn.CHOOSECOLS(infoReti[],5),(infoReti[code]=RH1)*( infoReti[doppSing]=RH17)),\"\")","v":""},{"$f":"IF(RH19=\"\",0,)*0","v":0},{"$f":"IF(RH19=\"\",0,RH19+RP19)","v":0},{"$f":"IF((IF(restoZero(RI19,25),(spaziIntermedi(RI19,25))+1,spaziIntermedi(RI19,25)))=(spaziIntermedi(RJ19,25)),FALSE,TRUE)","v":true},{"$f":"+RJ19/constLungRot","v":0},{"$f":"+spaziIntermedi(RJ19,25)-RL19","v":0},{"$f":"+RM19*constLungRot>=($C$2*2)","v":false},{"$f":"+RM19*constLungRot","v":0},{"$f":"IFERROR(_xlfn._xlws.FILTER(_xlfn.CHOOSECOLS(infoReti[],12),(infoReti[code]=RH1)*( infoReti[doppSing]=RH17)),\"\")","v":""},{"$f":"+IF(RN19=FALSE,RO19,0)","v":0},{"$f":"+IF(AND(RK19=TRUE,RN19=TRUE),$C$2,0)","v":0},{"$f":"IFERROR(_xlfn._xlws.FILTER(_xlfn.CHOOSECOLS(infoReti[],11,9,15),(infoReti[code]=RH1)*( infoReti[doppSing]=RH17)),0)","v":0},null,null,{"$f":"_xlfn.CEILING.MATH(IF(RU19<>\"PIASTRA\",0,IFERROR(IF(MOD(RH19,RS19)=0,(((_xlfn.CEILING.MATH(RH19/RS19)-1))+(RH19/RS19))*2,((_xlfn.CEILING.MATH(RH19/RS19)+(RR19/RS19))*2)),0)),1)","v":0},{"$f":"IF(RT19=0,0,RH19*2)","v":0},{"$f":"IF(OR(RH19=\"\"),0,IF(RU19=\"PIASTRA\",RV19*2,_xlfn.CEILING.MATH(SUM(12,(RH19/RS19),((RR19*RI$2)/RS19))*2,1)))","v":0},{"$f":"IFERROR(CEILING((RH19/intSpring)*1.5,1),0)","v":0},{"$f":"IFERROR(_xlfn.CEILING.MATH((RH19/intStaple)*4,1),0)","v":0},{"$f":"IFERROR(_xlfn._xlws.FILTER(_xlfn.CHOOSECOLS(infoReti[],1),(infoReti[code]=SB1)*( infoReti[doppSing]=SB17)),\"\")","v":""},{"$f":"IFERROR(_xlfn._xlws.FILTER(_xlfn.CHOOSECOLS(infoReti[],5),(infoReti[code]=SB1)*( infoReti[doppSing]=SB17)),\"\")","v":""},{"$f":"IF(SB19=\"\",0,)*0","v":0},{"$f":"IF(SB19=\"\",0,SB19+SJ19)","v":0},{"$f":"IF((IF(restoZero(SC19,25),(spaziIntermedi(SC19,25))+1,spaziIntermedi(SC19,25)))=(spaziIntermedi(SD19,25)),FALSE,TRUE)","v":true},{"$f":"+SD19/constLungRot","v":0},{"$f":"+spaziIntermedi(SD19,25)-SF19","v":0},{"$f":"+SG19*constLungRot>=($C$2*2)","v":false},{"$f":"+SG19*constLungRot","v":0},{"$f":"IFERROR(_xlfn._xlws.FILTER(_xlfn.CHOOSECOLS(infoReti[],12),(infoReti[code]=SB1)*( infoReti[doppSing]=SB17)),\"\")","v":""},{"$f":"+IF(SH19=FALSE,SI19,0)","v":0},{"$f":"+IF(AND(SE19=TRUE,SH19=TRUE),$C$2,0)","v":0},{"$f":"IFERROR(_xlfn._xlws.FILTER(_xlfn.CHOOSECOLS(infoReti[],11,9,15),(infoReti[code]=SB1)*( infoReti[doppSing]=SB17)),0)","v":0},null,null,{"$f":"_xlfn.CEILING.MATH(IF(SO19<>\"PIASTRA\",0,IFERROR(IF(MOD(SB19,SM19)=0,(((_xlfn.CEILING.MATH(SB19/SM19)-1))+(SB19/SM19))*2,((_xlfn.CEILING.MATH(SB19/SM19)+(SL19/SM19))*2)),0)),1)","v":0},{"$f":"IF(SN19=0,0,SB19*2)","v":0},{"$f":"IF(OR(SB19=\"\"),0,IF(SO19=\"PIASTRA\",SP19*2,_xlfn.CEILING.MATH(SUM(12,(SB19/SM19),((SL19*SC$2)/SM19))*2,1)))","v":0},{"$f":"IFERROR(_xlfn._xlws.FILTER(_xlfn.CHOOSECOLS(infoReti[],1),(infoReti[code]=ST1)*( infoReti[doppSing]=ST17)),\"\")","v":""},{"$f":"IFERROR(_xlfn._xlws.FILTER(_xlfn.CHOOSECOLS(infoReti[],5),(infoReti[code]=ST1)*( infoReti[doppSing]=ST17)),\"\")","v":""},{"$f":"IF(ST19=\"\",0,)*0","v":0},{"$f":"IF(ST19=\"\",0,ST19+TB19)","v":0},{"$f":"IF((IF(restoZero(SU19,25),(spaziIntermedi(SU19,25))+1,spaziIntermedi(SU19,25)))=(spaziIntermedi(SV19,25)),FALSE,TRUE)","v":true},{"$f":"+SV19/constLungRot","v":0},{"$f":"+spaziIntermedi(SV19,25)-SX19","v":0},{"$f":"+SY19*constLungRot>=($C$2*2)","v":false},{"$f":"+SY19*constLungRot","v":0},{"$f":"IFERROR(_xlfn._xlws.FILTER(_xlfn.CHOOSECOLS(infoReti[],12),(infoReti[code]=ST1)*( infoReti[doppSing]=ST17)),\"\")","v":""},{"$f":"+IF(SZ19=FALSE,TA19,0)","v":0},{"$f":"+IF(AND(SW19=TRUE,SZ19=TRUE),$C$2,0)","v":0},{"$f":"IFERROR(_xlfn._xlws.FILTER(_xlfn.CHOOSECOLS(infoReti[],11,9,15),(infoReti[code]=ST1)*( infoReti[doppSing]=ST17)),0)","v":0},null,null,{"$f":"_xlfn.CEILING.MATH(IF(TG19<>\"PIASTRA\",0,IFERROR(IF(MOD(ST19,TE19)=0,(((_xlfn.CEILING.MATH(ST19/TE19)-1))+(ST19/TE19))*2,((_xlfn.CEILING.MATH(ST19/TE19)+(TD19/TE19))*2)),0)),1)","v":0},{"$f":"IF(TF19=0,0,ST19*2)","v":0},{"$f":"IF(OR(ST19=\"\"),0,IF(TG19=\"PIASTRA\",TH19*2,_xlfn.CEILING.MATH(SUM(12,(ST19/TE19),((TD19*SU$2)/TE19))*2,1)))","v":0},{"$f":"IFERROR(CEILING((ST19/intSpring)*1.5,1),0)","v":0},{"$f":"IFERROR(_xlfn.CEILING.MATH((ST19/intStaple)*4,1),0)","v":0}]
[null,null,{"$f":"IFERROR(D19+K19+L19,0)","v":0},{"$f":"IF(B20=\"\",0,D19+B20+L19+K19+J20)","v":0},{"$f":"IF((IF(restoZero(C20,25),(spaziIntermedi(C20,25))+1,spaziIntermedi(C20,25)))=(spaziIntermedi(D20,25)),FALSE,TRUE)","v":true},0,{"$f":"+spaziIntermedi(D20,25)-F20","v":0},false,0,null,{"$f":"+IF(H20=FALSE,I20,0)","v":0},0,null,null,null,{"$f":"_xlfn.CEILING.MATH(IF(O20<>\"PIASTRA\",0,IFERROR(IF(MOD(B20,M20)=0,(((_xlfn.CEILING.MATH(B20/M20)-1))+(B20/M20))*2,((_xlfn.CEILING.MATH(B20/M20)+(L20/M20))*2)),0)),1)","v":0},{"$f":"IF(N20=0,0,B20*2)","v":0},{"$f":"IF(OR(B20=\"\"),0,IF(O20=\"PIASTRA\",P20*2,_xlfn.CEILING.MATH(SUM(12,(B20/M20),((L20*C$2)/M20))*2,1)))","v":0},null,null,{"$f":"IFERROR(V19+AC19+AD19,0)","v":0},{"$f":"IF(T20=\"\",0,V19+T20+AD19+AC19+AB20)","v":0},{"$f":"IF((IF(restoZero(U20,25),(spaziIntermedi(U20,25))+1,spaziIntermedi(U20,25)))=(spaziIntermedi(V20,25)),FALSE,TRUE)","v":true},0,{"$f":"+spaziIntermedi(V20,25)-X20","v":0},false,0,null,{"$f":"+IF(Z20=FALSE,AA20,0)","v":0},0,null,null,null,{"$f":"_xlfn.CEILING.MATH(IF(AG20<>\"PIASTRA\",0,IFERROR(IF(MOD(T20,AE20)=0,(((_xlfn.CEILING.MATH(T20/AE20)-1))+(T20/AE20))*2,((_xlfn.CEILING.MATH(T20/AE20)+(AD20/AE20))*2)),0)),1)","v":0},{"$f":"IF(AF20=0,0,T20*2)","v":0},{"$f":"IF(OR(T20=\"\"),0,IF(AG20=\"PIASTRA\",AH20*2,_xlfn.CEILING.MATH(SUM(12,(T20/AE20),((AD20*U$2)/AE20))*2,1)))","v":0},0,0,null,null,{"$f":"IFERROR(AP19+AW19+AX19,0)","v":0},{"$f":"IF(AN20=\"\",0,AP19+AN20+AX19+AW19+AV20)","v":0},{"$f":"IF((IF(restoZero(AO20,25),(spaziIntermedi(AO20,25))+1,spaziIntermedi(AO20,25)))=(spaziIntermedi(AP20,25)),FALSE,TRUE)","v":true},0,{"$f":"+spaziIntermedi(AP20,25)-AR20","v":0},false,0,null,{"$f":"+IF(AT20=FALSE,AU20,0)","v":0},0,null,null,null,{"$f":"_xlfn.CEILING.MATH(IF(BA20<>\"PIASTRA\",0,IFERROR(IF(MOD(AN20,AY20)=0,(((_xlfn.CEILING.MATH(AN20/AY20)-1))+(AN20/AY20))*2,((_xlfn.CEILING.MATH(AN20/AY20)+(AX20/AY20))*2)),0)),1)","v":0},{"$f":"IF(AZ20=0,0,AN20*2)","v":0},{"$f":"IF(OR(AN20=\"\"),0,IF(BA20=\"PIASTRA\",BB20*2,_xlfn.CEILING.MATH(SUM(12,(AN20/AY20),((AX20*AO$2)/AY20))*2,1)))","v":0},null,null,{"$f":"IFERROR(BH19+BO19+BP19,0)","v":0},{"$f":"IF(BF20=\"\",0,BH19+BF20+BP19+BO19+BN20)","v":0},{"$f":"IF((IF(restoZero(BG20,25),(spaziIntermedi(BG20,25))+1,spaziIntermedi(BG20,25)))=(spaziIntermedi(BH20,25)),FALSE,TRUE)","v":true},0,{"$f":"+spaziIntermedi(BH20,25)-BJ20","v":0},false,0,null,{"$f":"+IF(BL20=FALSE,BM20,0)","v":0},0,null,null,null,{"$f":"_xlfn.CEILING.MATH(IF(BS20<>\"PIASTRA\",0,IFERROR(IF(MOD(BF20,BQ20)=0,(((_xlfn.CEILING.MATH(BF20/BQ20)-1))+(BF20/BQ20))*2,((_xlfn.CEILING.MATH(BF20/BQ20)+(BP20/BQ20))*2)),0)),1)","v":0},{"$f":"IF(BR20=0,0,BF20*2)","v":0},{"$f":"IF(OR(BF20=\"\"),0,IF(BS20=\"PIASTRA\",BT20*2,_xlfn.CEILING.MATH(SUM(12,(BF20/BQ20),((BP20*BG$2)/BQ20))*2,1)))","v":0},0,0,null,null,{"$f":"IFERROR(CB19+CI19+CJ19,0)","v":0},{"$f":"IF(BZ20=\"\",0,CB19+BZ20+CJ19+CI19+CH20)","v":0},{"$f":"IF((IF(restoZero(CA20,25),(spaziIntermedi(CA20,25))+1,spaziIntermedi(CA20,25)))=(spaziIntermedi(CB20,25)),FALSE,TRUE)","v":true},0,{"$f":"+spaziIntermedi(CB20,25)-CD20","v":0},false,0,null,{"$f":"+IF(CF20=FALSE,CG20,0)","v":0},0,null,null,null,{"$f":"_xlfn.CEILING.MATH(IF(CM20<>\"PIASTRA\",0,IFERROR(IF(MOD(BZ20,CK20)=0,(((_xlfn.CEILING.MATH(BZ20/CK20)-1))+(BZ20/CK20))*2,((_xlfn.CEILING.MATH(BZ20/CK20)+(CJ20/CK20))*2)),0)),1)","v":0},{"$f":"IF(CL20=0,0,BZ20*2)","v":0},{"$f":"IF(OR(BZ20=\"\"),0,IF(CM20=\"PIASTRA\",CN20*2,_xlfn.CEILING.MATH(SUM(12,(BZ20/CK20),((CJ20*CA$2)/CK20))*2,1)))","v":0},null,null,{"$f":"IFERROR(CT19+DA19+DB19,0)","v":0},{"$f":"IF(CR20=\"\",0,CT19+CR20+DB19+DA19+CZ20)","v":0},{"$f":"IF((IF(restoZero(CS20,25),(spaziIntermedi(CS20,25))+1,spaziIntermedi(CS20,25)))=(spaziIntermedi(CT20,25)),FALSE,TRUE)","v":true},0,{"$f":"+spaziIntermedi(CT20,25)-CV20","v":0},false,0,null,{"$f":"+IF(CX20=FALSE,CY20,0)","v":0},0,null,null,null,{"$f":"_xlfn.CEILING.MATH(IF(DE20<>\"PIASTRA\",0,IFERROR(IF(MOD(CR20,DC20)=0,(((_xlfn.CEILING.MATH(CR20/DC20)-1))+(CR20/DC20))*2,((_xlfn.CEILING.MATH(CR20/DC20)+(DB20/DC20))*2)),0)),1)","v":0},{"$f":"IF(DD20=0,0,CR20*2)","v":0},{"$f":"IF(OR(CR20=\"\"),0,IF(DE20=\"PIASTRA\",DF20*2,_xlfn.CEILING.MATH(SUM(12,(CR20/DC20),((DB20*$C$2)/DC20))*2,1)))","v":0},0,0,null,null,{"$f":"IFERROR(DN19+DU19+DV19,0)","v":0},{"$f":"IF(DL20=\"\",0,DN19+DL20+DV19+DU19+DT20)","v":0},{"$f":"IF((IF(restoZero(DM20,25),(spaziIntermedi(DM20,25))+1,spaziIntermedi(DM20,25)))=(spaziIntermedi(DN20,25)),FALSE,TRUE)","v":true},0,{"$f":"+spaziIntermedi(DN20,25)-DP20","v":0},false,0,null,{"$f":"+IF(DR20=FALSE,DS20,0)","v":0},0,null,null,null,{"$f":"_xlfn.CEILING.MATH(IF(DY20<>\"PIASTRA\",0,IFERROR(IF(MOD(DL20,DW20)=0,(((_xlfn.CEILING.MATH(DL20/DW20)-1))+(DL20/DW20))*2,((_xlfn.CEILING.MATH(DL20/DW20)+(DV20/DW20))*2)),0)),1)","v":0},{"$f":"IF(DX20=0,0,DL20*2)","v":0},{"$f":"IF(OR(DL20=\"\"),0,IF(DY20=\"PIASTRA\",DZ20*2,_xlfn.CEILING.MATH(SUM(12,(DL20/DW20),((DV20*DM$2)/DW20))*2,1)))","v":0},null,null,{"$f":"IFERROR(EF19+EM19+EN19,0)","v":0},{"$f":"IF(ED20=\"\",0,EF19+ED20+EN19+EM19+EL20)","v":0},{"$f":"IF((IF(restoZero(EE20,25),(spaziIntermedi(EE20,25))+1,spaziIntermedi(EE20,25)))=(spaziIntermedi(EF20,25)),FALSE,TRUE)","v":true},0,{"$f":"+spaziIntermedi(EF20,25)-EH20","v":0},false,0,null,{"$f":"+IF(EJ20=FALSE,EK20,0)","v":0},0,null,null,null,{"$f":"_xlfn.CEILING.MATH(IF(EQ20<>\"PIASTRA\",0,IFERROR(IF(MOD(ED20,EO20)=0,(((_xlfn.CEILING.MATH(ED20/EO20)-1))+(ED20/EO20))*2,((_xlfn.CEILING.MATH(ED20/EO20)+(EN20/EO20))*2)),0)),1)","v":0},{"$f":"IF(EP20=0,0,ED20*2)","v":0},{"$f":"IF(OR(ED20=\"\"),0,IF(EQ20=\"PIASTRA\",ER20*2,_xlfn.CEILING.MATH(SUM(12,(ED20/EO20),((EN20*EE$2)/EO20))*2,1)))","v":0},0,0,null,null,{"$f":"IFERROR(EZ19+FG19+FH19,0)","v":0},{"$f":"IF(EX20=\"\",0,EZ19+EX20+FH19+FG19+FF20)","v":0},{"$f":"IF((IF(restoZero(EY20,25),(spaziIntermedi(EY20,25))+1,spaziIntermedi(EY20,25)))=(spaziIntermedi(EZ20,25)),FALSE,TRUE)","v":true},0,{"$f":"+spaziIntermedi(EZ20,25)-FB20","v":0},false,0,null,{"$f":"+IF(FD20=FALSE,FE20,0)","v":0},0,null,null,null,{"$f":"_xlfn.CEILING.MATH(IF(FK20<>\"PIASTRA\",0,IFERROR(IF(MOD(EX20,FI20)=0,(((_xlfn.CEILING.MATH(EX20/FI20)-1))+(EX20/FI20))*2,((_xlfn.CEILING.MATH(EX20/FI20)+(FH20/FI20))*2)),0)),1)","v":0},{"$f":"IF(FJ20=0,0,EX20*2)","v":0},{"$f":"IF(OR(EX20=\"\"),0,IF(FK20=\"PIASTRA\",FL20*2,_xlfn.CEILING.MATH(SUM(12,(EX20/FI20),((FH20*EY$2)/FI20))*2,1)))","v":0},null,null,{"$f":"IFERROR(FR19+FY19+FZ19,0)","v":0},{"$f":"IF(FP20=\"\",0,FR19+FP20+FZ19+FY19+FX20)","v":0},{"$f":"IF((IF(restoZero(FQ20,25),(spaziIntermedi(FQ20,25))+1,spaziIntermedi(FQ20,25)))=(spaziIntermedi(FR20,25)),FALSE,TRUE)","v":true},0,{"$f":"+spaziIntermedi(FR20,25)-FT20","v":0},false,0,null,{"$f":"+IF(FV20=FALSE,FW20,0)","v":0},0,null,null,null,{"$f":"_xlfn.CEILING.MATH(IF(GC20<>\"PIASTRA\",0,IFERROR(IF(MOD(FP20,GA20)=0,(((_xlfn.CEILING.MATH(FP20/GA20)-1))+(FP20/GA20))*2,((_xlfn.CEILING.MATH(FP20/GA20)+(FZ20/GA20))*2)),0)),1)","v":0},{"$f":"IF(GB20=0,0,FP20*2)","v":0},{"$f":"IF(OR(FP20=\"\"),0,IF(GC20=\"PIASTRA\",GD20*2,_xlfn.CEILING.MATH(SUM(12,(FP20/GA20),((FZ20*FQ$2)/GA20))*2,1)))","v":0},0,0,null,null,{"$f":"IFERROR(GL19+GS19+GT19,0)","v":0},{"$f":"IF(GJ20=\"\",0,GL19+GJ20+GT19+GS19+GR20)","v":0},{"$f":"IF((IF(restoZero(GK20,25),(spaziIntermedi(GK20,25))+1,spaziIntermedi(GK20,25)))=(spaziIntermedi(GL20,25)),FALSE,TRUE)","v":true},0,{"$f":"+spaziIntermedi(GL20,25)-GN20","v":0},false,0,null,{"$f":"+IF(GP20=FALSE,GQ20,0)","v":0},0,null,null,null,{"$f":"_xlfn.CEILING.MATH(IF(GW20<>\"PIASTRA\",0,IFERROR(IF(MOD(GJ20,GU20)=0,(((_xlfn.CEILING.MATH(GJ20/GU20)-1))+(GJ20/GU20))*2,((_xlfn.CEILING.MATH(GJ20/GU20)+(GT20/GU20))*2)),0)),1)","v":0},{"$f":"IF(GV20=0,0,GJ20*2)","v":0},{"$f":"IF(OR(GJ20=\"\"),0,IF(GW20=\"PIASTRA\",GX20*2,_xlfn.CEILING.MATH(SUM(12,(GJ20/GU20),((GT20*GK$2)/GU20))*2,1)))","v":0},null,null,{"$f":"IFERROR(HD19+HK19+HL19,0)","v":0},{"$f":"IF(HB20=\"\",0,HD19+HB20+HL19+HK19+HJ20)","v":0},{"$f":"IF((IF(restoZero(HC20,25),(spaziIntermedi(HC20,25))+1,spaziIntermedi(HC20,25)))=(spaziIntermedi(HD20,25)),FALSE,TRUE)","v":true},0,{"$f":"+spaziIntermedi(HD20,25)-HF20","v":0},false,0,null,{"$f":"+IF(HH20=FALSE,HI20,0)","v":0},0,null,null,null,{"$f":"_xlfn.CEILING.MATH(IF(HO20<>\"PIASTRA\",0,IFERROR(IF(MOD(HB20,HM20)=0,(((_xlfn.CEILING.MATH(HB20/HM20)-1))+(HB20/HM20))*2,((_xlfn.CEILING.MATH(HB20/HM20)+(HL20/HM20))*2)),0)),1)","v":0},{"$f":"IF(HN20=0,0,HB20*2)","v":0},{"$f":"IF(OR(HB20=\"\"),0,IF(HO20=\"PIASTRA\",HP20*2,_xlfn.CEILING.MATH(SUM(12,(HB20/HM20),((HL20*HC$2)/HM20))*2,1)))","v":0},0,0,null,null,{"$f":"IFERROR(HX19+IE19+IF19,0)","v":0},{"$f":"IF(HV20=\"\",0,HX19+HV20+IF19+IE19+ID20)","v":0},{"$f":"IF((IF(restoZero(HW20,25),(spaziIntermedi(HW20,25))+1,spaziIntermedi(HW20,25)))=(spaziIntermedi(HX20,25)),FALSE,TRUE)","v":true},0,{"$f":"+spaziIntermedi(HX20,25)-HZ20","v":0},false,0,null,{"$f":"+IF(IB20=FALSE,IC20,0)","v":0},0,null,null,null,{"$f":"_xlfn.CEILING.MATH(IF(II20<>\"PIASTRA\",0,IFERROR(IF(MOD(HV20,IG20)=0,(((_xlfn.CEILING.MATH(HV20/IG20)-1))+(HV20/IG20))*2,((_xlfn.CEILING.MATH(HV20/IG20)+(IF20/IG20))*2)),0)),1)","v":0},{"$f":"IF(IH20=0,0,HV20*2)","v":0},{"$f":"IF(OR(HV20=\"\"),0,IF(II20=\"PIASTRA\",IJ20*2,_xlfn.CEILING.MATH(SUM(12,(HV20/IG20),((IF20*HW$2)/IG20))*2,1)))","v":0},null,null,{"$f":"IFERROR(IP19+IW19+IX19,0)","v":0},{"$f":"IF(IN20=\"\",0,IP19+IN20+IX19+IW19+IV20)","v":0},{"$f":"IF((IF(restoZero(IO20,25),(spaziIntermedi(IO20,25))+1,spaziIntermedi(IO20,25)))=(spaziIntermedi(IP20,25)),FALSE,TRUE)","v":true},0,{"$f":"+spaziIntermedi(IP20,25)-IR20","v":0},false,0,null,{"$f":"+IF(IT20=FALSE,IU20,0)","v":0},0,null,null,null,{"$f":"_xlfn.CEILING.MATH(IF(JA20<>\"PIASTRA\",0,IFERROR(IF(MOD(IN20,IY20)=0,(((_xlfn.CEILING.MATH(IN20/IY20)-1))+(IN20/IY20))*2,((_xlfn.CEILING.MATH(IN20/IY20)+(IX20/IY20))*2)),0)),1)","v":0},{"$f":"IF(IZ20=0,0,IN20*2)","v":0},{"$f":"IF(OR(IN20=\"\"),0,IF(JA20=\"PIASTRA\",JB20*2,_xlfn.CEILING.MATH(SUM(12,(IN20/IY20),((IX20*IO$2)/IY20))*2,1)))","v":0},0,0,null,null,{"$f":"IFERROR(JJ19+JQ19+JR19,0)","v":0},{"$f":"IF(JH20=\"\",0,JJ19+JH20+JR19+JQ19+JP20)","v":0},{"$f":"IF((IF(restoZero(JI20,25),(spaziIntermedi(JI20,25))+1,spaziIntermedi(JI20,25)))=(spaziIntermedi(JJ20,25)),FALSE,TRUE)","v":true},0,{"$f":"+spaziIntermedi(JJ20,25)-JL20","v":0},false,0,null,{"$f":"+IF(JN20=FALSE,JO20,0)","v":0},0,null,null,null,{"$f":"_xlfn.CEILING.MATH(IF(JU20<>\"PIASTRA\",0,IFERROR(IF(MOD(JH20,JS20)=0,(((_xlfn.CEILING.MATH(JH20/JS20)-1))+(JH20/JS20))*2,((_xlfn.CEILING.MATH(JH20/JS20)+(JR20/JS20))*2)),0)),1)","v":0},{"$f":"IF(JT20=0,0,JH20*2)","v":0},{"$f":"IF(OR(JH20=\"\"),0,IF(JU20=\"PIASTRA\",JV20*2,_xlfn.CEILING.MATH(SUM(12,(JH20/JS20),((JR20*JI$2)/JS20))*2,1)))","v":0},null,null,{"$f":"IFERROR(KB19+KI19+KJ19,0)","v":0},{"$f":"IF(JZ20=\"\",0,KB19+JZ20+KJ19+KI19+KH20)","v":0},{"$f":"IF((IF(restoZero(KA20,25),(spaziIntermedi(KA20,25))+1,spaziIntermedi(KA20,25)))=(spaziIntermedi(KB20,25)),FALSE,TRUE)","v":true},0,{"$f":"+spaziIntermedi(KB20,25)-KD20","v":0},false,0,null,{"$f":"+IF(KF20=FALSE,KG20,0)","v":0},0,null,null,null,{"$f":"_xlfn.CEILING.MATH(IF(KM20<>\"PIASTRA\",0,IFERROR(IF(MOD(JZ20,KK20)=0,(((_xlfn.CEILING.MATH(JZ20/KK20)-1))+(JZ20/KK20))*2,((_xlfn.CEILING.MATH(JZ20/KK20)+(KJ20/KK20))*2)),0)),1)","v":0},{"$f":"IF(KL20=0,0,JZ20*2)","v":0},{"$f":"IF(OR(JZ20=\"\"),0,IF(KM20=\"PIASTRA\",KN20*2,_xlfn.CEILING.MATH(SUM(12,(JZ20/KK20),((KJ20*KA$2)/KK20))*2,1)))","v":0},0,0,null,null,{"$f":"IFERROR(KV19+LC19+LD19,0)","v":0},{"$f":"IF(KT20=\"\",0,KV19+KT20+LD19+LC19+LB20)","v":0},{"$f":"IF((IF(restoZero(KU20,25),(spaziIntermedi(KU20,25))+1,spaziIntermedi(KU20,25)))=(spaziIntermedi(KV20,25)),FALSE,TRUE)","v":true},0,{"$f":"+spaziIntermedi(KV20,25)-KX20","v":0},false,0,null,{"$f":"+IF(KZ20=FALSE,LA20,0)","v":0},0,null,null,null,{"$f":"_xlfn.CEILING.MATH(IF(LG20<>\"PIASTRA\",0,IFERROR(IF(MOD(KT20,LE20)=0,(((_xlfn.CEILING.MATH(KT20/LE20)-1))+(KT20/LE20))*2,((_xlfn.CEILING.MATH(KT20/LE20)+(LD20/LE20))*2)),0)),1)","v":0},{"$f":"IF(LF20=0,0,KT20*2)","v":0},{"$f":"IF(OR(KT20=\"\"),0,IF(LG20=\"PIASTRA\",LH20*2,_xlfn.CEILING.MATH(SUM(12,(KT20/LE20),((LD20*KU$2)/LE20))*2,1)))","v":0},null,null,{"$f":"IFERROR(LN19+LU19+LV19,0)","v":0},{"$f":"IF(LL20=\"\",0,LN19+LL20+LV19+LU19+LT20)","v":0},{"$f":"IF((IF(restoZero(LM20,25),(spaziIntermedi(LM20,25))+1,spaziIntermedi(LM20,25)))=(spaziIntermedi(LN20,25)),FALSE,TRUE)","v":true},0,{"$f":"+spaziIntermedi(LN20,25)-LP20","v":0},false,0,null,{"$f":"+IF(LR20=FALSE,LS20,0)","v":0},0,null,null,null,{"$f":"_xlfn.CEILING.MATH(IF(LY20<>\"PIASTRA\",0,IFERROR(IF(MOD(LL20,LW20)=0,(((_xlfn.CEILING.MATH(LL20/LW20)-1))+(LL20/LW20))*2,((_xlfn.CEILING.MATH(LL20/LW20)+(LV20/LW20))*2)),0)),1)","v":0},{"$f":"IF(LX20=0,0,LL20*2)","v":0},{"$f":"IF(OR(LL20=\"\"),0,IF(LY20=\"PIASTRA\",LZ20*2,_xlfn.CEILING.MATH(SUM(12,(LL20/LW20),((LV20*LM$2)/LW20))*2,1)))","v":0},0,0,null,null,{"$f":"IFERROR(MH19+MO19+MP19,0)","v":0},{"$f":"IF(MF20=\"\",0,MH19+MF20+MP19+MO19+MN20)","v":0},{"$f":"IF((IF(restoZero(MG20,25),(spaziIntermedi(MG20,25))+1,spaziIntermedi(MG20,25)))=(spaziIntermedi(MH20,25)),FALSE,TRUE)","v":true},0,{"$f":"+spaziIntermedi(MH20,25)-MJ20","v":0},false,0,null,{"$f":"+IF(ML20=FALSE,MM20,0)","v":0},0,null,null,null,{"$f":"_xlfn.CEILING.MATH(IF(MS20<>\"PIASTRA\",0,IFERROR(IF(MOD(MF20,MQ20)=0,(((_xlfn.CEILING.MATH(MF20/MQ20)-1))+(MF20/MQ20))*2,((_xlfn.CEILING.MATH(MF20/MQ20)+(MP20/MQ20))*2)),0)),1)","v":0},{"$f":"IF(MR20=0,0,MF20*2)","v":0},{"$f":"IF(OR(MF20=\"\"),0,IF(MS20=\"PIASTRA\",MT20*2,_xlfn.CEILING.MATH(SUM(12,(MF20/MQ20),((MP20*MG$2)/MQ20))*2,1)))","v":0},null,null,{"$f":"IFERROR(MZ19+NG19+NH19,0)","v":0},{"$f":"IF(MX20=\"\",0,MZ19+MX20+NH19+NG19+NF20)","v":0},{"$f":"IF((IF(restoZero(MY20,25),(spaziIntermedi(MY20,25))+1,spaziIntermedi(MY20,25)))=(spaziIntermedi(MZ20,25)),FALSE,TRUE)","v":true},0,{"$f":"+spaziIntermedi(MZ20,25)-NB20","v":0},false,0,null,{"$f":"+IF(ND20=FALSE,NE20,0)","v":0},0,null,null,null,{"$f":"_xlfn.CEILING.MATH(IF(NK20<>\"PIASTRA\",0,IFERROR(IF(MOD(MX20,NI20)=0,(((_xlfn.CEILING.MATH(MX20/NI20)-1))+(MX20/NI20))*2,((_xlfn.CEILING.MATH(MX20/NI20)+(NH20/NI20))*2)),0)),1)","v":0},{"$f":"IF(NJ20=0,0,MX20*2)","v":0},{"$f":"IF(OR(MX20=\"\"),0,IF(NK20=\"PIASTRA\",NL20*2,_xlfn.CEILING.MATH(SUM(12,(MX20/NI20),((NH20*MY$2)/NI20))*2,1)))","v":0},0,0,null,null,{"$f":"IFERROR(NT19+OA19+OB19,0)","v":0},{"$f":"IF(NR20=\"\",0,NT19+NR20+OB19+OA19+NZ20)","v":0},{"$f":"IF((IF(restoZero(NS20,25),(spaziIntermedi(NS20,25))+1,spaziIntermedi(NS20,25)))=(spaziIntermedi(NT20,25)),FALSE,TRUE)","v":true},0,{"$f":"+spaziIntermedi(NT20,25)-NV20","v":0},false,0,null,{"$f":"+IF(NX20=FALSE,NY20,0)","v":0},0,null,null,null,{"$f":"_xlfn.CEILING.MATH(IF(OE20<>\"PIASTRA\",0,IFERROR(IF(MOD(NR20,OC20)=0,(((_xlfn.CEILING.MATH(NR20/OC20)-1))+(NR20/OC20))*2,((_xlfn.CEILING.MATH(NR20/OC20)+(OB20/OC20))*2)),0)),1)","v":0},{"$f":"IF(OD20=0,0,NR20*2)","v":0},{"$f":"IF(OR(NR20=\"\"),0,IF(OE20=\"PIASTRA\",OF20*2,_xlfn.CEILING.MATH(SUM(12,(NR20/OC20),((OB20*NS$2)/OC20))*2,1)))","v":0},null,null,{"$f":"IFERROR(OL19+OS19+OT19,0)","v":0},{"$f":"IF(OJ20=\"\",0,OL19+OJ20+OT19+OS19+OR20)","v":0},{"$f":"IF((IF(restoZero(OK20,25),(spaziIntermedi(OK20,25))+1,spaziIntermedi(OK20,25)))=(spaziIntermedi(OL20,25)),FALSE,TRUE)","v":true},0,{"$f":"+spaziIntermedi(OL20,25)-ON20","v":0},false,0,null,{"$f":"+IF(OP20=FALSE,OQ20,0)","v":0},0,null,null,null,{"$f":"_xlfn.CEILING.MATH(IF(OW20<>\"PIASTRA\",0,IFERROR(IF(MOD(OJ20,OU20)=0,(((_xlfn.CEILING.MATH(OJ20/OU20)-1))+(OJ20/OU20))*2,((_xlfn.CEILING.MATH(OJ20/OU20)+(OT20/OU20))*2)),0)),1)","v":0},{"$f":"IF(OV20=0,0,OJ20*2)","v":0},{"$f":"IF(OR(OJ20=\"\"),0,IF(OW20=\"PIASTRA\",OX20*2,_xlfn.CEILING.MATH(SUM(12,(OJ20/OU20),((OT20*OK$2)/OU20))*2,1)))","v":0},0,0,null,null,{"$f":"IFERROR(PF19+PM19+PN19,0)","v":0},{"$f":"IF(PD20=\"\",0,PF19+PD20+PN19+PM19+PL20)","v":0},{"$f":"IF((IF(restoZero(PE20,25),(spaziIntermedi(PE20,25))+1,spaziIntermedi(PE20,25)))=(spaziIntermedi(PF20,25)),FALSE,TRUE)","v":true},0,{"$f":"+spaziIntermedi(PF20,25)-PH20","v":0},false,0,null,{"$f":"+IF(PJ20=FALSE,PK20,0)","v":0},0,null,null,null,{"$f":"_xlfn.CEILING.MATH(IF(PQ20<>\"PIASTRA\",0,IFERROR(IF(MOD(PD20,PO20)=0,(((_xlfn.CEILING.MATH(PD20/PO20)-1))+(PD20/PO20))*2,((_xlfn.CEILING.MATH(PD20/PO20)+(PN20/PO20))*2)),0)),1)","v":0},{"$f":"IF(PP20=0,0,PD20*2)","v":0},{"$f":"IF(OR(PD20=\"\"),0,IF(PQ20=\"PIASTRA\",PR20*2,_xlfn.CEILING.MATH(SUM(12,(PD20/PO20),((PN20*PE$2)/PO20))*2,1)))","v":0},null,null,{"$f":"IFERROR(PX19+QE19+QF19,0)","v":0},{"$f":"IF(PV20=\"\",0,PX19+PV20+QF19+QE19+QD20)","v":0},{"$f":"IF((IF(restoZero(PW20,25),(spaziIntermedi(PW20,25))+1,spaziIntermedi(PW20,25)))=(spaziIntermedi(PX20,25)),FALSE,TRUE)","v":true},0,{"$f":"+spaziIntermedi(PX20,25)-PZ20","v":0},false,0,null,{"$f":"+IF(QB20=FALSE,QC20,0)","v":0},0,null,null,null,{"$f":"_xlfn.CEILING.MATH(IF(QI20<>\"PIASTRA\",0,IFERROR(IF(MOD(PV20,QG20)=0,(((_xlfn.CEILING.MATH(PV20/QG20)-1))+(PV20/QG20))*2,((_xlfn.CEILING.MATH(PV20/QG20)+(QF20/QG20))*2)),0)),1)","v":0},{"$f":"IF(QH20=0,0,PV20*2)","v":0},{"$f":"IF(OR(PV20=\"\"),0,IF(QI20=\"PIASTRA\",QJ20*2,_xlfn.CEILING.MATH(SUM(12,(PV20/QG20),((QF20*PW$2)/QG20))*2,1)))","v":0},0,0,null,null,{"$f":"IFERROR(QR19+QY19+QZ19,0)","v":0},{"$f":"IF(QP20=\"\",0,QR19+QP20+QZ19+QY19+QX20)","v":0},{"$f":"IF((IF(restoZero(QQ20,25),(spaziIntermedi(QQ20,25))+1,spaziIntermedi(QQ20,25)))=(spaziIntermedi(QR20,25)),FALSE,TRUE)","v":true},0,{"$f":"+spaziIntermedi(QR20,25)-QT20","v":0},false,0,null,{"$f":"+IF(QV20=FALSE,QW20,0)","v":0},0,null,null,null,{"$f":"_xlfn.CEILING.MATH(IF(RC20<>\"PIASTRA\",0,IFERROR(IF(MOD(QP20,RA20)=0,(((_xlfn.CEILING.MATH(QP20/RA20)-1))+(QP20/RA20))*2,((_xlfn.CEILING.MATH(QP20/RA20)+(QZ20/RA20))*2)),0)),1)","v":0},{"$f":"IF(RB20=0,0,QP20*2)","v":0},{"$f":"IF(OR(QP20=\"\"),0,IF(RC20=\"PIASTRA\",RD20*2,_xlfn.CEILING.MATH(SUM(12,(QP20/RA20),((QZ20*QQ$2)/RA20))*2,1)))","v":0},null,null,{"$f":"IFERROR(RJ19+RQ19+RR19,0)","v":0},{"$f":"IF(RH20=\"\",0,RJ19+RH20+RR19+RQ19+RP20)","v":0},{"$f":"IF((IF(restoZero(RI20,25),(spaziIntermedi(RI20,25))+1,spaziIntermedi(RI20,25)))=(spaziIntermedi(RJ20,25)),FALSE,TRUE)","v":true},0,{"$f":"+spaziIntermedi(RJ20,25)-RL20","v":0},false,0,null,{"$f":"+IF(RN20=FALSE,RO20,0)","v":0},0,null,null,null,{"$f":"_xlfn.CEILING.MATH(IF(RU20<>\"PIASTRA\",0,IFERROR(IF(MOD(RH20,RS20)=0,(((_xlfn.CEILING.MATH(RH20/RS20)-1))+(RH20/RS20))*2,((_xlfn.CEILING.MATH(RH20/RS20)+(RR20/RS20))*2)),0)),1)","v":0},{"$f":"IF(RT20=0,0,RH20*2)","v":0},{"$f":"IF(OR(RH20=\"\"),0,IF(RU20=\"PIASTRA\",RV20*2,_xlfn.CEILING.MATH(SUM(12,(RH20/RS20),((RR20*RI$2)/RS20))*2,1)))","v":0},0,0,null,null,{"$f":"IFERROR(SD19+SK19+SL19,0)","v":0},{"$f":"IF(SB20=\"\",0,SD19+SB20+SL19+SK19+SJ20)","v":0},{"$f":"IF((IF(restoZero(SC20,25),(spaziIntermedi(SC20,25))+1,spaziIntermedi(SC20,25)))=(spaziIntermedi(SD20,25)),FALSE,TRUE)","v":true},0,{"$f":"+spaziIntermedi(SD20,25)-SF20","v":0},false,0,null,{"$f":"+IF(SH20=FALSE,SI20,0)","v":0},0,null,null,null,{"$f":"_xlfn.CEILING.MATH(IF(SO20<>\"PIASTRA\",0,IFERROR(IF(MOD(SB20,SM20)=0,(((_xlfn.CEILING.MATH(SB20/SM20)-1))+(SB20/SM20))*2,((_xlfn.CEILING.MATH(SB20/SM20)+(SL20/SM20))*2)),0)),1)","v":0},{"$f":"IF(SN20=0,0,SB20*2)","v":0},{"$f":"IF(OR(SB20=\"\"),0,IF(SO20=\"PIASTRA\",SP20*2,_xlfn.CEILING.MATH(SUM(12,(SB20/SM20),((SL20*SC$2)/SM20))*2,1)))","v":0},null,null,{"$f":"IFERROR(SV19+TC19+TD19,0)","v":0},{"$f":"IF(ST20=\"\",0,SV19+ST20+TD19+TC19+TB20)","v":0},{"$f":"IF((IF(restoZero(SU20,25),(spaziIntermedi(SU20,25))+1,spaziIntermedi(SU20,25)))=(spaziIntermedi(SV20,25)),FALSE,TRUE)","v":true},0,{"$f":"+spaziIntermedi(SV20,25)-SX20","v":0},false,0,null,{"$f":"+IF(SZ20=FALSE,TA20,0)","v":0},0,null,null,null,{"$f":"_xlfn.CEILING.MATH(IF(TG20<>\"PIASTRA\",0,IFERROR(IF(MOD(ST20,TE20)=0,(((_xlfn.CEILING.MATH(ST20/TE20)-1))+(ST20/TE20))*2,((_xlfn.CEILING.MATH(ST20/TE20)+(TD20/TE20))*2)),0)),1)","v":0},{"$f":"IF(TF20=0,0,ST20*2)","v":0},{"$f":"IF(OR(ST20=\"\"),0,IF(TG20=\"PIASTRA\",TH20*2,_xlfn.CEILING.MATH(SUM(12,(ST20/TE20),((TD20*SU$2)/TE20))*2,1)))","v":0},0,0]
[null,null,{"$f":"IFERROR(D20+K20+L20,0)","v":0},{"$f":"IF(B21=\"\",0,D20+B21+L20+K20+J21)","v":0},{"$f":"IF((IF(restoZero(C21,25),(spaziIntermedi(C21,25))+1,spaziIntermedi(C21,25)))=(spaziIntermedi(D21,25)),FALSE,TRUE)","v":true},0,{"$f":"+spaziIntermedi(D21,25)-F21","v":0},false,0,null,0,0,null,null,null,0,0,0,null,null,{"$f":"IFERROR(V20+AC20+AD20,0)","v":0},{"$f":"IF(T21=\"\",0,V20+T21+AD20+AC20)","v":0},{"$f":"IF((IF(restoZero(U21,25),(spaziIntermedi(U21,25))+1,spaziIntermedi(U21,25)))=(spaziIntermedi(V21,25)),FALSE,TRUE)","v":true},{"$f":"+V21/constLungRot","v":0},{"$f":"+spaziIntermedi(V21,25)-X21","v":0},{"$f":"+Y21*constLungRot>=($C$2*2)","v":false},{"$f":"+Y21*constLungRot","v":0},null,{"$f":"+IF(Z21=FALSE,AA21,0)","v":0},0,null,null,null,0,0,0,0,0,null,null,{"$f":"IFERROR(AP20+AW20+AX20,0)","v":0},{"$f":"IF(AN21=\"\",0,AP20+AN21+AX20+AW20+AV21)","v":0},{"$f":"IF((IF(restoZero(AO21,25),(spaziIntermedi(AO21,25))+1,spaziIntermedi(AO21,25)))=(spaziIntermedi(AP21,25)),FALSE,TRUE)","v":true},0,{"$f":"+spaziIntermedi(AP21,25)-AR21","v":0},false,0,null,0,0,null,null,null,0,0,0,null,null,{"$f":"IFERROR(BH20+BO20+BP20,0)","v":0},{"$f":"IF(BF21=\"\",0,BH20+BF21+BP20+BO20)","v":0},{"$f":"IF((IF(restoZero(BG21,25),(spaziIntermedi(BG21,25))+1,spaziIntermedi(BG21,25)))=(spaziIntermedi(BH21,25)),FALSE,TRUE)","v":true},0,{"$f":"+spaziIntermedi(BH21,25)-BJ21","v":0},false,0,null,0,0,null,null,null,0,0,0,0,0,null,null,{"$f":"IFERROR(CB20+CI20+CJ20,0)","v":0},{"$f":"IF(BZ21=\"\",0,CB20+BZ21+CJ20+CI20+CH21)","v":0},{"$f":"IF((IF(restoZero(CA21,25),(spaziIntermedi(CA21,25))+1,spaziIntermedi(CA21,25)))=(spaziIntermedi(CB21,25)),FALSE,TRUE)","v":true},0,{"$f":"+spaziIntermedi(CB21,25)-CD21","v":0},false,0,null,0,0,null,null,null,0,0,0,null,null,{"$f":"IFERROR(CT20+DA20+DB20,0)","v":0},{"$f":"IF(CR21=\"\",0,CT20+CR21+DB20+DA20)","v":0},{"$f":"IF((IF(restoZero(CS21,25),(spaziIntermedi(CS21,25))+1,spaziIntermedi(CS21,25)))=(spaziIntermedi(CT21,25)),FALSE,TRUE)","v":true},0,{"$f":"+spaziIntermedi(CT21,25)-CV21","v":0},false,0,null,0,0,null,null,null,0,0,0,0,0,null,null,{"$f":"IFERROR(DN20+DU20+DV20,0)","v":0},{"$f":"IF(DL21=\"\",0,DN20+DL21+DV20+DU20+DT21)","v":0},{"$f":"IF((IF(restoZero(DM21,25),(spaziIntermedi(DM21,25))+1,spaziIntermedi(DM21,25)))=(spaziIntermedi(DN21,25)),FALSE,TRUE)","v":true},0,{"$f":"+spaziIntermedi(DN21,25)-DP21","v":0},false,0,null,0,0,null,null,null,0,0,0,null,null,{"$f":"IFERROR(EF20+EM20+EN20,0)","v":0},{"$f":"IF(ED21=\"\",0,EF20+ED21+EN20+EM20)","v":0},{"$f":"IF((IF(restoZero(EE21,25),(spaziIntermedi(EE21,25))+1,spaziIntermedi(EE21,25)))=(spaziIntermedi(EF21,25)),FALSE,TRUE)","v":true},0,{"$f":"+spaziIntermedi(EF21,25)-EH21","v":0},false,0,null,0,0,null,null,null,0,0,0,0,0,null,null,{"$f":"IFERROR(EZ20+FG20+FH20,0)","v":0},{"$f":"IF(EX21=\"\",0,EZ20+EX21+FH20+FG20+FF21)","v":0},{"$f":"IF((IF(restoZero(EY21,25),(spaziIntermedi(EY21,25))+1,spaziIntermedi(EY21,25)))=(spaziIntermedi(EZ21,25)),FALSE,TRUE)","v":true},0,{"$f":"+spaziIntermedi(EZ21,25)-FB21","v":0},false,0,null,0,0,null,null,null,0,0,0,null,null,{"$f":"IFERROR(FR20+FY20+FZ20,0)","v":0},{"$f":"IF(FP21=\"\",0,FR20+FP21+FZ20+FY20)","v":0},{"$f":"IF((IF(restoZero(FQ21,25),(spaziIntermedi(FQ21,25))+1,spaziIntermedi(FQ21,25)))=(spaziIntermedi(FR21,25)),FALSE,TRUE)","v":true},0,{"$f":"+spaziIntermedi(FR21,25)-FT21","v":0},false,0,null,0,0,null,null,null,0,0,0,0,0,null,null,{"$f":"IFERROR(GL20+GS20+GT20,0)","v":0},{"$f":"IF(GJ21=\"\",0,GL20+GJ21+GT20+GS20+GR21)","v":0},{"$f":"IF((IF(restoZero(GK21,25),(spaziIntermedi(GK21,25))+1,spaziIntermedi(GK21,25)))=(spaziIntermedi(GL21,25)),FALSE,TRUE)","v":true},0,{"$f":"+spaziIntermedi(GL21,25)-GN21","v":0},false,0,null,0,0,null,null,null,0,0,0,null,null,{"$f":"IFERROR(HD20+HK20+HL20,0)","v":0},{"$f":"IF(HB21=\"\",0,HD20+HB21+HL20+HK20)","v":0},{"$f":"IF((IF(restoZero(HC21,25),(spaziIntermedi(HC21,25))+1,spaziIntermedi(HC21,25)))=(spaziIntermedi(HD21,25)),FALSE,TRUE)","v":true},0,{"$f":"+spaziIntermedi(HD21,25)-HF21","v":0},false,0,null,0,0,null,null,null,0,0,0,0,0,null,null,{"$f":"IFERROR(HX20+IE20+IF20,0)","v":0},{"$f":"IF(HV21=\"\",0,HX20+HV21+IF20+IE20+ID21)","v":0},{"$f":"IF((IF(restoZero(HW21,25),(spaziIntermedi(HW21,25))+1,spaziIntermedi(HW21,25)))=(spaziIntermedi(HX21,25)),FALSE,TRUE)","v":true},0,{"$f":"+spaziIntermedi(HX21,25)-HZ21","v":0},false,0,null,0,0,null,null,null,0,0,0,null,null,{"$f":"IFERROR(IP20+IW20+IX20,0)","v":0},{"$f":"IF(IN21=\"\",0,IP20+IN21+IX20+IW20)","v":0},{"$f":"IF((IF(restoZero(IO21,25),(spaziIntermedi(IO21,25))+1,spaziIntermedi(IO21,25)))=(spaziIntermedi(IP21,25)),FALSE,TRUE)","v":true},0,{"$f":"+spaziIntermedi(IP21,25)-IR21","v":0},false,0,null,0,0,null,null,null,0,0,0,0,0,null,null,{"$f":"IFERROR(JJ20+JQ20+JR20,0)","v":0},{"$f":"IF(JH21=\"\",0,JJ20+JH21+JR20+JQ20+JP21)","v":0},{"$f":"IF((IF(restoZero(JI21,25),(spaziIntermedi(JI21,25))+1,spaziIntermedi(JI21,25)))=(spaziIntermedi(JJ21,25)),FALSE,TRUE)","v":true},0,{"$f":"+spaziIntermedi(JJ21,25)-JL21","v":0},false,0,null,0,0,null,null,null,0,0,0,null,null,{"$f":"IFERROR(KB20+KI20+KJ20,0)","v":0},{"$f":"IF(JZ21=\"\",0,KB20+JZ21+KJ20+KI20)","v":0},{"$f":"IF((IF(restoZero(KA21,25),(spaziIntermedi(KA21,25))+1,spaziIntermedi(KA21,25)))=(spaziIntermedi(KB21,25)),FALSE,TRUE)","v":true},0,{"$f":"+spaziIntermedi(KB21,25)-KD21","v":0},false,0,null,0,0,null,null,null,0,0,0,0,0,null,null,{"$f":"IFERROR(KV20+LC20+LD20,0)","v":0},{"$f":"IF(KT21=\"\",0,KV20+KT21+LD20+LC20+LB21)","v":0},{"$f":"IF((IF(restoZero(KU21,25),(spaziIntermedi(KU21,25))+1,spaziIntermedi(KU21,25)))=(spaziIntermedi(KV21,25)),FALSE,TRUE)","v":true},0,{"$f":"+spaziIntermedi(KV21,25)-KX21","v":0},false,0,null,0,0,null,null,null,0,0,0,null,null,{"$f":"IFERROR(LN20+LU20+LV20,0)","v":0},{"$f":"IF(LL21=\"\",0,LN20+LL21+LV20+LU20)","v":0},{"$f":"IF((IF(restoZero(LM21,25),(spaziIntermedi(LM21,25))+1,spaziIntermedi(LM21,25)))=(spaziIntermedi(LN21,25)),FALSE,TRUE)","v":true},0,{"$f":"+spaziIntermedi(LN21,25)-LP21","v":0},false,0,null,0,0,null,null,null,0,0,0,0,0,null,null,{"$f":"IFERROR(MH20+MO20+MP20,0)","v":0},{"$f":"IF(MF21=\"\",0,MH20+MF21+MP20+MO20+MN21)","v":0},{"$f":"IF((IF(restoZero(MG21,25),(spaziIntermedi(MG21,25))+1,spaziIntermedi(MG21,25)))=(spaziIntermedi(MH21,25)),FALSE,TRUE)","v":true},0,{"$f":"+spaziIntermedi(MH21,25)-MJ21","v":0},false,0,null,0,0,null,null,null,0,0,0,null,null,{"$f":"IFERROR(MZ20+NG20+NH20,0)","v":0},{"$f":"IF(MX21=\"\",0,MZ20+MX21+NH20+NG20)","v":0},{"$f":"IF((IF(restoZero(MY21,25),(spaziIntermedi(MY21,25))+1,spaziIntermedi(MY21,25)))=(spaziIntermedi(MZ21,25)),FALSE,TRUE)","v":true},0,{"$f":"+spaziIntermedi(MZ21,25)-NB21","v":0},false,0,null,0,0,null,null,null,0,0,0,0,0,null,null,{"$f":"IFERROR(NT20+OA20+OB20,0)","v":0},{"$f":"IF(NR21=\"\",0,NT20+NR21+OB20+OA20+NZ21)","v":0},{"$f":"IF((IF(restoZero(NS21,25),(spaziIntermedi(NS21,25))+1,spaziIntermedi(NS21,25)))=(spaziIntermedi(NT21,25)),FALSE,TRUE)","v":true},0,{"$f":"+spaziIntermedi(NT21,25)-NV21","v":0},false,0,null,0,0,null,null,null,0,0,0,null,null,{"$f":"IFERROR(OL20+OS20+OT20,0)","v":0},{"$f":"IF(OJ21=\"\",0,OL20+OJ21+OT20+OS20)","v":0},{"$f":"IF((IF(restoZero(OK21,25),(spaziIntermedi(OK21,25))+1,spaziIntermedi(OK21,25)))=(spaziIntermedi(OL21,25)),FALSE,TRUE)","v":true},0,{"$f":"+spaziIntermedi(OL21,25)-ON21","v":0},false,0,null,0,0,null,null,null,0,0,0,0,0,null,null,{"$f":"IFERROR(PF20+PM20+PN20,0)","v":0},{"$f":"IF(PD21=\"\",0,PF20+PD21+PN20+PM20+PL21)","v":0},{"$f":"IF((IF(restoZero(PE21,25),(spaziIntermedi(PE21,25))+1,spaziIntermedi(PE21,25)))=(spaziIntermedi(PF21,25)),FALSE,TRUE)","v":true},0,{"$f":"+spaziIntermedi(PF21,25)-PH21","v":0},false,0,null,0,0,null,null,null,0,0,0,null,null,{"$f":"IFERROR(PX20+QE20+QF20,0)","v":0},{"$f":"IF(PV21=\"\",0,PX20+PV21+QF20+QE20)","v":0},{"$f":"IF((IF(restoZero(PW21,25),(spaziIntermedi(PW21,25))+1,spaziIntermedi(PW21,25)))=(spaziIntermedi(PX21,25)),FALSE,TRUE)","v":true},0,{"$f":"+spaziIntermedi(PX21,25)-PZ21","v":0},false,0,null,0,0,null,null,null,0,0,0,0,0,null,null,{"$f":"IFERROR(QR20+QY20+QZ20,0)","v":0},{"$f":"IF(QP21=\"\",0,QR20+QP21+QZ20+QY20+QX21)","v":0},{"$f":"IF((IF(restoZero(QQ21,25),(spaziIntermedi(QQ21,25))+1,spaziIntermedi(QQ21,25)))=(spaziIntermedi(QR21,25)),FALSE,TRUE)","v":true},0,{"$f":"+spaziIntermedi(QR21,25)-QT21","v":0},false,0,null,0,0,null,null,null,0,0,0,null,null,{"$f":"IFERROR(RJ20+RQ20+RR20,0)","v":0},{"$f":"IF(RH21=\"\",0,RJ20+RH21+RR20+RQ20)","v":0},{"$f":"IF((IF(restoZero(RI21,25),(spaziIntermedi(RI21,25))+1,spaziIntermedi(RI21,25)))=(spaziIntermedi(RJ21,25)),FALSE,TRUE)","v":true},0,{"$f":"+spaziIntermedi(RJ21,25)-RL21","v":0},false,0,null,0,0,null,null,null,0,0,0,0,0,null,null,{"$f":"IFERROR(SD20+SK20+SL20,0)","v":0},{"$f":"IF(SB21=\"\",0,SD20+SB21+SL20+SK20+SJ21)","v":0},{"$f":"IF((IF(restoZero(SC21,25),(spaziIntermedi(SC21,25))+1,spaziIntermedi(SC21,25)))=(spaziIntermedi(SD21,25)),FALSE,TRUE)","v":true},0,{"$f":"+spaziIntermedi(SD21,25)-SF21","v":0},false,0,null,0,0,null,null,null,0,0,0,null,null,{"$f":"IFERROR(SV20+TC20+TD20,0)","v":0},{"$f":"IF(ST21=\"\",0,SV20+ST21+TD20+TC20)","v":0},{"$f":"IF((IF(restoZero(SU21,25),(spaziIntermedi(SU21,25))+1,spaziIntermedi(SU21,25)))=(spaziIntermedi(SV21,25)),FALSE,TRUE)","v":true},0,{"$f":"+spaziIntermedi(SV21,25)-SX21","v":0},false,0,null,0,0,null,null,null,0,0,0,0,0]
[null,null,0,0,{"$f":"IF((IF(restoZero(C22,25),(spaziIntermedi(C22,25))+1,spaziIntermedi(C22,25)))=(spaziIntermedi(D22,25)),FALSE,TRUE)","v":true},0,{"$f":"+spaziIntermedi(D22,25)-F22","v":0},false,0,null,0,0,null,null,null,0,0,0,null,null,0,0,{"$f":"IF((IF(restoZero(U22,25),(spaziIntermedi(U22,25))+1,spaziIntermedi(U22,25)))=(spaziIntermedi(V22,25)),FALSE,TRUE)","v":true},0,{"$f":"+spaziIntermedi(V22,25)-X22","v":0},false,0,null,0,0,null,null,null,0,0,0,0,0,null,null,0,0,{"$f":"IF((IF(restoZero(AO22,25),(spaziIntermedi(AO22,25))+1,spaziIntermedi(AO22,25)))=(spaziIntermedi(AP22,25)),FALSE,TRUE)","v":true},0,{"$f":"+spaziIntermedi(AP22,25)-AR22","v":0},false,0,null,0,0,null,null,null,0,0,0,null,null,0,0,{"$f":"IF((IF(restoZero(BG22,25),(spaziIntermedi(BG22,25))+1,spaziIntermedi(BG22,25)))=(spaziIntermedi(BH22,25)),FALSE,TRUE)","v":true},0,{"$f":"+spaziIntermedi(BH22,25)-BJ22","v":0},false,0,null,0,0,null,null,null,0,0,0,0,0,null,null,0,0,{"$f":"IF((IF(restoZero(CA22,25),(spaziIntermedi(CA22,25))+1,spaziIntermedi(CA22,25)))=(spaziIntermedi(CB22,25)),FALSE,TRUE)","v":true},0,{"$f":"+spaziIntermedi(CB22,25)-CD22","v":0},false,0,null,0,0,null,null,null,0,0,0,null,null,0,0,{"$f":"IF((IF(restoZero(CS22,25),(spaziIntermedi(CS22,25))+1,spaziIntermedi(CS22,25)))=(spaziIntermedi(CT22,25)),FALSE,TRUE)","v":true},0,{"$f":"+spaziIntermedi(CT22,25)-CV22","v":0},false,0,null,0,0,null,null,null,0,0,0,0,0,null,null,0,0,{"$f":"IF((IF(restoZero(DM22,25),(spaziIntermedi(DM22,25))+1,spaziIntermedi(DM22,25)))=(spaziIntermedi(DN22,25)),FALSE,TRUE)","v":true},0,{"$f":"+spaziIntermedi(DN22,25)-DP22","v":0},false,0,null,0,0,null,null,null,0,0,0,null,null,0,0,{"$f":"IF((IF(restoZero(EE22,25),(spaziIntermedi(EE22,25))+1,spaziIntermedi(EE22,25)))=(spaziIntermedi(EF22,25)),FALSE,TRUE)","v":true},0,{"$f":"+spaziIntermedi(EF22,25)-EH22","v":0},false,0,null,0,0,null,null,null,0,0,0,0,0,null,null,0,0,{"$f":"IF((IF(restoZero(EY22,25),(spaziIntermedi(EY22,25))+1,spaziIntermedi(EY22,25)))=(spaziIntermedi(EZ22,25)),FALSE,TRUE)","v":true},0,{"$f":"+spaziIntermedi(EZ22,25)-FB22","v":0},false,0,null,0,0,null,null,null,0,0,0,null,null,0,0,{"$f":"IF((IF(restoZero(FQ22,25),(spaziIntermedi(FQ22,25))+1,spaziIntermedi(FQ22,25)))=(spaziIntermedi(FR22,25)),FALSE,TRUE)","v":true},0,{"$f":"+spaziIntermedi(FR22,25)-FT22","v":0},false,0,null,0,0,null,null,null,0,0,0,0,0,null,null,0,0,{"$f":"IF((IF(restoZero(GK22,25),(spaziIntermedi(GK22,25))+1,spaziIntermedi(GK22,25)))=(spaziIntermedi(GL22,25)),FALSE,TRUE)","v":true},0,{"$f":"+spaziIntermedi(GL22,25)-GN22","v":0},false,0,null,0,0,null,null,null,0,0,0,null,null,0,0,{"$f":"IF((IF(restoZero(HC22,25),(spaziIntermedi(HC22,25))+1,spaziIntermedi(HC22,25)))=(spaziIntermedi(HD22,25)),FALSE,TRUE)","v":true},0,{"$f":"+spaziIntermedi(HD22,25)-HF22","v":0},false,0,null,0,0,null,null,null,0,0,0,0,0,null,null,0,0,{"$f":"IF((IF(restoZero(HW22,25),(spaziIntermedi(HW22,25))+1,spaziIntermedi(HW22,25)))=(spaziIntermedi(HX22,25)),FALSE,TRUE)","v":true},0,{"$f":"+spaziIntermedi(HX22,25)-HZ22","v":0},false,0,null,0,0,null,null,null,0,0,0,null,null,0,0,{"$f":"IF((IF(restoZero(IO22,25),(spaziIntermedi(IO22,25))+1,spaziIntermedi(IO22,25)))=(spaziIntermedi(IP22,25)),FALSE,TRUE)","v":true},0,{"$f":"+spaziIntermedi(IP22,25)-IR22","v":0},false,0,null,0,0,null,null,null,0,0,0,0,0,null,null,0,0,{"$f":"IF((IF(restoZero(JI22,25),(spaziIntermedi(JI22,25))+1,spaziIntermedi(JI22,25)))=(spaziIntermedi(JJ22,25)),FALSE,TRUE)","v":true},0,{"$f":"+spaziIntermedi(JJ22,25)-JL22","v":0},false,0,null,0,0,null,null,null,0,0,0,null,null,0,0,{"$f":"IF((IF(restoZero(KA22,25),(spaziIntermedi(KA22,25))+1,spaziIntermedi(KA22,25)))=(spaziIntermedi(KB22,25)),FALSE,TRUE)","v":true},0,{"$f":"+spaziIntermedi(KB22,25)-KD22","v":0},false,0,null,0,0,null,null,null,0,0,0,0,0,null,null,0,0,{"$f":"IF((IF(restoZero(KU22,25),(spaziIntermedi(KU22,25))+1,spaziIntermedi(KU22,25)))=(spaziIntermedi(KV22,25)),FALSE,TRUE)","v":true},0,{"$f":"+spaziIntermedi(KV22,25)-KX22","v":0},false,0,null,0,0,null,null,null,0,0,0,null,null,0,0,{"$f":"IF((IF(restoZero(LM22,25),(spaziIntermedi(LM22,25))+1,spaziIntermedi(LM22,25)))=(spaziIntermedi(LN22,25)),FALSE,TRUE)","v":true},0,{"$f":"+spaziIntermedi(LN22,25)-LP22","v":0},false,0,null,0,0,null,null,null,0,0,0,0,0,null,null,0,0,{"$f":"IF((IF(restoZero(MG22,25),(spaziIntermedi(MG22,25))+1,spaziIntermedi(MG22,25)))=(spaziIntermedi(MH22,25)),FALSE,TRUE)","v":true},0,{"$f":"+spaziIntermedi(MH22,25)-MJ22","v":0},false,0,null,0,0,null,null,null,0,0,0,null,null,0,0,{"$f":"IF((IF(restoZero(MY22,25),(spaziIntermedi(MY22,25))+1,spaziIntermedi(MY22,25)))=(spaziIntermedi(MZ22,25)),FALSE,TRUE)","v":true},0,{"$f":"+spaziIntermedi(MZ22,25)-NB22","v":0},false,0,null,0,0,null,null,null,0,0,0,0,0,null,null,0,0,{"$f":"IF((IF(restoZero(NS22,25),(spaziIntermedi(NS22,25))+1,spaziIntermedi(NS22,25)))=(spaziIntermedi(NT22,25)),FALSE,TRUE)","v":true},0,{"$f":"+spaziIntermedi(NT22,25)-NV22","v":0},false,0,null,0,0,null,null,null,0,0,0,null,null,0,0,{"$f":"IF((IF(restoZero(OK22,25),(spaziIntermedi(OK22,25))+1,spaziIntermedi(OK22,25)))=(spaziIntermedi(OL22,25)),FALSE,TRUE)","v":true},0,{"$f":"+spaziIntermedi(OL22,25)-ON22","v":0},false,0,null,0,0,null,null,null,0,0,0,0,0,null,null,0,0,{"$f":"IF((IF(restoZero(PE22,25),(spaziIntermedi(PE22,25))+1,spaziIntermedi(PE22,25)))=(spaziIntermedi(PF22,25)),FALSE,TRUE)","v":true},0,{"$f":"+spaziIntermedi(PF22,25)-PH22","v":0},false,0,null,0,0,null,null,null,0,0,0,null,null,0,0,{"$f":"IF((IF(restoZero(PW22,25),(spaziIntermedi(PW22,25))+1,spaziIntermedi(PW22,25)))=(spaziIntermedi(PX22,25)),FALSE,TRUE)","v":true},0,{"$f":"+spaziIntermedi(PX22,25)-PZ22","v":0},false,0,null,0,0,null,null,null,0,0,0,0,0,null,null,0,0,{"$f":"IF((IF(restoZero(QQ22,25),(spaziIntermedi(QQ22,25))+1,spaziIntermedi(QQ22,25)))=(spaziIntermedi(QR22,25)),FALSE,TRUE)","v":true},0,{"$f":"+spaziIntermedi(QR22,25)-QT22","v":0},false,0,null,0,0,null,null,null,0,0,0,null,null,0,0,{"$f":"IF((IF(restoZero(RI22,25),(spaziIntermedi(RI22,25))+1,spaziIntermedi(RI22,25)))=(spaziIntermedi(RJ22,25)),FALSE,TRUE)","v":true},0,{"$f":"+spaziIntermedi(RJ22,25)-RL22","v":0},false,0,null,0,0,null,null,null,0,0,0,0,0,null,null,0,0,{"$f":"IF((IF(restoZero(SC22,25),(spaziIntermedi(SC22,25))+1,spaziIntermedi(SC22,25)))=(spaziIntermedi(SD22,25)),FALSE,TRUE)","v":true},0,{"$f":"+spaziIntermedi(SD22,25)-SF22","v":0},false,0,null,0,0,null,null,null,0,0,0,null,null,0,0,{"$f":"IF((IF(restoZero(SU22,25),(spaziIntermedi(SU22,25))+1,spaziIntermedi(SU22,25)))=(spaziIntermedi(SV22,25)),FALSE,TRUE)","v":true},0,{"$f":"+spaziIntermedi(SV22,25)-SX22","v":0},false,0,null,0,0,null,null,null,0,0,0,0,0]
[null,null,0,0,{"$f":"IF((IF(restoZero(C23,25),(spaziIntermedi(C23,25))+1,spaziIntermedi(C23,25)))=(spaziIntermedi(D23,25)),FALSE,TRUE)","v":true},0,{"$f":"+spaziIntermedi(D23,25)-F23","v":0},false,0,null,0,0,null,null,null,0,0,0,null,null,0,0,{"$f":"IF((IF(restoZero(U23,25),(spaziIntermedi(U23,25))+1,spaziIntermedi(U23,25)))=(spaziIntermedi(V23,25)),FALSE,TRUE)","v":true},0,{"$f":"+spaziIntermedi(V23,25)-X23","v":0},false,0,null,0,0,null,null,null,0,0,0,0,0,null,null,0,0,{"$f":"IF((IF(restoZero(AO23,25),(spaziIntermedi(AO23,25))+1,spaziIntermedi(AO23,25)))=(spaziIntermedi(AP23,25)),FALSE,TRUE)","v":true},0,{"$f":"+spaziIntermedi(AP23,25)-AR23","v":0},false,0,null,0,0,null,null,null,0,0,0,null,null,0,0,{"$f":"IF((IF(restoZero(BG23,25),(spaziIntermedi(BG23,25))+1,spaziIntermedi(BG23,25)))=(spaziIntermedi(BH23,25)),FALSE,TRUE)","v":true},0,{"$f":"+spaziIntermedi(BH23,25)-BJ23","v":0},false,0,null,0,0,null,null,null,0,0,0,0,0,null,null,0,0,{"$f":"IF((IF(restoZero(CA23,25),(spaziIntermedi(CA23,25))+1,spaziIntermedi(CA23,25)))=(spaziIntermedi(CB23,25)),FALSE,TRUE)","v":true},0,{"$f":"+spaziIntermedi(CB23,25)-CD23","v":0},false,0,null,0,0,null,null,null,0,0,0,null,null,0,0,{"$f":"IF((IF(restoZero(CS23,25),(spaziIntermedi(CS23,25))+1,spaziIntermedi(CS23,25)))=(spaziIntermedi(CT23,25)),FALSE,TRUE)","v":true},0,{"$f":"+spaziIntermedi(CT23,25)-CV23","v":0},false,0,null,0,0,null,null,null,0,0,0,0,0,null,null,0,0,{"$f":"IF((IF(restoZero(DM23,25),(spaziIntermedi(DM23,25))+1,spaziIntermedi(DM23,25)))=(spaziIntermedi(DN23,25)),FALSE,TRUE)","v":true},0,{"$f":"+spaziIntermedi(DN23,25)-DP23","v":0},false,0,null,0,0,null,null,null,0,0,0,null,null,0,0,{"$f":"IF((IF(restoZero(EE23,25),(spaziIntermedi(EE23,25))+1,spaziIntermedi(EE23,25)))=(spaziIntermedi(EF23,25)),FALSE,TRUE)","v":true},0,{"$f":"+spaziIntermedi(EF23,25)-EH23","v":0},false,0,null,0,0,null,null,null,0,0,0,0,0,null,null,0,0,{"$f":"IF((IF(restoZero(EY23,25),(spaziIntermedi(EY23,25))+1,spaziIntermedi(EY23,25)))=(spaziIntermedi(EZ23,25)),FALSE,TRUE)","v":true},0,{"$f":"+spaziIntermedi(EZ23,25)-FB23","v":0},false,0,null,0,0,null,null,null,0,0,0,null,null,0,0,{"$f":"IF((IF(restoZero(FQ23,25),(spaziIntermedi(FQ23,25))+1,spaziIntermedi(FQ23,25)))=(spaziIntermedi(FR23,25)),FALSE,TRUE)","v":true},0,{"$f":"+spaziIntermedi(FR23,25)-FT23","v":0},false,0,null,0,0,null,null,null,0,0,0,0,0,null,null,0,0,{"$f":"IF((IF(restoZero(GK23,25),(spaziIntermedi(GK23,25))+1,spaziIntermedi(GK23,25)))=(spaziIntermedi(GL23,25)),FALSE,TRUE)","v":true},0,{"$f":"+spaziIntermedi(GL23,25)-GN23","v":0},false,0,null,0,0,null,null,null,0,0,0,null,null,0,0,{"$f":"IF((IF(restoZero(HC23,25),(spaziIntermedi(HC23,25))+1,spaziIntermedi(HC23,25)))=(spaziIntermedi(HD23,25)),FALSE,TRUE)","v":true},0,{"$f":"+spaziIntermedi(HD23,25)-HF23","v":0},false,0,null,0,0,null,null,null,0,0,0,0,0,null,null,0,0,{"$f":"IF((IF(restoZero(HW23,25),(spaziIntermedi(HW23,25))+1,spaziIntermedi(HW23,25)))=(spaziIntermedi(HX23,25)),FALSE,TRUE)","v":true},0,{"$f":"+spaziIntermedi(HX23,25)-HZ23","v":0},false,0,null,0,0,null,null,null,0,0,0,null,null,0,0,{"$f":"IF((IF(restoZero(IO23,25),(spaziIntermedi(IO23,25))+1,spaziIntermedi(IO23,25)))=(spaziIntermedi(IP23,25)),FALSE,TRUE)","v":true},0,{"$f":"+spaziIntermedi(IP23,25)-IR23","v":0},false,0,null,0,0,null,null,null,0,0,0,0,0,null,null,0,0,{"$f":"IF((IF(restoZero(JI23,25),(spaziIntermedi(JI23,25))+1,spaziIntermedi(JI23,25)))=(spaziIntermedi(JJ23,25)),FALSE,TRUE)","v":true},0,{"$f":"+spaziIntermedi(JJ23,25)-JL23","v":0},false,0,null,0,0,null,null,null,0,0,0,null,null,0,0,{"$f":"IF((IF(restoZero(KA23,25),(spaziIntermedi(KA23,25))+1,spaziIntermedi(KA23,25)))=(spaziIntermedi(KB23,25)),FALSE,TRUE)","v":true},0,{"$f":"+spaziIntermedi(KB23,25)-KD23","v":0},false,0,null,0,0,null,null,null,0,0,0,0,0,null,null,0,0,{"$f":"IF((IF(restoZero(KU23,25),(spaziIntermedi(KU23,25))+1,spaziIntermedi(KU23,25)))=(spaziIntermedi(KV23,25)),FALSE,TRUE)","v":true},0,{"$f":"+spaziIntermedi(KV23,25)-KX23","v":0},false,0,null,0,0,null,null,null,0,0,0,null,null,0,0,{"$f":"IF((IF(restoZero(LM23,25),(spaziIntermedi(LM23,25))+1,spaziIntermedi(LM23,25)))=(spaziIntermedi(LN23,25)),FALSE,TRUE)","v":true},0,{"$f":"+spaziIntermedi(LN23,25)-LP23","v":0},false,0,null,0,0,null,null,null,0,0,0,0,0,null,null,0,0,{"$f":"IF((IF(restoZero(MG23,25),(spaziIntermedi(MG23,25))+1,spaziIntermedi(MG23,25)))=(spaziIntermedi(MH23,25)),FALSE,TRUE)","v":true},0,{"$f":"+spaziIntermedi(MH23,25)-MJ23","v":0},false,0,null,0,0,null,null,null,0,0,0,null,null,0,0,{"$f":"IF((IF(restoZero(MY23,25),(spaziIntermedi(MY23,25))+1,spaziIntermedi(MY23,25)))=(spaziIntermedi(MZ23,25)),FALSE,TRUE)","v":true},0,{"$f":"+spaziIntermedi(MZ23,25)-NB23","v":0},false,0,null,0,0,null,null,null,0,0,0,0,0,null,null,0,0,{"$f":"IF((IF(restoZero(NS23,25),(spaziIntermedi(NS23,25))+1,spaziIntermedi(NS23,25)))=(spaziIntermedi(NT23,25)),FALSE,TRUE)","v":true},0,{"$f":"+spaziIntermedi(NT23,25)-NV23","v":0},false,0,null,0,0,null,null,null,0,0,0,null,null,0,0,{"$f":"IF((IF(restoZero(OK23,25),(spaziIntermedi(OK23,25))+1,spaziIntermedi(OK23,25)))=(spaziIntermedi(OL23,25)),FALSE,TRUE)","v":true},0,{"$f":"+spaziIntermedi(OL23,25)-ON23","v":0},false,0,null,0,0,null,null,null,0,0,0,0,0,null,null,0,0,{"$f":"IF((IF(restoZero(PE23,25),(spaziIntermedi(PE23,25))+1,spaziIntermedi(PE23,25)))=(spaziIntermedi(PF23,25)),FALSE,TRUE)","v":true},0,{"$f":"+spaziIntermedi(PF23,25)-PH23","v":0},false,0,null,0,0,null,null,null,0,0,0,null,null,0,0,{"$f":"IF((IF(restoZero(PW23,25),(spaziIntermedi(PW23,25))+1,spaziIntermedi(PW23,25)))=(spaziIntermedi(PX23,25)),FALSE,TRUE)","v":true},0,{"$f":"+spaziIntermedi(PX23,25)-PZ23","v":0},false,0,null,0,0,null,null,null,0,0,0,0,0,null,null,0,0,{"$f":"IF((IF(restoZero(QQ23,25),(spaziIntermedi(QQ23,25))+1,spaziIntermedi(QQ23,25)))=(spaziIntermedi(QR23,25)),FALSE,TRUE)","v":true},0,{"$f":"+spaziIntermedi(QR23,25)-QT23","v":0},false,0,null,0,0,null,null,null,0,0,0,null,null,0,0,{"$f":"IF((IF(restoZero(RI23,25),(spaziIntermedi(RI23,25))+1,spaziIntermedi(RI23,25)))=(spaziIntermedi(RJ23,25)),FALSE,TRUE)","v":true},0,{"$f":"+spaziIntermedi(RJ23,25)-RL23","v":0},false,0,null,0,0,null,null,null,0,0,0,0,0,null,null,0,0,{"$f":"IF((IF(restoZero(SC23,25),(spaziIntermedi(SC23,25))+1,spaziIntermedi(SC23,25)))=(spaziIntermedi(SD23,25)),FALSE,TRUE)","v":true},0,{"$f":"+spaziIntermedi(SD23,25)-SF23","v":0},false,0,null,0,0,null,null,null,0,0,0,null,null,0,0,{"$f":"IF((IF(restoZero(SU23,25),(spaziIntermedi(SU23,25))+1,spaziIntermedi(SU23,25)))=(spaziIntermedi(SV23,25)),FALSE,TRUE)","v":true},0,{"$f":"+spaziIntermedi(SV23,25)-SX23","v":0},false,0,null,0,0,null,null,null,0,0,0,0,0]
[null,null,0,0,{"$f":"IF((IF(restoZero(C24,25),(spaziIntermedi(C24,25))+1,spaziIntermedi(C24,25)))=(spaziIntermedi(D24,25)),FALSE,TRUE)","v":true},0,{"$f":"+spaziIntermedi(D24,25)-F24","v":0},false,0,null,0,0,null,null,null,0,0,0,null,null,0,0,{"$f":"IF((IF(restoZero(U24,25),(spaziIntermedi(U24,25))+1,spaziIntermedi(U24,25)))=(spaziIntermedi(V24,25)),FALSE,TRUE)","v":true},0,{"$f":"+spaziIntermedi(V24,25)-X24","v":0},false,0,null,0,0,null,null,null,0,0,0,0,0,null,null,0,0,{"$f":"IF((IF(restoZero(AO24,25),(spaziIntermedi(AO24,25))+1,spaziIntermedi(AO24,25)))=(spaziIntermedi(AP24,25)),FALSE,TRUE)","v":true},0,{"$f":"+spaziIntermedi(AP24,25)-AR24","v":0},false,0,null,0,0,null,null,null,0,0,0,null,null,0,0,{"$f":"IF((IF(restoZero(BG24,25),(spaziIntermedi(BG24,25))+1,spaziIntermedi(BG24,25)))=(spaziIntermedi(BH24,25)),FALSE,TRUE)","v":true},0,{"$f":"+spaziIntermedi(BH24,25)-BJ24","v":0},false,0,null,0,0,null,null,null,0,0,0,0,0,null,null,0,0,{"$f":"IF((IF(restoZero(CA24,25),(spaziIntermedi(CA24,25))+1,spaziIntermedi(CA24,25)))=(spaziIntermedi(CB24,25)),FALSE,TRUE)","v":true},0,{"$f":"+spaziIntermedi(CB24,25)-CD24","v":0},false,0,null,0,0,null,null,null,0,0,0,null,null,0,0,{"$f":"IF((IF(restoZero(CS24,25),(spaziIntermedi(CS24,25))+1,spaziIntermedi(CS24,25)))=(spaziIntermedi(CT24,25)),FALSE,TRUE)","v":true},0,{"$f":"+spaziIntermedi(CT24,25)-CV24","v":0},false,0,null,0,0,null,null,null,0,0,0,0,0,null,null,0,0,{"$f":"IF((IF(restoZero(DM24,25),(spaziIntermedi(DM24,25))+1,spaziIntermedi(DM24,25)))=(spaziIntermedi(DN24,25)),FALSE,TRUE)","v":true},0,{"$f":"+spaziIntermedi(DN24,25)-DP24","v":0},false,0,null,0,0,null,null,null,0,0,0,null,null,0,0,{"$f":"IF((IF(restoZero(EE24,25),(spaziIntermedi(EE24,25))+1,spaziIntermedi(EE24,25)))=(spaziIntermedi(EF24,25)),FALSE,TRUE)","v":true},0,{"$f":"+spaziIntermedi(EF24,25)-EH24","v":0},false,0,null,0,0,null,null,null,0,0,0,0,0,null,null,0,0,{"$f":"IF((IF(restoZero(EY24,25),(spaziIntermedi(EY24,25))+1,spaziIntermedi(EY24,25)))=(spaziIntermedi(EZ24,25)),FALSE,TRUE)","v":true},0,{"$f":"+spaziIntermedi(EZ24,25)-FB24","v":0},false,0,null,0,0,null,null,null,0,0,0,null,null,0,0,{"$f":"IF((IF(restoZero(FQ24,25),(spaziIntermedi(FQ24,25))+1,spaziIntermedi(FQ24,25)))=(spaziIntermedi(FR24,25)),FALSE,TRUE)","v":true},0,{"$f":"+spaziIntermedi(FR24,25)-FT24","v":0},false,0,null,0,0,null,null,null,0,0,0,0,0,null,null,0,0,{"$f":"IF((IF(restoZero(GK24,25),(spaziIntermedi(GK24,25))+1,spaziIntermedi(GK24,25)))=(spaziIntermedi(GL24,25)),FALSE,TRUE)","v":true},0,{"$f":"+spaziIntermedi(GL24,25)-GN24","v":0},false,0,null,0,0,null,null,null,0,0,0,null,null,0,0,{"$f":"IF((IF(restoZero(HC24,25),(spaziIntermedi(HC24,25))+1,spaziIntermedi(HC24,25)))=(spaziIntermedi(HD24,25)),FALSE,TRUE)","v":true},0,{"$f":"+spaziIntermedi(HD24,25)-HF24","v":0},false,0,null,0,0,null,null,null,0,0,0,0,0,null,null,0,0,{"$f":"IF((IF(restoZero(HW24,25),(spaziIntermedi(HW24,25))+1,spaziIntermedi(HW24,25)))=(spaziIntermedi(HX24,25)),FALSE,TRUE)","v":true},0,{"$f":"+spaziIntermedi(HX24,25)-HZ24","v":0},false,0,null,0,0,null,null,null,0,0,0,null,null,0,0,{"$f":"IF((IF(restoZero(IO24,25),(spaziIntermedi(IO24,25))+1,spaziIntermedi(IO24,25)))=(spaziIntermedi(IP24,25)),FALSE,TRUE)","v":true},0,{"$f":"+spaziIntermedi(IP24,25)-IR24","v":0},false,0,null,0,0,null,null,null,0,0,0,0,0,null,null,0,0,{"$f":"IF((IF(restoZero(JI24,25),(spaziIntermedi(JI24,25))+1,spaziIntermedi(JI24,25)))=(spaziIntermedi(JJ24,25)),FALSE,TRUE)","v":true},0,{"$f":"+spaziIntermedi(JJ24,25)-JL24","v":0},false,0,null,0,0,null,null,null,0,0,0,null,null,0,0,{"$f":"IF((IF(restoZero(KA24,25),(spaziIntermedi(KA24,25))+1,spaziIntermedi(KA24,25)))=(spaziIntermedi(KB24,25)),FALSE,TRUE)","v":true},0,{"$f":"+spaziIntermedi(KB24,25)-KD24","v":0},false,0,null,0,0,null,null,null,0,0,0,0,0,null,null,0,0,{"$f":"IF((IF(restoZero(KU24,25),(spaziIntermedi(KU24,25))+1,spaziIntermedi(KU24,25)))=(spaziIntermedi(KV24,25)),FALSE,TRUE)","v":true},0,{"$f":"+spaziIntermedi(KV24,25)-KX24","v":0},false,0,null,0,0,null,null,null,0,0,0,null,null,0,0,{"$f":"IF((IF(restoZero(LM24,25),(spaziIntermedi(LM24,25))+1,spaziIntermedi(LM24,25)))=(spaziIntermedi(LN24,25)),FALSE,TRUE)","v":true},0,{"$f":"+spaziIntermedi(LN24,25)-LP24","v":0},false,0,null,0,0,null,null,null,0,0,0,0,0,null,null,0,0,{"$f":"IF((IF(restoZero(MG24,25),(spaziIntermedi(MG24,25))+1,spaziIntermedi(MG24,25)))=(spaziIntermedi(MH24,25)),FALSE,TRUE)","v":true},0,{"$f":"+spaziIntermedi(MH24,25)-MJ24","v":0},false,0,null,0,0,null,null,null,0,0,0,null,null,0,0,{"$f":"IF((IF(restoZero(MY24,25),(spaziIntermedi(MY24,25))+1,spaziIntermedi(MY24,25)))=(spaziIntermedi(MZ24,25)),FALSE,TRUE)","v":true},0,{"$f":"+spaziIntermedi(MZ24,25)-NB24","v":0},false,0,null,0,0,null,null,null,0,0,0,0,0,null,null,0,0,{"$f":"IF((IF(restoZero(NS24,25),(spaziIntermedi(NS24,25))+1,spaziIntermedi(NS24,25)))=(spaziIntermedi(NT24,25)),FALSE,TRUE)","v":true},0,{"$f":"+spaziIntermedi(NT24,25)-NV24","v":0},false,0,null,0,0,null,null,null,0,0,0,null,null,0,0,{"$f":"IF((IF(restoZero(OK24,25),(spaziIntermedi(OK24,25))+1,spaziIntermedi(OK24,25)))=(spaziIntermedi(OL24,25)),FALSE,TRUE)","v":true},0,{"$f":"+spaziIntermedi(OL24,25)-ON24","v":0},false,0,null,0,0,null,null,null,0,0,0,0,0,null,null,0,0,{"$f":"IF((IF(restoZero(PE24,25),(spaziIntermedi(PE24,25))+1,spaziIntermedi(PE24,25)))=(spaziIntermedi(PF24,25)),FALSE,TRUE)","v":true},0,{"$f":"+spaziIntermedi(PF24,25)-PH24","v":0},false,0,null,0,0,null,null,null,0,0,0,null,null,0,0,{"$f":"IF((IF(restoZero(PW24,25),(spaziIntermedi(PW24,25))+1,spaziIntermedi(PW24,25)))=(spaziIntermedi(PX24,25)),FALSE,TRUE)","v":true},0,{"$f":"+spaziIntermedi(PX24,25)-PZ24","v":0},false,0,null,0,0,null,null,null,0,0,0,0,0,null,null,0,0,{"$f":"IF((IF(restoZero(QQ24,25),(spaziIntermedi(QQ24,25))+1,spaziIntermedi(QQ24,25)))=(spaziIntermedi(QR24,25)),FALSE,TRUE)","v":true},0,{"$f":"+spaziIntermedi(QR24,25)-QT24","v":0},false,0,null,0,0,null,null,null,0,0,0,null,null,0,0,{"$f":"IF((IF(restoZero(RI24,25),(spaziIntermedi(RI24,25))+1,spaziIntermedi(RI24,25)))=(spaziIntermedi(RJ24,25)),FALSE,TRUE)","v":true},0,{"$f":"+spaziIntermedi(RJ24,25)-RL24","v":0},false,0,null,0,0,null,null,null,0,0,0,0,0,null,null,0,0,{"$f":"IF((IF(restoZero(SC24,25),(spaziIntermedi(SC24,25))+1,spaziIntermedi(SC24,25)))=(spaziIntermedi(SD24,25)),FALSE,TRUE)","v":true},0,{"$f":"+spaziIntermedi(SD24,25)-SF24","v":0},false,0,null,0,0,null,null,null,0,0,0,null,null,0,0,{"$f":"IF((IF(restoZero(SU24,25),(spaziIntermedi(SU24,25))+1,spaziIntermedi(SU24,25)))=(spaziIntermedi(SV24,25)),FALSE,TRUE)","v":true},0,{"$f":"+spaziIntermedi(SV24,25)-SX24","v":0},false,0,null,0,0,null,null,null,0,0,0,0,0]
[null,null,0,0,{"$f":"IF((IF(restoZero(C25,25),(spaziIntermedi(C25,25))+1,spaziIntermedi(C25,25)))=(spaziIntermedi(D25,25)),FALSE,TRUE)","v":true},0,{"$f":"+spaziIntermedi(D25,25)-F25","v":0},false,0,null,0,0,null,null,null,0,0,0,null,null,0,0,{"$f":"IF((IF(restoZero(U25,25),(spaziIntermedi(U25,25))+1,spaziIntermedi(U25,25)))=(spaziIntermedi(V25,25)),FALSE,TRUE)","v":true},0,{"$f":"+spaziIntermedi(V25,25)-X25","v":0},false,0,null,0,0,null,null,null,0,0,0,0,0,null,null,0,0,{"$f":"IF((IF(restoZero(AO25,25),(spaziIntermedi(AO25,25))+1,spaziIntermedi(AO25,25)))=(spaziIntermedi(AP25,25)),FALSE,TRUE)","v":true},0,{"$f":"+spaziIntermedi(AP25,25)-AR25","v":0},false,0,null,0,0,null,null,null,0,0,0,null,null,0,0,{"$f":"IF((IF(restoZero(BG25,25),(spaziIntermedi(BG25,25))+1,spaziIntermedi(BG25,25)))=(spaziIntermedi(BH25,25)),FALSE,TRUE)","v":true},0,{"$f":"+spaziIntermedi(BH25,25)-BJ25","v":0},false,0,null,0,0,null,null,null,0,0,0,0,0,null,null,0,0,{"$f":"IF((IF(restoZero(CA25,25),(spaziIntermedi(CA25,25))+1,spaziIntermedi(CA25,25)))=(spaziIntermedi(CB25,25)),FALSE,TRUE)","v":true},0,{"$f":"+spaziIntermedi(CB25,25)-CD25","v":0},false,0,null,0,0,null,null,null,0,0,0,null,null,0,0,{"$f":"IF((IF(restoZero(CS25,25),(spaziIntermedi(CS25,25))+1,spaziIntermedi(CS25,25)))=(spaziIntermedi(CT25,25)),FALSE,TRUE)","v":true},0,{"$f":"+spaziIntermedi(CT25,25)-CV25","v":0},false,0,null,0,0,null,null,null,0,0,0,0,0,null,null,0,0,{"$f":"IF((IF(restoZero(DM25,25),(spaziIntermedi(DM25,25))+1,spaziIntermedi(DM25,25)))=(spaziIntermedi(DN25,25)),FALSE,TRUE)","v":true},0,{"$f":"+spaziIntermedi(DN25,25)-DP25","v":0},false,0,null,0,0,null,null,null,0,0,0,null,null,0,0,{"$f":"IF((IF(restoZero(EE25,25),(spaziIntermedi(EE25,25))+1,spaziIntermedi(EE25,25)))=(spaziIntermedi(EF25,25)),FALSE,TRUE)","v":true},0,{"$f":"+spaziIntermedi(EF25,25)-EH25","v":0},false,0,null,0,0,null,null,null,0,0,0,0,0,null,null,0,0,{"$f":"IF((IF(restoZero(EY25,25),(spaziIntermedi(EY25,25))+1,spaziIntermedi(EY25,25)))=(spaziIntermedi(EZ25,25)),FALSE,TRUE)","v":true},0,{"$f":"+spaziIntermedi(EZ25,25)-FB25","v":0},false,0,null,0,0,null,null,null,0,0,0,null,null,0,0,{"$f":"IF((IF(restoZero(FQ25,25),(spaziIntermedi(FQ25,25))+1,spaziIntermedi(FQ25,25)))=(spaziIntermedi(FR25,25)),FALSE,TRUE)","v":true},0,{"$f":"+spaziIntermedi(FR25,25)-FT25","v":0},false,0,null,0,0,null,null,null,0,0,0,0,0,null,null,0,0,{"$f":"IF((IF(restoZero(GK25,25),(spaziIntermedi(GK25,25))+1,spaziIntermedi(GK25,25)))=(spaziIntermedi(GL25,25)),FALSE,TRUE)","v":true},0,{"$f":"+spaziIntermedi(GL25,25)-GN25","v":0},false,0,null,0,0,null,null,null,0,0,0,null,null,0,0,{"$f":"IF((IF(restoZero(HC25,25),(spaziIntermedi(HC25,25))+1,spaziIntermedi(HC25,25)))=(spaziIntermedi(HD25,25)),FALSE,TRUE)","v":true},0,{"$f":"+spaziIntermedi(HD25,25)-HF25","v":0},false,0,null,0,0,null,null,null,0,0,0,0,0,null,null,0,0,{"$f":"IF((IF(restoZero(HW25,25),(spaziIntermedi(HW25,25))+1,spaziIntermedi(HW25,25)))=(spaziIntermedi(HX25,25)),FALSE,TRUE)","v":true},0,{"$f":"+spaziIntermedi(HX25,25)-HZ25","v":0},false,0,null,0,0,null,null,null,0,0,0,null,null,0,0,{"$f":"IF((IF(restoZero(IO25,25),(spaziIntermedi(IO25,25))+1,spaziIntermedi(IO25,25)))=(spaziIntermedi(IP25,25)),FALSE,TRUE)","v":true},0,{"$f":"+spaziIntermedi(IP25,25)-IR25","v":0},false,0,null,0,0,null,null,null,0,0,0,0,0,null,null,0,0,{"$f":"IF((IF(restoZero(JI25,25),(spaziIntermedi(JI25,25))+1,spaziIntermedi(JI25,25)))=(spaziIntermedi(JJ25,25)),FALSE,TRUE)","v":true},0,{"$f":"+spaziIntermedi(JJ25,25)-JL25","v":0},false,0,null,0,0,null,null,null,0,0,0,null,null,0,0,{"$f":"IF((IF(restoZero(KA25,25),(spaziIntermedi(KA25,25))+1,spaziIntermedi(KA25,25)))=(spaziIntermedi(KB25,25)),FALSE,TRUE)","v":true},0,{"$f":"+spaziIntermedi(KB25,25)-KD25","v":0},false,0,null,0,0,null,null,null,0,0,0,0,0,null,null,0,0,{"$f":"IF((IF(restoZero(KU25,25),(spaziIntermedi(KU25,25))+1,spaziIntermedi(KU25,25)))=(spaziIntermedi(KV25,25)),FALSE,TRUE)","v":true},0,{"$f":"+spaziIntermedi(KV25,25)-KX25","v":0},false,0,null,0,0,null,null,null,0,0,0,null,null,0,0,{"$f":"IF((IF(restoZero(LM25,25),(spaziIntermedi(LM25,25))+1,spaziIntermedi(LM25,25)))=(spaziIntermedi(LN25,25)),FALSE,TRUE)","v":true},0,{"$f":"+spaziIntermedi(LN25,25)-LP25","v":0},false,0,null,0,0,null,null,null,0,0,0,0,0,null,null,0,0,{"$f":"IF((IF(restoZero(MG25,25),(spaziIntermedi(MG25,25))+1,spaziIntermedi(MG25,25)))=(spaziIntermedi(MH25,25)),FALSE,TRUE)","v":true},0,{"$f":"+spaziIntermedi(MH25,25)-MJ25","v":0},false,0,null,0,0,null,null,null,0,0,0,null,null,0,0,{"$f":"IF((IF(restoZero(MY25,25),(spaziIntermedi(MY25,25))+1,spaziIntermedi(MY25,25)))=(spaziIntermedi(MZ25,25)),FALSE,TRUE)","v":true},0,{"$f":"+spaziIntermedi(MZ25,25)-NB25","v":0},false,0,null,0,0,null,null,null,0,0,0,0,0,null,null,0,0,{"$f":"IF((IF(restoZero(NS25,25),(spaziIntermedi(NS25,25))+1,spaziIntermedi(NS25,25)))=(spaziIntermedi(NT25,25)),FALSE,TRUE)","v":true},0,{"$f":"+spaziIntermedi(NT25,25)-NV25","v":0},false,0,null,0,0,null,null,null,0,0,0,null,null,0,0,{"$f":"IF((IF(restoZero(OK25,25),(spaziIntermedi(OK25,25))+1,spaziIntermedi(OK25,25)))=(spaziIntermedi(OL25,25)),FALSE,TRUE)","v":true},0,{"$f":"+spaziIntermedi(OL25,25)-ON25","v":0},false,0,null,0,0,null,null,null,0,0,0,0,0,null,null,0,0,{"$f":"IF((IF(restoZero(PE25,25),(spaziIntermedi(PE25,25))+1,spaziIntermedi(PE25,25)))=(spaziIntermedi(PF25,25)),FALSE,TRUE)","v":true},0,{"$f":"+spaziIntermedi(PF25,25)-PH25","v":0},false,0,null,0,0,null,null,null,0,0,0,null,null,0,0,{"$f":"IF((IF(restoZero(PW25,25),(spaziIntermedi(PW25,25))+1,spaziIntermedi(PW25,25)))=(spaziIntermedi(PX25,25)),FALSE,TRUE)","v":true},0,{"$f":"+spaziIntermedi(PX25,25)-PZ25","v":0},false,0,null,0,0,null,null,null,0,0,0,0,0,null,null,0,0,{"$f":"IF((IF(restoZero(QQ25,25),(spaziIntermedi(QQ25,25))+1,spaziIntermedi(QQ25,25)))=(spaziIntermedi(QR25,25)),FALSE,TRUE)","v":true},0,{"$f":"+spaziIntermedi(QR25,25)-QT25","v":0},false,0,null,0,0,null,null,null,0,0,0,null,null,0,0,{"$f":"IF((IF(restoZero(RI25,25),(spaziIntermedi(RI25,25))+1,spaziIntermedi(RI25,25)))=(spaziIntermedi(RJ25,25)),FALSE,TRUE)","v":true},0,{"$f":"+spaziIntermedi(RJ25,25)-RL25","v":0},false,0,null,0,0,null,null,null,0,0,0,0,0,null,null,0,0,{"$f":"IF((IF(restoZero(SC25,25),(spaziIntermedi(SC25,25))+1,spaziIntermedi(SC25,25)))=(spaziIntermedi(SD25,25)),FALSE,TRUE)","v":true},0,{"$f":"+spaziIntermedi(SD25,25)-SF25","v":0},false,0,null,0,0,null,null,null,0,0,0,null,null,0,0,{"$f":"IF((IF(restoZero(SU25,25),(spaziIntermedi(SU25,25))+1,spaziIntermedi(SU25,25)))=(spaziIntermedi(SV25,25)),FALSE,TRUE)","v":true},0,{"$f":"+spaziIntermedi(SV25,25)-SX25","v":0},false,0,null,0,0,null,null,null,0,0,0,0,0]
[null,null,0,0,{"$f":"IF((IF(restoZero(C26,25),(spaziIntermedi(C26,25))+1,spaziIntermedi(C26,25)))=(spaziIntermedi(D26,25)),FALSE,TRUE)","v":true},0,{"$f":"+spaziIntermedi(D26,25)-F26","v":0},false,0,null,0,0,null,null,null,0,0,0,null,null,0,0,{"$f":"IF((IF(restoZero(U26,25),(spaziIntermedi(U26,25))+1,spaziIntermedi(U26,25)))=(spaziIntermedi(V26,25)),FALSE,TRUE)","v":true},0,{"$f":"+spaziIntermedi(V26,25)-X26","v":0},false,0,null,0,0,null,null,null,0,0,0,0,0,null,null,0,0,{"$f":"IF((IF(restoZero(AO26,25),(spaziIntermedi(AO26,25))+1,spaziIntermedi(AO26,25)))=(spaziIntermedi(AP26,25)),FALSE,TRUE)","v":true},0,{"$f":"+spaziIntermedi(AP26,25)-AR26","v":0},false,0,null,0,0,null,null,null,0,0,0,null,null,0,0,{"$f":"IF((IF(restoZero(BG26,25),(spaziIntermedi(BG26,25))+1,spaziIntermedi(BG26,25)))=(spaziIntermedi(BH26,25)),FALSE,TRUE)","v":true},0,{"$f":"+spaziIntermedi(BH26,25)-BJ26","v":0},false,0,null,0,0,null,null,null,0,0,0,0,0,null,null,0,0,{"$f":"IF((IF(restoZero(CA26,25),(spaziIntermedi(CA26,25))+1,spaziIntermedi(CA26,25)))=(spaziIntermedi(CB26,25)),FALSE,TRUE)","v":true},0,{"$f":"+spaziIntermedi(CB26,25)-CD26","v":0},false,0,null,0,0,null,null,null,0,0,0,null,null,0,0,{"$f":"IF((IF(restoZero(CS26,25),(spaziIntermedi(CS26,25))+1,spaziIntermedi(CS26,25)))=(spaziIntermedi(CT26,25)),FALSE,TRUE)","v":true},0,{"$f":"+spaziIntermedi(CT26,25)-CV26","v":0},false,0,null,0,0,null,null,null,0,0,0,0,0,null,null,0,0,{"$f":"IF((IF(restoZero(DM26,25),(spaziIntermedi(DM26,25))+1,spaziIntermedi(DM26,25)))=(spaziIntermedi(DN26,25)),FALSE,TRUE)","v":true},0,{"$f":"+spaziIntermedi(DN26,25)-DP26","v":0},false,0,null,0,0,null,null,null,0,0,0,null,null,0,0,{"$f":"IF((IF(restoZero(EE26,25),(spaziIntermedi(EE26,25))+1,spaziIntermedi(EE26,25)))=(spaziIntermedi(EF26,25)),FALSE,TRUE)","v":true},0,{"$f":"+spaziIntermedi(EF26,25)-EH26","v":0},false,0,null,0,0,null,null,null,0,0,0,0,0,null,null,0,0,{"$f":"IF((IF(restoZero(EY26,25),(spaziIntermedi(EY26,25))+1,spaziIntermedi(EY26,25)))=(spaziIntermedi(EZ26,25)),FALSE,TRUE)","v":true},0,{"$f":"+spaziIntermedi(EZ26,25)-FB26","v":0},false,0,null,0,0,null,null,null,0,0,0,null,null,0,0,{"$f":"IF((IF(restoZero(FQ26,25),(spaziIntermedi(FQ26,25))+1,spaziIntermedi(FQ26,25)))=(spaziIntermedi(FR26,25)),FALSE,TRUE)","v":true},0,{"$f":"+spaziIntermedi(FR26,25)-FT26","v":0},false,0,null,0,0,null,null,null,0,0,0,0,0,null,null,0,0,{"$f":"IF((IF(restoZero(GK26,25),(spaziIntermedi(GK26,25))+1,spaziIntermedi(GK26,25)))=(spaziIntermedi(GL26,25)),FALSE,TRUE)","v":true},0,{"$f":"+spaziIntermedi(GL26,25)-GN26","v":0},false,0,null,0,0,null,null,null,0,0,0,null,null,0,0,{"$f":"IF((IF(restoZero(HC26,25),(spaziIntermedi(HC26,25))+1,spaziIntermedi(HC26,25)))=(spaziIntermedi(HD26,25)),FALSE,TRUE)","v":true},0,{"$f":"+spaziIntermedi(HD26,25)-HF26","v":0},false,0,null,0,0,null,null,null,0,0,0,0,0,null,null,0,0,{"$f":"IF((IF(restoZero(HW26,25),(spaziIntermedi(HW26,25))+1,spaziIntermedi(HW26,25)))=(spaziIntermedi(HX26,25)),FALSE,TRUE)","v":true},0,{"$f":"+spaziIntermedi(HX26,25)-HZ26","v":0},false,0,null,0,0,null,null,null,0,0,0,null,null,0,0,{"$f":"IF((IF(restoZero(IO26,25),(spaziIntermedi(IO26,25))+1,spaziIntermedi(IO26,25)))=(spaziIntermedi(IP26,25)),FALSE,TRUE)","v":true},0,{"$f":"+spaziIntermedi(IP26,25)-IR26","v":0},false,0,null,0,0,null,null,null,0,0,0,0,0,null,null,0,0,{"$f":"IF((IF(restoZero(JI26,25),(spaziIntermedi(JI26,25))+1,spaziIntermedi(JI26,25)))=(spaziIntermedi(JJ26,25)),FALSE,TRUE)","v":true},0,{"$f":"+spaziIntermedi(JJ26,25)-JL26","v":0},false,0,null,0,0,null,null,null,0,0,0,null,null,0,0,{"$f":"IF((IF(restoZero(KA26,25),(spaziIntermedi(KA26,25))+1,spaziIntermedi(KA26,25)))=(spaziIntermedi(KB26,25)),FALSE,TRUE)","v":true},0,{"$f":"+spaziIntermedi(KB26,25)-KD26","v":0},false,0,null,0,0,null,null,null,0,0,0,0,0,null,null,0,0,{"$f":"IF((IF(restoZero(KU26,25),(spaziIntermedi(KU26,25))+1,spaziIntermedi(KU26,25)))=(spaziIntermedi(KV26,25)),FALSE,TRUE)","v":true},0,{"$f":"+spaziIntermedi(KV26,25)-KX26","v":0},false,0,null,0,0,null,null,null,0,0,0,null,null,0,0,{"$f":"IF((IF(restoZero(LM26,25),(spaziIntermedi(LM26,25))+1,spaziIntermedi(LM26,25)))=(spaziIntermedi(LN26,25)),FALSE,TRUE)","v":true},0,{"$f":"+spaziIntermedi(LN26,25)-LP26","v":0},false,0,null,0,0,null,null,null,0,0,0,0,0,null,null,0,0,{"$f":"IF((IF(restoZero(MG26,25),(spaziIntermedi(MG26,25))+1,spaziIntermedi(MG26,25)))=(spaziIntermedi(MH26,25)),FALSE,TRUE)","v":true},0,{"$f":"+spaziIntermedi(MH26,25)-MJ26","v":0},false,0,null,0,0,null,null,null,0,0,0,null,null,0,0,{"$f":"IF((IF(restoZero(MY26,25),(spaziIntermedi(MY26,25))+1,spaziIntermedi(MY26,25)))=(spaziIntermedi(MZ26,25)),FALSE,TRUE)","v":true},0,{"$f":"+spaziIntermedi(MZ26,25)-NB26","v":0},false,0,null,0,0,null,null,null,0,0,0,0,0,null,null,0,0,{"$f":"IF((IF(restoZero(NS26,25),(spaziIntermedi(NS26,25))+1,spaziIntermedi(NS26,25)))=(spaziIntermedi(NT26,25)),FALSE,TRUE)","v":true},0,{"$f":"+spaziIntermedi(NT26,25)-NV26","v":0},false,0,null,0,0,null,null,null,0,0,0,null,null,0,0,{"$f":"IF((IF(restoZero(OK26,25),(spaziIntermedi(OK26,25))+1,spaziIntermedi(OK26,25)))=(spaziIntermedi(OL26,25)),FALSE,TRUE)","v":true},0,{"$f":"+spaziIntermedi(OL26,25)-ON26","v":0},false,0,null,0,0,null,null,null,0,0,0,0,0,null,null,0,0,{"$f":"IF((IF(restoZero(PE26,25),(spaziIntermedi(PE26,25))+1,spaziIntermedi(PE26,25)))=(spaziIntermedi(PF26,25)),FALSE,TRUE)","v":true},0,{"$f":"+spaziIntermedi(PF26,25)-PH26","v":0},false,0,null,0,0,null,null,null,0,0,0,null,null,0,0,{"$f":"IF((IF(restoZero(PW26,25),(spaziIntermedi(PW26,25))+1,spaziIntermedi(PW26,25)))=(spaziIntermedi(PX26,25)),FALSE,TRUE)","v":true},0,{"$f":"+spaziIntermedi(PX26,25)-PZ26","v":0},false,0,null,0,0,null,null,null,0,0,0,0,0,null,null,0,0,{"$f":"IF((IF(restoZero(QQ26,25),(spaziIntermedi(QQ26,25))+1,spaziIntermedi(QQ26,25)))=(spaziIntermedi(QR26,25)),FALSE,TRUE)","v":true},0,{"$f":"+spaziIntermedi(QR26,25)-QT26","v":0},false,0,null,0,0,null,null,null,0,0,0,null,null,0,0,{"$f":"IF((IF(restoZero(RI26,25),(spaziIntermedi(RI26,25))+1,spaziIntermedi(RI26,25)))=(spaziIntermedi(RJ26,25)),FALSE,TRUE)","v":true},0,{"$f":"+spaziIntermedi(RJ26,25)-RL26","v":0},false,0,null,0,0,null,null,null,0,0,0,0,0,null,null,0,0,{"$f":"IF((IF(restoZero(SC26,25),(spaziIntermedi(SC26,25))+1,spaziIntermedi(SC26,25)))=(spaziIntermedi(SD26,25)),FALSE,TRUE)","v":true},0,{"$f":"+spaziIntermedi(SD26,25)-SF26","v":0},false,0,null,0,0,null,null,null,0,0,0,null,null,0,0,{"$f":"IF((IF(restoZero(SU26,25),(spaziIntermedi(SU26,25))+1,spaziIntermedi(SU26,25)))=(spaziIntermedi(SV26,25)),FALSE,TRUE)","v":true},0,{"$f":"+spaziIntermedi(SV26,25)-SX26","v":0},false,0,null,0,0,null,null,null,0,0,0,0,0]
[null,null,0,0,{"$f":"IF((IF(restoZero(C27,25),(spaziIntermedi(C27,25))+1,spaziIntermedi(C27,25)))=(spaziIntermedi(D27,25)),FALSE,TRUE)","v":true},0,{"$f":"+spaziIntermedi(D27,25)-F27","v":0},false,0,null,0,0,null,null,null,0,0,0,null,null,0,0,{"$f":"IF((IF(restoZero(U27,25),(spaziIntermedi(U27,25))+1,spaziIntermedi(U27,25)))=(spaziIntermedi(V27,25)),FALSE,TRUE)","v":true},0,{"$f":"+spaziIntermedi(V27,25)-X27","v":0},false,0,null,0,0,null,null,null,0,0,0,0,0,null,null,0,0,{"$f":"IF((IF(restoZero(AO27,25),(spaziIntermedi(AO27,25))+1,spaziIntermedi(AO27,25)))=(spaziIntermedi(AP27,25)),FALSE,TRUE)","v":true},0,{"$f":"+spaziIntermedi(AP27,25)-AR27","v":0},false,0,null,0,0,null,null,null,0,0,0,null,null,0,0,{"$f":"IF((IF(restoZero(BG27,25),(spaziIntermedi(BG27,25))+1,spaziIntermedi(BG27,25)))=(spaziIntermedi(BH27,25)),FALSE,TRUE)","v":true},0,{"$f":"+spaziIntermedi(BH27,25)-BJ27","v":0},false,0,null,0,0,null,null,null,0,0,0,0,0,null,null,0,0,{"$f":"IF((IF(restoZero(CA27,25),(spaziIntermedi(CA27,25))+1,spaziIntermedi(CA27,25)))=(spaziIntermedi(CB27,25)),FALSE,TRUE)","v":true},0,{"$f":"+spaziIntermedi(CB27,25)-CD27","v":0},false,0,null,0,0,null,null,null,0,0,0,null,null,0,0,{"$f":"IF((IF(restoZero(CS27,25),(spaziIntermedi(CS27,25))+1,spaziIntermedi(CS27,25)))=(spaziIntermedi(CT27,25)),FALSE,TRUE)","v":true},0,{"$f":"+spaziIntermedi(CT27,25)-CV27","v":0},false,0,null,0,0,null,null,null,0,0,0,0,0,null,null,0,0,{"$f":"IF((IF(restoZero(DM27,25),(spaziIntermedi(DM27,25))+1,spaziIntermedi(DM27,25)))=(spaziIntermedi(DN27,25)),FALSE,TRUE)","v":true},0,{"$f":"+spaziIntermedi(DN27,25)-DP27","v":0},false,0,null,0,0,null,null,null,0,0,0,null,null,0,0,{"$f":"IF((IF(restoZero(EE27,25),(spaziIntermedi(EE27,25))+1,spaziIntermedi(EE27,25)))=(spaziIntermedi(EF27,25)),FALSE,TRUE)","v":true},0,{"$f":"+spaziIntermedi(EF27,25)-EH27","v":0},false,0,null,0,0,null,null,null,0,0,0,0,0,null,null,0,0,{"$f":"IF((IF(restoZero(EY27,25),(spaziIntermedi(EY27,25))+1,spaziIntermedi(EY27,25)))=(spaziIntermedi(EZ27,25)),FALSE,TRUE)","v":true},0,{"$f":"+spaziIntermedi(EZ27,25)-FB27","v":0},false,0,null,0,0,null,null,null,0,0,0,null,null,0,0,{"$f":"IF((IF(restoZero(FQ27,25),(spaziIntermedi(FQ27,25))+1,spaziIntermedi(FQ27,25)))=(spaziIntermedi(FR27,25)),FALSE,TRUE)","v":true},0,{"$f":"+spaziIntermedi(FR27,25)-FT27","v":0},false,0,null,0,0,null,null,null,0,0,0,0,0,null,null,0,0,{"$f":"IF((IF(restoZero(GK27,25),(spaziIntermedi(GK27,25))+1,spaziIntermedi(GK27,25)))=(spaziIntermedi(GL27,25)),FALSE,TRUE)","v":true},0,{"$f":"+spaziIntermedi(GL27,25)-GN27","v":0},false,0,null,0,0,null,null,null,0,0,0,null,null,0,0,{"$f":"IF((IF(restoZero(HC27,25),(spaziIntermedi(HC27,25))+1,spaziIntermedi(HC27,25)))=(spaziIntermedi(HD27,25)),FALSE,TRUE)","v":true},0,{"$f":"+spaziIntermedi(HD27,25)-HF27","v":0},false,0,null,0,0,null,null,null,0,0,0,0,0,null,null,0,0,{"$f":"IF((IF(restoZero(HW27,25),(spaziIntermedi(HW27,25))+1,spaziIntermedi(HW27,25)))=(spaziIntermedi(HX27,25)),FALSE,TRUE)","v":true},0,{"$f":"+spaziIntermedi(HX27,25)-HZ27","v":0},false,0,null,0,0,null,null,null,0,0,0,null,null,0,0,{"$f":"IF((IF(restoZero(IO27,25),(spaziIntermedi(IO27,25))+1,spaziIntermedi(IO27,25)))=(spaziIntermedi(IP27,25)),FALSE,TRUE)","v":true},0,{"$f":"+spaziIntermedi(IP27,25)-IR27","v":0},false,0,null,0,0,null,null,null,0,0,0,0,0,null,null,0,0,{"$f":"IF((IF(restoZero(JI27,25),(spaziIntermedi(JI27,25))+1,spaziIntermedi(JI27,25)))=(spaziIntermedi(JJ27,25)),FALSE,TRUE)","v":true},0,{"$f":"+spaziIntermedi(JJ27,25)-JL27","v":0},false,0,null,0,0,null,null,null,0,0,0,null,null,0,0,{"$f":"IF((IF(restoZero(KA27,25),(spaziIntermedi(KA27,25))+1,spaziIntermedi(KA27,25)))=(spaziIntermedi(KB27,25)),FALSE,TRUE)","v":true},0,{"$f":"+spaziIntermedi(KB27,25)-KD27","v":0},false,0,null,0,0,null,null,null,0,0,0,0,0,null,null,0,0,{"$f":"IF((IF(restoZero(KU27,25),(spaziIntermedi(KU27,25))+1,spaziIntermedi(KU27,25)))=(spaziIntermedi(KV27,25)),FALSE,TRUE)","v":true},0,{"$f":"+spaziIntermedi(KV27,25)-KX27","v":0},false,0,null,0,0,null,null,null,0,0,0,null,null,0,0,{"$f":"IF((IF(restoZero(LM27,25),(spaziIntermedi(LM27,25))+1,spaziIntermedi(LM27,25)))=(spaziIntermedi(LN27,25)),FALSE,TRUE)","v":true},0,{"$f":"+spaziIntermedi(LN27,25)-LP27","v":0},false,0,null,0,0,null,null,null,0,0,0,0,0,null,null,0,0,{"$f":"IF((IF(restoZero(MG27,25),(spaziIntermedi(MG27,25))+1,spaziIntermedi(MG27,25)))=(spaziIntermedi(MH27,25)),FALSE,TRUE)","v":true},0,{"$f":"+spaziIntermedi(MH27,25)-MJ27","v":0},false,0,null,0,0,null,null,null,0,0,0,null,null,0,0,{"$f":"IF((IF(restoZero(MY27,25),(spaziIntermedi(MY27,25))+1,spaziIntermedi(MY27,25)))=(spaziIntermedi(MZ27,25)),FALSE,TRUE)","v":true},0,{"$f":"+spaziIntermedi(MZ27,25)-NB27","v":0},false,0,null,0,0,null,null,null,0,0,0,0,0,null,null,0,0,{"$f":"IF((IF(restoZero(NS27,25),(spaziIntermedi(NS27,25))+1,spaziIntermedi(NS27,25)))=(spaziIntermedi(NT27,25)),FALSE,TRUE)","v":true},0,{"$f":"+spaziIntermedi(NT27,25)-NV27","v":0},false,0,null,0,0,null,null,null,0,0,0,null,null,0,0,{"$f":"IF((IF(restoZero(OK27,25),(spaziIntermedi(OK27,25))+1,spaziIntermedi(OK27,25)))=(spaziIntermedi(OL27,25)),FALSE,TRUE)","v":true},0,{"$f":"+spaziIntermedi(OL27,25)-ON27","v":0},false,0,null,0,0,null,null,null,0,0,0,0,0,null,null,0,0,{"$f":"IF((IF(restoZero(PE27,25),(spaziIntermedi(PE27,25))+1,spaziIntermedi(PE27,25)))=(spaziIntermedi(PF27,25)),FALSE,TRUE)","v":true},0,{"$f":"+spaziIntermedi(PF27,25)-PH27","v":0},false,0,null,0,0,null,null,null,0,0,0,null,null,0,0,{"$f":"IF((IF(restoZero(PW27,25),(spaziIntermedi(PW27,25))+1,spaziIntermedi(PW27,25)))=(spaziIntermedi(PX27,25)),FALSE,TRUE)","v":true},0,{"$f":"+spaziIntermedi(PX27,25)-PZ27","v":0},false,0,null,0,0,null,null,null,0,0,0,0,0,null,null,0,0,{"$f":"IF((IF(restoZero(QQ27,25),(spaziIntermedi(QQ27,25))+1,spaziIntermedi(QQ27,25)))=(spaziIntermedi(QR27,25)),FALSE,TRUE)","v":true},0,{"$f":"+spaziIntermedi(QR27,25)-QT27","v":0},false,0,null,0,0,null,null,null,0,0,0,null,null,0,0,{"$f":"IF((IF(restoZero(RI27,25),(spaziIntermedi(RI27,25))+1,spaziIntermedi(RI27,25)))=(spaziIntermedi(RJ27,25)),FALSE,TRUE)","v":true},0,{"$f":"+spaziIntermedi(RJ27,25)-RL27","v":0},false,0,null,0,0,null,null,null,0,0,0,0,0,null,null,0,0,{"$f":"IF((IF(restoZero(SC27,25),(spaziIntermedi(SC27,25))+1,spaziIntermedi(SC27,25)))=(spaziIntermedi(SD27,25)),FALSE,TRUE)","v":true},0,{"$f":"+spaziIntermedi(SD27,25)-SF27","v":0},false,0,null,0,0,null,null,null,0,0,0,null,null,0,0,{"$f":"IF((IF(restoZero(SU27,25),(spaziIntermedi(SU27,25))+1,spaziIntermedi(SU27,25)))=(spaziIntermedi(SV27,25)),FALSE,TRUE)","v":true},0,{"$f":"+spaziIntermedi(SV27,25)-SX27","v":0},false,0,null,0,0,null,null,null,0,0,0,0,0]
[null,null,0,0,{"$f":"IF((IF(restoZero(C28,25),(spaziIntermedi(C28,25))+1,spaziIntermedi(C28,25)))=(spaziIntermedi(D28,25)),FALSE,TRUE)","v":true},0,{"$f":"+spaziIntermedi(D28,25)-F28","v":0},false,0,null,0,0,null,null,null,0,0,0,null,null,0,0,{"$f":"IF((IF(restoZero(U28,25),(spaziIntermedi(U28,25))+1,spaziIntermedi(U28,25)))=(spaziIntermedi(V28,25)),FALSE,TRUE)","v":true},0,{"$f":"+spaziIntermedi(V28,25)-X28","v":0},false,0,null,0,0,null,null,null,0,0,0,0,0,null,null,0,0,{"$f":"IF((IF(restoZero(AO28,25),(spaziIntermedi(AO28,25))+1,spaziIntermedi(AO28,25)))=(spaziIntermedi(AP28,25)),FALSE,TRUE)","v":true},0,{"$f":"+spaziIntermedi(AP28,25)-AR28","v":0},false,0,null,0,0,null,null,null,0,0,0,null,null,0,0,{"$f":"IF((IF(restoZero(BG28,25),(spaziIntermedi(BG28,25))+1,spaziIntermedi(BG28,25)))=(spaziIntermedi(BH28,25)),FALSE,TRUE)","v":true},0,{"$f":"+spaziIntermedi(BH28,25)-BJ28","v":0},false,0,null,0,0,null,null,null,0,0,0,0,0,null,null,0,0,{"$f":"IF((IF(restoZero(CA28,25),(spaziIntermedi(CA28,25))+1,spaziIntermedi(CA28,25)))=(spaziIntermedi(CB28,25)),FALSE,TRUE)","v":true},0,{"$f":"+spaziIntermedi(CB28,25)-CD28","v":0},false,0,null,0,0,null,null,null,0,0,0,null,null,0,0,{"$f":"IF((IF(restoZero(CS28,25),(spaziIntermedi(CS28,25))+1,spaziIntermedi(CS28,25)))=(spaziIntermedi(CT28,25)),FALSE,TRUE)","v":true},0,{"$f":"+spaziIntermedi(CT28,25)-CV28","v":0},false,0,null,0,0,null,null,null,0,0,0,0,0,null,null,0,0,{"$f":"IF((IF(restoZero(DM28,25),(spaziIntermedi(DM28,25))+1,spaziIntermedi(DM28,25)))=(spaziIntermedi(DN28,25)),FALSE,TRUE)","v":true},0,{"$f":"+spaziIntermedi(DN28,25)-DP28","v":0},false,0,null,0,0,null,null,null,0,0,0,null,null,0,0,{"$f":"IF((IF(restoZero(EE28,25),(spaziIntermedi(EE28,25))+1,spaziIntermedi(EE28,25)))=(spaziIntermedi(EF28,25)),FALSE,TRUE)","v":true},0,{"$f":"+spaziIntermedi(EF28,25)-EH28","v":0},false,0,null,0,0,null,null,null,0,0,0,0,0,null,null,0,0,{"$f":"IF((IF(restoZero(EY28,25),(spaziIntermedi(EY28,25))+1,spaziIntermedi(EY28,25)))=(spaziIntermedi(EZ28,25)),FALSE,TRUE)","v":true},0,{"$f":"+spaziIntermedi(EZ28,25)-FB28","v":0},false,0,null,0,0,null,null,null,0,0,0,null,null,0,0,{"$f":"IF((IF(restoZero(FQ28,25),(spaziIntermedi(FQ28,25))+1,spaziIntermedi(FQ28,25)))=(spaziIntermedi(FR28,25)),FALSE,TRUE)","v":true},0,{"$f":"+spaziIntermedi(FR28,25)-FT28","v":0},false,0,null,0,0,null,null,null,0,0,0,0,0,null,null,0,0,{"$f":"IF((IF(restoZero(GK28,25),(spaziIntermedi(GK28,25))+1,spaziIntermedi(GK28,25)))=(spaziIntermedi(GL28,25)),FALSE,TRUE)","v":true},0,{"$f":"+spaziIntermedi(GL28,25)-GN28","v":0},false,0,null,0,0,null,null,null,0,0,0,null,null,0,0,{"$f":"IF((IF(restoZero(HC28,25),(spaziIntermedi(HC28,25))+1,spaziIntermedi(HC28,25)))=(spaziIntermedi(HD28,25)),FALSE,TRUE)","v":true},0,{"$f":"+spaziIntermedi(HD28,25)-HF28","v":0},false,0,null,0,0,null,null,null,0,0,0,0,0,null,null,0,0,{"$f":"IF((IF(restoZero(HW28,25),(spaziIntermedi(HW28,25))+1,spaziIntermedi(HW28,25)))=(spaziIntermedi(HX28,25)),FALSE,TRUE)","v":true},0,{"$f":"+spaziIntermedi(HX28,25)-HZ28","v":0},false,0,null,0,0,null,null,null,0,0,0,null,null,0,0,{"$f":"IF((IF(restoZero(IO28,25),(spaziIntermedi(IO28,25))+1,spaziIntermedi(IO28,25)))=(spaziIntermedi(IP28,25)),FALSE,TRUE)","v":true},0,{"$f":"+spaziIntermedi(IP28,25)-IR28","v":0},false,0,null,0,0,null,null,null,0,0,0,0,0,null,null,0,0,{"$f":"IF((IF(restoZero(JI28,25),(spaziIntermedi(JI28,25))+1,spaziIntermedi(JI28,25)))=(spaziIntermedi(JJ28,25)),FALSE,TRUE)","v":true},0,{"$f":"+spaziIntermedi(JJ28,25)-JL28","v":0},false,0,null,0,0,null,null,null,0,0,0,null,null,0,0,{"$f":"IF((IF(restoZero(KA28,25),(spaziIntermedi(KA28,25))+1,spaziIntermedi(KA28,25)))=(spaziIntermedi(KB28,25)),FALSE,TRUE)","v":true},0,{"$f":"+spaziIntermedi(KB28,25)-KD28","v":0},false,0,null,0,0,null,null,null,0,0,0,0,0,null,null,0,0,{"$f":"IF((IF(restoZero(KU28,25),(spaziIntermedi(KU28,25))+1,spaziIntermedi(KU28,25)))=(spaziIntermedi(KV28,25)),FALSE,TRUE)","v":true},0,{"$f":"+spaziIntermedi(KV28,25)-KX28","v":0},false,0,null,0,0,null,null,null,0,0,0,null,null,0,0,{"$f":"IF((IF(restoZero(LM28,25),(spaziIntermedi(LM28,25))+1,spaziIntermedi(LM28,25)))=(spaziIntermedi(LN28,25)),FALSE,TRUE)","v":true},0,{"$f":"+spaziIntermedi(LN28,25)-LP28","v":0},false,0,null,0,0,null,null,null,0,0,0,0,0,null,null,0,0,{"$f":"IF((IF(restoZero(MG28,25),(spaziIntermedi(MG28,25))+1,spaziIntermedi(MG28,25)))=(spaziIntermedi(MH28,25)),FALSE,TRUE)","v":true},0,{"$f":"+spaziIntermedi(MH28,25)-MJ28","v":0},false,0,null,0,0,null,null,null,0,0,0,null,null,0,0,{"$f":"IF((IF(restoZero(MY28,25),(spaziIntermedi(MY28,25))+1,spaziIntermedi(MY28,25)))=(spaziIntermedi(MZ28,25)),FALSE,TRUE)","v":true},0,{"$f":"+spaziIntermedi(MZ28,25)-NB28","v":0},false,0,null,0,0,null,null,null,0,0,0,0,0,null,null,0,0,{"$f":"IF((IF(restoZero(NS28,25),(spaziIntermedi(NS28,25))+1,spaziIntermedi(NS28,25)))=(spaziIntermedi(NT28,25)),FALSE,TRUE)","v":true},0,{"$f":"+spaziIntermedi(NT28,25)-NV28","v":0},false,0,null,0,0,null,null,null,0,0,0,null,null,0,0,{"$f":"IF((IF(restoZero(OK28,25),(spaziIntermedi(OK28,25))+1,spaziIntermedi(OK28,25)))=(spaziIntermedi(OL28,25)),FALSE,TRUE)","v":true},0,{"$f":"+spaziIntermedi(OL28,25)-ON28","v":0},false,0,null,0,0,null,null,null,0,0,0,0,0,null,null,0,0,{"$f":"IF((IF(restoZero(PE28,25),(spaziIntermedi(PE28,25))+1,spaziIntermedi(PE28,25)))=(spaziIntermedi(PF28,25)),FALSE,TRUE)","v":true},0,{"$f":"+spaziIntermedi(PF28,25)-PH28","v":0},false,0,null,0,0,null,null,null,0,0,0,null,null,0,0,{"$f":"IF((IF(restoZero(PW28,25),(spaziIntermedi(PW28,25))+1,spaziIntermedi(PW28,25)))=(spaziIntermedi(PX28,25)),FALSE,TRUE)","v":true},0,{"$f":"+spaziIntermedi(PX28,25)-PZ28","v":0},false,0,null,0,0,null,null,null,0,0,0,0,0,null,null,0,0,{"$f":"IF((IF(restoZero(QQ28,25),(spaziIntermedi(QQ28,25))+1,spaziIntermedi(QQ28,25)))=(spaziIntermedi(QR28,25)),FALSE,TRUE)","v":true},0,{"$f":"+spaziIntermedi(QR28,25)-QT28","v":0},false,0,null,0,0,null,null,null,0,0,0,null,null,0,0,{"$f":"IF((IF(restoZero(RI28,25),(spaziIntermedi(RI28,25))+1,spaziIntermedi(RI28,25)))=(spaziIntermedi(RJ28,25)),FALSE,TRUE)","v":true},0,{"$f":"+spaziIntermedi(RJ28,25)-RL28","v":0},false,0,null,0,0,null,null,null,0,0,0,0,0,null,null,0,0,{"$f":"IF((IF(restoZero(SC28,25),(spaziIntermedi(SC28,25))+1,spaziIntermedi(SC28,25)))=(spaziIntermedi(SD28,25)),FALSE,TRUE)","v":true},0,{"$f":"+spaziIntermedi(SD28,25)-SF28","v":0},false,0,null,0,0,null,null,null,0,0,0,null,null,0,0,{"$f":"IF((IF(restoZero(SU28,25),(spaziIntermedi(SU28,25))+1,spaziIntermedi(SU28,25)))=(spaziIntermedi(SV28,25)),FALSE,TRUE)","v":true},0,{"$f":"+spaziIntermedi(SV28,25)-SX28","v":0},false,0,null,0,0,null,null,null,0,0,0,0,0]
[null,null,0,0,{"$f":"IF((IF(restoZero(C29,25),(spaziIntermedi(C29,25))+1,spaziIntermedi(C29,25)))=(spaziIntermedi(D29,25)),FALSE,TRUE)","v":true},0,{"$f":"+spaziIntermedi(D29,25)-F29","v":0},false,0,null,0,0,null,null,null,0,0,0,null,null,0,0,{"$f":"IF((IF(restoZero(U29,25),(spaziIntermedi(U29,25))+1,spaziIntermedi(U29,25)))=(spaziIntermedi(V29,25)),FALSE,TRUE)","v":true},0,{"$f":"+spaziIntermedi(V29,25)-X29","v":0},false,0,null,0,0,null,null,null,0,0,0,0,0,null,null,0,0,{"$f":"IF((IF(restoZero(AO29,25),(spaziIntermedi(AO29,25))+1,spaziIntermedi(AO29,25)))=(spaziIntermedi(AP29,25)),FALSE,TRUE)","v":true},0,{"$f":"+spaziIntermedi(AP29,25)-AR29","v":0},false,0,null,0,0,null,null,null,0,0,0,null,null,0,0,{"$f":"IF((IF(restoZero(BG29,25),(spaziIntermedi(BG29,25))+1,spaziIntermedi(BG29,25)))=(spaziIntermedi(BH29,25)),FALSE,TRUE)","v":true},0,{"$f":"+spaziIntermedi(BH29,25)-BJ29","v":0},false,0,null,0,0,null,null,null,0,0,0,0,0,null,null,0,0,{"$f":"IF((IF(restoZero(CA29,25),(spaziIntermedi(CA29,25))+1,spaziIntermedi(CA29,25)))=(spaziIntermedi(CB29,25)),FALSE,TRUE)","v":true},0,{"$f":"+spaziIntermedi(CB29,25)-CD29","v":0},false,0,null,0,0,null,null,null,0,0,0,null,null,0,0,{"$f":"IF((IF(restoZero(CS29,25),(spaziIntermedi(CS29,25))+1,spaziIntermedi(CS29,25)))=(spaziIntermedi(CT29,25)),FALSE,TRUE)","v":true},0,{"$f":"+spaziIntermedi(CT29,25)-CV29","v":0},false,0,null,0,0,null,null,null,0,0,0,0,0,null,null,0,0,{"$f":"IF((IF(restoZero(DM29,25),(spaziIntermedi(DM29,25))+1,spaziIntermedi(DM29,25)))=(spaziIntermedi(DN29,25)),FALSE,TRUE)","v":true},0,{"$f":"+spaziIntermedi(DN29,25)-DP29","v":0},false,0,null,0,0,null,null,null,0,0,0,null,null,0,0,{"$f":"IF((IF(restoZero(EE29,25),(spaziIntermedi(EE29,25))+1,spaziIntermedi(EE29,25)))=(spaziIntermedi(EF29,25)),FALSE,TRUE)","v":true},0,{"$f":"+spaziIntermedi(EF29,25)-EH29","v":0},false,0,null,0,0,null,null,null,0,0,0,0,0,null,null,0,0,{"$f":"IF((IF(restoZero(EY29,25),(spaziIntermedi(EY29,25))+1,spaziIntermedi(EY29,25)))=(spaziIntermedi(EZ29,25)),FALSE,TRUE)","v":true},0,{"$f":"+spaziIntermedi(EZ29,25)-FB29","v":0},false,0,null,0,0,null,null,null,0,0,0,null,null,0,0,{"$f":"IF((IF(restoZero(FQ29,25),(spaziIntermedi(FQ29,25))+1,spaziIntermedi(FQ29,25)))=(spaziIntermedi(FR29,25)),FALSE,TRUE)","v":true},0,{"$f":"+spaziIntermedi(FR29,25)-FT29","v":0},false,0,null,0,0,null,null,null,0,0,0,0,0,null,null,0,0,{"$f":"IF((IF(restoZero(GK29,25),(spaziIntermedi(GK29,25))+1,spaziIntermedi(GK29,25)))=(spaziIntermedi(GL29,25)),FALSE,TRUE)","v":true},0,{"$f":"+spaziIntermedi(GL29,25)-GN29","v":0},false,0,null,0,0,null,null,null,0,0,0,null,null,0,0,{"$f":"IF((IF(restoZero(HC29,25),(spaziIntermedi(HC29,25))+1,spaziIntermedi(HC29,25)))=(spaziIntermedi(HD29,25)),FALSE,TRUE)","v":true},0,{"$f":"+spaziIntermedi(HD29,25)-HF29","v":0},false,0,null,0,0,null,null,null,0,0,0,0,0,null,null,0,0,{"$f":"IF((IF(restoZero(HW29,25),(spaziIntermedi(HW29,25))+1,spaziIntermedi(HW29,25)))=(spaziIntermedi(HX29,25)),FALSE,TRUE)","v":true},0,{"$f":"+spaziIntermedi(HX29,25)-HZ29","v":0},false,0,null,0,0,null,null,null,0,0,0,null,null,0,0,{"$f":"IF((IF(restoZero(IO29,25),(spaziIntermedi(IO29,25))+1,spaziIntermedi(IO29,25)))=(spaziIntermedi(IP29,25)),FALSE,TRUE)","v":true},0,{"$f":"+spaziIntermedi(IP29,25)-IR29","v":0},false,0,null,0,0,null,null,null,0,0,0,0,0,null,null,0,0,{"$f":"IF((IF(restoZero(JI29,25),(spaziIntermedi(JI29,25))+1,spaziIntermedi(JI29,25)))=(spaziIntermedi(JJ29,25)),FALSE,TRUE)","v":true},0,{"$f":"+spaziIntermedi(JJ29,25)-JL29","v":0},false,0,null,0,0,null,null,null,0,0,0,null,null,0,0,{"$f":"IF((IF(restoZero(KA29,25),(spaziIntermedi(KA29,25))+1,spaziIntermedi(KA29,25)))=(spaziIntermedi(KB29,25)),FALSE,TRUE)","v":true},0,{"$f":"+spaziIntermedi(KB29,25)-KD29","v":0},false,0,null,0,0,null,null,null,0,0,0,0,0,null,null,0,0,{"$f":"IF((IF(restoZero(KU29,25),(spaziIntermedi(KU29,25))+1,spaziIntermedi(KU29,25)))=(spaziIntermedi(KV29,25)),FALSE,TRUE)","v":true},0,{"$f":"+spaziIntermedi(KV29,25)-KX29","v":0},false,0,null,0,0,null,null,null,0,0,0,null,null,0,0,{"$f":"IF((IF(restoZero(LM29,25),(spaziIntermedi(LM29,25))+1,spaziIntermedi(LM29,25)))=(spaziIntermedi(LN29,25)),FALSE,TRUE)","v":true},0,{"$f":"+spaziIntermedi(LN29,25)-LP29","v":0},false,0,null,0,0,null,null,null,0,0,0,0,0,null,null,0,0,{"$f":"IF((IF(restoZero(MG29,25),(spaziIntermedi(MG29,25))+1,spaziIntermedi(MG29,25)))=(spaziIntermedi(MH29,25)),FALSE,TRUE)","v":true},0,{"$f":"+spaziIntermedi(MH29,25)-MJ29","v":0},false,0,null,0,0,null,null,null,0,0,0,null,null,0,0,{"$f":"IF((IF(restoZero(MY29,25),(spaziIntermedi(MY29,25))+1,spaziIntermedi(MY29,25)))=(spaziIntermedi(MZ29,25)),FALSE,TRUE)","v":true},0,{"$f":"+spaziIntermedi(MZ29,25)-NB29","v":0},false,0,null,0,0,null,null,null,0,0,0,0,0,null,null,0,0,{"$f":"IF((IF(restoZero(NS29,25),(spaziIntermedi(NS29,25))+1,spaziIntermedi(NS29,25)))=(spaziIntermedi(NT29,25)),FALSE,TRUE)","v":true},0,{"$f":"+spaziIntermedi(NT29,25)-NV29","v":0},false,0,null,0,0,null,null,null,0,0,0,null,null,0,0,{"$f":"IF((IF(restoZero(OK29,25),(spaziIntermedi(OK29,25))+1,spaziIntermedi(OK29,25)))=(spaziIntermedi(OL29,25)),FALSE,TRUE)","v":true},0,{"$f":"+spaziIntermedi(OL29,25)-ON29","v":0},false,0,null,0,0,null,null,null,0,0,0,0,0,null,null,0,0,{"$f":"IF((IF(restoZero(PE29,25),(spaziIntermedi(PE29,25))+1,spaziIntermedi(PE29,25)))=(spaziIntermedi(PF29,25)),FALSE,TRUE)","v":true},0,{"$f":"+spaziIntermedi(PF29,25)-PH29","v":0},false,0,null,0,0,null,null,null,0,0,0,null,null,0,0,{"$f":"IF((IF(restoZero(PW29,25),(spaziIntermedi(PW29,25))+1,spaziIntermedi(PW29,25)))=(spaziIntermedi(PX29,25)),FALSE,TRUE)","v":true},0,{"$f":"+spaziIntermedi(PX29,25)-PZ29","v":0},false,0,null,0,0,null,null,null,0,0,0,0,0,null,null,0,0,{"$f":"IF((IF(restoZero(QQ29,25),(spaziIntermedi(QQ29,25))+1,spaziIntermedi(QQ29,25)))=(spaziIntermedi(QR29,25)),FALSE,TRUE)","v":true},0,{"$f":"+spaziIntermedi(QR29,25)-QT29","v":0},false,0,null,0,0,null,null,null,0,0,0,null,null,0,0,{"$f":"IF((IF(restoZero(RI29,25),(spaziIntermedi(RI29,25))+1,spaziIntermedi(RI29,25)))=(spaziIntermedi(RJ29,25)),FALSE,TRUE)","v":true},0,{"$f":"+spaziIntermedi(RJ29,25)-RL29","v":0},false,0,null,0,0,null,null,null,0,0,0,0,0,null,null,0,0,{"$f":"IF((IF(restoZero(SC29,25),(spaziIntermedi(SC29,25))+1,spaziIntermedi(SC29,25)))=(spaziIntermedi(SD29,25)),FALSE,TRUE)","v":true},0,{"$f":"+spaziIntermedi(SD29,25)-SF29","v":0},false,0,null,0,0,null,null,null,0,0,0,null,null,0,0,{"$f":"IF((IF(restoZero(SU29,25),(spaziIntermedi(SU29,25))+1,spaziIntermedi(SU29,25)))=(spaziIntermedi(SV29,25)),FALSE,TRUE)","v":true},0,{"$f":"+spaziIntermedi(SV29,25)-SX29","v":0},false,0,null,0,0,null,null,null,0,0,0,0,0]
[null,null,0,0,{"$f":"IF((IF(restoZero(C30,25),(spaziIntermedi(C30,25))+1,spaziIntermedi(C30,25)))=(spaziIntermedi(D30,25)),FALSE,TRUE)","v":true},0,{"$f":"+spaziIntermedi(D30,25)-F30","v":0},false,0,null,0,0,null,null,null,0,0,0,null,null,0,0,{"$f":"IF((IF(restoZero(U30,25),(spaziIntermedi(U30,25))+1,spaziIntermedi(U30,25)))=(spaziIntermedi(V30,25)),FALSE,TRUE)","v":true},0,{"$f":"+spaziIntermedi(V30,25)-X30","v":0},false,0,null,0,0,null,null,null,0,0,0,0,0,null,null,0,0,{"$f":"IF((IF(restoZero(AO30,25),(spaziIntermedi(AO30,25))+1,spaziIntermedi(AO30,25)))=(spaziIntermedi(AP30,25)),FALSE,TRUE)","v":true},0,{"$f":"+spaziIntermedi(AP30,25)-AR30","v":0},false,0,null,0,0,null,null,null,0,0,0,null,null,0,0,{"$f":"IF((IF(restoZero(BG30,25),(spaziIntermedi(BG30,25))+1,spaziIntermedi(BG30,25)))=(spaziIntermedi(BH30,25)),FALSE,TRUE)","v":true},0,{"$f":"+spaziIntermedi(BH30,25)-BJ30","v":0},false,0,null,0,0,null,null,null,0,0,0,0,0,null,null,0,0,{"$f":"IF((IF(restoZero(CA30,25),(spaziIntermedi(CA30,25))+1,spaziIntermedi(CA30,25)))=(spaziIntermedi(CB30,25)),FALSE,TRUE)","v":true},0,{"$f":"+spaziIntermedi(CB30,25)-CD30","v":0},false,0,null,0,0,null,null,null,0,0,0,null,null,0,0,{"$f":"IF((IF(restoZero(CS30,25),(spaziIntermedi(CS30,25))+1,spaziIntermedi(CS30,25)))=(spaziIntermedi(CT30,25)),FALSE,TRUE)","v":true},0,{"$f":"+spaziIntermedi(CT30,25)-CV30","v":0},false,0,null,0,0,null,null,null,0,0,0,0,0,null,null,0,0,{"$f":"IF((IF(restoZero(DM30,25),(spaziIntermedi(DM30,25))+1,spaziIntermedi(DM30,25)))=(spaziIntermedi(DN30,25)),FALSE,TRUE)","v":true},0,{"$f":"+spaziIntermedi(DN30,25)-DP30","v":0},false,0,null,0,0,null,null,null,0,0,0,null,null,0,0,{"$f":"IF((IF(restoZero(EE30,25),(spaziIntermedi(EE30,25))+1,spaziIntermedi(EE30,25)))=(spaziIntermedi(EF30,25)),FALSE,TRUE)","v":true},0,{"$f":"+spaziIntermedi(EF30,25)-EH30","v":0},false,0,null,0,0,null,null,null,0,0,0,0,0,null,null,0,0,{"$f":"IF((IF(restoZero(EY30,25),(spaziIntermedi(EY30,25))+1,spaziIntermedi(EY30,25)))=(spaziIntermedi(EZ30,25)),FALSE,TRUE)","v":true},0,{"$f":"+spaziIntermedi(EZ30,25)-FB30","v":0},false,0,null,0,0,null,null,null,0,0,0,null,null,0,0,{"$f":"IF((IF(restoZero(FQ30,25),(spaziIntermedi(FQ30,25))+1,spaziIntermedi(FQ30,25)))=(spaziIntermedi(FR30,25)),FALSE,TRUE)","v":true},0,{"$f":"+spaziIntermedi(FR30,25)-FT30","v":0},false,0,null,0,0,null,null,null,0,0,0,0,0,null,null,0,0,{"$f":"IF((IF(restoZero(GK30,25),(spaziIntermedi(GK30,25))+1,spaziIntermedi(GK30,25)))=(spaziIntermedi(GL30,25)),FALSE,TRUE)","v":true},0,{"$f":"+spaziIntermedi(GL30,25)-GN30","v":0},false,0,null,0,0,null,null,null,0,0,0,null,null,0,0,{"$f":"IF((IF(restoZero(HC30,25),(spaziIntermedi(HC30,25))+1,spaziIntermedi(HC30,25)))=(spaziIntermedi(HD30,25)),FALSE,TRUE)","v":true},0,{"$f":"+spaziIntermedi(HD30,25)-HF30","v":0},false,0,null,0,0,null,null,null,0,0,0,0,0,null,null,0,0,{"$f":"IF((IF(restoZero(HW30,25),(spaziIntermedi(HW30,25))+1,spaziIntermedi(HW30,25)))=(spaziIntermedi(HX30,25)),FALSE,TRUE)","v":true},0,{"$f":"+spaziIntermedi(HX30,25)-HZ30","v":0},false,0,null,0,0,null,null,null,0,0,0,null,null,0,0,{"$f":"IF((IF(restoZero(IO30,25),(spaziIntermedi(IO30,25))+1,spaziIntermedi(IO30,25)))=(spaziIntermedi(IP30,25)),FALSE,TRUE)","v":true},0,{"$f":"+spaziIntermedi(IP30,25)-IR30","v":0},false,0,null,0,0,null,null,null,0,0,0,0,0,null,null,0,0,{"$f":"IF((IF(restoZero(JI30,25),(spaziIntermedi(JI30,25))+1,spaziIntermedi(JI30,25)))=(spaziIntermedi(JJ30,25)),FALSE,TRUE)","v":true},0,{"$f":"+spaziIntermedi(JJ30,25)-JL30","v":0},false,0,null,0,0,null,null,null,0,0,0,null,null,0,0,{"$f":"IF((IF(restoZero(KA30,25),(spaziIntermedi(KA30,25))+1,spaziIntermedi(KA30,25)))=(spaziIntermedi(KB30,25)),FALSE,TRUE)","v":true},0,{"$f":"+spaziIntermedi(KB30,25)-KD30","v":0},false,0,null,0,0,null,null,null,0,0,0,0,0,null,null,0,0,{"$f":"IF((IF(restoZero(KU30,25),(spaziIntermedi(KU30,25))+1,spaziIntermedi(KU30,25)))=(spaziIntermedi(KV30,25)),FALSE,TRUE)","v":true},0,{"$f":"+spaziIntermedi(KV30,25)-KX30","v":0},false,0,null,0,0,null,null,null,0,0,0,null,null,0,0,{"$f":"IF((IF(restoZero(LM30,25),(spaziIntermedi(LM30,25))+1,spaziIntermedi(LM30,25)))=(spaziIntermedi(LN30,25)),FALSE,TRUE)","v":true},0,{"$f":"+spaziIntermedi(LN30,25)-LP30","v":0},false,0,null,0,0,null,null,null,0,0,0,0,0,null,null,0,0,{"$f":"IF((IF(restoZero(MG30,25),(spaziIntermedi(MG30,25))+1,spaziIntermedi(MG30,25)))=(spaziIntermedi(MH30,25)),FALSE,TRUE)","v":true},0,{"$f":"+spaziIntermedi(MH30,25)-MJ30","v":0},false,0,null,0,0,null,null,null,0,0,0,null,null,0,0,{"$f":"IF((IF(restoZero(MY30,25),(spaziIntermedi(MY30,25))+1,spaziIntermedi(MY30,25)))=(spaziIntermedi(MZ30,25)),FALSE,TRUE)","v":true},0,{"$f":"+spaziIntermedi(MZ30,25)-NB30","v":0},false,0,null,0,0,null,null,null,0,0,0,0,0,null,null,0,0,{"$f":"IF((IF(restoZero(NS30,25),(spaziIntermedi(NS30,25))+1,spaziIntermedi(NS30,25)))=(spaziIntermedi(NT30,25)),FALSE,TRUE)","v":true},0,{"$f":"+spaziIntermedi(NT30,25)-NV30","v":0},false,0,null,0,0,null,null,null,0,0,0,null,null,0,0,{"$f":"IF((IF(restoZero(OK30,25),(spaziIntermedi(OK30,25))+1,spaziIntermedi(OK30,25)))=(spaziIntermedi(OL30,25)),FALSE,TRUE)","v":true},0,{"$f":"+spaziIntermedi(OL30,25)-ON30","v":0},false,0,null,0,0,null,null,null,0,0,0,0,0,null,null,0,0,{"$f":"IF((IF(restoZero(PE30,25),(spaziIntermedi(PE30,25))+1,spaziIntermedi(PE30,25)))=(spaziIntermedi(PF30,25)),FALSE,TRUE)","v":true},0,{"$f":"+spaziIntermedi(PF30,25)-PH30","v":0},false,0,null,0,0,null,null,null,0,0,0,null,null,0,0,{"$f":"IF((IF(restoZero(PW30,25),(spaziIntermedi(PW30,25))+1,spaziIntermedi(PW30,25)))=(spaziIntermedi(PX30,25)),FALSE,TRUE)","v":true},0,{"$f":"+spaziIntermedi(PX30,25)-PZ30","v":0},false,0,null,0,0,null,null,null,0,0,0,0,0,null,null,0,0,{"$f":"IF((IF(restoZero(QQ30,25),(spaziIntermedi(QQ30,25))+1,spaziIntermedi(QQ30,25)))=(spaziIntermedi(QR30,25)),FALSE,TRUE)","v":true},0,{"$f":"+spaziIntermedi(QR30,25)-QT30","v":0},false,0,null,0,0,null,null,null,0,0,0,null,null,0,0,{"$f":"IF((IF(restoZero(RI30,25),(spaziIntermedi(RI30,25))+1,spaziIntermedi(RI30,25)))=(spaziIntermedi(RJ30,25)),FALSE,TRUE)","v":true},0,{"$f":"+spaziIntermedi(RJ30,25)-RL30","v":0},false,0,null,0,0,null,null,null,0,0,0,0,0,null,null,0,0,{"$f":"IF((IF(restoZero(SC30,25),(spaziIntermedi(SC30,25))+1,spaziIntermedi(SC30,25)))=(spaziIntermedi(SD30,25)),FALSE,TRUE)","v":true},0,{"$f":"+spaziIntermedi(SD30,25)-SF30","v":0},false,0,null,0,0,null,null,null,0,0,0,null,null,0,0,{"$f":"IF((IF(restoZero(SU30,25),(spaziIntermedi(SU30,25))+1,spaziIntermedi(SU30,25)))=(spaziIntermedi(SV30,25)),FALSE,TRUE)","v":true},0,{"$f":"+spaziIntermedi(SV30,25)-SX30","v":0},false,0,null,0,0,null,null,null,0,0,0,0,0]
[null,null,0,0,{"$f":"IF((IF(restoZero(C31,25),(spaziIntermedi(C31,25))+1,spaziIntermedi(C31,25)))=(spaziIntermedi(D31,25)),FALSE,TRUE)","v":true},0,{"$f":"+spaziIntermedi(D31,25)-F31","v":0},false,0,null,0,0,null,null,null,0,0,0,null,null,0,0,{"$f":"IF((IF(restoZero(U31,25),(spaziIntermedi(U31,25))+1,spaziIntermedi(U31,25)))=(spaziIntermedi(V31,25)),FALSE,TRUE)","v":true},0,{"$f":"+spaziIntermedi(V31,25)-X31","v":0},false,0,null,0,0,null,null,null,0,0,0,0,0,null,null,0,0,{"$f":"IF((IF(restoZero(AO31,25),(spaziIntermedi(AO31,25))+1,spaziIntermedi(AO31,25)))=(spaziIntermedi(AP31,25)),FALSE,TRUE)","v":true},0,{"$f":"+spaziIntermedi(AP31,25)-AR31","v":0},false,0,null,0,0,null,null,null,0,0,0,null,null,0,0,{"$f":"IF((IF(restoZero(BG31,25),(spaziIntermedi(BG31,25))+1,spaziIntermedi(BG31,25)))=(spaziIntermedi(BH31,25)),FALSE,TRUE)","v":true},0,{"$f":"+spaziIntermedi(BH31,25)-BJ31","v":0},false,0,null,0,0,null,null,null,0,0,0,0,0,null,null,0,0,{"$f":"IF((IF(restoZero(CA31,25),(spaziIntermedi(CA31,25))+1,spaziIntermedi(CA31,25)))=(spaziIntermedi(CB31,25)),FALSE,TRUE)","v":true},0,{"$f":"+spaziIntermedi(CB31,25)-CD31","v":0},false,0,null,0,0,null,null,null,0,0,0,null,null,0,0,{"$f":"IF((IF(restoZero(CS31,25),(spaziIntermedi(CS31,25))+1,spaziIntermedi(CS31,25)))=(spaziIntermedi(CT31,25)),FALSE,TRUE)","v":true},0,{"$f":"+spaziIntermedi(CT31,25)-CV31","v":0},false,0,null,0,0,null,null,null,0,0,0,0,0,null,null,0,0,{"$f":"IF((IF(restoZero(DM31,25),(spaziIntermedi(DM31,25))+1,spaziIntermedi(DM31,25)))=(spaziIntermedi(DN31,25)),FALSE,TRUE)","v":true},0,{"$f":"+spaziIntermedi(DN31,25)-DP31","v":0},false,0,null,0,0,null,null,null,0,0,0,null,null,0,0,{"$f":"IF((IF(restoZero(EE31,25),(spaziIntermedi(EE31,25))+1,spaziIntermedi(EE31,25)))=(spaziIntermedi(EF31,25)),FALSE,TRUE)","v":true},0,{"$f":"+spaziIntermedi(EF31,25)-EH31","v":0},false,0,null,0,0,null,null,null,0,0,0,0,0,null,null,0,0,{"$f":"IF((IF(restoZero(EY31,25),(spaziIntermedi(EY31,25))+1,spaziIntermedi(EY31,25)))=(spaziIntermedi(EZ31,25)),FALSE,TRUE)","v":true},0,{"$f":"+spaziIntermedi(EZ31,25)-FB31","v":0},false,0,null,0,0,null,null,null,0,0,0,null,null,0,0,{"$f":"IF((IF(restoZero(FQ31,25),(spaziIntermedi(FQ31,25))+1,spaziIntermedi(FQ31,25)))=(spaziIntermedi(FR31,25)),FALSE,TRUE)","v":true},0,{"$f":"+spaziIntermedi(FR31,25)-FT31","v":0},false,0,null,0,0,null,null,null,0,0,0,0,0,null,null,0,0,{"$f":"IF((IF(restoZero(GK31,25),(spaziIntermedi(GK31,25))+1,spaziIntermedi(GK31,25)))=(spaziIntermedi(GL31,25)),FALSE,TRUE)","v":true},0,{"$f":"+spaziIntermedi(GL31,25)-GN31","v":0},false,0,null,0,0,null,null,null,0,0,0,null,null,0,0,{"$f":"IF((IF(restoZero(HC31,25),(spaziIntermedi(HC31,25))+1,spaziIntermedi(HC31,25)))=(spaziIntermedi(HD31,25)),FALSE,TRUE)","v":true},0,{"$f":"+spaziIntermedi(HD31,25)-HF31","v":0},false,0,null,0,0,null,null,null,0,0,0,0,0,null,null,0,0,{"$f":"IF((IF(restoZero(HW31,25),(spaziIntermedi(HW31,25))+1,spaziIntermedi(HW31,25)))=(spaziIntermedi(HX31,25)),FALSE,TRUE)","v":true},0,{"$f":"+spaziIntermedi(HX31,25)-HZ31","v":0},false,0,null,0,0,null,null,null,0,0,0,null,null,0,0,{"$f":"IF((IF(restoZero(IO31,25),(spaziIntermedi(IO31,25))+1,spaziIntermedi(IO31,25)))=(spaziIntermedi(IP31,25)),FALSE,TRUE)","v":true},0,{"$f":"+spaziIntermedi(IP31,25)-IR31","v":0},false,0,null,0,0,null,null,null,0,0,0,0,0,null,null,0,0,{"$f":"IF((IF(restoZero(JI31,25),(spaziIntermedi(JI31,25))+1,spaziIntermedi(JI31,25)))=(spaziIntermedi(JJ31,25)),FALSE,TRUE)","v":true},0,{"$f":"+spaziIntermedi(JJ31,25)-JL31","v":0},false,0,null,0,0,null,null,null,0,0,0,null,null,0,0,{"$f":"IF((IF(restoZero(KA31,25),(spaziIntermedi(KA31,25))+1,spaziIntermedi(KA31,25)))=(spaziIntermedi(KB31,25)),FALSE,TRUE)","v":true},0,{"$f":"+spaziIntermedi(KB31,25)-KD31","v":0},false,0,null,0,0,null,null,null,0,0,0,0,0,null,null,0,0,{"$f":"IF((IF(restoZero(KU31,25),(spaziIntermedi(KU31,25))+1,spaziIntermedi(KU31,25)))=(spaziIntermedi(KV31,25)),FALSE,TRUE)","v":true},0,{"$f":"+spaziIntermedi(KV31,25)-KX31","v":0},false,0,null,0,0,null,null,null,0,0,0,null,null,0,0,{"$f":"IF((IF(restoZero(LM31,25),(spaziIntermedi(LM31,25))+1,spaziIntermedi(LM31,25)))=(spaziIntermedi(LN31,25)),FALSE,TRUE)","v":true},0,{"$f":"+spaziIntermedi(LN31,25)-LP31","v":0},false,0,null,0,0,null,null,null,0,0,0,0,0,null,null,0,0,{"$f":"IF((IF(restoZero(MG31,25),(spaziIntermedi(MG31,25))+1,spaziIntermedi(MG31,25)))=(spaziIntermedi(MH31,25)),FALSE,TRUE)","v":true},0,{"$f":"+spaziIntermedi(MH31,25)-MJ31","v":0},false,0,null,0,0,null,null,null,0,0,0,null,null,0,0,{"$f":"IF((IF(restoZero(MY31,25),(spaziIntermedi(MY31,25))+1,spaziIntermedi(MY31,25)))=(spaziIntermedi(MZ31,25)),FALSE,TRUE)","v":true},0,{"$f":"+spaziIntermedi(MZ31,25)-NB31","v":0},false,0,null,0,0,null,null,null,0,0,0,0,0,null,null,0,0,{"$f":"IF((IF(restoZero(NS31,25),(spaziIntermedi(NS31,25))+1,spaziIntermedi(NS31,25)))=(spaziIntermedi(NT31,25)),FALSE,TRUE)","v":true},0,{"$f":"+spaziIntermedi(NT31,25)-NV31","v":0},false,0,null,0,0,null,null,null,0,0,0,null,null,0,0,{"$f":"IF((IF(restoZero(OK31,25),(spaziIntermedi(OK31,25))+1,spaziIntermedi(OK31,25)))=(spaziIntermedi(OL31,25)),FALSE,TRUE)","v":true},0,{"$f":"+spaziIntermedi(OL31,25)-ON31","v":0},false,0,null,0,0,null,null,null,0,0,0,0,0,null,null,0,0,{"$f":"IF((IF(restoZero(PE31,25),(spaziIntermedi(PE31,25))+1,spaziIntermedi(PE31,25)))=(spaziIntermedi(PF31,25)),FALSE,TRUE)","v":true},0,{"$f":"+spaziIntermedi(PF31,25)-PH31","v":0},false,0,null,0,0,null,null,null,0,0,0,null,null,0,0,{"$f":"IF((IF(restoZero(PW31,25),(spaziIntermedi(PW31,25))+1,spaziIntermedi(PW31,25)))=(spaziIntermedi(PX31,25)),FALSE,TRUE)","v":true},0,{"$f":"+spaziIntermedi(PX31,25)-PZ31","v":0},false,0,null,0,0,null,null,null,0,0,0,0,0,null,null,0,0,{"$f":"IF((IF(restoZero(QQ31,25),(spaziIntermedi(QQ31,25))+1,spaziIntermedi(QQ31,25)))=(spaziIntermedi(QR31,25)),FALSE,TRUE)","v":true},0,{"$f":"+spaziIntermedi(QR31,25)-QT31","v":0},false,0,null,0,0,null,null,null,0,0,0,null,null,0,0,{"$f":"IF((IF(restoZero(RI31,25),(spaziIntermedi(RI31,25))+1,spaziIntermedi(RI31,25)))=(spaziIntermedi(RJ31,25)),FALSE,TRUE)","v":true},0,{"$f":"+spaziIntermedi(RJ31,25)-RL31","v":0},false,0,null,0,0,null,null,null,0,0,0,0,0,null,null,0,0,{"$f":"IF((IF(restoZero(SC31,25),(spaziIntermedi(SC31,25))+1,spaziIntermedi(SC31,25)))=(spaziIntermedi(SD31,25)),FALSE,TRUE)","v":true},0,{"$f":"+spaziIntermedi(SD31,25)-SF31","v":0},false,0,null,0,0,null,null,null,0,0,0,null,null,0,0,{"$f":"IF((IF(restoZero(SU31,25),(spaziIntermedi(SU31,25))+1,spaziIntermedi(SU31,25)))=(spaziIntermedi(SV31,25)),FALSE,TRUE)","v":true},0,{"$f":"+spaziIntermedi(SV31,25)-SX31","v":0},false,0,null,0,0,null,null,null,0,0,0,0,0]
[null,null,0,0,{"$f":"IF((IF(restoZero(C32,25),(spaziIntermedi(C32,25))+1,spaziIntermedi(C32,25)))=(spaziIntermedi(D32,25)),FALSE,TRUE)","v":true},0,{"$f":"+spaziIntermedi(D32,25)-F32","v":0},false,0,null,0,0,null,null,null,0,0,0,null,null,0,0,{"$f":"IF((IF(restoZero(U32,25),(spaziIntermedi(U32,25))+1,spaziIntermedi(U32,25)))=(spaziIntermedi(V32,25)),FALSE,TRUE)","v":true},0,{"$f":"+spaziIntermedi(V32,25)-X32","v":0},false,0,null,0,0,null,null,null,0,0,0,0,0,null,null,0,0,{"$f":"IF((IF(restoZero(AO32,25),(spaziIntermedi(AO32,25))+1,spaziIntermedi(AO32,25)))=(spaziIntermedi(AP32,25)),FALSE,TRUE)","v":true},0,{"$f":"+spaziIntermedi(AP32,25)-AR32","v":0},false,0,null,0,0,null,null,null,0,0,0,null,null,0,0,{"$f":"IF((IF(restoZero(BG32,25),(spaziIntermedi(BG32,25))+1,spaziIntermedi(BG32,25)))=(spaziIntermedi(BH32,25)),FALSE,TRUE)","v":true},0,{"$f":"+spaziIntermedi(BH32,25)-BJ32","v":0},false,0,null,0,0,null,null,null,0,0,0,0,0,null,null,0,0,{"$f":"IF((IF(restoZero(CA32,25),(spaziIntermedi(CA32,25))+1,spaziIntermedi(CA32,25)))=(spaziIntermedi(CB32,25)),FALSE,TRUE)","v":true},0,{"$f":"+spaziIntermedi(CB32,25)-CD32","v":0},false,0,null,0,0,null,null,null,0,0,0,null,null,0,0,{"$f":"IF((IF(restoZero(CS32,25),(spaziIntermedi(CS32,25))+1,spaziIntermedi(CS32,25)))=(spaziIntermedi(CT32,25)),FALSE,TRUE)","v":true},0,{"$f":"+spaziIntermedi(CT32,25)-CV32","v":0},false,0,null,0,0,null,null,null,0,0,0,0,0,null,null,0,0,{"$f":"IF((IF(restoZero(DM32,25),(spaziIntermedi(DM32,25))+1,spaziIntermedi(DM32,25)))=(spaziIntermedi(DN32,25)),FALSE,TRUE)","v":true},0,{"$f":"+spaziIntermedi(DN32,25)-DP32","v":0},false,0,null,0,0,null,null,null,0,0,0,null,null,0,0,{"$f":"IF((IF(restoZero(EE32,25),(spaziIntermedi(EE32,25))+1,spaziIntermedi(EE32,25)))=(spaziIntermedi(EF32,25)),FALSE,TRUE)","v":true},0,{"$f":"+spaziIntermedi(EF32,25)-EH32","v":0},false,0,null,0,0,null,null,null,0,0,0,0,0,null,null,0,0,{"$f":"IF((IF(restoZero(EY32,25),(spaziIntermedi(EY32,25))+1,spaziIntermedi(EY32,25)))=(spaziIntermedi(EZ32,25)),FALSE,TRUE)","v":true},0,{"$f":"+spaziIntermedi(EZ32,25)-FB32","v":0},false,0,null,0,0,null,null,null,0,0,0,null,null,0,0,{"$f":"IF((IF(restoZero(FQ32,25),(spaziIntermedi(FQ32,25))+1,spaziIntermedi(FQ32,25)))=(spaziIntermedi(FR32,25)),FALSE,TRUE)","v":true},0,{"$f":"+spaziIntermedi(FR32,25)-FT32","v":0},false,0,null,0,0,null,null,null,0,0,0,0,0,null,null,0,0,{"$f":"IF((IF(restoZero(GK32,25),(spaziIntermedi(GK32,25))+1,spaziIntermedi(GK32,25)))=(spaziIntermedi(GL32,25)),FALSE,TRUE)","v":true},0,{"$f":"+spaziIntermedi(GL32,25)-GN32","v":0},false,0,null,0,0,null,null,null,0,0,0,null,null,0,0,{"$f":"IF((IF(restoZero(HC32,25),(spaziIntermedi(HC32,25))+1,spaziIntermedi(HC32,25)))=(spaziIntermedi(HD32,25)),FALSE,TRUE)","v":true},0,{"$f":"+spaziIntermedi(HD32,25)-HF32","v":0},false,0,null,0,0,null,null,null,0,0,0,0,0,null,null,0,0,{"$f":"IF((IF(restoZero(HW32,25),(spaziIntermedi(HW32,25))+1,spaziIntermedi(HW32,25)))=(spaziIntermedi(HX32,25)),FALSE,TRUE)","v":true},0,{"$f":"+spaziIntermedi(HX32,25)-HZ32","v":0},false,0,null,0,0,null,null,null,0,0,0,null,null,0,0,{"$f":"IF((IF(restoZero(IO32,25),(spaziIntermedi(IO32,25))+1,spaziIntermedi(IO32,25)))=(spaziIntermedi(IP32,25)),FALSE,TRUE)","v":true},0,{"$f":"+spaziIntermedi(IP32,25)-IR32","v":0},false,0,null,0,0,null,null,null,0,0,0,0,0,null,null,0,0,{"$f":"IF((IF(restoZero(JI32,25),(spaziIntermedi(JI32,25))+1,spaziIntermedi(JI32,25)))=(spaziIntermedi(JJ32,25)),FALSE,TRUE)","v":true},0,{"$f":"+spaziIntermedi(JJ32,25)-JL32","v":0},false,0,null,0,0,null,null,null,0,0,0,null,null,0,0,{"$f":"IF((IF(restoZero(KA32,25),(spaziIntermedi(KA32,25))+1,spaziIntermedi(KA32,25)))=(spaziIntermedi(KB32,25)),FALSE,TRUE)","v":true},0,{"$f":"+spaziIntermedi(KB32,25)-KD32","v":0},false,0,null,0,0,null,null,null,0,0,0,0,0,null,null,0,0,{"$f":"IF((IF(restoZero(KU32,25),(spaziIntermedi(KU32,25))+1,spaziIntermedi(KU32,25)))=(spaziIntermedi(KV32,25)),FALSE,TRUE)","v":true},0,{"$f":"+spaziIntermedi(KV32,25)-KX32","v":0},false,0,null,0,0,null,null,null,0,0,0,null,null,0,0,{"$f":"IF((IF(restoZero(LM32,25),(spaziIntermedi(LM32,25))+1,spaziIntermedi(LM32,25)))=(spaziIntermedi(LN32,25)),FALSE,TRUE)","v":true},0,{"$f":"+spaziIntermedi(LN32,25)-LP32","v":0},false,0,null,0,0,null,null,null,0,0,0,0,0,null,null,0,0,{"$f":"IF((IF(restoZero(MG32,25),(spaziIntermedi(MG32,25))+1,spaziIntermedi(MG32,25)))=(spaziIntermedi(MH32,25)),FALSE,TRUE)","v":true},0,{"$f":"+spaziIntermedi(MH32,25)-MJ32","v":0},false,0,null,0,0,null,null,null,0,0,0,null,null,0,0,{"$f":"IF((IF(restoZero(MY32,25),(spaziIntermedi(MY32,25))+1,spaziIntermedi(MY32,25)))=(spaziIntermedi(MZ32,25)),FALSE,TRUE)","v":true},0,{"$f":"+spaziIntermedi(MZ32,25)-NB32","v":0},false,0,null,0,0,null,null,null,0,0,0,0,0,null,null,0,0,{"$f":"IF((IF(restoZero(NS32,25),(spaziIntermedi(NS32,25))+1,spaziIntermedi(NS32,25)))=(spaziIntermedi(NT32,25)),FALSE,TRUE)","v":true},0,{"$f":"+spaziIntermedi(NT32,25)-NV32","v":0},false,0,null,0,0,null,null,null,0,0,0,null,null,0,0,{"$f":"IF((IF(restoZero(OK32,25),(spaziIntermedi(OK32,25))+1,spaziIntermedi(OK32,25)))=(spaziIntermedi(OL32,25)),FALSE,TRUE)","v":true},0,{"$f":"+spaziIntermedi(OL32,25)-ON32","v":0},false,0,null,0,0,null,null,null,0,0,0,0,0,null,null,0,0,{"$f":"IF((IF(restoZero(PE32,25),(spaziIntermedi(PE32,25))+1,spaziIntermedi(PE32,25)))=(spaziIntermedi(PF32,25)),FALSE,TRUE)","v":true},0,{"$f":"+spaziIntermedi(PF32,25)-PH32","v":0},false,0,null,0,0,null,null,null,0,0,0,null,null,0,0,{"$f":"IF((IF(restoZero(PW32,25),(spaziIntermedi(PW32,25))+1,spaziIntermedi(PW32,25)))=(spaziIntermedi(PX32,25)),FALSE,TRUE)","v":true},0,{"$f":"+spaziIntermedi(PX32,25)-PZ32","v":0},false,0,null,0,0,null,null,null,0,0,0,0,0,null,null,0,0,{"$f":"IF((IF(restoZero(QQ32,25),(spaziIntermedi(QQ32,25))+1,spaziIntermedi(QQ32,25)))=(spaziIntermedi(QR32,25)),FALSE,TRUE)","v":true},0,{"$f":"+spaziIntermedi(QR32,25)-QT32","v":0},false,0,null,0,0,null,null,null,0,0,0,null,null,0,0,{"$f":"IF((IF(restoZero(RI32,25),(spaziIntermedi(RI32,25))+1,spaziIntermedi(RI32,25)))=(spaziIntermedi(RJ32,25)),FALSE,TRUE)","v":true},0,{"$f":"+spaziIntermedi(RJ32,25)-RL32","v":0},false,0,null,0,0,null,null,null,0,0,0,0,0,null,null,0,0,{"$f":"IF((IF(restoZero(SC32,25),(spaziIntermedi(SC32,25))+1,spaziIntermedi(SC32,25)))=(spaziIntermedi(SD32,25)),FALSE,TRUE)","v":true},0,{"$f":"+spaziIntermedi(SD32,25)-SF32","v":0},false,0,null,0,0,null,null,null,0,0,0,null,null,0,0,{"$f":"IF((IF(restoZero(SU32,25),(spaziIntermedi(SU32,25))+1,spaziIntermedi(SU32,25)))=(spaziIntermedi(SV32,25)),FALSE,TRUE)","v":true},0,{"$f":"+spaziIntermedi(SV32,25)-SX32","v":0},false,0,null,0,0,null,null,null,0,0,0,0,0]
[null,null,0,0,{"$f":"IF((IF(restoZero(C33,25),(spaziIntermedi(C33,25))+1,spaziIntermedi(C33,25)))=(spaziIntermedi(D33,25)),FALSE,TRUE)","v":true},0,{"$f":"+spaziIntermedi(D33,25)-F33","v":0},false,0,null,0,0,null,null,null,0,0,0,null,null,0,0,{"$f":"IF((IF(restoZero(U33,25),(spaziIntermedi(U33,25))+1,spaziIntermedi(U33,25)))=(spaziIntermedi(V33,25)),FALSE,TRUE)","v":true},0,{"$f":"+spaziIntermedi(V33,25)-X33","v":0},false,0,null,0,0,null,null,null,0,0,0,0,0,null,null,0,0,{"$f":"IF((IF(restoZero(AO33,25),(spaziIntermedi(AO33,25))+1,spaziIntermedi(AO33,25)))=(spaziIntermedi(AP33,25)),FALSE,TRUE)","v":true},0,{"$f":"+spaziIntermedi(AP33,25)-AR33","v":0},false,0,null,0,0,null,null,null,0,0,0,null,null,0,0,{"$f":"IF((IF(restoZero(BG33,25),(spaziIntermedi(BG33,25))+1,spaziIntermedi(BG33,25)))=(spaziIntermedi(BH33,25)),FALSE,TRUE)","v":true},0,{"$f":"+spaziIntermedi(BH33,25)-BJ33","v":0},false,0,null,0,0,null,null,null,0,0,0,0,0,null,null,0,0,{"$f":"IF((IF(restoZero(CA33,25),(spaziIntermedi(CA33,25))+1,spaziIntermedi(CA33,25)))=(spaziIntermedi(CB33,25)),FALSE,TRUE)","v":true},0,{"$f":"+spaziIntermedi(CB33,25)-CD33","v":0},false,0,null,0,0,null,null,null,0,0,0,null,null,0,0,{"$f":"IF((IF(restoZero(CS33,25),(spaziIntermedi(CS33,25))+1,spaziIntermedi(CS33,25)))=(spaziIntermedi(CT33,25)),FALSE,TRUE)","v":true},0,{"$f":"+spaziIntermedi(CT33,25)-CV33","v":0},false,0,null,0,0,null,null,null,0,0,0,0,0,null,null,0,0,{"$f":"IF((IF(restoZero(DM33,25),(spaziIntermedi(DM33,25))+1,spaziIntermedi(DM33,25)))=(spaziIntermedi(DN33,25)),FALSE,TRUE)","v":true},0,{"$f":"+spaziIntermedi(DN33,25)-DP33","v":0},false,0,null,0,0,null,null,null,0,0,0,null,null,0,0,{"$f":"IF((IF(restoZero(EE33,25),(spaziIntermedi(EE33,25))+1,spaziIntermedi(EE33,25)))=(spaziIntermedi(EF33,25)),FALSE,TRUE)","v":true},0,{"$f":"+spaziIntermedi(EF33,25)-EH33","v":0},false,0,null,0,0,null,null,null,0,0,0,0,0,null,null,0,0,{"$f":"IF((IF(restoZero(EY33,25),(spaziIntermedi(EY33,25))+1,spaziIntermedi(EY33,25)))=(spaziIntermedi(EZ33,25)),FALSE,TRUE)","v":true},0,{"$f":"+spaziIntermedi(EZ33,25)-FB33","v":0},false,0,null,0,0,null,null,null,0,0,0,null,null,0,0,{"$f":"IF((IF(restoZero(FQ33,25),(spaziIntermedi(FQ33,25))+1,spaziIntermedi(FQ33,25)))=(spaziIntermedi(FR33,25)),FALSE,TRUE)","v":true},0,{"$f":"+spaziIntermedi(FR33,25)-FT33","v":0},false,0,null,0,0,null,null,null,0,0,0,0,0,null,null,0,0,{"$f":"IF((IF(restoZero(GK33,25),(spaziIntermedi(GK33,25))+1,spaziIntermedi(GK33,25)))=(spaziIntermedi(GL33,25)),FALSE,TRUE)","v":true},0,{"$f":"+spaziIntermedi(GL33,25)-GN33","v":0},false,0,null,0,0,null,null,null,0,0,0,null,null,0,0,{"$f":"IF((IF(restoZero(HC33,25),(spaziIntermedi(HC33,25))+1,spaziIntermedi(HC33,25)))=(spaziIntermedi(HD33,25)),FALSE,TRUE)","v":true},0,{"$f":"+spaziIntermedi(HD33,25)-HF33","v":0},false,0,null,0,0,null,null,null,0,0,0,0,0,null,null,0,0,{"$f":"IF((IF(restoZero(HW33,25),(spaziIntermedi(HW33,25))+1,spaziIntermedi(HW33,25)))=(spaziIntermedi(HX33,25)),FALSE,TRUE)","v":true},0,{"$f":"+spaziIntermedi(HX33,25)-HZ33","v":0},false,0,null,0,0,null,null,null,0,0,0,null,null,0,0,{"$f":"IF((IF(restoZero(IO33,25),(spaziIntermedi(IO33,25))+1,spaziIntermedi(IO33,25)))=(spaziIntermedi(IP33,25)),FALSE,TRUE)","v":true},0,{"$f":"+spaziIntermedi(IP33,25)-IR33","v":0},false,0,null,0,0,null,null,null,0,0,0,0,0,null,null,0,0,{"$f":"IF((IF(restoZero(JI33,25),(spaziIntermedi(JI33,25))+1,spaziIntermedi(JI33,25)))=(spaziIntermedi(JJ33,25)),FALSE,TRUE)","v":true},0,{"$f":"+spaziIntermedi(JJ33,25)-JL33","v":0},false,0,null,0,0,null,null,null,0,0,0,null,null,0,0,{"$f":"IF((IF(restoZero(KA33,25),(spaziIntermedi(KA33,25))+1,spaziIntermedi(KA33,25)))=(spaziIntermedi(KB33,25)),FALSE,TRUE)","v":true},0,{"$f":"+spaziIntermedi(KB33,25)-KD33","v":0},false,0,null,0,0,null,null,null,0,0,0,0,0,null,null,0,0,{"$f":"IF((IF(restoZero(KU33,25),(spaziIntermedi(KU33,25))+1,spaziIntermedi(KU33,25)))=(spaziIntermedi(KV33,25)),FALSE,TRUE)","v":true},0,{"$f":"+spaziIntermedi(KV33,25)-KX33","v":0},false,0,null,0,0,null,null,null,0,0,0,null,null,0,0,{"$f":"IF((IF(restoZero(LM33,25),(spaziIntermedi(LM33,25))+1,spaziIntermedi(LM33,25)))=(spaziIntermedi(LN33,25)),FALSE,TRUE)","v":true},0,{"$f":"+spaziIntermedi(LN33,25)-LP33","v":0},false,0,null,0,0,null,null,null,0,0,0,0,0,null,null,0,0,{"$f":"IF((IF(restoZero(MG33,25),(spaziIntermedi(MG33,25))+1,spaziIntermedi(MG33,25)))=(spaziIntermedi(MH33,25)),FALSE,TRUE)","v":true},0,{"$f":"+spaziIntermedi(MH33,25)-MJ33","v":0},false,0,null,0,0,null,null,null,0,0,0,null,null,0,0,{"$f":"IF((IF(restoZero(MY33,25),(spaziIntermedi(MY33,25))+1,spaziIntermedi(MY33,25)))=(spaziIntermedi(MZ33,25)),FALSE,TRUE)","v":true},0,{"$f":"+spaziIntermedi(MZ33,25)-NB33","v":0},false,0,null,0,0,null,null,null,0,0,0,0,0,null,null,0,0,{"$f":"IF((IF(restoZero(NS33,25),(spaziIntermedi(NS33,25))+1,spaziIntermedi(NS33,25)))=(spaziIntermedi(NT33,25)),FALSE,TRUE)","v":true},0,{"$f":"+spaziIntermedi(NT33,25)-NV33","v":0},false,0,null,0,0,null,null,null,0,0,0,null,null,0,0,{"$f":"IF((IF(restoZero(OK33,25),(spaziIntermedi(OK33,25))+1,spaziIntermedi(OK33,25)))=(spaziIntermedi(OL33,25)),FALSE,TRUE)","v":true},0,{"$f":"+spaziIntermedi(OL33,25)-ON33","v":0},false,0,null,0,0,null,null,null,0,0,0,0,0,null,null,0,0,{"$f":"IF((IF(restoZero(PE33,25),(spaziIntermedi(PE33,25))+1,spaziIntermedi(PE33,25)))=(spaziIntermedi(PF33,25)),FALSE,TRUE)","v":true},0,{"$f":"+spaziIntermedi(PF33,25)-PH33","v":0},false,0,null,0,0,null,null,null,0,0,0,null,null,0,0,{"$f":"IF((IF(restoZero(PW33,25),(spaziIntermedi(PW33,25))+1,spaziIntermedi(PW33,25)))=(spaziIntermedi(PX33,25)),FALSE,TRUE)","v":true},0,{"$f":"+spaziIntermedi(PX33,25)-PZ33","v":0},false,0,null,0,0,null,null,null,0,0,0,0,0,null,null,0,0,{"$f":"IF((IF(restoZero(QQ33,25),(spaziIntermedi(QQ33,25))+1,spaziIntermedi(QQ33,25)))=(spaziIntermedi(QR33,25)),FALSE,TRUE)","v":true},0,{"$f":"+spaziIntermedi(QR33,25)-QT33","v":0},false,0,null,0,0,null,null,null,0,0,0,null,null,0,0,{"$f":"IF((IF(restoZero(RI33,25),(spaziIntermedi(RI33,25))+1,spaziIntermedi(RI33,25)))=(spaziIntermedi(RJ33,25)),FALSE,TRUE)","v":true},0,{"$f":"+spaziIntermedi(RJ33,25)-RL33","v":0},false,0,null,0,0,null,null,null,0,0,0,0,0,null,null,0,0,{"$f":"IF((IF(restoZero(SC33,25),(spaziIntermedi(SC33,25))+1,spaziIntermedi(SC33,25)))=(spaziIntermedi(SD33,25)),FALSE,TRUE)","v":true},0,{"$f":"+spaziIntermedi(SD33,25)-SF33","v":0},false,0,null,0,0,null,null,null,0,0,0,null,null,0,0,{"$f":"IF((IF(restoZero(SU33,25),(spaziIntermedi(SU33,25))+1,spaziIntermedi(SU33,25)))=(spaziIntermedi(SV33,25)),FALSE,TRUE)","v":true},0,{"$f":"+spaziIntermedi(SV33,25)-SX33","v":0},false,0,null,0,0,null,null,null,0,0,0,0,0]
[null,null,0,0,{"$f":"IF((IF(restoZero(C34,25),(spaziIntermedi(C34,25))+1,spaziIntermedi(C34,25)))=(spaziIntermedi(D34,25)),FALSE,TRUE)","v":true},0,{"$f":"+spaziIntermedi(D34,25)-F34","v":0},false,0,null,0,0,null,null,null,0,0,0,null,null,0,0,{"$f":"IF((IF(restoZero(U34,25),(spaziIntermedi(U34,25))+1,spaziIntermedi(U34,25)))=(spaziIntermedi(V34,25)),FALSE,TRUE)","v":true},0,{"$f":"+spaziIntermedi(V34,25)-X34","v":0},false,0,null,0,0,null,null,null,0,0,0,0,0,null,null,0,0,{"$f":"IF((IF(restoZero(AO34,25),(spaziIntermedi(AO34,25))+1,spaziIntermedi(AO34,25)))=(spaziIntermedi(AP34,25)),FALSE,TRUE)","v":true},0,{"$f":"+spaziIntermedi(AP34,25)-AR34","v":0},false,0,null,0,0,null,null,null,0,0,0,null,null,0,0,{"$f":"IF((IF(restoZero(BG34,25),(spaziIntermedi(BG34,25))+1,spaziIntermedi(BG34,25)))=(spaziIntermedi(BH34,25)),FALSE,TRUE)","v":true},0,{"$f":"+spaziIntermedi(BH34,25)-BJ34","v":0},false,0,null,0,0,null,null,null,0,0,0,0,0,null,null,0,0,{"$f":"IF((IF(restoZero(CA34,25),(spaziIntermedi(CA34,25))+1,spaziIntermedi(CA34,25)))=(spaziIntermedi(CB34,25)),FALSE,TRUE)","v":true},0,{"$f":"+spaziIntermedi(CB34,25)-CD34","v":0},false,0,null,0,0,null,null,null,0,0,0,null,null,0,0,{"$f":"IF((IF(restoZero(CS34,25),(spaziIntermedi(CS34,25))+1,spaziIntermedi(CS34,25)))=(spaziIntermedi(CT34,25)),FALSE,TRUE)","v":true},0,{"$f":"+spaziIntermedi(CT34,25)-CV34","v":0},false,0,null,0,0,null,null,null,0,0,0,0,0,null,null,0,0,{"$f":"IF((IF(restoZero(DM34,25),(spaziIntermedi(DM34,25))+1,spaziIntermedi(DM34,25)))=(spaziIntermedi(DN34,25)),FALSE,TRUE)","v":true},0,{"$f":"+spaziIntermedi(DN34,25)-DP34","v":0},false,0,null,0,0,null,null,null,0,0,0,null,null,0,0,{"$f":"IF((IF(restoZero(EE34,25),(spaziIntermedi(EE34,25))+1,spaziIntermedi(EE34,25)))=(spaziIntermedi(EF34,25)),FALSE,TRUE)","v":true},0,{"$f":"+spaziIntermedi(EF34,25)-EH34","v":0},false,0,null,0,0,null,null,null,0,0,0,0,0,null,null,0,0,{"$f":"IF((IF(restoZero(EY34,25),(spaziIntermedi(EY34,25))+1,spaziIntermedi(EY34,25)))=(spaziIntermedi(EZ34,25)),FALSE,TRUE)","v":true},0,{"$f":"+spaziIntermedi(EZ34,25)-FB34","v":0},false,0,null,0,0,null,null,null,0,0,0,null,null,0,0,{"$f":"IF((IF(restoZero(FQ34,25),(spaziIntermedi(FQ34,25))+1,spaziIntermedi(FQ34,25)))=(spaziIntermedi(FR34,25)),FALSE,TRUE)","v":true},0,{"$f":"+spaziIntermedi(FR34,25)-FT34","v":0},false,0,null,0,0,null,null,null,0,0,0,0,0,null,null,0,0,{"$f":"IF((IF(restoZero(GK34,25),(spaziIntermedi(GK34,25))+1,spaziIntermedi(GK34,25)))=(spaziIntermedi(GL34,25)),FALSE,TRUE)","v":true},0,{"$f":"+spaziIntermedi(GL34,25)-GN34","v":0},false,0,null,0,0,null,null,null,0,0,0,null,null,0,0,{"$f":"IF((IF(restoZero(HC34,25),(spaziIntermedi(HC34,25))+1,spaziIntermedi(HC34,25)))=(spaziIntermedi(HD34,25)),FALSE,TRUE)","v":true},0,{"$f":"+spaziIntermedi(HD34,25)-HF34","v":0},false,0,null,0,0,null,null,null,0,0,0,0,0,null,null,0,0,{"$f":"IF((IF(restoZero(HW34,25),(spaziIntermedi(HW34,25))+1,spaziIntermedi(HW34,25)))=(spaziIntermedi(HX34,25)),FALSE,TRUE)","v":true},0,{"$f":"+spaziIntermedi(HX34,25)-HZ34","v":0},false,0,null,0,0,null,null,null,0,0,0,null,null,0,0,{"$f":"IF((IF(restoZero(IO34,25),(spaziIntermedi(IO34,25))+1,spaziIntermedi(IO34,25)))=(spaziIntermedi(IP34,25)),FALSE,TRUE)","v":true},0,{"$f":"+spaziIntermedi(IP34,25)-IR34","v":0},false,0,null,0,0,null,null,null,0,0,0,0,0,null,null,0,0,{"$f":"IF((IF(restoZero(JI34,25),(spaziIntermedi(JI34,25))+1,spaziIntermedi(JI34,25)))=(spaziIntermedi(JJ34,25)),FALSE,TRUE)","v":true},0,{"$f":"+spaziIntermedi(JJ34,25)-JL34","v":0},false,0,null,0,0,null,null,null,0,0,0,null,null,0,0,{"$f":"IF((IF(restoZero(KA34,25),(spaziIntermedi(KA34,25))+1,spaziIntermedi(KA34,25)))=(spaziIntermedi(KB34,25)),FALSE,TRUE)","v":true},0,{"$f":"+spaziIntermedi(KB34,25)-KD34","v":0},false,0,null,0,0,null,null,null,0,0,0,0,0,null,null,0,0,{"$f":"IF((IF(restoZero(KU34,25),(spaziIntermedi(KU34,25))+1,spaziIntermedi(KU34,25)))=(spaziIntermedi(KV34,25)),FALSE,TRUE)","v":true},0,{"$f":"+spaziIntermedi(KV34,25)-KX34","v":0},false,0,null,0,0,null,null,null,0,0,0,null,null,0,0,{"$f":"IF((IF(restoZero(LM34,25),(spaziIntermedi(LM34,25))+1,spaziIntermedi(LM34,25)))=(spaziIntermedi(LN34,25)),FALSE,TRUE)","v":true},0,{"$f":"+spaziIntermedi(LN34,25)-LP34","v":0},false,0,null,0,0,null,null,null,0,0,0,0,0,null,null,0,0,{"$f":"IF((IF(restoZero(MG34,25),(spaziIntermedi(MG34,25))+1,spaziIntermedi(MG34,25)))=(spaziIntermedi(MH34,25)),FALSE,TRUE)","v":true},0,{"$f":"+spaziIntermedi(MH34,25)-MJ34","v":0},false,0,null,0,0,null,null,null,0,0,0,null,null,0,0,{"$f":"IF((IF(restoZero(MY34,25),(spaziIntermedi(MY34,25))+1,spaziIntermedi(MY34,25)))=(spaziIntermedi(MZ34,25)),FALSE,TRUE)","v":true},0,{"$f":"+spaziIntermedi(MZ34,25)-NB34","v":0},false,0,null,0,0,null,null,null,0,0,0,0,0,null,null,0,0,{"$f":"IF((IF(restoZero(NS34,25),(spaziIntermedi(NS34,25))+1,spaziIntermedi(NS34,25)))=(spaziIntermedi(NT34,25)),FALSE,TRUE)","v":true},0,{"$f":"+spaziIntermedi(NT34,25)-NV34","v":0},false,0,null,0,0,null,null,null,0,0,0,null,null,0,0,{"$f":"IF((IF(restoZero(OK34,25),(spaziIntermedi(OK34,25))+1,spaziIntermedi(OK34,25)))=(spaziIntermedi(OL34,25)),FALSE,TRUE)","v":true},0,{"$f":"+spaziIntermedi(OL34,25)-ON34","v":0},false,0,null,0,0,null,null,null,0,0,0,0,0,null,null,0,0,{"$f":"IF((IF(restoZero(PE34,25),(spaziIntermedi(PE34,25))+1,spaziIntermedi(PE34,25)))=(spaziIntermedi(PF34,25)),FALSE,TRUE)","v":true},0,{"$f":"+spaziIntermedi(PF34,25)-PH34","v":0},false,0,null,0,0,null,null,null,0,0,0,null,null,0,0,{"$f":"IF((IF(restoZero(PW34,25),(spaziIntermedi(PW34,25))+1,spaziIntermedi(PW34,25)))=(spaziIntermedi(PX34,25)),FALSE,TRUE)","v":true},0,{"$f":"+spaziIntermedi(PX34,25)-PZ34","v":0},false,0,null,0,0,null,null,null,0,0,0,0,0,null,null,0,0,{"$f":"IF((IF(restoZero(QQ34,25),(spaziIntermedi(QQ34,25))+1,spaziIntermedi(QQ34,25)))=(spaziIntermedi(QR34,25)),FALSE,TRUE)","v":true},0,{"$f":"+spaziIntermedi(QR34,25)-QT34","v":0},false,0,null,0,0,null,null,null,0,0,0,null,null,0,0,{"$f":"IF((IF(restoZero(RI34,25),(spaziIntermedi(RI34,25))+1,spaziIntermedi(RI34,25)))=(spaziIntermedi(RJ34,25)),FALSE,TRUE)","v":true},0,{"$f":"+spaziIntermedi(RJ34,25)-RL34","v":0},false,0,null,0,0,null,null,null,0,0,0,0,0,null,null,0,0,{"$f":"IF((IF(restoZero(SC34,25),(spaziIntermedi(SC34,25))+1,spaziIntermedi(SC34,25)))=(spaziIntermedi(SD34,25)),FALSE,TRUE)","v":true},0,{"$f":"+spaziIntermedi(SD34,25)-SF34","v":0},false,0,null,0,0,null,null,null,0,0,0,null,null,0,0,{"$f":"IF((IF(restoZero(SU34,25),(spaziIntermedi(SU34,25))+1,spaziIntermedi(SU34,25)))=(spaziIntermedi(SV34,25)),FALSE,TRUE)","v":true},0,{"$f":"+spaziIntermedi(SV34,25)-SX34","v":0},false,0,null,0,0,null,null,null,0,0,0,0,0]
[null,null,0,0,{"$f":"IF((IF(restoZero(C35,25),(spaziIntermedi(C35,25))+1,spaziIntermedi(C35,25)))=(spaziIntermedi(D35,25)),FALSE,TRUE)","v":true},0,{"$f":"+spaziIntermedi(D35,25)-F35","v":0},false,0,null,0,0,null,null,null,0,0,0,null,null,0,0,{"$f":"IF((IF(restoZero(U35,25),(spaziIntermedi(U35,25))+1,spaziIntermedi(U35,25)))=(spaziIntermedi(V35,25)),FALSE,TRUE)","v":true},0,{"$f":"+spaziIntermedi(V35,25)-X35","v":0},false,0,null,0,0,null,null,null,0,0,0,0,0,null,null,0,0,{"$f":"IF((IF(restoZero(AO35,25),(spaziIntermedi(AO35,25))+1,spaziIntermedi(AO35,25)))=(spaziIntermedi(AP35,25)),FALSE,TRUE)","v":true},0,{"$f":"+spaziIntermedi(AP35,25)-AR35","v":0},false,0,null,0,0,null,null,null,0,0,0,null,null,0,0,{"$f":"IF((IF(restoZero(BG35,25),(spaziIntermedi(BG35,25))+1,spaziIntermedi(BG35,25)))=(spaziIntermedi(BH35,25)),FALSE,TRUE)","v":true},0,{"$f":"+spaziIntermedi(BH35,25)-BJ35","v":0},false,0,null,0,0,null,null,null,0,0,0,0,0,null,null,0,0,{"$f":"IF((IF(restoZero(CA35,25),(spaziIntermedi(CA35,25))+1,spaziIntermedi(CA35,25)))=(spaziIntermedi(CB35,25)),FALSE,TRUE)","v":true},0,{"$f":"+spaziIntermedi(CB35,25)-CD35","v":0},false,0,null,0,0,null,null,null,0,0,0,null,null,0,0,{"$f":"IF((IF(restoZero(CS35,25),(spaziIntermedi(CS35,25))+1,spaziIntermedi(CS35,25)))=(spaziIntermedi(CT35,25)),FALSE,TRUE)","v":true},0,{"$f":"+spaziIntermedi(CT35,25)-CV35","v":0},false,0,null,0,0,null,null,null,0,0,0,0,0,null,null,0,0,{"$f":"IF((IF(restoZero(DM35,25),(spaziIntermedi(DM35,25))+1,spaziIntermedi(DM35,25)))=(spaziIntermedi(DN35,25)),FALSE,TRUE)","v":true},0,{"$f":"+spaziIntermedi(DN35,25)-DP35","v":0},false,0,null,0,0,null,null,null,0,0,0,null,null,0,0,{"$f":"IF((IF(restoZero(EE35,25),(spaziIntermedi(EE35,25))+1,spaziIntermedi(EE35,25)))=(spaziIntermedi(EF35,25)),FALSE,TRUE)","v":true},0,{"$f":"+spaziIntermedi(EF35,25)-EH35","v":0},false,0,null,0,0,null,null,null,0,0,0,0,0,null,null,0,0,{"$f":"IF((IF(restoZero(EY35,25),(spaziIntermedi(EY35,25))+1,spaziIntermedi(EY35,25)))=(spaziIntermedi(EZ35,25)),FALSE,TRUE)","v":true},0,{"$f":"+spaziIntermedi(EZ35,25)-FB35","v":0},false,0,null,0,0,null,null,null,0,0,0,null,null,0,0,{"$f":"IF((IF(restoZero(FQ35,25),(spaziIntermedi(FQ35,25))+1,spaziIntermedi(FQ35,25)))=(spaziIntermedi(FR35,25)),FALSE,TRUE)","v":true},0,{"$f":"+spaziIntermedi(FR35,25)-FT35","v":0},false,0,null,0,0,null,null,null,0,0,0,0,0,null,null,0,0,{"$f":"IF((IF(restoZero(GK35,25),(spaziIntermedi(GK35,25))+1,spaziIntermedi(GK35,25)))=(spaziIntermedi(GL35,25)),FALSE,TRUE)","v":true},0,{"$f":"+spaziIntermedi(GL35,25)-GN35","v":0},false,0,null,0,0,null,null,null,0,0,0,null,null,0,0,{"$f":"IF((IF(restoZero(HC35,25),(spaziIntermedi(HC35,25))+1,spaziIntermedi(HC35,25)))=(spaziIntermedi(HD35,25)),FALSE,TRUE)","v":true},0,{"$f":"+spaziIntermedi(HD35,25)-HF35","v":0},false,0,null,0,0,null,null,null,0,0,0,0,0,null,null,0,0,{"$f":"IF((IF(restoZero(HW35,25),(spaziIntermedi(HW35,25))+1,spaziIntermedi(HW35,25)))=(spaziIntermedi(HX35,25)),FALSE,TRUE)","v":true},0,{"$f":"+spaziIntermedi(HX35,25)-HZ35","v":0},false,0,null,0,0,null,null,null,0,0,0,null,null,0,0,{"$f":"IF((IF(restoZero(IO35,25),(spaziIntermedi(IO35,25))+1,spaziIntermedi(IO35,25)))=(spaziIntermedi(IP35,25)),FALSE,TRUE)","v":true},0,{"$f":"+spaziIntermedi(IP35,25)-IR35","v":0},false,0,null,0,0,null,null,null,0,0,0,0,0,null,null,0,0,{"$f":"IF((IF(restoZero(JI35,25),(spaziIntermedi(JI35,25))+1,spaziIntermedi(JI35,25)))=(spaziIntermedi(JJ35,25)),FALSE,TRUE)","v":true},0,{"$f":"+spaziIntermedi(JJ35,25)-JL35","v":0},false,0,null,0,0,null,null,null,0,0,0,null,null,0,0,{"$f":"IF((IF(restoZero(KA35,25),(spaziIntermedi(KA35,25))+1,spaziIntermedi(KA35,25)))=(spaziIntermedi(KB35,25)),FALSE,TRUE)","v":true},0,{"$f":"+spaziIntermedi(KB35,25)-KD35","v":0},false,0,null,0,0,null,null,null,0,0,0,0,0,null,null,0,0,{"$f":"IF((IF(restoZero(KU35,25),(spaziIntermedi(KU35,25))+1,spaziIntermedi(KU35,25)))=(spaziIntermedi(KV35,25)),FALSE,TRUE)","v":true},0,{"$f":"+spaziIntermedi(KV35,25)-KX35","v":0},false,0,null,0,0,null,null,null,0,0,0,null,null,0,0,{"$f":"IF((IF(restoZero(LM35,25),(spaziIntermedi(LM35,25))+1,spaziIntermedi(LM35,25)))=(spaziIntermedi(LN35,25)),FALSE,TRUE)","v":true},0,{"$f":"+spaziIntermedi(LN35,25)-LP35","v":0},false,0,null,0,0,null,null,null,0,0,0,0,0,null,null,0,0,{"$f":"IF((IF(restoZero(MG35,25),(spaziIntermedi(MG35,25))+1,spaziIntermedi(MG35,25)))=(spaziIntermedi(MH35,25)),FALSE,TRUE)","v":true},0,{"$f":"+spaziIntermedi(MH35,25)-MJ35","v":0},false,0,null,0,0,null,null,null,0,0,0,null,null,0,0,{"$f":"IF((IF(restoZero(MY35,25),(spaziIntermedi(MY35,25))+1,spaziIntermedi(MY35,25)))=(spaziIntermedi(MZ35,25)),FALSE,TRUE)","v":true},0,{"$f":"+spaziIntermedi(MZ35,25)-NB35","v":0},false,0,null,0,0,null,null,null,0,0,0,0,0,null,null,0,0,{"$f":"IF((IF(restoZero(NS35,25),(spaziIntermedi(NS35,25))+1,spaziIntermedi(NS35,25)))=(spaziIntermedi(NT35,25)),FALSE,TRUE)","v":true},0,{"$f":"+spaziIntermedi(NT35,25)-NV35","v":0},false,0,null,0,0,null,null,null,0,0,0,null,null,0,0,{"$f":"IF((IF(restoZero(OK35,25),(spaziIntermedi(OK35,25))+1,spaziIntermedi(OK35,25)))=(spaziIntermedi(OL35,25)),FALSE,TRUE)","v":true},0,{"$f":"+spaziIntermedi(OL35,25)-ON35","v":0},false,0,null,0,0,null,null,null,0,0,0,0,0,null,null,0,0,{"$f":"IF((IF(restoZero(PE35,25),(spaziIntermedi(PE35,25))+1,spaziIntermedi(PE35,25)))=(spaziIntermedi(PF35,25)),FALSE,TRUE)","v":true},0,{"$f":"+spaziIntermedi(PF35,25)-PH35","v":0},false,0,null,0,0,null,null,null,0,0,0,null,null,0,0,{"$f":"IF((IF(restoZero(PW35,25),(spaziIntermedi(PW35,25))+1,spaziIntermedi(PW35,25)))=(spaziIntermedi(PX35,25)),FALSE,TRUE)","v":true},0,{"$f":"+spaziIntermedi(PX35,25)-PZ35","v":0},false,0,null,0,0,null,null,null,0,0,0,0,0,null,null,0,0,{"$f":"IF((IF(restoZero(QQ35,25),(spaziIntermedi(QQ35,25))+1,spaziIntermedi(QQ35,25)))=(spaziIntermedi(QR35,25)),FALSE,TRUE)","v":true},0,{"$f":"+spaziIntermedi(QR35,25)-QT35","v":0},false,0,null,0,0,null,null,null,0,0,0,null,null,0,0,{"$f":"IF((IF(restoZero(RI35,25),(spaziIntermedi(RI35,25))+1,spaziIntermedi(RI35,25)))=(spaziIntermedi(RJ35,25)),FALSE,TRUE)","v":true},0,{"$f":"+spaziIntermedi(RJ35,25)-RL35","v":0},false,0,null,0,0,null,null,null,0,0,0,0,0,null,null,0,0,{"$f":"IF((IF(restoZero(SC35,25),(spaziIntermedi(SC35,25))+1,spaziIntermedi(SC35,25)))=(spaziIntermedi(SD35,25)),FALSE,TRUE)","v":true},0,{"$f":"+spaziIntermedi(SD35,25)-SF35","v":0},false,0,null,0,0,null,null,null,0,0,0,null,null,0,0,{"$f":"IF((IF(restoZero(SU35,25),(spaziIntermedi(SU35,25))+1,spaziIntermedi(SU35,25)))=(spaziIntermedi(SV35,25)),FALSE,TRUE)","v":true},0,{"$f":"+spaziIntermedi(SV35,25)-SX35","v":0},false,0,null,0,0,null,null,null,0,0,0,0,0]
[null,null,0,0,{"$f":"IF((IF(restoZero(C36,25),(spaziIntermedi(C36,25))+1,spaziIntermedi(C36,25)))=(spaziIntermedi(D36,25)),FALSE,TRUE)","v":true},0,{"$f":"+spaziIntermedi(D36,25)-F36","v":0},false,0,null,0,0,null,null,null,0,0,0,null,null,0,0,{"$f":"IF((IF(restoZero(U36,25),(spaziIntermedi(U36,25))+1,spaziIntermedi(U36,25)))=(spaziIntermedi(V36,25)),FALSE,TRUE)","v":true},0,{"$f":"+spaziIntermedi(V36,25)-X36","v":0},false,0,null,0,0,null,null,null,0,0,0,0,0,null,null,0,0,{"$f":"IF((IF(restoZero(AO36,25),(spaziIntermedi(AO36,25))+1,spaziIntermedi(AO36,25)))=(spaziIntermedi(AP36,25)),FALSE,TRUE)","v":true},0,{"$f":"+spaziIntermedi(AP36,25)-AR36","v":0},false,0,null,0,0,null,null,null,0,0,0,null,null,0,0,{"$f":"IF((IF(restoZero(BG36,25),(spaziIntermedi(BG36,25))+1,spaziIntermedi(BG36,25)))=(spaziIntermedi(BH36,25)),FALSE,TRUE)","v":true},0,{"$f":"+spaziIntermedi(BH36,25)-BJ36","v":0},false,0,null,0,0,null,null,null,0,0,0,0,0,null,null,0,0,{"$f":"IF((IF(restoZero(CA36,25),(spaziIntermedi(CA36,25))+1,spaziIntermedi(CA36,25)))=(spaziIntermedi(CB36,25)),FALSE,TRUE)","v":true},0,{"$f":"+spaziIntermedi(CB36,25)-CD36","v":0},false,0,null,0,0,null,null,null,0,0,0,null,null,0,0,{"$f":"IF((IF(restoZero(CS36,25),(spaziIntermedi(CS36,25))+1,spaziIntermedi(CS36,25)))=(spaziIntermedi(CT36,25)),FALSE,TRUE)","v":true},0,{"$f":"+spaziIntermedi(CT36,25)-CV36","v":0},false,0,null,0,0,null,null,null,0,0,0,0,0,null,null,0,0,{"$f":"IF((IF(restoZero(DM36,25),(spaziIntermedi(DM36,25))+1,spaziIntermedi(DM36,25)))=(spaziIntermedi(DN36,25)),FALSE,TRUE)","v":true},0,{"$f":"+spaziIntermedi(DN36,25)-DP36","v":0},false,0,null,0,0,null,null,null,0,0,0,null,null,0,0,{"$f":"IF((IF(restoZero(EE36,25),(spaziIntermedi(EE36,25))+1,spaziIntermedi(EE36,25)))=(spaziIntermedi(EF36,25)),FALSE,TRUE)","v":true},0,{"$f":"+spaziIntermedi(EF36,25)-EH36","v":0},false,0,null,0,0,null,null,null,0,0,0,0,0,null,null,0,0,{"$f":"IF((IF(restoZero(EY36,25),(spaziIntermedi(EY36,25))+1,spaziIntermedi(EY36,25)))=(spaziIntermedi(EZ36,25)),FALSE,TRUE)","v":true},0,{"$f":"+spaziIntermedi(EZ36,25)-FB36","v":0},false,0,null,0,0,null,null,null,0,0,0,null,null,0,0,{"$f":"IF((IF(restoZero(FQ36,25),(spaziIntermedi(FQ36,25))+1,spaziIntermedi(FQ36,25)))=(spaziIntermedi(FR36,25)),FALSE,TRUE)","v":true},0,{"$f":"+spaziIntermedi(FR36,25)-FT36","v":0},false,0,null,0,0,null,null,null,0,0,0,0,0,null,null,0,0,{"$f":"IF((IF(restoZero(GK36,25),(spaziIntermedi(GK36,25))+1,spaziIntermedi(GK36,25)))=(spaziIntermedi(GL36,25)),FALSE,TRUE)","v":true},0,{"$f":"+spaziIntermedi(GL36,25)-GN36","v":0},false,0,null,0,0,null,null,null,0,0,0,null,null,0,0,{"$f":"IF((IF(restoZero(HC36,25),(spaziIntermedi(HC36,25))+1,spaziIntermedi(HC36,25)))=(spaziIntermedi(HD36,25)),FALSE,TRUE)","v":true},0,{"$f":"+spaziIntermedi(HD36,25)-HF36","v":0},false,0,null,0,0,null,null,null,0,0,0,0,0,null,null,0,0,{"$f":"IF((IF(restoZero(HW36,25),(spaziIntermedi(HW36,25))+1,spaziIntermedi(HW36,25)))=(spaziIntermedi(HX36,25)),FALSE,TRUE)","v":true},0,{"$f":"+spaziIntermedi(HX36,25)-HZ36","v":0},false,0,null,0,0,null,null,null,0,0,0,null,null,0,0,{"$f":"IF((IF(restoZero(IO36,25),(spaziIntermedi(IO36,25))+1,spaziIntermedi(IO36,25)))=(spaziIntermedi(IP36,25)),FALSE,TRUE)","v":true},0,{"$f":"+spaziIntermedi(IP36,25)-IR36","v":0},false,0,null,0,0,null,null,null,0,0,0,0,0,null,null,0,0,{"$f":"IF((IF(restoZero(JI36,25),(spaziIntermedi(JI36,25))+1,spaziIntermedi(JI36,25)))=(spaziIntermedi(JJ36,25)),FALSE,TRUE)","v":true},0,{"$f":"+spaziIntermedi(JJ36,25)-JL36","v":0},false,0,null,0,0,null,null,null,0,0,0,null,null,0,0,{"$f":"IF((IF(restoZero(KA36,25),(spaziIntermedi(KA36,25))+1,spaziIntermedi(KA36,25)))=(spaziIntermedi(KB36,25)),FALSE,TRUE)","v":true},0,{"$f":"+spaziIntermedi(KB36,25)-KD36","v":0},false,0,null,0,0,null,null,null,0,0,0,0,0,null,null,0,0,{"$f":"IF((IF(restoZero(KU36,25),(spaziIntermedi(KU36,25))+1,spaziIntermedi(KU36,25)))=(spaziIntermedi(KV36,25)),FALSE,TRUE)","v":true},0,{"$f":"+spaziIntermedi(KV36,25)-KX36","v":0},false,0,null,0,0,null,null,null,0,0,0,null,null,0,0,{"$f":"IF((IF(restoZero(LM36,25),(spaziIntermedi(LM36,25))+1,spaziIntermedi(LM36,25)))=(spaziIntermedi(LN36,25)),FALSE,TRUE)","v":true},0,{"$f":"+spaziIntermedi(LN36,25)-LP36","v":0},false,0,null,0,0,null,null,null,0,0,0,0,0,null,null,0,0,{"$f":"IF((IF(restoZero(MG36,25),(spaziIntermedi(MG36,25))+1,spaziIntermedi(MG36,25)))=(spaziIntermedi(MH36,25)),FALSE,TRUE)","v":true},0,{"$f":"+spaziIntermedi(MH36,25)-MJ36","v":0},false,0,null,0,0,null,null,null,0,0,0,null,null,0,0,{"$f":"IF((IF(restoZero(MY36,25),(spaziIntermedi(MY36,25))+1,spaziIntermedi(MY36,25)))=(spaziIntermedi(MZ36,25)),FALSE,TRUE)","v":true},0,{"$f":"+spaziIntermedi(MZ36,25)-NB36","v":0},false,0,null,0,0,null,null,null,0,0,0,0,0,null,null,0,0,{"$f":"IF((IF(restoZero(NS36,25),(spaziIntermedi(NS36,25))+1,spaziIntermedi(NS36,25)))=(spaziIntermedi(NT36,25)),FALSE,TRUE)","v":true},0,{"$f":"+spaziIntermedi(NT36,25)-NV36","v":0},false,0,null,0,0,null,null,null,0,0,0,null,null,0,0,{"$f":"IF((IF(restoZero(OK36,25),(spaziIntermedi(OK36,25))+1,spaziIntermedi(OK36,25)))=(spaziIntermedi(OL36,25)),FALSE,TRUE)","v":true},0,{"$f":"+spaziIntermedi(OL36,25)-ON36","v":0},false,0,null,0,0,null,null,null,0,0,0,0,0,null,null,0,0,{"$f":"IF((IF(restoZero(PE36,25),(spaziIntermedi(PE36,25))+1,spaziIntermedi(PE36,25)))=(spaziIntermedi(PF36,25)),FALSE,TRUE)","v":true},0,{"$f":"+spaziIntermedi(PF36,25)-PH36","v":0},false,0,null,0,0,null,null,null,0,0,0,null,null,0,0,{"$f":"IF((IF(restoZero(PW36,25),(spaziIntermedi(PW36,25))+1,spaziIntermedi(PW36,25)))=(spaziIntermedi(PX36,25)),FALSE,TRUE)","v":true},0,{"$f":"+spaziIntermedi(PX36,25)-PZ36","v":0},false,0,null,0,0,null,null,null,0,0,0,0,0,null,null,0,0,{"$f":"IF((IF(restoZero(QQ36,25),(spaziIntermedi(QQ36,25))+1,spaziIntermedi(QQ36,25)))=(spaziIntermedi(QR36,25)),FALSE,TRUE)","v":true},0,{"$f":"+spaziIntermedi(QR36,25)-QT36","v":0},false,0,null,0,0,null,null,null,0,0,0,null,null,0,0,{"$f":"IF((IF(restoZero(RI36,25),(spaziIntermedi(RI36,25))+1,spaziIntermedi(RI36,25)))=(spaziIntermedi(RJ36,25)),FALSE,TRUE)","v":true},0,{"$f":"+spaziIntermedi(RJ36,25)-RL36","v":0},false,0,null,0,0,null,null,null,0,0,0,0,0,null,null,0,0,{"$f":"IF((IF(restoZero(SC36,25),(spaziIntermedi(SC36,25))+1,spaziIntermedi(SC36,25)))=(spaziIntermedi(SD36,25)),FALSE,TRUE)","v":true},0,{"$f":"+spaziIntermedi(SD36,25)-SF36","v":0},false,0,null,0,0,null,null,null,0,0,0,null,null,0,0,{"$f":"IF((IF(restoZero(SU36,25),(spaziIntermedi(SU36,25))+1,spaziIntermedi(SU36,25)))=(spaziIntermedi(SV36,25)),FALSE,TRUE)","v":true},0,{"$f":"+spaziIntermedi(SV36,25)-SX36","v":0},false,0,null,0,0,null,null,null,0,0,0,0,0]
[null,null,0,0,{"$f":"IF((IF(restoZero(C37,25),(spaziIntermedi(C37,25))+1,spaziIntermedi(C37,25)))=(spaziIntermedi(D37,25)),FALSE,TRUE)","v":true},0,{"$f":"+spaziIntermedi(D37,25)-F37","v":0},false,0,null,0,0,null,null,null,0,0,0,null,null,0,0,{"$f":"IF((IF(restoZero(U37,25),(spaziIntermedi(U37,25))+1,spaziIntermedi(U37,25)))=(spaziIntermedi(V37,25)),FALSE,TRUE)","v":true},0,{"$f":"+spaziIntermedi(V37,25)-X37","v":0},false,0,null,0,0,null,null,null,0,0,0,0,0,null,null,0,0,{"$f":"IF((IF(restoZero(AO37,25),(spaziIntermedi(AO37,25))+1,spaziIntermedi(AO37,25)))=(spaziIntermedi(AP37,25)),FALSE,TRUE)","v":true},0,{"$f":"+spaziIntermedi(AP37,25)-AR37","v":0},false,0,null,0,0,null,null,null,0,0,0,null,null,0,0,{"$f":"IF((IF(restoZero(BG37,25),(spaziIntermedi(BG37,25))+1,spaziIntermedi(BG37,25)))=(spaziIntermedi(BH37,25)),FALSE,TRUE)","v":true},0,{"$f":"+spaziIntermedi(BH37,25)-BJ37","v":0},false,0,null,0,0,null,null,null,0,0,0,0,0,null,null,0,0,{"$f":"IF((IF(restoZero(CA37,25),(spaziIntermedi(CA37,25))+1,spaziIntermedi(CA37,25)))=(spaziIntermedi(CB37,25)),FALSE,TRUE)","v":true},0,{"$f":"+spaziIntermedi(CB37,25)-CD37","v":0},false,0,null,0,0,null,null,null,0,0,0,null,null,0,0,{"$f":"IF((IF(restoZero(CS37,25),(spaziIntermedi(CS37,25))+1,spaziIntermedi(CS37,25)))=(spaziIntermedi(CT37,25)),FALSE,TRUE)","v":true},0,{"$f":"+spaziIntermedi(CT37,25)-CV37","v":0},false,0,null,0,0,null,null,null,0,0,0,0,0,null,null,0,0,{"$f":"IF((IF(restoZero(DM37,25),(spaziIntermedi(DM37,25))+1,spaziIntermedi(DM37,25)))=(spaziIntermedi(DN37,25)),FALSE,TRUE)","v":true},0,{"$f":"+spaziIntermedi(DN37,25)-DP37","v":0},false,0,null,0,0,null,null,null,0,0,0,null,null,0,0,{"$f":"IF((IF(restoZero(EE37,25),(spaziIntermedi(EE37,25))+1,spaziIntermedi(EE37,25)))=(spaziIntermedi(EF37,25)),FALSE,TRUE)","v":true},0,{"$f":"+spaziIntermedi(EF37,25)-EH37","v":0},false,0,null,0,0,null,null,null,0,0,0,0,0,null,null,0,0,{"$f":"IF((IF(restoZero(EY37,25),(spaziIntermedi(EY37,25))+1,spaziIntermedi(EY37,25)))=(spaziIntermedi(EZ37,25)),FALSE,TRUE)","v":true},0,{"$f":"+spaziIntermedi(EZ37,25)-FB37","v":0},false,0,null,0,0,null,null,null,0,0,0,null,null,0,0,{"$f":"IF((IF(restoZero(FQ37,25),(spaziIntermedi(FQ37,25))+1,spaziIntermedi(FQ37,25)))=(spaziIntermedi(FR37,25)),FALSE,TRUE)","v":true},0,{"$f":"+spaziIntermedi(FR37,25)-FT37","v":0},false,0,null,0,0,null,null,null,0,0,0,0,0,null,null,0,0,{"$f":"IF((IF(restoZero(GK37,25),(spaziIntermedi(GK37,25))+1,spaziIntermedi(GK37,25)))=(spaziIntermedi(GL37,25)),FALSE,TRUE)","v":true},0,{"$f":"+spaziIntermedi(GL37,25)-GN37","v":0},false,0,null,0,0,null,null,null,0,0,0,null,null,0,0,{"$f":"IF((IF(restoZero(HC37,25),(spaziIntermedi(HC37,25))+1,spaziIntermedi(HC37,25)))=(spaziIntermedi(HD37,25)),FALSE,TRUE)","v":true},0,{"$f":"+spaziIntermedi(HD37,25)-HF37","v":0},false,0,null,0,0,null,null,null,0,0,0,0,0,null,null,0,0,{"$f":"IF((IF(restoZero(HW37,25),(spaziIntermedi(HW37,25))+1,spaziIntermedi(HW37,25)))=(spaziIntermedi(HX37,25)),FALSE,TRUE)","v":true},0,{"$f":"+spaziIntermedi(HX37,25)-HZ37","v":0},false,0,null,0,0,null,null,null,0,0,0,null,null,0,0,{"$f":"IF((IF(restoZero(IO37,25),(spaziIntermedi(IO37,25))+1,spaziIntermedi(IO37,25)))=(spaziIntermedi(IP37,25)),FALSE,TRUE)","v":true},0,{"$f":"+spaziIntermedi(IP37,25)-IR37","v":0},false,0,null,0,0,null,null,null,0,0,0,0,0,null,null,0,0,{"$f":"IF((IF(restoZero(JI37,25),(spaziIntermedi(JI37,25))+1,spaziIntermedi(JI37,25)))=(spaziIntermedi(JJ37,25)),FALSE,TRUE)","v":true},0,{"$f":"+spaziIntermedi(JJ37,25)-JL37","v":0},false,0,null,0,0,null,null,null,0,0,0,null,null,0,0,{"$f":"IF((IF(restoZero(KA37,25),(spaziIntermedi(KA37,25))+1,spaziIntermedi(KA37,25)))=(spaziIntermedi(KB37,25)),FALSE,TRUE)","v":true},0,{"$f":"+spaziIntermedi(KB37,25)-KD37","v":0},false,0,null,0,0,null,null,null,0,0,0,0,0,null,null,0,0,{"$f":"IF((IF(restoZero(KU37,25),(spaziIntermedi(KU37,25))+1,spaziIntermedi(KU37,25)))=(spaziIntermedi(KV37,25)),FALSE,TRUE)","v":true},0,{"$f":"+spaziIntermedi(KV37,25)-KX37","v":0},false,0,null,0,0,null,null,null,0,0,0,null,null,0,0,{"$f":"IF((IF(restoZero(LM37,25),(spaziIntermedi(LM37,25))+1,spaziIntermedi(LM37,25)))=(spaziIntermedi(LN37,25)),FALSE,TRUE)","v":true},0,{"$f":"+spaziIntermedi(LN37,25)-LP37","v":0},false,0,null,0,0,null,null,null,0,0,0,0,0,null,null,0,0,{"$f":"IF((IF(restoZero(MG37,25),(spaziIntermedi(MG37,25))+1,spaziIntermedi(MG37,25)))=(spaziIntermedi(MH37,25)),FALSE,TRUE)","v":true},0,{"$f":"+spaziIntermedi(MH37,25)-MJ37","v":0},false,0,null,0,0,null,null,null,0,0,0,null,null,0,0,{"$f":"IF((IF(restoZero(MY37,25),(spaziIntermedi(MY37,25))+1,spaziIntermedi(MY37,25)))=(spaziIntermedi(MZ37,25)),FALSE,TRUE)","v":true},0,{"$f":"+spaziIntermedi(MZ37,25)-NB37","v":0},false,0,null,0,0,null,null,null,0,0,0,0,0,null,null,0,0,{"$f":"IF((IF(restoZero(NS37,25),(spaziIntermedi(NS37,25))+1,spaziIntermedi(NS37,25)))=(spaziIntermedi(NT37,25)),FALSE,TRUE)","v":true},0,{"$f":"+spaziIntermedi(NT37,25)-NV37","v":0},false,0,null,0,0,null,null,null,0,0,0,null,null,0,0,{"$f":"IF((IF(restoZero(OK37,25),(spaziIntermedi(OK37,25))+1,spaziIntermedi(OK37,25)))=(spaziIntermedi(OL37,25)),FALSE,TRUE)","v":true},0,{"$f":"+spaziIntermedi(OL37,25)-ON37","v":0},false,0,null,0,0,null,null,null,0,0,0,0,0,null,null,0,0,{"$f":"IF((IF(restoZero(PE37,25),(spaziIntermedi(PE37,25))+1,spaziIntermedi(PE37,25)))=(spaziIntermedi(PF37,25)),FALSE,TRUE)","v":true},0,{"$f":"+spaziIntermedi(PF37,25)-PH37","v":0},false,0,null,0,0,null,null,null,0,0,0,null,null,0,0,{"$f":"IF((IF(restoZero(PW37,25),(spaziIntermedi(PW37,25))+1,spaziIntermedi(PW37,25)))=(spaziIntermedi(PX37,25)),FALSE,TRUE)","v":true},0,{"$f":"+spaziIntermedi(PX37,25)-PZ37","v":0},false,0,null,0,0,null,null,null,0,0,0,0,0,null,null,0,0,{"$f":"IF((IF(restoZero(QQ37,25),(spaziIntermedi(QQ37,25))+1,spaziIntermedi(QQ37,25)))=(spaziIntermedi(QR37,25)),FALSE,TRUE)","v":true},0,{"$f":"+spaziIntermedi(QR37,25)-QT37","v":0},false,0,null,0,0,null,null,null,0,0,0,null,null,0,0,{"$f":"IF((IF(restoZero(RI37,25),(spaziIntermedi(RI37,25))+1,spaziIntermedi(RI37,25)))=(spaziIntermedi(RJ37,25)),FALSE,TRUE)","v":true},0,{"$f":"+spaziIntermedi(RJ37,25)-RL37","v":0},false,0,null,0,0,null,null,null,0,0,0,0,0,null,null,0,0,{"$f":"IF((IF(restoZero(SC37,25),(spaziIntermedi(SC37,25))+1,spaziIntermedi(SC37,25)))=(spaziIntermedi(SD37,25)),FALSE,TRUE)","v":true},0,{"$f":"+spaziIntermedi(SD37,25)-SF37","v":0},false,0,null,0,0,null,null,null,0,0,0,null,null,0,0,{"$f":"IF((IF(restoZero(SU37,25),(spaziIntermedi(SU37,25))+1,spaziIntermedi(SU37,25)))=(spaziIntermedi(SV37,25)),FALSE,TRUE)","v":true},0,{"$f":"+spaziIntermedi(SV37,25)-SX37","v":0},false,0,null,0,0,null,null,null,0,0,0,0,0]
[null,null,0,0,{"$f":"IF((IF(restoZero(C38,25),(spaziIntermedi(C38,25))+1,spaziIntermedi(C38,25)))=(spaziIntermedi(D38,25)),FALSE,TRUE)","v":true},0,{"$f":"+spaziIntermedi(D38,25)-F38","v":0},false,0,null,0,0,null,null,null,0,0,0,null,null,0,0,{"$f":"IF((IF(restoZero(U38,25),(spaziIntermedi(U38,25))+1,spaziIntermedi(U38,25)))=(spaziIntermedi(V38,25)),FALSE,TRUE)","v":true},0,{"$f":"+spaziIntermedi(V38,25)-X38","v":0},false,0,null,0,0,null,null,null,0,0,0,0,0,null,null,0,0,{"$f":"IF((IF(restoZero(AO38,25),(spaziIntermedi(AO38,25))+1,spaziIntermedi(AO38,25)))=(spaziIntermedi(AP38,25)),FALSE,TRUE)","v":true},0,{"$f":"+spaziIntermedi(AP38,25)-AR38","v":0},false,0,null,0,0,null,null,null,0,0,0,null,null,0,0,{"$f":"IF((IF(restoZero(BG38,25),(spaziIntermedi(BG38,25))+1,spaziIntermedi(BG38,25)))=(spaziIntermedi(BH38,25)),FALSE,TRUE)","v":true},0,{"$f":"+spaziIntermedi(BH38,25)-BJ38","v":0},false,0,null,0,0,null,null,null,0,0,0,0,0,null,null,0,0,{"$f":"IF((IF(restoZero(CA38,25),(spaziIntermedi(CA38,25))+1,spaziIntermedi(CA38,25)))=(spaziIntermedi(CB38,25)),FALSE,TRUE)","v":true},0,{"$f":"+spaziIntermedi(CB38,25)-CD38","v":0},false,0,null,0,0,null,null,null,0,0,0,null,null,0,0,{"$f":"IF((IF(restoZero(CS38,25),(spaziIntermedi(CS38,25))+1,spaziIntermedi(CS38,25)))=(spaziIntermedi(CT38,25)),FALSE,TRUE)","v":true},0,{"$f":"+spaziIntermedi(CT38,25)-CV38","v":0},false,0,null,0,0,null,null,null,0,0,0,0,0,null,null,0,0,{"$f":"IF((IF(restoZero(DM38,25),(spaziIntermedi(DM38,25))+1,spaziIntermedi(DM38,25)))=(spaziIntermedi(DN38,25)),FALSE,TRUE)","v":true},0,{"$f":"+spaziIntermedi(DN38,25)-DP38","v":0},false,0,null,0,0,null,null,null,0,0,0,null,null,0,0,{"$f":"IF((IF(restoZero(EE38,25),(spaziIntermedi(EE38,25))+1,spaziIntermedi(EE38,25)))=(spaziIntermedi(EF38,25)),FALSE,TRUE)","v":true},0,{"$f":"+spaziIntermedi(EF38,25)-EH38","v":0},false,0,null,0,0,null,null,null,0,0,0,0,0,null,null,0,0,{"$f":"IF((IF(restoZero(EY38,25),(spaziIntermedi(EY38,25))+1,spaziIntermedi(EY38,25)))=(spaziIntermedi(EZ38,25)),FALSE,TRUE)","v":true},0,{"$f":"+spaziIntermedi(EZ38,25)-FB38","v":0},false,0,null,0,0,null,null,null,0,0,0,null,null,0,0,{"$f":"IF((IF(restoZero(FQ38,25),(spaziIntermedi(FQ38,25))+1,spaziIntermedi(FQ38,25)))=(spaziIntermedi(FR38,25)),FALSE,TRUE)","v":true},0,{"$f":"+spaziIntermedi(FR38,25)-FT38","v":0},false,0,null,0,0,null,null,null,0,0,0,0,0,null,null,0,0,{"$f":"IF((IF(restoZero(GK38,25),(spaziIntermedi(GK38,25))+1,spaziIntermedi(GK38,25)))=(spaziIntermedi(GL38,25)),FALSE,TRUE)","v":true},0,{"$f":"+spaziIntermedi(GL38,25)-GN38","v":0},false,0,null,0,0,null,null,null,0,0,0,null,null,0,0,{"$f":"IF((IF(restoZero(HC38,25),(spaziIntermedi(HC38,25))+1,spaziIntermedi(HC38,25)))=(spaziIntermedi(HD38,25)),FALSE,TRUE)","v":true},0,{"$f":"+spaziIntermedi(HD38,25)-HF38","v":0},false,0,null,0,0,null,null,null,0,0,0,0,0,null,null,0,0,{"$f":"IF((IF(restoZero(HW38,25),(spaziIntermedi(HW38,25))+1,spaziIntermedi(HW38,25)))=(spaziIntermedi(HX38,25)),FALSE,TRUE)","v":true},0,{"$f":"+spaziIntermedi(HX38,25)-HZ38","v":0},false,0,null,0,0,null,null,null,0,0,0,null,null,0,0,{"$f":"IF((IF(restoZero(IO38,25),(spaziIntermedi(IO38,25))+1,spaziIntermedi(IO38,25)))=(spaziIntermedi(IP38,25)),FALSE,TRUE)","v":true},0,{"$f":"+spaziIntermedi(IP38,25)-IR38","v":0},false,0,null,0,0,null,null,null,0,0,0,0,0,null,null,0,0,{"$f":"IF((IF(restoZero(JI38,25),(spaziIntermedi(JI38,25))+1,spaziIntermedi(JI38,25)))=(spaziIntermedi(JJ38,25)),FALSE,TRUE)","v":true},0,{"$f":"+spaziIntermedi(JJ38,25)-JL38","v":0},false,0,null,0,0,null,null,null,0,0,0,null,null,0,0,{"$f":"IF((IF(restoZero(KA38,25),(spaziIntermedi(KA38,25))+1,spaziIntermedi(KA38,25)))=(spaziIntermedi(KB38,25)),FALSE,TRUE)","v":true},0,{"$f":"+spaziIntermedi(KB38,25)-KD38","v":0},false,0,null,0,0,null,null,null,0,0,0,0,0,null,null,0,0,{"$f":"IF((IF(restoZero(KU38,25),(spaziIntermedi(KU38,25))+1,spaziIntermedi(KU38,25)))=(spaziIntermedi(KV38,25)),FALSE,TRUE)","v":true},0,{"$f":"+spaziIntermedi(KV38,25)-KX38","v":0},false,0,null,0,0,null,null,null,0,0,0,null,null,0,0,{"$f":"IF((IF(restoZero(LM38,25),(spaziIntermedi(LM38,25))+1,spaziIntermedi(LM38,25)))=(spaziIntermedi(LN38,25)),FALSE,TRUE)","v":true},0,{"$f":"+spaziIntermedi(LN38,25)-LP38","v":0},false,0,null,0,0,null,null,null,0,0,0,0,0,null,null,0,0,{"$f":"IF((IF(restoZero(MG38,25),(spaziIntermedi(MG38,25))+1,spaziIntermedi(MG38,25)))=(spaziIntermedi(MH38,25)),FALSE,TRUE)","v":true},0,{"$f":"+spaziIntermedi(MH38,25)-MJ38","v":0},false,0,null,0,0,null,null,null,0,0,0,null,null,0,0,{"$f":"IF((IF(restoZero(MY38,25),(spaziIntermedi(MY38,25))+1,spaziIntermedi(MY38,25)))=(spaziIntermedi(MZ38,25)),FALSE,TRUE)","v":true},0,{"$f":"+spaziIntermedi(MZ38,25)-NB38","v":0},false,0,null,0,0,null,null,null,0,0,0,0,0,null,null,0,0,{"$f":"IF((IF(restoZero(NS38,25),(spaziIntermedi(NS38,25))+1,spaziIntermedi(NS38,25)))=(spaziIntermedi(NT38,25)),FALSE,TRUE)","v":true},0,{"$f":"+spaziIntermedi(NT38,25)-NV38","v":0},false,0,null,0,0,null,null,null,0,0,0,null,null,0,0,{"$f":"IF((IF(restoZero(OK38,25),(spaziIntermedi(OK38,25))+1,spaziIntermedi(OK38,25)))=(spaziIntermedi(OL38,25)),FALSE,TRUE)","v":true},0,{"$f":"+spaziIntermedi(OL38,25)-ON38","v":0},false,0,null,0,0,null,null,null,0,0,0,0,0,null,null,0,0,{"$f":"IF((IF(restoZero(PE38,25),(spaziIntermedi(PE38,25))+1,spaziIntermedi(PE38,25)))=(spaziIntermedi(PF38,25)),FALSE,TRUE)","v":true},0,{"$f":"+spaziIntermedi(PF38,25)-PH38","v":0},false,0,null,0,0,null,null,null,0,0,0,null,null,0,0,{"$f":"IF((IF(restoZero(PW38,25),(spaziIntermedi(PW38,25))+1,spaziIntermedi(PW38,25)))=(spaziIntermedi(PX38,25)),FALSE,TRUE)","v":true},0,{"$f":"+spaziIntermedi(PX38,25)-PZ38","v":0},false,0,null,0,0,null,null,null,0,0,0,0,0,null,null,0,0,{"$f":"IF((IF(restoZero(QQ38,25),(spaziIntermedi(QQ38,25))+1,spaziIntermedi(QQ38,25)))=(spaziIntermedi(QR38,25)),FALSE,TRUE)","v":true},0,{"$f":"+spaziIntermedi(QR38,25)-QT38","v":0},false,0,null,0,0,null,null,null,0,0,0,null,null,0,0,{"$f":"IF((IF(restoZero(RI38,25),(spaziIntermedi(RI38,25))+1,spaziIntermedi(RI38,25)))=(spaziIntermedi(RJ38,25)),FALSE,TRUE)","v":true},0,{"$f":"+spaziIntermedi(RJ38,25)-RL38","v":0},false,0,null,0,0,null,null,null,0,0,0,0,0,null,null,0,0,{"$f":"IF((IF(restoZero(SC38,25),(spaziIntermedi(SC38,25))+1,spaziIntermedi(SC38,25)))=(spaziIntermedi(SD38,25)),FALSE,TRUE)","v":true},0,{"$f":"+spaziIntermedi(SD38,25)-SF38","v":0},false,0,null,0,0,null,null,null,0,0,0,null,null,0,0,{"$f":"IF((IF(restoZero(SU38,25),(spaziIntermedi(SU38,25))+1,spaziIntermedi(SU38,25)))=(spaziIntermedi(SV38,25)),FALSE,TRUE)","v":true},0,{"$f":"+spaziIntermedi(SV38,25)-SX38","v":0},false,0,null,0,0,null,null,null,0,0,0,0,0]
[null,null,0,0,{"$f":"IF((IF(restoZero(C39,25),(spaziIntermedi(C39,25))+1,spaziIntermedi(C39,25)))=(spaziIntermedi(D39,25)),FALSE,TRUE)","v":true},0,{"$f":"+spaziIntermedi(D39,25)-F39","v":0},false,0,null,0,0,null,null,null,0,0,0,null,null,0,0,{"$f":"IF((IF(restoZero(U39,25),(spaziIntermedi(U39,25))+1,spaziIntermedi(U39,25)))=(spaziIntermedi(V39,25)),FALSE,TRUE)","v":true},0,{"$f":"+spaziIntermedi(V39,25)-X39","v":0},false,0,null,0,0,null,null,null,0,0,0,0,0,null,null,0,0,{"$f":"IF((IF(restoZero(AO39,25),(spaziIntermedi(AO39,25))+1,spaziIntermedi(AO39,25)))=(spaziIntermedi(AP39,25)),FALSE,TRUE)","v":true},0,{"$f":"+spaziIntermedi(AP39,25)-AR39","v":0},false,0,null,0,0,null,null,null,0,0,0,null,null,0,0,{"$f":"IF((IF(restoZero(BG39,25),(spaziIntermedi(BG39,25))+1,spaziIntermedi(BG39,25)))=(spaziIntermedi(BH39,25)),FALSE,TRUE)","v":true},0,{"$f":"+spaziIntermedi(BH39,25)-BJ39","v":0},false,0,null,0,0,null,null,null,0,0,0,0,0,null,null,0,0,{"$f":"IF((IF(restoZero(CA39,25),(spaziIntermedi(CA39,25))+1,spaziIntermedi(CA39,25)))=(spaziIntermedi(CB39,25)),FALSE,TRUE)","v":true},0,{"$f":"+spaziIntermedi(CB39,25)-CD39","v":0},false,0,null,0,0,null,null,null,0,0,0,null,null,0,0,{"$f":"IF((IF(restoZero(CS39,25),(spaziIntermedi(CS39,25))+1,spaziIntermedi(CS39,25)))=(spaziIntermedi(CT39,25)),FALSE,TRUE)","v":true},0,{"$f":"+spaziIntermedi(CT39,25)-CV39","v":0},false,0,null,0,0,null,null,null,0,0,0,0,0,null,null,0,0,{"$f":"IF((IF(restoZero(DM39,25),(spaziIntermedi(DM39,25))+1,spaziIntermedi(DM39,25)))=(spaziIntermedi(DN39,25)),FALSE,TRUE)","v":true},0,{"$f":"+spaziIntermedi(DN39,25)-DP39","v":0},false,0,null,0,0,null,null,null,0,0,0,null,null,0,0,{"$f":"IF((IF(restoZero(EE39,25),(spaziIntermedi(EE39,25))+1,spaziIntermedi(EE39,25)))=(spaziIntermedi(EF39,25)),FALSE,TRUE)","v":true},0,{"$f":"+spaziIntermedi(EF39,25)-EH39","v":0},false,0,null,0,0,null,null,null,0,0,0,0,0,null,null,0,0,{"$f":"IF((IF(restoZero(EY39,25),(spaziIntermedi(EY39,25))+1,spaziIntermedi(EY39,25)))=(spaziIntermedi(EZ39,25)),FALSE,TRUE)","v":true},0,{"$f":"+spaziIntermedi(EZ39,25)-FB39","v":0},false,0,null,0,0,null,null,null,0,0,0,null,null,0,0,{"$f":"IF((IF(restoZero(FQ39,25),(spaziIntermedi(FQ39,25))+1,spaziIntermedi(FQ39,25)))=(spaziIntermedi(FR39,25)),FALSE,TRUE)","v":true},0,{"$f":"+spaziIntermedi(FR39,25)-FT39","v":0},false,0,null,0,0,null,null,null,0,0,0,0,0,null,null,0,0,{"$f":"IF((IF(restoZero(GK39,25),(spaziIntermedi(GK39,25))+1,spaziIntermedi(GK39,25)))=(spaziIntermedi(GL39,25)),FALSE,TRUE)","v":true},0,{"$f":"+spaziIntermedi(GL39,25)-GN39","v":0},false,0,null,0,0,null,null,null,0,0,0,null,null,0,0,{"$f":"IF((IF(restoZero(HC39,25),(spaziIntermedi(HC39,25))+1,spaziIntermedi(HC39,25)))=(spaziIntermedi(HD39,25)),FALSE,TRUE)","v":true},0,{"$f":"+spaziIntermedi(HD39,25)-HF39","v":0},false,0,null,0,0,null,null,null,0,0,0,0,0,null,null,0,0,{"$f":"IF((IF(restoZero(HW39,25),(spaziIntermedi(HW39,25))+1,spaziIntermedi(HW39,25)))=(spaziIntermedi(HX39,25)),FALSE,TRUE)","v":true},0,{"$f":"+spaziIntermedi(HX39,25)-HZ39","v":0},false,0,null,0,0,null,null,null,0,0,0,null,null,0,0,{"$f":"IF((IF(restoZero(IO39,25),(spaziIntermedi(IO39,25))+1,spaziIntermedi(IO39,25)))=(spaziIntermedi(IP39,25)),FALSE,TRUE)","v":true},0,{"$f":"+spaziIntermedi(IP39,25)-IR39","v":0},false,0,null,0,0,null,null,null,0,0,0,0,0,null,null,0,0,{"$f":"IF((IF(restoZero(JI39,25),(spaziIntermedi(JI39,25))+1,spaziIntermedi(JI39,25)))=(spaziIntermedi(JJ39,25)),FALSE,TRUE)","v":true},0,{"$f":"+spaziIntermedi(JJ39,25)-JL39","v":0},false,0,null,0,0,null,null,null,0,0,0,null,null,0,0,{"$f":"IF((IF(restoZero(KA39,25),(spaziIntermedi(KA39,25))+1,spaziIntermedi(KA39,25)))=(spaziIntermedi(KB39,25)),FALSE,TRUE)","v":true},0,{"$f":"+spaziIntermedi(KB39,25)-KD39","v":0},false,0,null,0,0,null,null,null,0,0,0,0,0,null,null,0,0,{"$f":"IF((IF(restoZero(KU39,25),(spaziIntermedi(KU39,25))+1,spaziIntermedi(KU39,25)))=(spaziIntermedi(KV39,25)),FALSE,TRUE)","v":true},0,{"$f":"+spaziIntermedi(KV39,25)-KX39","v":0},false,0,null,0,0,null,null,null,0,0,0,null,null,0,0,{"$f":"IF((IF(restoZero(LM39,25),(spaziIntermedi(LM39,25))+1,spaziIntermedi(LM39,25)))=(spaziIntermedi(LN39,25)),FALSE,TRUE)","v":true},0,{"$f":"+spaziIntermedi(LN39,25)-LP39","v":0},false,0,null,0,0,null,null,null,0,0,0,0,0,null,null,0,0,{"$f":"IF((IF(restoZero(MG39,25),(spaziIntermedi(MG39,25))+1,spaziIntermedi(MG39,25)))=(spaziIntermedi(MH39,25)),FALSE,TRUE)","v":true},0,{"$f":"+spaziIntermedi(MH39,25)-MJ39","v":0},false,0,null,0,0,null,null,null,0,0,0,null,null,0,0,{"$f":"IF((IF(restoZero(MY39,25),(spaziIntermedi(MY39,25))+1,spaziIntermedi(MY39,25)))=(spaziIntermedi(MZ39,25)),FALSE,TRUE)","v":true},0,{"$f":"+spaziIntermedi(MZ39,25)-NB39","v":0},false,0,null,0,0,null,null,null,0,0,0,0,0,null,null,0,0,{"$f":"IF((IF(restoZero(NS39,25),(spaziIntermedi(NS39,25))+1,spaziIntermedi(NS39,25)))=(spaziIntermedi(NT39,25)),FALSE,TRUE)","v":true},0,{"$f":"+spaziIntermedi(NT39,25)-NV39","v":0},false,0,null,0,0,null,null,null,0,0,0,null,null,0,0,{"$f":"IF((IF(restoZero(OK39,25),(spaziIntermedi(OK39,25))+1,spaziIntermedi(OK39,25)))=(spaziIntermedi(OL39,25)),FALSE,TRUE)","v":true},0,{"$f":"+spaziIntermedi(OL39,25)-ON39","v":0},false,0,null,0,0,null,null,null,0,0,0,0,0,null,null,0,0,{"$f":"IF((IF(restoZero(PE39,25),(spaziIntermedi(PE39,25))+1,spaziIntermedi(PE39,25)))=(spaziIntermedi(PF39,25)),FALSE,TRUE)","v":true},0,{"$f":"+spaziIntermedi(PF39,25)-PH39","v":0},false,0,null,0,0,null,null,null,0,0,0,null,null,0,0,{"$f":"IF((IF(restoZero(PW39,25),(spaziIntermedi(PW39,25))+1,spaziIntermedi(PW39,25)))=(spaziIntermedi(PX39,25)),FALSE,TRUE)","v":true},0,{"$f":"+spaziIntermedi(PX39,25)-PZ39","v":0},false,0,null,0,0,null,null,null,0,0,0,0,0,null,null,0,0,{"$f":"IF((IF(restoZero(QQ39,25),(spaziIntermedi(QQ39,25))+1,spaziIntermedi(QQ39,25)))=(spaziIntermedi(QR39,25)),FALSE,TRUE)","v":true},0,{"$f":"+spaziIntermedi(QR39,25)-QT39","v":0},false,0,null,0,0,null,null,null,0,0,0,null,null,0,0,{"$f":"IF((IF(restoZero(RI39,25),(spaziIntermedi(RI39,25))+1,spaziIntermedi(RI39,25)))=(spaziIntermedi(RJ39,25)),FALSE,TRUE)","v":true},0,{"$f":"+spaziIntermedi(RJ39,25)-RL39","v":0},false,0,null,0,0,null,null,null,0,0,0,0,0,null,null,0,0,{"$f":"IF((IF(restoZero(SC39,25),(spaziIntermedi(SC39,25))+1,spaziIntermedi(SC39,25)))=(spaziIntermedi(SD39,25)),FALSE,TRUE)","v":true},0,{"$f":"+spaziIntermedi(SD39,25)-SF39","v":0},false,0,null,0,0,null,null,null,0,0,0,null,null,0,0,{"$f":"IF((IF(restoZero(SU39,25),(spaziIntermedi(SU39,25))+1,spaziIntermedi(SU39,25)))=(spaziIntermedi(SV39,25)),FALSE,TRUE)","v":true},0,{"$f":"+spaziIntermedi(SV39,25)-SX39","v":0},false,0,null,0,0,null,null,null,0,0,0,0,0]
[null,null,0,0,{"$f":"IF((IF(restoZero(C40,25),(spaziIntermedi(C40,25))+1,spaziIntermedi(C40,25)))=(spaziIntermedi(D40,25)),FALSE,TRUE)","v":true},0,{"$f":"+spaziIntermedi(D40,25)-F40","v":0},false,0,null,0,0,null,null,null,0,0,0,null,null,0,0,{"$f":"IF((IF(restoZero(U40,25),(spaziIntermedi(U40,25))+1,spaziIntermedi(U40,25)))=(spaziIntermedi(V40,25)),FALSE,TRUE)","v":true},0,{"$f":"+spaziIntermedi(V40,25)-X40","v":0},false,0,null,0,0,null,null,null,0,0,0,0,0,null,null,0,0,{"$f":"IF((IF(restoZero(AO40,25),(spaziIntermedi(AO40,25))+1,spaziIntermedi(AO40,25)))=(spaziIntermedi(AP40,25)),FALSE,TRUE)","v":true},0,{"$f":"+spaziIntermedi(AP40,25)-AR40","v":0},false,0,null,0,0,null,null,null,0,0,0,null,null,0,0,{"$f":"IF((IF(restoZero(BG40,25),(spaziIntermedi(BG40,25))+1,spaziIntermedi(BG40,25)))=(spaziIntermedi(BH40,25)),FALSE,TRUE)","v":true},0,{"$f":"+spaziIntermedi(BH40,25)-BJ40","v":0},false,0,null,0,0,null,null,null,0,0,0,0,0,null,null,0,0,{"$f":"IF((IF(restoZero(CA40,25),(spaziIntermedi(CA40,25))+1,spaziIntermedi(CA40,25)))=(spaziIntermedi(CB40,25)),FALSE,TRUE)","v":true},0,{"$f":"+spaziIntermedi(CB40,25)-CD40","v":0},false,0,null,0,0,null,null,null,0,0,0,null,null,0,0,{"$f":"IF((IF(restoZero(CS40,25),(spaziIntermedi(CS40,25))+1,spaziIntermedi(CS40,25)))=(spaziIntermedi(CT40,25)),FALSE,TRUE)","v":true},0,{"$f":"+spaziIntermedi(CT40,25)-CV40","v":0},false,0,null,0,0,null,null,null,0,0,0,0,0,null,null,0,0,{"$f":"IF((IF(restoZero(DM40,25),(spaziIntermedi(DM40,25))+1,spaziIntermedi(DM40,25)))=(spaziIntermedi(DN40,25)),FALSE,TRUE)","v":true},0,{"$f":"+spaziIntermedi(DN40,25)-DP40","v":0},false,0,null,0,0,null,null,null,0,0,0,null,null,0,0,{"$f":"IF((IF(restoZero(EE40,25),(spaziIntermedi(EE40,25))+1,spaziIntermedi(EE40,25)))=(spaziIntermedi(EF40,25)),FALSE,TRUE)","v":true},0,{"$f":"+spaziIntermedi(EF40,25)-EH40","v":0},false,0,null,0,0,null,null,null,0,0,0,0,0,null,null,0,0,{"$f":"IF((IF(restoZero(EY40,25),(spaziIntermedi(EY40,25))+1,spaziIntermedi(EY40,25)))=(spaziIntermedi(EZ40,25)),FALSE,TRUE)","v":true},0,{"$f":"+spaziIntermedi(EZ40,25)-FB40","v":0},false,0,null,0,0,null,null,null,0,0,0,null,null,0,0,{"$f":"IF((IF(restoZero(FQ40,25),(spaziIntermedi(FQ40,25))+1,spaziIntermedi(FQ40,25)))=(spaziIntermedi(FR40,25)),FALSE,TRUE)","v":true},0,{"$f":"+spaziIntermedi(FR40,25)-FT40","v":0},false,0,null,0,0,null,null,null,0,0,0,0,0,null,null,0,0,{"$f":"IF((IF(restoZero(GK40,25),(spaziIntermedi(GK40,25))+1,spaziIntermedi(GK40,25)))=(spaziIntermedi(GL40,25)),FALSE,TRUE)","v":true},0,{"$f":"+spaziIntermedi(GL40,25)-GN40","v":0},false,0,null,0,0,null,null,null,0,0,0,null,null,0,0,{"$f":"IF((IF(restoZero(HC40,25),(spaziIntermedi(HC40,25))+1,spaziIntermedi(HC40,25)))=(spaziIntermedi(HD40,25)),FALSE,TRUE)","v":true},0,{"$f":"+spaziIntermedi(HD40,25)-HF40","v":0},false,0,null,0,0,null,null,null,0,0,0,0,0,null,null,0,0,{"$f":"IF((IF(restoZero(HW40,25),(spaziIntermedi(HW40,25))+1,spaziIntermedi(HW40,25)))=(spaziIntermedi(HX40,25)),FALSE,TRUE)","v":true},0,{"$f":"+spaziIntermedi(HX40,25)-HZ40","v":0},false,0,null,0,0,null,null,null,0,0,0,null,null,0,0,{"$f":"IF((IF(restoZero(IO40,25),(spaziIntermedi(IO40,25))+1,spaziIntermedi(IO40,25)))=(spaziIntermedi(IP40,25)),FALSE,TRUE)","v":true},0,{"$f":"+spaziIntermedi(IP40,25)-IR40","v":0},false,0,null,0,0,null,null,null,0,0,0,0,0,null,null,0,0,{"$f":"IF((IF(restoZero(JI40,25),(spaziIntermedi(JI40,25))+1,spaziIntermedi(JI40,25)))=(spaziIntermedi(JJ40,25)),FALSE,TRUE)","v":true},0,{"$f":"+spaziIntermedi(JJ40,25)-JL40","v":0},false,0,null,0,0,null,null,null,0,0,0,null,null,0,0,{"$f":"IF((IF(restoZero(KA40,25),(spaziIntermedi(KA40,25))+1,spaziIntermedi(KA40,25)))=(spaziIntermedi(KB40,25)),FALSE,TRUE)","v":true},0,{"$f":"+spaziIntermedi(KB40,25)-KD40","v":0},false,0,null,0,0,null,null,null,0,0,0,0,0,null,null,0,0,{"$f":"IF((IF(restoZero(KU40,25),(spaziIntermedi(KU40,25))+1,spaziIntermedi(KU40,25)))=(spaziIntermedi(KV40,25)),FALSE,TRUE)","v":true},0,{"$f":"+spaziIntermedi(KV40,25)-KX40","v":0},false,0,null,0,0,null,null,null,0,0,0,null,null,0,0,{"$f":"IF((IF(restoZero(LM40,25),(spaziIntermedi(LM40,25))+1,spaziIntermedi(LM40,25)))=(spaziIntermedi(LN40,25)),FALSE,TRUE)","v":true},0,{"$f":"+spaziIntermedi(LN40,25)-LP40","v":0},false,0,null,0,0,null,null,null,0,0,0,0,0,null,null,0,0,{"$f":"IF((IF(restoZero(MG40,25),(spaziIntermedi(MG40,25))+1,spaziIntermedi(MG40,25)))=(spaziIntermedi(MH40,25)),FALSE,TRUE)","v":true},0,{"$f":"+spaziIntermedi(MH40,25)-MJ40","v":0},false,0,null,0,0,null,null,null,0,0,0,null,null,0,0,{"$f":"IF((IF(restoZero(MY40,25),(spaziIntermedi(MY40,25))+1,spaziIntermedi(MY40,25)))=(spaziIntermedi(MZ40,25)),FALSE,TRUE)","v":true},0,{"$f":"+spaziIntermedi(MZ40,25)-NB40","v":0},false,0,null,0,0,null,null,null,0,0,0,0,0,null,null,0,0,{"$f":"IF((IF(restoZero(NS40,25),(spaziIntermedi(NS40,25))+1,spaziIntermedi(NS40,25)))=(spaziIntermedi(NT40,25)),FALSE,TRUE)","v":true},0,{"$f":"+spaziIntermedi(NT40,25)-NV40","v":0},false,0,null,0,0,null,null,null,0,0,0,null,null,0,0,{"$f":"IF((IF(restoZero(OK40,25),(spaziIntermedi(OK40,25))+1,spaziIntermedi(OK40,25)))=(spaziIntermedi(OL40,25)),FALSE,TRUE)","v":true},0,{"$f":"+spaziIntermedi(OL40,25)-ON40","v":0},false,0,null,0,0,null,null,null,0,0,0,0,0,null,null,0,0,{"$f":"IF((IF(restoZero(PE40,25),(spaziIntermedi(PE40,25))+1,spaziIntermedi(PE40,25)))=(spaziIntermedi(PF40,25)),FALSE,TRUE)","v":true},0,{"$f":"+spaziIntermedi(PF40,25)-PH40","v":0},false,0,null,0,0,null,null,null,0,0,0,null,null,0,0,{"$f":"IF((IF(restoZero(PW40,25),(spaziIntermedi(PW40,25))+1,spaziIntermedi(PW40,25)))=(spaziIntermedi(PX40,25)),FALSE,TRUE)","v":true},0,{"$f":"+spaziIntermedi(PX40,25)-PZ40","v":0},false,0,null,0,0,null,null,null,0,0,0,0,0,null,null,0,0,{"$f":"IF((IF(restoZero(QQ40,25),(spaziIntermedi(QQ40,25))+1,spaziIntermedi(QQ40,25)))=(spaziIntermedi(QR40,25)),FALSE,TRUE)","v":true},0,{"$f":"+spaziIntermedi(QR40,25)-QT40","v":0},false,0,null,0,0,null,null,null,0,0,0,null,null,0,0,{"$f":"IF((IF(restoZero(RI40,25),(spaziIntermedi(RI40,25))+1,spaziIntermedi(RI40,25)))=(spaziIntermedi(RJ40,25)),FALSE,TRUE)","v":true},0,{"$f":"+spaziIntermedi(RJ40,25)-RL40","v":0},false,0,null,0,0,null,null,null,0,0,0,0,0,null,null,0,0,{"$f":"IF((IF(restoZero(SC40,25),(spaziIntermedi(SC40,25))+1,spaziIntermedi(SC40,25)))=(spaziIntermedi(SD40,25)),FALSE,TRUE)","v":true},0,{"$f":"+spaziIntermedi(SD40,25)-SF40","v":0},false,0,null,0,0,null,null,null,0,0,0,null,null,0,0,{"$f":"IF((IF(restoZero(SU40,25),(spaziIntermedi(SU40,25))+1,spaziIntermedi(SU40,25)))=(spaziIntermedi(SV40,25)),FALSE,TRUE)","v":true},0,{"$f":"+spaziIntermedi(SV40,25)-SX40","v":0},false,0,null,0,0,null,null,null,0,0,0,0,0]
[null,null,0,0,{"$f":"IF((IF(restoZero(C41,25),(spaziIntermedi(C41,25))+1,spaziIntermedi(C41,25)))=(spaziIntermedi(D41,25)),FALSE,TRUE)","v":true},0,{"$f":"+spaziIntermedi(D41,25)-F41","v":0},false,0,null,0,0,null,null,null,0,0,0,null,null,0,0,{"$f":"IF((IF(restoZero(U41,25),(spaziIntermedi(U41,25))+1,spaziIntermedi(U41,25)))=(spaziIntermedi(V41,25)),FALSE,TRUE)","v":true},0,{"$f":"+spaziIntermedi(V41,25)-X41","v":0},false,0,null,0,0,null,null,null,0,0,0,0,0,null,null,0,0,{"$f":"IF((IF(restoZero(AO41,25),(spaziIntermedi(AO41,25))+1,spaziIntermedi(AO41,25)))=(spaziIntermedi(AP41,25)),FALSE,TRUE)","v":true},0,{"$f":"+spaziIntermedi(AP41,25)-AR41","v":0},false,0,null,0,0,null,null,null,0,0,0,null,null,0,0,{"$f":"IF((IF(restoZero(BG41,25),(spaziIntermedi(BG41,25))+1,spaziIntermedi(BG41,25)))=(spaziIntermedi(BH41,25)),FALSE,TRUE)","v":true},0,{"$f":"+spaziIntermedi(BH41,25)-BJ41","v":0},false,0,null,0,0,null,null,null,0,0,0,0,0,null,null,0,0,{"$f":"IF((IF(restoZero(CA41,25),(spaziIntermedi(CA41,25))+1,spaziIntermedi(CA41,25)))=(spaziIntermedi(CB41,25)),FALSE,TRUE)","v":true},0,{"$f":"+spaziIntermedi(CB41,25)-CD41","v":0},false,0,null,0,0,null,null,null,0,0,0,null,null,0,0,{"$f":"IF((IF(restoZero(CS41,25),(spaziIntermedi(CS41,25))+1,spaziIntermedi(CS41,25)))=(spaziIntermedi(CT41,25)),FALSE,TRUE)","v":true},0,{"$f":"+spaziIntermedi(CT41,25)-CV41","v":0},false,0,null,0,0,null,null,null,0,0,0,0,0,null,null,0,0,{"$f":"IF((IF(restoZero(DM41,25),(spaziIntermedi(DM41,25))+1,spaziIntermedi(DM41,25)))=(spaziIntermedi(DN41,25)),FALSE,TRUE)","v":true},0,{"$f":"+spaziIntermedi(DN41,25)-DP41","v":0},false,0,null,0,0,null,null,null,0,0,0,null,null,0,0,{"$f":"IF((IF(restoZero(EE41,25),(spaziIntermedi(EE41,25))+1,spaziIntermedi(EE41,25)))=(spaziIntermedi(EF41,25)),FALSE,TRUE)","v":true},0,{"$f":"+spaziIntermedi(EF41,25)-EH41","v":0},false,0,null,0,0,null,null,null,0,0,0,0,0,null,null,0,0,{"$f":"IF((IF(restoZero(EY41,25),(spaziIntermedi(EY41,25))+1,spaziIntermedi(EY41,25)))=(spaziIntermedi(EZ41,25)),FALSE,TRUE)","v":true},0,{"$f":"+spaziIntermedi(EZ41,25)-FB41","v":0},false,0,null,0,0,null,null,null,0,0,0,null,null,0,0,{"$f":"IF((IF(restoZero(FQ41,25),(spaziIntermedi(FQ41,25))+1,spaziIntermedi(FQ41,25)))=(spaziIntermedi(FR41,25)),FALSE,TRUE)","v":true},0,{"$f":"+spaziIntermedi(FR41,25)-FT41","v":0},false,0,null,0,0,null,null,null,0,0,0,0,0,null,null,0,0,{"$f":"IF((IF(restoZero(GK41,25),(spaziIntermedi(GK41,25))+1,spaziIntermedi(GK41,25)))=(spaziIntermedi(GL41,25)),FALSE,TRUE)","v":true},0,{"$f":"+spaziIntermedi(GL41,25)-GN41","v":0},false,0,null,0,0,null,null,null,0,0,0,null,null,0,0,{"$f":"IF((IF(restoZero(HC41,25),(spaziIntermedi(HC41,25))+1,spaziIntermedi(HC41,25)))=(spaziIntermedi(HD41,25)),FALSE,TRUE)","v":true},0,{"$f":"+spaziIntermedi(HD41,25)-HF41","v":0},false,0,null,0,0,null,null,null,0,0,0,0,0,null,null,0,0,{"$f":"IF((IF(restoZero(HW41,25),(spaziIntermedi(HW41,25))+1,spaziIntermedi(HW41,25)))=(spaziIntermedi(HX41,25)),FALSE,TRUE)","v":true},0,{"$f":"+spaziIntermedi(HX41,25)-HZ41","v":0},false,0,null,0,0,null,null,null,0,0,0,null,null,0,0,{"$f":"IF((IF(restoZero(IO41,25),(spaziIntermedi(IO41,25))+1,spaziIntermedi(IO41,25)))=(spaziIntermedi(IP41,25)),FALSE,TRUE)","v":true},0,{"$f":"+spaziIntermedi(IP41,25)-IR41","v":0},false,0,null,0,0,null,null,null,0,0,0,0,0,null,null,0,0,{"$f":"IF((IF(restoZero(JI41,25),(spaziIntermedi(JI41,25))+1,spaziIntermedi(JI41,25)))=(spaziIntermedi(JJ41,25)),FALSE,TRUE)","v":true},0,{"$f":"+spaziIntermedi(JJ41,25)-JL41","v":0},false,0,null,0,0,null,null,null,0,0,0,null,null,0,0,{"$f":"IF((IF(restoZero(KA41,25),(spaziIntermedi(KA41,25))+1,spaziIntermedi(KA41,25)))=(spaziIntermedi(KB41,25)),FALSE,TRUE)","v":true},0,{"$f":"+spaziIntermedi(KB41,25)-KD41","v":0},false,0,null,0,0,null,null,null,0,0,0,0,0,null,null,0,0,{"$f":"IF((IF(restoZero(KU41,25),(spaziIntermedi(KU41,25))+1,spaziIntermedi(KU41,25)))=(spaziIntermedi(KV41,25)),FALSE,TRUE)","v":true},0,{"$f":"+spaziIntermedi(KV41,25)-KX41","v":0},false,0,null,0,0,null,null,null,0,0,0,null,null,0,0,{"$f":"IF((IF(restoZero(LM41,25),(spaziIntermedi(LM41,25))+1,spaziIntermedi(LM41,25)))=(spaziIntermedi(LN41,25)),FALSE,TRUE)","v":true},0,{"$f":"+spaziIntermedi(LN41,25)-LP41","v":0},false,0,null,0,0,null,null,null,0,0,0,0,0,null,null,0,0,{"$f":"IF((IF(restoZero(MG41,25),(spaziIntermedi(MG41,25))+1,spaziIntermedi(MG41,25)))=(spaziIntermedi(MH41,25)),FALSE,TRUE)","v":true},0,{"$f":"+spaziIntermedi(MH41,25)-MJ41","v":0},false,0,null,0,0,null,null,null,0,0,0,null,null,0,0,{"$f":"IF((IF(restoZero(MY41,25),(spaziIntermedi(MY41,25))+1,spaziIntermedi(MY41,25)))=(spaziIntermedi(MZ41,25)),FALSE,TRUE)","v":true},0,{"$f":"+spaziIntermedi(MZ41,25)-NB41","v":0},false,0,null,0,0,null,null,null,0,0,0,0,0,null,null,0,0,{"$f":"IF((IF(restoZero(NS41,25),(spaziIntermedi(NS41,25))+1,spaziIntermedi(NS41,25)))=(spaziIntermedi(NT41,25)),FALSE,TRUE)","v":true},0,{"$f":"+spaziIntermedi(NT41,25)-NV41","v":0},false,0,null,0,0,null,null,null,0,0,0,null,null,0,0,{"$f":"IF((IF(restoZero(OK41,25),(spaziIntermedi(OK41,25))+1,spaziIntermedi(OK41,25)))=(spaziIntermedi(OL41,25)),FALSE,TRUE)","v":true},0,{"$f":"+spaziIntermedi(OL41,25)-ON41","v":0},false,0,null,0,0,null,null,null,0,0,0,0,0,null,null,0,0,{"$f":"IF((IF(restoZero(PE41,25),(spaziIntermedi(PE41,25))+1,spaziIntermedi(PE41,25)))=(spaziIntermedi(PF41,25)),FALSE,TRUE)","v":true},0,{"$f":"+spaziIntermedi(PF41,25)-PH41","v":0},false,0,null,0,0,null,null,null,0,0,0,null,null,0,0,{"$f":"IF((IF(restoZero(PW41,25),(spaziIntermedi(PW41,25))+1,spaziIntermedi(PW41,25)))=(spaziIntermedi(PX41,25)),FALSE,TRUE)","v":true},0,{"$f":"+spaziIntermedi(PX41,25)-PZ41","v":0},false,0,null,0,0,null,null,null,0,0,0,0,0,null,null,0,0,{"$f":"IF((IF(restoZero(QQ41,25),(spaziIntermedi(QQ41,25))+1,spaziIntermedi(QQ41,25)))=(spaziIntermedi(QR41,25)),FALSE,TRUE)","v":true},0,{"$f":"+spaziIntermedi(QR41,25)-QT41","v":0},false,0,null,0,0,null,null,null,0,0,0,null,null,0,0,{"$f":"IF((IF(restoZero(RI41,25),(spaziIntermedi(RI41,25))+1,spaziIntermedi(RI41,25)))=(spaziIntermedi(RJ41,25)),FALSE,TRUE)","v":true},0,{"$f":"+spaziIntermedi(RJ41,25)-RL41","v":0},false,0,null,0,0,null,null,null,0,0,0,0,0,null,null,0,0,{"$f":"IF((IF(restoZero(SC41,25),(spaziIntermedi(SC41,25))+1,spaziIntermedi(SC41,25)))=(spaziIntermedi(SD41,25)),FALSE,TRUE)","v":true},0,{"$f":"+spaziIntermedi(SD41,25)-SF41","v":0},false,0,null,0,0,null,null,null,0,0,0,null,null,0,0,{"$f":"IF((IF(restoZero(SU41,25),(spaziIntermedi(SU41,25))+1,spaziIntermedi(SU41,25)))=(spaziIntermedi(SV41,25)),FALSE,TRUE)","v":true},0,{"$f":"+spaziIntermedi(SV41,25)-SX41","v":0},false,0,null,0,0,null,null,null,0,0,0,0,0]
[null,null,0,0,{"$f":"IF((IF(restoZero(C42,25),(spaziIntermedi(C42,25))+1,spaziIntermedi(C42,25)))=(spaziIntermedi(D42,25)),FALSE,TRUE)","v":true},0,{"$f":"+spaziIntermedi(D42,25)-F42","v":0},false,0,null,0,0,null,null,null,0,0,0,null,null,0,0,{"$f":"IF((IF(restoZero(U42,25),(spaziIntermedi(U42,25))+1,spaziIntermedi(U42,25)))=(spaziIntermedi(V42,25)),FALSE,TRUE)","v":true},0,{"$f":"+spaziIntermedi(V42,25)-X42","v":0},false,0,null,0,0,null,null,null,0,0,0,0,0,null,null,0,0,{"$f":"IF((IF(restoZero(AO42,25),(spaziIntermedi(AO42,25))+1,spaziIntermedi(AO42,25)))=(spaziIntermedi(AP42,25)),FALSE,TRUE)","v":true},0,{"$f":"+spaziIntermedi(AP42,25)-AR42","v":0},false,0,null,0,0,null,null,null,0,0,0,null,null,0,0,{"$f":"IF((IF(restoZero(BG42,25),(spaziIntermedi(BG42,25))+1,spaziIntermedi(BG42,25)))=(spaziIntermedi(BH42,25)),FALSE,TRUE)","v":true},0,{"$f":"+spaziIntermedi(BH42,25)-BJ42","v":0},false,0,null,0,0,null,null,null,0,0,0,0,0,null,null,0,0,{"$f":"IF((IF(restoZero(CA42,25),(spaziIntermedi(CA42,25))+1,spaziIntermedi(CA42,25)))=(spaziIntermedi(CB42,25)),FALSE,TRUE)","v":true},0,{"$f":"+spaziIntermedi(CB42,25)-CD42","v":0},false,0,null,0,0,null,null,null,0,0,0,null,null,0,0,{"$f":"IF((IF(restoZero(CS42,25),(spaziIntermedi(CS42,25))+1,spaziIntermedi(CS42,25)))=(spaziIntermedi(CT42,25)),FALSE,TRUE)","v":true},0,{"$f":"+spaziIntermedi(CT42,25)-CV42","v":0},false,0,null,0,0,null,null,null,0,0,0,0,0,null,null,0,0,{"$f":"IF((IF(restoZero(DM42,25),(spaziIntermedi(DM42,25))+1,spaziIntermedi(DM42,25)))=(spaziIntermedi(DN42,25)),FALSE,TRUE)","v":true},0,{"$f":"+spaziIntermedi(DN42,25)-DP42","v":0},false,0,null,0,0,null,null,null,0,0,0,null,null,0,0,{"$f":"IF((IF(restoZero(EE42,25),(spaziIntermedi(EE42,25))+1,spaziIntermedi(EE42,25)))=(spaziIntermedi(EF42,25)),FALSE,TRUE)","v":true},0,{"$f":"+spaziIntermedi(EF42,25)-EH42","v":0},false,0,null,0,0,null,null,null,0,0,0,0,0,null,null,0,0,{"$f":"IF((IF(restoZero(EY42,25),(spaziIntermedi(EY42,25))+1,spaziIntermedi(EY42,25)))=(spaziIntermedi(EZ42,25)),FALSE,TRUE)","v":true},0,{"$f":"+spaziIntermedi(EZ42,25)-FB42","v":0},false,0,null,0,0,null,null,null,0,0,0,null,null,0,0,{"$f":"IF((IF(restoZero(FQ42,25),(spaziIntermedi(FQ42,25))+1,spaziIntermedi(FQ42,25)))=(spaziIntermedi(FR42,25)),FALSE,TRUE)","v":true},0,{"$f":"+spaziIntermedi(FR42,25)-FT42","v":0},false,0,null,0,0,null,null,null,0,0,0,0,0,null,null,0,0,{"$f":"IF((IF(restoZero(GK42,25),(spaziIntermedi(GK42,25))+1,spaziIntermedi(GK42,25)))=(spaziIntermedi(GL42,25)),FALSE,TRUE)","v":true},0,{"$f":"+spaziIntermedi(GL42,25)-GN42","v":0},false,0,null,0,0,null,null,null,0,0,0,null,null,0,0,{"$f":"IF((IF(restoZero(HC42,25),(spaziIntermedi(HC42,25))+1,spaziIntermedi(HC42,25)))=(spaziIntermedi(HD42,25)),FALSE,TRUE)","v":true},0,{"$f":"+spaziIntermedi(HD42,25)-HF42","v":0},false,0,null,0,0,null,null,null,0,0,0,0,0,null,null,0,0,{"$f":"IF((IF(restoZero(HW42,25),(spaziIntermedi(HW42,25))+1,spaziIntermedi(HW42,25)))=(spaziIntermedi(HX42,25)),FALSE,TRUE)","v":true},0,{"$f":"+spaziIntermedi(HX42,25)-HZ42","v":0},false,0,null,0,0,null,null,null,0,0,0,null,null,0,0,{"$f":"IF((IF(restoZero(IO42,25),(spaziIntermedi(IO42,25))+1,spaziIntermedi(IO42,25)))=(spaziIntermedi(IP42,25)),FALSE,TRUE)","v":true},0,{"$f":"+spaziIntermedi(IP42,25)-IR42","v":0},false,0,null,0,0,null,null,null,0,0,0,0,0,null,null,0,0,{"$f":"IF((IF(restoZero(JI42,25),(spaziIntermedi(JI42,25))+1,spaziIntermedi(JI42,25)))=(spaziIntermedi(JJ42,25)),FALSE,TRUE)","v":true},0,{"$f":"+spaziIntermedi(JJ42,25)-JL42","v":0},false,0,null,0,0,null,null,null,0,0,0,null,null,0,0,{"$f":"IF((IF(restoZero(KA42,25),(spaziIntermedi(KA42,25))+1,spaziIntermedi(KA42,25)))=(spaziIntermedi(KB42,25)),FALSE,TRUE)","v":true},0,{"$f":"+spaziIntermedi(KB42,25)-KD42","v":0},false,0,null,0,0,null,null,null,0,0,0,0,0,null,null,0,0,{"$f":"IF((IF(restoZero(KU42,25),(spaziIntermedi(KU42,25))+1,spaziIntermedi(KU42,25)))=(spaziIntermedi(KV42,25)),FALSE,TRUE)","v":true},0,{"$f":"+spaziIntermedi(KV42,25)-KX42","v":0},false,0,null,0,0,null,null,null,0,0,0,null,null,0,0,{"$f":"IF((IF(restoZero(LM42,25),(spaziIntermedi(LM42,25))+1,spaziIntermedi(LM42,25)))=(spaziIntermedi(LN42,25)),FALSE,TRUE)","v":true},0,{"$f":"+spaziIntermedi(LN42,25)-LP42","v":0},false,0,null,0,0,null,null,null,0,0,0,0,0,null,null,0,0,{"$f":"IF((IF(restoZero(MG42,25),(spaziIntermedi(MG42,25))+1,spaziIntermedi(MG42,25)))=(spaziIntermedi(MH42,25)),FALSE,TRUE)","v":true},0,{"$f":"+spaziIntermedi(MH42,25)-MJ42","v":0},false,0,null,0,0,null,null,null,0,0,0,null,null,0,0,{"$f":"IF((IF(restoZero(MY42,25),(spaziIntermedi(MY42,25))+1,spaziIntermedi(MY42,25)))=(spaziIntermedi(MZ42,25)),FALSE,TRUE)","v":true},0,{"$f":"+spaziIntermedi(MZ42,25)-NB42","v":0},false,0,null,0,0,null,null,null,0,0,0,0,0,null,null,0,0,{"$f":"IF((IF(restoZero(NS42,25),(spaziIntermedi(NS42,25))+1,spaziIntermedi(NS42,25)))=(spaziIntermedi(NT42,25)),FALSE,TRUE)","v":true},0,{"$f":"+spaziIntermedi(NT42,25)-NV42","v":0},false,0,null,0,0,null,null,null,0,0,0,null,null,0,0,{"$f":"IF((IF(restoZero(OK42,25),(spaziIntermedi(OK42,25))+1,spaziIntermedi(OK42,25)))=(spaziIntermedi(OL42,25)),FALSE,TRUE)","v":true},0,{"$f":"+spaziIntermedi(OL42,25)-ON42","v":0},false,0,null,0,0,null,null,null,0,0,0,0,0,null,null,0,0,{"$f":"IF((IF(restoZero(PE42,25),(spaziIntermedi(PE42,25))+1,spaziIntermedi(PE42,25)))=(spaziIntermedi(PF42,25)),FALSE,TRUE)","v":true},0,{"$f":"+spaziIntermedi(PF42,25)-PH42","v":0},false,0,null,0,0,null,null,null,0,0,0,null,null,0,0,{"$f":"IF((IF(restoZero(PW42,25),(spaziIntermedi(PW42,25))+1,spaziIntermedi(PW42,25)))=(spaziIntermedi(PX42,25)),FALSE,TRUE)","v":true},0,{"$f":"+spaziIntermedi(PX42,25)-PZ42","v":0},false,0,null,0,0,null,null,null,0,0,0,0,0,null,null,0,0,{"$f":"IF((IF(restoZero(QQ42,25),(spaziIntermedi(QQ42,25))+1,spaziIntermedi(QQ42,25)))=(spaziIntermedi(QR42,25)),FALSE,TRUE)","v":true},0,{"$f":"+spaziIntermedi(QR42,25)-QT42","v":0},false,0,null,0,0,null,null,null,0,0,0,null,null,0,0,{"$f":"IF((IF(restoZero(RI42,25),(spaziIntermedi(RI42,25))+1,spaziIntermedi(RI42,25)))=(spaziIntermedi(RJ42,25)),FALSE,TRUE)","v":true},0,{"$f":"+spaziIntermedi(RJ42,25)-RL42","v":0},false,0,null,0,0,null,null,null,0,0,0,0,0,null,null,0,0,{"$f":"IF((IF(restoZero(SC42,25),(spaziIntermedi(SC42,25))+1,spaziIntermedi(SC42,25)))=(spaziIntermedi(SD42,25)),FALSE,TRUE)","v":true},0,{"$f":"+spaziIntermedi(SD42,25)-SF42","v":0},false,0,null,0,0,null,null,null,0,0,0,null,null,0,0,{"$f":"IF((IF(restoZero(SU42,25),(spaziIntermedi(SU42,25))+1,spaziIntermedi(SU42,25)))=(spaziIntermedi(SV42,25)),FALSE,TRUE)","v":true},0,{"$f":"+spaziIntermedi(SV42,25)-SX42","v":0},false,0,null,0,0,null,null,null,0,0,0,0,0]
[null,null,0,0,{"$f":"IF((IF(restoZero(C43,25),(spaziIntermedi(C43,25))+1,spaziIntermedi(C43,25)))=(spaziIntermedi(D43,25)),FALSE,TRUE)","v":true},0,{"$f":"+spaziIntermedi(D43,25)-F43","v":0},false,0,null,0,0,null,null,null,0,0,0,null,null,0,0,{"$f":"IF((IF(restoZero(U43,25),(spaziIntermedi(U43,25))+1,spaziIntermedi(U43,25)))=(spaziIntermedi(V43,25)),FALSE,TRUE)","v":true},0,{"$f":"+spaziIntermedi(V43,25)-X43","v":0},false,0,null,0,0,null,null,null,0,0,0,0,0,null,null,0,0,{"$f":"IF((IF(restoZero(AO43,25),(spaziIntermedi(AO43,25))+1,spaziIntermedi(AO43,25)))=(spaziIntermedi(AP43,25)),FALSE,TRUE)","v":true},0,{"$f":"+spaziIntermedi(AP43,25)-AR43","v":0},false,0,null,0,0,null,null,null,0,0,0,null,null,0,0,{"$f":"IF((IF(restoZero(BG43,25),(spaziIntermedi(BG43,25))+1,spaziIntermedi(BG43,25)))=(spaziIntermedi(BH43,25)),FALSE,TRUE)","v":true},0,{"$f":"+spaziIntermedi(BH43,25)-BJ43","v":0},false,0,null,0,0,null,null,null,0,0,0,0,0,null,null,0,0,{"$f":"IF((IF(restoZero(CA43,25),(spaziIntermedi(CA43,25))+1,spaziIntermedi(CA43,25)))=(spaziIntermedi(CB43,25)),FALSE,TRUE)","v":true},0,{"$f":"+spaziIntermedi(CB43,25)-CD43","v":0},false,0,null,0,0,null,null,null,0,0,0,null,null,0,0,{"$f":"IF((IF(restoZero(CS43,25),(spaziIntermedi(CS43,25))+1,spaziIntermedi(CS43,25)))=(spaziIntermedi(CT43,25)),FALSE,TRUE)","v":true},0,{"$f":"+spaziIntermedi(CT43,25)-CV43","v":0},false,0,null,0,0,null,null,null,0,0,0,0,0,null,null,0,0,{"$f":"IF((IF(restoZero(DM43,25),(spaziIntermedi(DM43,25))+1,spaziIntermedi(DM43,25)))=(spaziIntermedi(DN43,25)),FALSE,TRUE)","v":true},0,{"$f":"+spaziIntermedi(DN43,25)-DP43","v":0},false,0,null,0,0,null,null,null,0,0,0,null,null,0,0,{"$f":"IF((IF(restoZero(EE43,25),(spaziIntermedi(EE43,25))+1,spaziIntermedi(EE43,25)))=(spaziIntermedi(EF43,25)),FALSE,TRUE)","v":true},0,{"$f":"+spaziIntermedi(EF43,25)-EH43","v":0},false,0,null,0,0,null,null,null,0,0,0,0,0,null,null,0,0,{"$f":"IF((IF(restoZero(EY43,25),(spaziIntermedi(EY43,25))+1,spaziIntermedi(EY43,25)))=(spaziIntermedi(EZ43,25)),FALSE,TRUE)","v":true},0,{"$f":"+spaziIntermedi(EZ43,25)-FB43","v":0},false,0,null,0,0,null,null,null,0,0,0,null,null,0,0,{"$f":"IF((IF(restoZero(FQ43,25),(spaziIntermedi(FQ43,25))+1,spaziIntermedi(FQ43,25)))=(spaziIntermedi(FR43,25)),FALSE,TRUE)","v":true},0,{"$f":"+spaziIntermedi(FR43,25)-FT43","v":0},false,0,null,0,0,null,null,null,0,0,0,0,0,null,null,0,0,{"$f":"IF((IF(restoZero(GK43,25),(spaziIntermedi(GK43,25))+1,spaziIntermedi(GK43,25)))=(spaziIntermedi(GL43,25)),FALSE,TRUE)","v":true},0,{"$f":"+spaziIntermedi(GL43,25)-GN43","v":0},false,0,null,0,0,null,null,null,0,0,0,null,null,0,0,{"$f":"IF((IF(restoZero(HC43,25),(spaziIntermedi(HC43,25))+1,spaziIntermedi(HC43,25)))=(spaziIntermedi(HD43,25)),FALSE,TRUE)","v":true},0,{"$f":"+spaziIntermedi(HD43,25)-HF43","v":0},false,0,null,0,0,null,null,null,0,0,0,0,0,null,null,0,0,{"$f":"IF((IF(restoZero(HW43,25),(spaziIntermedi(HW43,25))+1,spaziIntermedi(HW43,25)))=(spaziIntermedi(HX43,25)),FALSE,TRUE)","v":true},0,{"$f":"+spaziIntermedi(HX43,25)-HZ43","v":0},false,0,null,0,0,null,null,null,0,0,0,null,null,0,0,{"$f":"IF((IF(restoZero(IO43,25),(spaziIntermedi(IO43,25))+1,spaziIntermedi(IO43,25)))=(spaziIntermedi(IP43,25)),FALSE,TRUE)","v":true},0,{"$f":"+spaziIntermedi(IP43,25)-IR43","v":0},false,0,null,0,0,null,null,null,0,0,0,0,0,null,null,0,0,{"$f":"IF((IF(restoZero(JI43,25),(spaziIntermedi(JI43,25))+1,spaziIntermedi(JI43,25)))=(spaziIntermedi(JJ43,25)),FALSE,TRUE)","v":true},0,{"$f":"+spaziIntermedi(JJ43,25)-JL43","v":0},false,0,null,0,0,null,null,null,0,0,0,null,null,0,0,{"$f":"IF((IF(restoZero(KA43,25),(spaziIntermedi(KA43,25))+1,spaziIntermedi(KA43,25)))=(spaziIntermedi(KB43,25)),FALSE,TRUE)","v":true},0,{"$f":"+spaziIntermedi(KB43,25)-KD43","v":0},false,0,null,0,0,null,null,null,0,0,0,0,0,null,null,0,0,{"$f":"IF((IF(restoZero(KU43,25),(spaziIntermedi(KU43,25))+1,spaziIntermedi(KU43,25)))=(spaziIntermedi(KV43,25)),FALSE,TRUE)","v":true},0,{"$f":"+spaziIntermedi(KV43,25)-KX43","v":0},false,0,null,0,0,null,null,null,0,0,0,null,null,0,0,{"$f":"IF((IF(restoZero(LM43,25),(spaziIntermedi(LM43,25))+1,spaziIntermedi(LM43,25)))=(spaziIntermedi(LN43,25)),FALSE,TRUE)","v":true},0,{"$f":"+spaziIntermedi(LN43,25)-LP43","v":0},false,0,null,0,0,null,null,null,0,0,0,0,0,null,null,0,0,{"$f":"IF((IF(restoZero(MG43,25),(spaziIntermedi(MG43,25))+1,spaziIntermedi(MG43,25)))=(spaziIntermedi(MH43,25)),FALSE,TRUE)","v":true},0,{"$f":"+spaziIntermedi(MH43,25)-MJ43","v":0},false,0,null,0,0,null,null,null,0,0,0,null,null,0,0,{"$f":"IF((IF(restoZero(MY43,25),(spaziIntermedi(MY43,25))+1,spaziIntermedi(MY43,25)))=(spaziIntermedi(MZ43,25)),FALSE,TRUE)","v":true},0,{"$f":"+spaziIntermedi(MZ43,25)-NB43","v":0},false,0,null,0,0,null,null,null,0,0,0,0,0,null,null,0,0,{"$f":"IF((IF(restoZero(NS43,25),(spaziIntermedi(NS43,25))+1,spaziIntermedi(NS43,25)))=(spaziIntermedi(NT43,25)),FALSE,TRUE)","v":true},0,{"$f":"+spaziIntermedi(NT43,25)-NV43","v":0},false,0,null,0,0,null,null,null,0,0,0,null,null,0,0,{"$f":"IF((IF(restoZero(OK43,25),(spaziIntermedi(OK43,25))+1,spaziIntermedi(OK43,25)))=(spaziIntermedi(OL43,25)),FALSE,TRUE)","v":true},0,{"$f":"+spaziIntermedi(OL43,25)-ON43","v":0},false,0,null,0,0,null,null,null,0,0,0,0,0,null,null,0,0,{"$f":"IF((IF(restoZero(PE43,25),(spaziIntermedi(PE43,25))+1,spaziIntermedi(PE43,25)))=(spaziIntermedi(PF43,25)),FALSE,TRUE)","v":true},0,{"$f":"+spaziIntermedi(PF43,25)-PH43","v":0},false,0,null,0,0,null,null,null,0,0,0,null,null,0,0,{"$f":"IF((IF(restoZero(PW43,25),(spaziIntermedi(PW43,25))+1,spaziIntermedi(PW43,25)))=(spaziIntermedi(PX43,25)),FALSE,TRUE)","v":true},0,{"$f":"+spaziIntermedi(PX43,25)-PZ43","v":0},false,0,null,0,0,null,null,null,0,0,0,0,0,null,null,0,0,{"$f":"IF((IF(restoZero(QQ43,25),(spaziIntermedi(QQ43,25))+1,spaziIntermedi(QQ43,25)))=(spaziIntermedi(QR43,25)),FALSE,TRUE)","v":true},0,{"$f":"+spaziIntermedi(QR43,25)-QT43","v":0},false,0,null,0,0,null,null,null,0,0,0,null,null,0,0,{"$f":"IF((IF(restoZero(RI43,25),(spaziIntermedi(RI43,25))+1,spaziIntermedi(RI43,25)))=(spaziIntermedi(RJ43,25)),FALSE,TRUE)","v":true},0,{"$f":"+spaziIntermedi(RJ43,25)-RL43","v":0},false,0,null,0,0,null,null,null,0,0,0,0,0,null,null,0,0,{"$f":"IF((IF(restoZero(SC43,25),(spaziIntermedi(SC43,25))+1,spaziIntermedi(SC43,25)))=(spaziIntermedi(SD43,25)),FALSE,TRUE)","v":true},0,{"$f":"+spaziIntermedi(SD43,25)-SF43","v":0},false,0,null,0,0,null,null,null,0,0,0,null,null,0,0,{"$f":"IF((IF(restoZero(SU43,25),(spaziIntermedi(SU43,25))+1,spaziIntermedi(SU43,25)))=(spaziIntermedi(SV43,25)),FALSE,TRUE)","v":true},0,{"$f":"+spaziIntermedi(SV43,25)-SX43","v":0},false,0,null,0,0,null,null,null,0,0,0,0,0]
[null,null,0,0,{"$f":"IF((IF(restoZero(C44,25),(spaziIntermedi(C44,25))+1,spaziIntermedi(C44,25)))=(spaziIntermedi(D44,25)),FALSE,TRUE)","v":true},0,{"$f":"+spaziIntermedi(D44,25)-F44","v":0},false,0,null,0,0,null,null,null,0,0,0,null,null,0,0,{"$f":"IF((IF(restoZero(U44,25),(spaziIntermedi(U44,25))+1,spaziIntermedi(U44,25)))=(spaziIntermedi(V44,25)),FALSE,TRUE)","v":true},0,{"$f":"+spaziIntermedi(V44,25)-X44","v":0},false,0,null,0,0,null,null,null,0,0,0,0,0,null,null,0,0,{"$f":"IF((IF(restoZero(AO44,25),(spaziIntermedi(AO44,25))+1,spaziIntermedi(AO44,25)))=(spaziIntermedi(AP44,25)),FALSE,TRUE)","v":true},0,{"$f":"+spaziIntermedi(AP44,25)-AR44","v":0},false,0,null,0,0,null,null,null,0,0,0,null,null,0,0,{"$f":"IF((IF(restoZero(BG44,25),(spaziIntermedi(BG44,25))+1,spaziIntermedi(BG44,25)))=(spaziIntermedi(BH44,25)),FALSE,TRUE)","v":true},0,{"$f":"+spaziIntermedi(BH44,25)-BJ44","v":0},false,0,null,0,0,null,null,null,0,0,0,0,0,null,null,0,0,{"$f":"IF((IF(restoZero(CA44,25),(spaziIntermedi(CA44,25))+1,spaziIntermedi(CA44,25)))=(spaziIntermedi(CB44,25)),FALSE,TRUE)","v":true},0,{"$f":"+spaziIntermedi(CB44,25)-CD44","v":0},false,0,null,0,0,null,null,null,0,0,0,null,null,0,0,{"$f":"IF((IF(restoZero(CS44,25),(spaziIntermedi(CS44,25))+1,spaziIntermedi(CS44,25)))=(spaziIntermedi(CT44,25)),FALSE,TRUE)","v":true},0,{"$f":"+spaziIntermedi(CT44,25)-CV44","v":0},false,0,null,0,0,null,null,null,0,0,0,0,0,null,null,0,0,{"$f":"IF((IF(restoZero(DM44,25),(spaziIntermedi(DM44,25))+1,spaziIntermedi(DM44,25)))=(spaziIntermedi(DN44,25)),FALSE,TRUE)","v":true},0,{"$f":"+spaziIntermedi(DN44,25)-DP44","v":0},false,0,null,0,0,null,null,null,0,0,0,null,null,0,0,{"$f":"IF((IF(restoZero(EE44,25),(spaziIntermedi(EE44,25))+1,spaziIntermedi(EE44,25)))=(spaziIntermedi(EF44,25)),FALSE,TRUE)","v":true},0,{"$f":"+spaziIntermedi(EF44,25)-EH44","v":0},false,0,null,0,0,null,null,null,0,0,0,0,0,null,null,0,0,{"$f":"IF((IF(restoZero(EY44,25),(spaziIntermedi(EY44,25))+1,spaziIntermedi(EY44,25)))=(spaziIntermedi(EZ44,25)),FALSE,TRUE)","v":true},0,{"$f":"+spaziIntermedi(EZ44,25)-FB44","v":0},false,0,null,0,0,null,null,null,0,0,0,null,null,0,0,{"$f":"IF((IF(restoZero(FQ44,25),(spaziIntermedi(FQ44,25))+1,spaziIntermedi(FQ44,25)))=(spaziIntermedi(FR44,25)),FALSE,TRUE)","v":true},0,{"$f":"+spaziIntermedi(FR44,25)-FT44","v":0},false,0,null,0,0,null,null,null,0,0,0,0,0,null,null,0,0,{"$f":"IF((IF(restoZero(GK44,25),(spaziIntermedi(GK44,25))+1,spaziIntermedi(GK44,25)))=(spaziIntermedi(GL44,25)),FALSE,TRUE)","v":true},0,{"$f":"+spaziIntermedi(GL44,25)-GN44","v":0},false,0,null,0,0,null,null,null,0,0,0,null,null,0,0,{"$f":"IF((IF(restoZero(HC44,25),(spaziIntermedi(HC44,25))+1,spaziIntermedi(HC44,25)))=(spaziIntermedi(HD44,25)),FALSE,TRUE)","v":true},0,{"$f":"+spaziIntermedi(HD44,25)-HF44","v":0},false,0,null,0,0,null,null,null,0,0,0,0,0,null,null,0,0,{"$f":"IF((IF(restoZero(HW44,25),(spaziIntermedi(HW44,25))+1,spaziIntermedi(HW44,25)))=(spaziIntermedi(HX44,25)),FALSE,TRUE)","v":true},0,{"$f":"+spaziIntermedi(HX44,25)-HZ44","v":0},false,0,null,0,0,null,null,null,0,0,0,null,null,0,0,{"$f":"IF((IF(restoZero(IO44,25),(spaziIntermedi(IO44,25))+1,spaziIntermedi(IO44,25)))=(spaziIntermedi(IP44,25)),FALSE,TRUE)","v":true},0,{"$f":"+spaziIntermedi(IP44,25)-IR44","v":0},false,0,null,0,0,null,null,null,0,0,0,0,0,null,null,0,0,{"$f":"IF((IF(restoZero(JI44,25),(spaziIntermedi(JI44,25))+1,spaziIntermedi(JI44,25)))=(spaziIntermedi(JJ44,25)),FALSE,TRUE)","v":true},0,{"$f":"+spaziIntermedi(JJ44,25)-JL44","v":0},false,0,null,0,0,null,null,null,0,0,0,null,null,0,0,{"$f":"IF((IF(restoZero(KA44,25),(spaziIntermedi(KA44,25))+1,spaziIntermedi(KA44,25)))=(spaziIntermedi(KB44,25)),FALSE,TRUE)","v":true},0,{"$f":"+spaziIntermedi(KB44,25)-KD44","v":0},false,0,null,0,0,null,null,null,0,0,0,0,0,null,null,0,0,{"$f":"IF((IF(restoZero(KU44,25),(spaziIntermedi(KU44,25))+1,spaziIntermedi(KU44,25)))=(spaziIntermedi(KV44,25)),FALSE,TRUE)","v":true},0,{"$f":"+spaziIntermedi(KV44,25)-KX44","v":0},false,0,null,0,0,null,null,null,0,0,0,null,null,0,0,{"$f":"IF((IF(restoZero(LM44,25),(spaziIntermedi(LM44,25))+1,spaziIntermedi(LM44,25)))=(spaziIntermedi(LN44,25)),FALSE,TRUE)","v":true},0,{"$f":"+spaziIntermedi(LN44,25)-LP44","v":0},false,0,null,0,0,null,null,null,0,0,0,0,0,null,null,0,0,{"$f":"IF((IF(restoZero(MG44,25),(spaziIntermedi(MG44,25))+1,spaziIntermedi(MG44,25)))=(spaziIntermedi(MH44,25)),FALSE,TRUE)","v":true},0,{"$f":"+spaziIntermedi(MH44,25)-MJ44","v":0},false,0,null,0,0,null,null,null,0,0,0,null,null,0,0,{"$f":"IF((IF(restoZero(MY44,25),(spaziIntermedi(MY44,25))+1,spaziIntermedi(MY44,25)))=(spaziIntermedi(MZ44,25)),FALSE,TRUE)","v":true},0,{"$f":"+spaziIntermedi(MZ44,25)-NB44","v":0},false,0,null,0,0,null,null,null,0,0,0,0,0,null,null,0,0,{"$f":"IF((IF(restoZero(NS44,25),(spaziIntermedi(NS44,25))+1,spaziIntermedi(NS44,25)))=(spaziIntermedi(NT44,25)),FALSE,TRUE)","v":true},0,{"$f":"+spaziIntermedi(NT44,25)-NV44","v":0},false,0,null,0,0,null,null,null,0,0,0,null,null,0,0,{"$f":"IF((IF(restoZero(OK44,25),(spaziIntermedi(OK44,25))+1,spaziIntermedi(OK44,25)))=(spaziIntermedi(OL44,25)),FALSE,TRUE)","v":true},0,{"$f":"+spaziIntermedi(OL44,25)-ON44","v":0},false,0,null,0,0,null,null,null,0,0,0,0,0,null,null,0,0,{"$f":"IF((IF(restoZero(PE44,25),(spaziIntermedi(PE44,25))+1,spaziIntermedi(PE44,25)))=(spaziIntermedi(PF44,25)),FALSE,TRUE)","v":true},0,{"$f":"+spaziIntermedi(PF44,25)-PH44","v":0},false,0,null,0,0,null,null,null,0,0,0,null,null,0,0,{"$f":"IF((IF(restoZero(PW44,25),(spaziIntermedi(PW44,25))+1,spaziIntermedi(PW44,25)))=(spaziIntermedi(PX44,25)),FALSE,TRUE)","v":true},0,{"$f":"+spaziIntermedi(PX44,25)-PZ44","v":0},false,0,null,0,0,null,null,null,0,0,0,0,0,null,null,0,0,{"$f":"IF((IF(restoZero(QQ44,25),(spaziIntermedi(QQ44,25))+1,spaziIntermedi(QQ44,25)))=(spaziIntermedi(QR44,25)),FALSE,TRUE)","v":true},0,{"$f":"+spaziIntermedi(QR44,25)-QT44","v":0},false,0,null,0,0,null,null,null,0,0,0,null,null,0,0,{"$f":"IF((IF(restoZero(RI44,25),(spaziIntermedi(RI44,25))+1,spaziIntermedi(RI44,25)))=(spaziIntermedi(RJ44,25)),FALSE,TRUE)","v":true},0,{"$f":"+spaziIntermedi(RJ44,25)-RL44","v":0},false,0,null,0,0,null,null,null,0,0,0,0,0,null,null,0,0,{"$f":"IF((IF(restoZero(SC44,25),(spaziIntermedi(SC44,25))+1,spaziIntermedi(SC44,25)))=(spaziIntermedi(SD44,25)),FALSE,TRUE)","v":true},0,{"$f":"+spaziIntermedi(SD44,25)-SF44","v":0},false,0,null,0,0,null,null,null,0,0,0,null,null,0,0,{"$f":"IF((IF(restoZero(SU44,25),(spaziIntermedi(SU44,25))+1,spaziIntermedi(SU44,25)))=(spaziIntermedi(SV44,25)),FALSE,TRUE)","v":true},0,{"$f":"+spaziIntermedi(SV44,25)-SX44","v":0},false,0,null,0,0,null,null,null,0,0,0,0,0]
[null,null,{"$f":"IFERROR(D44+K44+L44,0)","v":0},0,{"$f":"IF((IF(restoZero(C45,25),(spaziIntermedi(C45,25))+1,spaziIntermedi(C45,25)))=(spaziIntermedi(D45,25)),FALSE,TRUE)","v":true},0,{"$f":"+spaziIntermedi(D45,25)-F45","v":0},false,0,null,{"$f":"+IF(H45=FALSE,I45,0)","v":0},0,null,null,null,0,0,0,null,null,0,0,{"$f":"IF((IF(restoZero(U45,25),(spaziIntermedi(U45,25))+1,spaziIntermedi(U45,25)))=(spaziIntermedi(V45,25)),FALSE,TRUE)","v":true},0,{"$f":"+spaziIntermedi(V45,25)-X45","v":0},false,0,null,0,0,null,null,null,0,0,0,0,0,null,null,0,0,{"$f":"IF((IF(restoZero(AO45,25),(spaziIntermedi(AO45,25))+1,spaziIntermedi(AO45,25)))=(spaziIntermedi(AP45,25)),FALSE,TRUE)","v":true},0,{"$f":"+spaziIntermedi(AP45,25)-AR45","v":0},false,0,null,0,0,null,null,null,0,0,0,null,null,0,0,{"$f":"IF((IF(restoZero(BG45,25),(spaziIntermedi(BG45,25))+1,spaziIntermedi(BG45,25)))=(spaziIntermedi(BH45,25)),FALSE,TRUE)","v":true},0,{"$f":"+spaziIntermedi(BH45,25)-BJ45","v":0},false,0,null,0,0,null,null,null,0,0,0,0,0,null,null,0,0,{"$f":"IF((IF(restoZero(CA45,25),(spaziIntermedi(CA45,25))+1,spaziIntermedi(CA45,25)))=(spaziIntermedi(CB45,25)),FALSE,TRUE)","v":true},0,{"$f":"+spaziIntermedi(CB45,25)-CD45","v":0},false,0,null,0,0,null,null,null,0,0,0,null,null,0,0,{"$f":"IF((IF(restoZero(CS45,25),(spaziIntermedi(CS45,25))+1,spaziIntermedi(CS45,25)))=(spaziIntermedi(CT45,25)),FALSE,TRUE)","v":true},0,{"$f":"+spaziIntermedi(CT45,25)-CV45","v":0},false,0,null,0,0,null,null,null,0,0,0,0,0,null,null,0,0,{"$f":"IF((IF(restoZero(DM45,25),(spaziIntermedi(DM45,25))+1,spaziIntermedi(DM45,25)))=(spaziIntermedi(DN45,25)),FALSE,TRUE)","v":true},0,{"$f":"+spaziIntermedi(DN45,25)-DP45","v":0},false,0,null,0,0,null,null,null,0,0,0,null,null,0,0,{"$f":"IF((IF(restoZero(EE45,25),(spaziIntermedi(EE45,25))+1,spaziIntermedi(EE45,25)))=(spaziIntermedi(EF45,25)),FALSE,TRUE)","v":true},0,{"$f":"+spaziIntermedi(EF45,25)-EH45","v":0},false,0,null,0,0,null,null,null,0,0,0,0,0,null,null,0,0,{"$f":"IF((IF(restoZero(EY45,25),(spaziIntermedi(EY45,25))+1,spaziIntermedi(EY45,25)))=(spaziIntermedi(EZ45,25)),FALSE,TRUE)","v":true},0,{"$f":"+spaziIntermedi(EZ45,25)-FB45","v":0},false,0,null,0,0,null,null,null,0,0,0,null,null,0,0,{"$f":"IF((IF(restoZero(FQ45,25),(spaziIntermedi(FQ45,25))+1,spaziIntermedi(FQ45,25)))=(spaziIntermedi(FR45,25)),FALSE,TRUE)","v":true},0,{"$f":"+spaziIntermedi(FR45,25)-FT45","v":0},false,0,null,0,0,null,null,null,0,0,0,0,0,null,null,0,0,{"$f":"IF((IF(restoZero(GK45,25),(spaziIntermedi(GK45,25))+1,spaziIntermedi(GK45,25)))=(spaziIntermedi(GL45,25)),FALSE,TRUE)","v":true},0,{"$f":"+spaziIntermedi(GL45,25)-GN45","v":0},false,0,null,0,0,null,null,null,0,0,0,null,null,0,0,{"$f":"IF((IF(restoZero(HC45,25),(spaziIntermedi(HC45,25))+1,spaziIntermedi(HC45,25)))=(spaziIntermedi(HD45,25)),FALSE,TRUE)","v":true},0,{"$f":"+spaziIntermedi(HD45,25)-HF45","v":0},false,0,null,0,0,null,null,null,0,0,0,0,0,null,null,0,0,{"$f":"IF((IF(restoZero(HW45,25),(spaziIntermedi(HW45,25))+1,spaziIntermedi(HW45,25)))=(spaziIntermedi(HX45,25)),FALSE,TRUE)","v":true},0,{"$f":"+spaziIntermedi(HX45,25)-HZ45","v":0},false,0,null,0,0,null,null,null,0,0,0,null,null,0,0,{"$f":"IF((IF(restoZero(IO45,25),(spaziIntermedi(IO45,25))+1,spaziIntermedi(IO45,25)))=(spaziIntermedi(IP45,25)),FALSE,TRUE)","v":true},0,{"$f":"+spaziIntermedi(IP45,25)-IR45","v":0},false,0,null,0,0,null,null,null,0,0,0,0,0,null,null,0,0,{"$f":"IF((IF(restoZero(JI45,25),(spaziIntermedi(JI45,25))+1,spaziIntermedi(JI45,25)))=(spaziIntermedi(JJ45,25)),FALSE,TRUE)","v":true},0,{"$f":"+spaziIntermedi(JJ45,25)-JL45","v":0},false,0,null,0,0,null,null,null,0,0,0,null,null,0,0,{"$f":"IF((IF(restoZero(KA45,25),(spaziIntermedi(KA45,25))+1,spaziIntermedi(KA45,25)))=(spaziIntermedi(KB45,25)),FALSE,TRUE)","v":true},0,{"$f":"+spaziIntermedi(KB45,25)-KD45","v":0},false,0,null,0,0,null,null,null,0,0,0,0,0,null,null,0,0,{"$f":"IF((IF(restoZero(KU45,25),(spaziIntermedi(KU45,25))+1,spaziIntermedi(KU45,25)))=(spaziIntermedi(KV45,25)),FALSE,TRUE)","v":true},0,{"$f":"+spaziIntermedi(KV45,25)-KX45","v":0},false,0,null,0,0,null,null,null,0,0,0,null,null,0,0,{"$f":"IF((IF(restoZero(LM45,25),(spaziIntermedi(LM45,25))+1,spaziIntermedi(LM45,25)))=(spaziIntermedi(LN45,25)),FALSE,TRUE)","v":true},0,{"$f":"+spaziIntermedi(LN45,25)-LP45","v":0},false,0,null,0,0,null,null,null,0,0,0,0,0,null,null,0,0,{"$f":"IF((IF(restoZero(MG45,25),(spaziIntermedi(MG45,25))+1,spaziIntermedi(MG45,25)))=(spaziIntermedi(MH45,25)),FALSE,TRUE)","v":true},0,{"$f":"+spaziIntermedi(MH45,25)-MJ45","v":0},false,0,null,0,0,null,null,null,0,0,0,null,null,0,0,{"$f":"IF((IF(restoZero(MY45,25),(spaziIntermedi(MY45,25))+1,spaziIntermedi(MY45,25)))=(spaziIntermedi(MZ45,25)),FALSE,TRUE)","v":true},0,{"$f":"+spaziIntermedi(MZ45,25)-NB45","v":0},false,0,null,0,0,null,null,null,0,0,0,0,0,null,null,0,0,{"$f":"IF((IF(restoZero(NS45,25),(spaziIntermedi(NS45,25))+1,spaziIntermedi(NS45,25)))=(spaziIntermedi(NT45,25)),FALSE,TRUE)","v":true},0,{"$f":"+spaziIntermedi(NT45,25)-NV45","v":0},false,0,null,0,0,null,null,null,0,0,0,null,null,0,0,{"$f":"IF((IF(restoZero(OK45,25),(spaziIntermedi(OK45,25))+1,spaziIntermedi(OK45,25)))=(spaziIntermedi(OL45,25)),FALSE,TRUE)","v":true},0,{"$f":"+spaziIntermedi(OL45,25)-ON45","v":0},false,0,null,0,0,null,null,null,0,0,0,0,0,null,null,0,0,{"$f":"IF((IF(restoZero(PE45,25),(spaziIntermedi(PE45,25))+1,spaziIntermedi(PE45,25)))=(spaziIntermedi(PF45,25)),FALSE,TRUE)","v":true},0,{"$f":"+spaziIntermedi(PF45,25)-PH45","v":0},false,0,null,0,0,null,null,null,0,0,0,null,null,0,0,{"$f":"IF((IF(restoZero(PW45,25),(spaziIntermedi(PW45,25))+1,spaziIntermedi(PW45,25)))=(spaziIntermedi(PX45,25)),FALSE,TRUE)","v":true},0,{"$f":"+spaziIntermedi(PX45,25)-PZ45","v":0},false,0,null,0,0,null,null,null,0,0,0,0,0,null,null,0,0,{"$f":"IF((IF(restoZero(QQ45,25),(spaziIntermedi(QQ45,25))+1,spaziIntermedi(QQ45,25)))=(spaziIntermedi(QR45,25)),FALSE,TRUE)","v":true},0,{"$f":"+spaziIntermedi(QR45,25)-QT45","v":0},false,0,null,0,0,null,null,null,0,0,0,null,null,0,0,{"$f":"IF((IF(restoZero(RI45,25),(spaziIntermedi(RI45,25))+1,spaziIntermedi(RI45,25)))=(spaziIntermedi(RJ45,25)),FALSE,TRUE)","v":true},0,{"$f":"+spaziIntermedi(RJ45,25)-RL45","v":0},false,0,null,0,0,null,null,null,0,0,0,0,0,null,null,0,0,{"$f":"IF((IF(restoZero(SC45,25),(spaziIntermedi(SC45,25))+1,spaziIntermedi(SC45,25)))=(spaziIntermedi(SD45,25)),FALSE,TRUE)","v":true},0,{"$f":"+spaziIntermedi(SD45,25)-SF45","v":0},false,0,null,0,0,null,null,null,0,0,0,null,null,0,0,{"$f":"IF((IF(restoZero(SU45,25),(spaziIntermedi(SU45,25))+1,spaziIntermedi(SU45,25)))=(spaziIntermedi(SV45,25)),FALSE,TRUE)","v":true},0,{"$f":"+spaziIntermedi(SV45,25)-SX45","v":0},false,0,null,0,0,null,null,null,0,0,0,0,0]
[null,null,0,0,{"$f":"IF((IF(restoZero(C46,25),(spaziIntermedi(C46,25))+1,spaziIntermedi(C46,25)))=(spaziIntermedi(D46,25)),FALSE,TRUE)","v":true},0,{"$f":"+spaziIntermedi(D46,25)-F46","v":0},false,0,null,0,0,null,null,null,0,0,0,null,null,0,0,{"$f":"IF((IF(restoZero(U46,25),(spaziIntermedi(U46,25))+1,spaziIntermedi(U46,25)))=(spaziIntermedi(V46,25)),FALSE,TRUE)","v":true},0,{"$f":"+spaziIntermedi(V46,25)-X46","v":0},false,0,null,0,0,null,null,null,0,0,0,0,0,null,null,0,0,{"$f":"IF((IF(restoZero(AO46,25),(spaziIntermedi(AO46,25))+1,spaziIntermedi(AO46,25)))=(spaziIntermedi(AP46,25)),FALSE,TRUE)","v":true},0,{"$f":"+spaziIntermedi(AP46,25)-AR46","v":0},false,0,null,0,0,null,null,null,0,0,0,null,null,0,0,{"$f":"IF((IF(restoZero(BG46,25),(spaziIntermedi(BG46,25))+1,spaziIntermedi(BG46,25)))=(spaziIntermedi(BH46,25)),FALSE,TRUE)","v":true},0,{"$f":"+spaziIntermedi(BH46,25)-BJ46","v":0},false,0,null,0,0,null,null,null,0,0,0,0,0,null,null,0,0,{"$f":"IF((IF(restoZero(CA46,25),(spaziIntermedi(CA46,25))+1,spaziIntermedi(CA46,25)))=(spaziIntermedi(CB46,25)),FALSE,TRUE)","v":true},0,{"$f":"+spaziIntermedi(CB46,25)-CD46","v":0},false,0,null,0,0,null,null,null,0,0,0,null,null,0,0,{"$f":"IF((IF(restoZero(CS46,25),(spaziIntermedi(CS46,25))+1,spaziIntermedi(CS46,25)))=(spaziIntermedi(CT46,25)),FALSE,TRUE)","v":true},0,{"$f":"+spaziIntermedi(CT46,25)-CV46","v":0},false,0,null,0,0,null,null,null,0,0,0,0,0,null,null,0,0,{"$f":"IF((IF(restoZero(DM46,25),(spaziIntermedi(DM46,25))+1,spaziIntermedi(DM46,25)))=(spaziIntermedi(DN46,25)),FALSE,TRUE)","v":true},0,{"$f":"+spaziIntermedi(DN46,25)-DP46","v":0},false,0,null,0,0,null,null,null,0,0,0,null,null,0,0,{"$f":"IF((IF(restoZero(EE46,25),(spaziIntermedi(EE46,25))+1,spaziIntermedi(EE46,25)))=(spaziIntermedi(EF46,25)),FALSE,TRUE)","v":true},0,{"$f":"+spaziIntermedi(EF46,25)-EH46","v":0},false,0,null,0,0,null,null,null,0,0,0,0,0,null,null,0,0,{"$f":"IF((IF(restoZero(EY46,25),(spaziIntermedi(EY46,25))+1,spaziIntermedi(EY46,25)))=(spaziIntermedi(EZ46,25)),FALSE,TRUE)","v":true},0,{"$f":"+spaziIntermedi(EZ46,25)-FB46","v":0},false,0,null,0,0,null,null,null,0,0,0,null,null,0,0,{"$f":"IF((IF(restoZero(FQ46,25),(spaziIntermedi(FQ46,25))+1,spaziIntermedi(FQ46,25)))=(spaziIntermedi(FR46,25)),FALSE,TRUE)","v":true},0,{"$f":"+spaziIntermedi(FR46,25)-FT46","v":0},false,0,null,0,0,null,null,null,0,0,0,0,0,null,null,0,0,{"$f":"IF((IF(restoZero(GK46,25),(spaziIntermedi(GK46,25))+1,spaziIntermedi(GK46,25)))=(spaziIntermedi(GL46,25)),FALSE,TRUE)","v":true},0,{"$f":"+spaziIntermedi(GL46,25)-GN46","v":0},false,0,null,0,0,null,null,null,0,0,0,null,null,0,0,{"$f":"IF((IF(restoZero(HC46,25),(spaziIntermedi(HC46,25))+1,spaziIntermedi(HC46,25)))=(spaziIntermedi(HD46,25)),FALSE,TRUE)","v":true},0,{"$f":"+spaziIntermedi(HD46,25)-HF46","v":0},false,0,null,0,0,null,null,null,0,0,0,0,0,null,null,0,0,{"$f":"IF((IF(restoZero(HW46,25),(spaziIntermedi(HW46,25))+1,spaziIntermedi(HW46,25)))=(spaziIntermedi(HX46,25)),FALSE,TRUE)","v":true},0,{"$f":"+spaziIntermedi(HX46,25)-HZ46","v":0},false,0,null,0,0,null,null,null,0,0,0,null,null,0,0,{"$f":"IF((IF(restoZero(IO46,25),(spaziIntermedi(IO46,25))+1,spaziIntermedi(IO46,25)))=(spaziIntermedi(IP46,25)),FALSE,TRUE)","v":true},0,{"$f":"+spaziIntermedi(IP46,25)-IR46","v":0},false,0,null,0,0,null,null,null,0,0,0,0,0,null,null,0,0,{"$f":"IF((IF(restoZero(JI46,25),(spaziIntermedi(JI46,25))+1,spaziIntermedi(JI46,25)))=(spaziIntermedi(JJ46,25)),FALSE,TRUE)","v":true},0,{"$f":"+spaziIntermedi(JJ46,25)-JL46","v":0},false,0,null,0,0,null,null,null,0,0,0,null,null,0,0,{"$f":"IF((IF(restoZero(KA46,25),(spaziIntermedi(KA46,25))+1,spaziIntermedi(KA46,25)))=(spaziIntermedi(KB46,25)),FALSE,TRUE)","v":true},0,{"$f":"+spaziIntermedi(KB46,25)-KD46","v":0},false,0,null,0,0,null,null,null,0,0,0,0,0,null,null,0,0,{"$f":"IF((IF(restoZero(KU46,25),(spaziIntermedi(KU46,25))+1,spaziIntermedi(KU46,25)))=(spaziIntermedi(KV46,25)),FALSE,TRUE)","v":true},0,{"$f":"+spaziIntermedi(KV46,25)-KX46","v":0},false,0,null,0,0,null,null,null,0,0,0,null,null,0,0,{"$f":"IF((IF(restoZero(LM46,25),(spaziIntermedi(LM46,25))+1,spaziIntermedi(LM46,25)))=(spaziIntermedi(LN46,25)),FALSE,TRUE)","v":true},0,{"$f":"+spaziIntermedi(LN46,25)-LP46","v":0},false,0,null,0,0,null,null,null,0,0,0,0,0,null,null,0,0,{"$f":"IF((IF(restoZero(MG46,25),(spaziIntermedi(MG46,25))+1,spaziIntermedi(MG46,25)))=(spaziIntermedi(MH46,25)),FALSE,TRUE)","v":true},0,{"$f":"+spaziIntermedi(MH46,25)-MJ46","v":0},false,0,null,0,0,null,null,null,0,0,0,null,null,0,0,{"$f":"IF((IF(restoZero(MY46,25),(spaziIntermedi(MY46,25))+1,spaziIntermedi(MY46,25)))=(spaziIntermedi(MZ46,25)),FALSE,TRUE)","v":true},0,{"$f":"+spaziIntermedi(MZ46,25)-NB46","v":0},false,0,null,0,0,null,null,null,0,0,0,0,0,null,null,0,0,{"$f":"IF((IF(restoZero(NS46,25),(spaziIntermedi(NS46,25))+1,spaziIntermedi(NS46,25)))=(spaziIntermedi(NT46,25)),FALSE,TRUE)","v":true},0,{"$f":"+spaziIntermedi(NT46,25)-NV46","v":0},false,0,null,0,0,null,null,null,0,0,0,null,null,0,0,{"$f":"IF((IF(restoZero(OK46,25),(spaziIntermedi(OK46,25))+1,spaziIntermedi(OK46,25)))=(spaziIntermedi(OL46,25)),FALSE,TRUE)","v":true},0,{"$f":"+spaziIntermedi(OL46,25)-ON46","v":0},false,0,null,0,0,null,null,null,0,0,0,0,0,null,null,0,0,{"$f":"IF((IF(restoZero(PE46,25),(spaziIntermedi(PE46,25))+1,spaziIntermedi(PE46,25)))=(spaziIntermedi(PF46,25)),FALSE,TRUE)","v":true},0,{"$f":"+spaziIntermedi(PF46,25)-PH46","v":0},false,0,null,0,0,null,null,null,0,0,0,null,null,0,0,{"$f":"IF((IF(restoZero(PW46,25),(spaziIntermedi(PW46,25))+1,spaziIntermedi(PW46,25)))=(spaziIntermedi(PX46,25)),FALSE,TRUE)","v":true},0,{"$f":"+spaziIntermedi(PX46,25)-PZ46","v":0},false,0,null,0,0,null,null,null,0,0,0,0,0,null,null,0,0,{"$f":"IF((IF(restoZero(QQ46,25),(spaziIntermedi(QQ46,25))+1,spaziIntermedi(QQ46,25)))=(spaziIntermedi(QR46,25)),FALSE,TRUE)","v":true},0,{"$f":"+spaziIntermedi(QR46,25)-QT46","v":0},false,0,null,0,0,null,null,null,0,0,0,null,null,0,0,{"$f":"IF((IF(restoZero(RI46,25),(spaziIntermedi(RI46,25))+1,spaziIntermedi(RI46,25)))=(spaziIntermedi(RJ46,25)),FALSE,TRUE)","v":true},0,{"$f":"+spaziIntermedi(RJ46,25)-RL46","v":0},false,0,null,0,0,null,null,null,0,0,0,0,0,null,null,0,0,{"$f":"IF((IF(restoZero(SC46,25),(spaziIntermedi(SC46,25))+1,spaziIntermedi(SC46,25)))=(spaziIntermedi(SD46,25)),FALSE,TRUE)","v":true},0,{"$f":"+spaziIntermedi(SD46,25)-SF46","v":0},false,0,null,0,0,null,null,null,0,0,0,null,null,0,0,{"$f":"IF((IF(restoZero(SU46,25),(spaziIntermedi(SU46,25))+1,spaziIntermedi(SU46,25)))=(spaziIntermedi(SV46,25)),FALSE,TRUE)","v":true},0,{"$f":"+spaziIntermedi(SV46,25)-SX46","v":0},false,0,null,0,0,null,null,null,0,0,0,0,0]
[null,null,0,0,{"$f":"IF((IF(restoZero(C47,25),(spaziIntermedi(C47,25))+1,spaziIntermedi(C47,25)))=(spaziIntermedi(D47,25)),FALSE,TRUE)","v":true},0,{"$f":"+spaziIntermedi(D47,25)-F47","v":0},false,0,null,0,0,null,null,null,0,0,0,null,null,0,0,{"$f":"IF((IF(restoZero(U47,25),(spaziIntermedi(U47,25))+1,spaziIntermedi(U47,25)))=(spaziIntermedi(V47,25)),FALSE,TRUE)","v":true},0,{"$f":"+spaziIntermedi(V47,25)-X47","v":0},false,0,null,0,0,null,null,null,0,0,0,0,0,null,null,0,0,{"$f":"IF((IF(restoZero(AO47,25),(spaziIntermedi(AO47,25))+1,spaziIntermedi(AO47,25)))=(spaziIntermedi(AP47,25)),FALSE,TRUE)","v":true},0,{"$f":"+spaziIntermedi(AP47,25)-AR47","v":0},false,0,null,0,0,null,null,null,0,0,0,null,null,0,0,{"$f":"IF((IF(restoZero(BG47,25),(spaziIntermedi(BG47,25))+1,spaziIntermedi(BG47,25)))=(spaziIntermedi(BH47,25)),FALSE,TRUE)","v":true},0,{"$f":"+spaziIntermedi(BH47,25)-BJ47","v":0},false,0,null,0,0,null,null,null,0,0,0,0,0,null,null,0,0,{"$f":"IF((IF(restoZero(CA47,25),(spaziIntermedi(CA47,25))+1,spaziIntermedi(CA47,25)))=(spaziIntermedi(CB47,25)),FALSE,TRUE)","v":true},0,{"$f":"+spaziIntermedi(CB47,25)-CD47","v":0},false,0,null,0,0,null,null,null,0,0,0,null,null,0,0,{"$f":"IF((IF(restoZero(CS47,25),(spaziIntermedi(CS47,25))+1,spaziIntermedi(CS47,25)))=(spaziIntermedi(CT47,25)),FALSE,TRUE)","v":true},0,{"$f":"+spaziIntermedi(CT47,25)-CV47","v":0},false,0,null,0,0,null,null,null,0,0,0,0,0,null,null,0,0,{"$f":"IF((IF(restoZero(DM47,25),(spaziIntermedi(DM47,25))+1,spaziIntermedi(DM47,25)))=(spaziIntermedi(DN47,25)),FALSE,TRUE)","v":true},0,{"$f":"+spaziIntermedi(DN47,25)-DP47","v":0},false,0,null,0,0,null,null,null,0,0,0,null,null,0,0,{"$f":"IF((IF(restoZero(EE47,25),(spaziIntermedi(EE47,25))+1,spaziIntermedi(EE47,25)))=(spaziIntermedi(EF47,25)),FALSE,TRUE)","v":true},0,{"$f":"+spaziIntermedi(EF47,25)-EH47","v":0},false,0,null,0,0,null,null,null,0,0,0,0,0,null,null,0,0,{"$f":"IF((IF(restoZero(EY47,25),(spaziIntermedi(EY47,25))+1,spaziIntermedi(EY47,25)))=(spaziIntermedi(EZ47,25)),FALSE,TRUE)","v":true},0,{"$f":"+spaziIntermedi(EZ47,25)-FB47","v":0},false,0,null,0,0,null,null,null,0,0,0,null,null,0,0,{"$f":"IF((IF(restoZero(FQ47,25),(spaziIntermedi(FQ47,25))+1,spaziIntermedi(FQ47,25)))=(spaziIntermedi(FR47,25)),FALSE,TRUE)","v":true},0,{"$f":"+spaziIntermedi(FR47,25)-FT47","v":0},false,0,null,0,0,null,null,null,0,0,0,0,0,null,null,0,0,{"$f":"IF((IF(restoZero(GK47,25),(spaziIntermedi(GK47,25))+1,spaziIntermedi(GK47,25)))=(spaziIntermedi(GL47,25)),FALSE,TRUE)","v":true},0,{"$f":"+spaziIntermedi(GL47,25)-GN47","v":0},false,0,null,0,0,null,null,null,0,0,0,null,null,0,0,{"$f":"IF((IF(restoZero(HC47,25),(spaziIntermedi(HC47,25))+1,spaziIntermedi(HC47,25)))=(spaziIntermedi(HD47,25)),FALSE,TRUE)","v":true},0,{"$f":"+spaziIntermedi(HD47,25)-HF47","v":0},false,0,null,0,0,null,null,null,0,0,0,0,0,null,null,0,0,{"$f":"IF((IF(restoZero(HW47,25),(spaziIntermedi(HW47,25))+1,spaziIntermedi(HW47,25)))=(spaziIntermedi(HX47,25)),FALSE,TRUE)","v":true},0,{"$f":"+spaziIntermedi(HX47,25)-HZ47","v":0},false,0,null,0,0,null,null,null,0,0,0,null,null,0,0,{"$f":"IF((IF(restoZero(IO47,25),(spaziIntermedi(IO47,25))+1,spaziIntermedi(IO47,25)))=(spaziIntermedi(IP47,25)),FALSE,TRUE)","v":true},0,{"$f":"+spaziIntermedi(IP47,25)-IR47","v":0},false,0,null,0,0,null,null,null,0,0,0,0,0,null,null,0,0,{"$f":"IF((IF(restoZero(JI47,25),(spaziIntermedi(JI47,25))+1,spaziIntermedi(JI47,25)))=(spaziIntermedi(JJ47,25)),FALSE,TRUE)","v":true},0,{"$f":"+spaziIntermedi(JJ47,25)-JL47","v":0},false,0,null,0,0,null,null,null,0,0,0,null,null,0,0,{"$f":"IF((IF(restoZero(KA47,25),(spaziIntermedi(KA47,25))+1,spaziIntermedi(KA47,25)))=(spaziIntermedi(KB47,25)),FALSE,TRUE)","v":true},0,{"$f":"+spaziIntermedi(KB47,25)-KD47","v":0},false,0,null,0,0,null,null,null,0,0,0,0,0,null,null,0,0,{"$f":"IF((IF(restoZero(KU47,25),(spaziIntermedi(KU47,25))+1,spaziIntermedi(KU47,25)))=(spaziIntermedi(KV47,25)),FALSE,TRUE)","v":true},0,{"$f":"+spaziIntermedi(KV47,25)-KX47","v":0},false,0,null,0,0,null,null,null,0,0,0,null,null,0,0,{"$f":"IF((IF(restoZero(LM47,25),(spaziIntermedi(LM47,25))+1,spaziIntermedi(LM47,25)))=(spaziIntermedi(LN47,25)),FALSE,TRUE)","v":true},0,{"$f":"+spaziIntermedi(LN47,25)-LP47","v":0},false,0,null,0,0,null,null,null,0,0,0,0,0,null,null,0,0,{"$f":"IF((IF(restoZero(MG47,25),(spaziIntermedi(MG47,25))+1,spaziIntermedi(MG47,25)))=(spaziIntermedi(MH47,25)),FALSE,TRUE)","v":true},0,{"$f":"+spaziIntermedi(MH47,25)-MJ47","v":0},false,0,null,0,0,null,null,null,0,0,0,null,null,0,0,{"$f":"IF((IF(restoZero(MY47,25),(spaziIntermedi(MY47,25))+1,spaziIntermedi(MY47,25)))=(spaziIntermedi(MZ47,25)),FALSE,TRUE)","v":true},0,{"$f":"+spaziIntermedi(MZ47,25)-NB47","v":0},false,0,null,0,0,null,null,null,0,0,0,0,0,null,null,0,0,{"$f":"IF((IF(restoZero(NS47,25),(spaziIntermedi(NS47,25))+1,spaziIntermedi(NS47,25)))=(spaziIntermedi(NT47,25)),FALSE,TRUE)","v":true},0,{"$f":"+spaziIntermedi(NT47,25)-NV47","v":0},false,0,null,0,0,null,null,null,0,0,0,null,null,0,0,{"$f":"IF((IF(restoZero(OK47,25),(spaziIntermedi(OK47,25))+1,spaziIntermedi(OK47,25)))=(spaziIntermedi(OL47,25)),FALSE,TRUE)","v":true},0,{"$f":"+spaziIntermedi(OL47,25)-ON47","v":0},false,0,null,0,0,null,null,null,0,0,0,0,0,null,null,0,0,{"$f":"IF((IF(restoZero(PE47,25),(spaziIntermedi(PE47,25))+1,spaziIntermedi(PE47,25)))=(spaziIntermedi(PF47,25)),FALSE,TRUE)","v":true},0,{"$f":"+spaziIntermedi(PF47,25)-PH47","v":0},false,0,null,0,0,null,null,null,0,0,0,null,null,0,0,{"$f":"IF((IF(restoZero(PW47,25),(spaziIntermedi(PW47,25))+1,spaziIntermedi(PW47,25)))=(spaziIntermedi(PX47,25)),FALSE,TRUE)","v":true},0,{"$f":"+spaziIntermedi(PX47,25)-PZ47","v":0},false,0,null,0,0,null,null,null,0,0,0,0,0,null,null,0,0,{"$f":"IF((IF(restoZero(QQ47,25),(spaziIntermedi(QQ47,25))+1,spaziIntermedi(QQ47,25)))=(spaziIntermedi(QR47,25)),FALSE,TRUE)","v":true},0,{"$f":"+spaziIntermedi(QR47,25)-QT47","v":0},false,0,null,0,0,null,null,null,0,0,0,null,null,0,0,{"$f":"IF((IF(restoZero(RI47,25),(spaziIntermedi(RI47,25))+1,spaziIntermedi(RI47,25)))=(spaziIntermedi(RJ47,25)),FALSE,TRUE)","v":true},0,{"$f":"+spaziIntermedi(RJ47,25)-RL47","v":0},false,0,null,0,0,null,null,null,0,0,0,0,0,null,null,0,0,{"$f":"IF((IF(restoZero(SC47,25),(spaziIntermedi(SC47,25))+1,spaziIntermedi(SC47,25)))=(spaziIntermedi(SD47,25)),FALSE,TRUE)","v":true},0,{"$f":"+spaziIntermedi(SD47,25)-SF47","v":0},false,0,null,0,0,null,null,null,0,0,0,null,null,0,0,{"$f":"IF((IF(restoZero(SU47,25),(spaziIntermedi(SU47,25))+1,spaziIntermedi(SU47,25)))=(spaziIntermedi(SV47,25)),FALSE,TRUE)","v":true},0,{"$f":"+spaziIntermedi(SV47,25)-SX47","v":0},false,0,null,0,0,null,null,null,0,0,0,0,0]
[null,null,0,0,{"$f":"IF((IF(restoZero(C48,25),(spaziIntermedi(C48,25))+1,spaziIntermedi(C48,25)))=(spaziIntermedi(D48,25)),FALSE,TRUE)","v":true},0,{"$f":"+spaziIntermedi(D48,25)-F48","v":0},false,0,null,0,0,null,null,null,0,0,0,null,null,0,0,{"$f":"IF((IF(restoZero(U48,25),(spaziIntermedi(U48,25))+1,spaziIntermedi(U48,25)))=(spaziIntermedi(V48,25)),FALSE,TRUE)","v":true},0,{"$f":"+spaziIntermedi(V48,25)-X48","v":0},false,0,null,0,0,null,null,null,0,0,0,0,0,null,null,0,0,{"$f":"IF((IF(restoZero(AO48,25),(spaziIntermedi(AO48,25))+1,spaziIntermedi(AO48,25)))=(spaziIntermedi(AP48,25)),FALSE,TRUE)","v":true},0,{"$f":"+spaziIntermedi(AP48,25)-AR48","v":0},false,0,null,0,0,null,null,null,0,0,0,null,null,0,0,{"$f":"IF((IF(restoZero(BG48,25),(spaziIntermedi(BG48,25))+1,spaziIntermedi(BG48,25)))=(spaziIntermedi(BH48,25)),FALSE,TRUE)","v":true},0,{"$f":"+spaziIntermedi(BH48,25)-BJ48","v":0},false,0,null,0,0,null,null,null,0,0,0,0,0,null,null,0,0,{"$f":"IF((IF(restoZero(CA48,25),(spaziIntermedi(CA48,25))+1,spaziIntermedi(CA48,25)))=(spaziIntermedi(CB48,25)),FALSE,TRUE)","v":true},0,{"$f":"+spaziIntermedi(CB48,25)-CD48","v":0},false,0,null,0,0,null,null,null,0,0,0,null,null,0,0,{"$f":"IF((IF(restoZero(CS48,25),(spaziIntermedi(CS48,25))+1,spaziIntermedi(CS48,25)))=(spaziIntermedi(CT48,25)),FALSE,TRUE)","v":true},0,{"$f":"+spaziIntermedi(CT48,25)-CV48","v":0},false,0,null,0,0,null,null,null,0,0,0,0,0,null,null,0,0,{"$f":"IF((IF(restoZero(DM48,25),(spaziIntermedi(DM48,25))+1,spaziIntermedi(DM48,25)))=(spaziIntermedi(DN48,25)),FALSE,TRUE)","v":true},0,{"$f":"+spaziIntermedi(DN48,25)-DP48","v":0},false,0,null,0,0,null,null,null,0,0,0,null,null,0,0,{"$f":"IF((IF(restoZero(EE48,25),(spaziIntermedi(EE48,25))+1,spaziIntermedi(EE48,25)))=(spaziIntermedi(EF48,25)),FALSE,TRUE)","v":true},0,{"$f":"+spaziIntermedi(EF48,25)-EH48","v":0},false,0,null,0,0,null,null,null,0,0,0,0,0,null,null,0,0,{"$f":"IF((IF(restoZero(EY48,25),(spaziIntermedi(EY48,25))+1,spaziIntermedi(EY48,25)))=(spaziIntermedi(EZ48,25)),FALSE,TRUE)","v":true},0,{"$f":"+spaziIntermedi(EZ48,25)-FB48","v":0},false,0,null,0,0,null,null,null,0,0,0,null,null,0,0,{"$f":"IF((IF(restoZero(FQ48,25),(spaziIntermedi(FQ48,25))+1,spaziIntermedi(FQ48,25)))=(spaziIntermedi(FR48,25)),FALSE,TRUE)","v":true},0,{"$f":"+spaziIntermedi(FR48,25)-FT48","v":0},false,0,null,0,0,null,null,null,0,0,0,0,0,null,null,0,0,{"$f":"IF((IF(restoZero(GK48,25),(spaziIntermedi(GK48,25))+1,spaziIntermedi(GK48,25)))=(spaziIntermedi(GL48,25)),FALSE,TRUE)","v":true},0,{"$f":"+spaziIntermedi(GL48,25)-GN48","v":0},false,0,null,0,0,null,null,null,0,0,0,null,null,0,0,{"$f":"IF((IF(restoZero(HC48,25),(spaziIntermedi(HC48,25))+1,spaziIntermedi(HC48,25)))=(spaziIntermedi(HD48,25)),FALSE,TRUE)","v":true},0,{"$f":"+spaziIntermedi(HD48,25)-HF48","v":0},false,0,null,0,0,null,null,null,0,0,0,0,0,null,null,0,0,{"$f":"IF((IF(restoZero(HW48,25),(spaziIntermedi(HW48,25))+1,spaziIntermedi(HW48,25)))=(spaziIntermedi(HX48,25)),FALSE,TRUE)","v":true},0,{"$f":"+spaziIntermedi(HX48,25)-HZ48","v":0},false,0,null,0,0,null,null,null,0,0,0,null,null,0,0,{"$f":"IF((IF(restoZero(IO48,25),(spaziIntermedi(IO48,25))+1,spaziIntermedi(IO48,25)))=(spaziIntermedi(IP48,25)),FALSE,TRUE)","v":true},0,{"$f":"+spaziIntermedi(IP48,25)-IR48","v":0},false,0,null,0,0,null,null,null,0,0,0,0,0,null,null,0,0,{"$f":"IF((IF(restoZero(JI48,25),(spaziIntermedi(JI48,25))+1,spaziIntermedi(JI48,25)))=(spaziIntermedi(JJ48,25)),FALSE,TRUE)","v":true},0,{"$f":"+spaziIntermedi(JJ48,25)-JL48","v":0},false,0,null,0,0,null,null,null,0,0,0,null,null,0,0,{"$f":"IF((IF(restoZero(KA48,25),(spaziIntermedi(KA48,25))+1,spaziIntermedi(KA48,25)))=(spaziIntermedi(KB48,25)),FALSE,TRUE)","v":true},0,{"$f":"+spaziIntermedi(KB48,25)-KD48","v":0},false,0,null,0,0,null,null,null,0,0,0,0,0,null,null,0,0,{"$f":"IF((IF(restoZero(KU48,25),(spaziIntermedi(KU48,25))+1,spaziIntermedi(KU48,25)))=(spaziIntermedi(KV48,25)),FALSE,TRUE)","v":true},0,{"$f":"+spaziIntermedi(KV48,25)-KX48","v":0},false,0,null,0,0,null,null,null,0,0,0,null,null,0,0,{"$f":"IF((IF(restoZero(LM48,25),(spaziIntermedi(LM48,25))+1,spaziIntermedi(LM48,25)))=(spaziIntermedi(LN48,25)),FALSE,TRUE)","v":true},0,{"$f":"+spaziIntermedi(LN48,25)-LP48","v":0},false,0,null,0,0,null,null,null,0,0,0,0,0,null,null,0,0,{"$f":"IF((IF(restoZero(MG48,25),(spaziIntermedi(MG48,25))+1,spaziIntermedi(MG48,25)))=(spaziIntermedi(MH48,25)),FALSE,TRUE)","v":true},0,{"$f":"+spaziIntermedi(MH48,25)-MJ48","v":0},false,0,null,0,0,null,null,null,0,0,0,null,null,0,0,{"$f":"IF((IF(restoZero(MY48,25),(spaziIntermedi(MY48,25))+1,spaziIntermedi(MY48,25)))=(spaziIntermedi(MZ48,25)),FALSE,TRUE)","v":true},0,{"$f":"+spaziIntermedi(MZ48,25)-NB48","v":0},false,0,null,0,0,null,null,null,0,0,0,0,0,null,null,0,0,{"$f":"IF((IF(restoZero(NS48,25),(spaziIntermedi(NS48,25))+1,spaziIntermedi(NS48,25)))=(spaziIntermedi(NT48,25)),FALSE,TRUE)","v":true},0,{"$f":"+spaziIntermedi(NT48,25)-NV48","v":0},false,0,null,0,0,null,null,null,0,0,0,null,null,0,0,{"$f":"IF((IF(restoZero(OK48,25),(spaziIntermedi(OK48,25))+1,spaziIntermedi(OK48,25)))=(spaziIntermedi(OL48,25)),FALSE,TRUE)","v":true},0,{"$f":"+spaziIntermedi(OL48,25)-ON48","v":0},false,0,null,0,0,null,null,null,0,0,0,0,0,null,null,0,0,{"$f":"IF((IF(restoZero(PE48,25),(spaziIntermedi(PE48,25))+1,spaziIntermedi(PE48,25)))=(spaziIntermedi(PF48,25)),FALSE,TRUE)","v":true},0,{"$f":"+spaziIntermedi(PF48,25)-PH48","v":0},false,0,null,0,0,null,null,null,0,0,0,null,null,0,0,{"$f":"IF((IF(restoZero(PW48,25),(spaziIntermedi(PW48,25))+1,spaziIntermedi(PW48,25)))=(spaziIntermedi(PX48,25)),FALSE,TRUE)","v":true},0,{"$f":"+spaziIntermedi(PX48,25)-PZ48","v":0},false,0,null,0,0,null,null,null,0,0,0,0,0,null,null,0,0,{"$f":"IF((IF(restoZero(QQ48,25),(spaziIntermedi(QQ48,25))+1,spaziIntermedi(QQ48,25)))=(spaziIntermedi(QR48,25)),FALSE,TRUE)","v":true},0,{"$f":"+spaziIntermedi(QR48,25)-QT48","v":0},false,0,null,0,0,null,null,null,0,0,0,null,null,0,0,{"$f":"IF((IF(restoZero(RI48,25),(spaziIntermedi(RI48,25))+1,spaziIntermedi(RI48,25)))=(spaziIntermedi(RJ48,25)),FALSE,TRUE)","v":true},0,{"$f":"+spaziIntermedi(RJ48,25)-RL48","v":0},false,0,null,0,0,null,null,null,0,0,0,0,0,null,null,0,0,{"$f":"IF((IF(restoZero(SC48,25),(spaziIntermedi(SC48,25))+1,spaziIntermedi(SC48,25)))=(spaziIntermedi(SD48,25)),FALSE,TRUE)","v":true},0,{"$f":"+spaziIntermedi(SD48,25)-SF48","v":0},false,0,null,0,0,null,null,null,0,0,0,null,null,0,0,{"$f":"IF((IF(restoZero(SU48,25),(spaziIntermedi(SU48,25))+1,spaziIntermedi(SU48,25)))=(spaziIntermedi(SV48,25)),FALSE,TRUE)","v":true},0,{"$f":"+spaziIntermedi(SV48,25)-SX48","v":0},false,0,null,0,0,null,null,null,0,0,0,0,0]
[null,null,0,0,{"$f":"IF((IF(restoZero(C49,25),(spaziIntermedi(C49,25))+1,spaziIntermedi(C49,25)))=(spaziIntermedi(D49,25)),FALSE,TRUE)","v":true},0,{"$f":"+spaziIntermedi(D49,25)-F49","v":0},false,0,null,0,0,null,null,null,0,0,0,null,null,0,0,{"$f":"IF((IF(restoZero(U49,25),(spaziIntermedi(U49,25))+1,spaziIntermedi(U49,25)))=(spaziIntermedi(V49,25)),FALSE,TRUE)","v":true},0,{"$f":"+spaziIntermedi(V49,25)-X49","v":0},false,0,null,0,0,null,null,null,0,0,0,0,0,null,null,0,0,{"$f":"IF((IF(restoZero(AO49,25),(spaziIntermedi(AO49,25))+1,spaziIntermedi(AO49,25)))=(spaziIntermedi(AP49,25)),FALSE,TRUE)","v":true},0,{"$f":"+spaziIntermedi(AP49,25)-AR49","v":0},false,0,null,0,0,null,null,null,0,0,0,null,null,0,0,{"$f":"IF((IF(restoZero(BG49,25),(spaziIntermedi(BG49,25))+1,spaziIntermedi(BG49,25)))=(spaziIntermedi(BH49,25)),FALSE,TRUE)","v":true},0,{"$f":"+spaziIntermedi(BH49,25)-BJ49","v":0},false,0,null,0,0,null,null,null,0,0,0,0,0,null,null,0,0,{"$f":"IF((IF(restoZero(CA49,25),(spaziIntermedi(CA49,25))+1,spaziIntermedi(CA49,25)))=(spaziIntermedi(CB49,25)),FALSE,TRUE)","v":true},0,{"$f":"+spaziIntermedi(CB49,25)-CD49","v":0},false,0,null,0,0,null,null,null,0,0,0,null,null,0,0,{"$f":"IF((IF(restoZero(CS49,25),(spaziIntermedi(CS49,25))+1,spaziIntermedi(CS49,25)))=(spaziIntermedi(CT49,25)),FALSE,TRUE)","v":true},0,{"$f":"+spaziIntermedi(CT49,25)-CV49","v":0},false,0,null,0,0,null,null,null,0,0,0,0,0,null,null,0,0,{"$f":"IF((IF(restoZero(DM49,25),(spaziIntermedi(DM49,25))+1,spaziIntermedi(DM49,25)))=(spaziIntermedi(DN49,25)),FALSE,TRUE)","v":true},0,{"$f":"+spaziIntermedi(DN49,25)-DP49","v":0},false,0,null,0,0,null,null,null,0,0,0,null,null,0,0,{"$f":"IF((IF(restoZero(EE49,25),(spaziIntermedi(EE49,25))+1,spaziIntermedi(EE49,25)))=(spaziIntermedi(EF49,25)),FALSE,TRUE)","v":true},0,{"$f":"+spaziIntermedi(EF49,25)-EH49","v":0},false,0,null,0,0,null,null,null,0,0,0,0,0,null,null,0,0,{"$f":"IF((IF(restoZero(EY49,25),(spaziIntermedi(EY49,25))+1,spaziIntermedi(EY49,25)))=(spaziIntermedi(EZ49,25)),FALSE,TRUE)","v":true},0,{"$f":"+spaziIntermedi(EZ49,25)-FB49","v":0},false,0,null,0,0,null,null,null,0,0,0,null,null,0,0,{"$f":"IF((IF(restoZero(FQ49,25),(spaziIntermedi(FQ49,25))+1,spaziIntermedi(FQ49,25)))=(spaziIntermedi(FR49,25)),FALSE,TRUE)","v":true},0,{"$f":"+spaziIntermedi(FR49,25)-FT49","v":0},false,0,null,0,0,null,null,null,0,0,0,0,0,null,null,0,0,{"$f":"IF((IF(restoZero(GK49,25),(spaziIntermedi(GK49,25))+1,spaziIntermedi(GK49,25)))=(spaziIntermedi(GL49,25)),FALSE,TRUE)","v":true},0,{"$f":"+spaziIntermedi(GL49,25)-GN49","v":0},false,0,null,0,0,null,null,null,0,0,0,null,null,0,0,{"$f":"IF((IF(restoZero(HC49,25),(spaziIntermedi(HC49,25))+1,spaziIntermedi(HC49,25)))=(spaziIntermedi(HD49,25)),FALSE,TRUE)","v":true},0,{"$f":"+spaziIntermedi(HD49,25)-HF49","v":0},false,0,null,0,0,null,null,null,0,0,0,0,0,null,null,0,0,{"$f":"IF((IF(restoZero(HW49,25),(spaziIntermedi(HW49,25))+1,spaziIntermedi(HW49,25)))=(spaziIntermedi(HX49,25)),FALSE,TRUE)","v":true},0,{"$f":"+spaziIntermedi(HX49,25)-HZ49","v":0},false,0,null,0,0,null,null,null,0,0,0,null,null,0,0,{"$f":"IF((IF(restoZero(IO49,25),(spaziIntermedi(IO49,25))+1,spaziIntermedi(IO49,25)))=(spaziIntermedi(IP49,25)),FALSE,TRUE)","v":true},0,{"$f":"+spaziIntermedi(IP49,25)-IR49","v":0},false,0,null,0,0,null,null,null,0,0,0,0,0,null,null,0,0,{"$f":"IF((IF(restoZero(JI49,25),(spaziIntermedi(JI49,25))+1,spaziIntermedi(JI49,25)))=(spaziIntermedi(JJ49,25)),FALSE,TRUE)","v":true},0,{"$f":"+spaziIntermedi(JJ49,25)-JL49","v":0},false,0,null,0,0,null,null,null,0,0,0,null,null,0,0,{"$f":"IF((IF(restoZero(KA49,25),(spaziIntermedi(KA49,25))+1,spaziIntermedi(KA49,25)))=(spaziIntermedi(KB49,25)),FALSE,TRUE)","v":true},0,{"$f":"+spaziIntermedi(KB49,25)-KD49","v":0},false,0,null,0,0,null,null,null,0,0,0,0,0,null,null,0,0,{"$f":"IF((IF(restoZero(KU49,25),(spaziIntermedi(KU49,25))+1,spaziIntermedi(KU49,25)))=(spaziIntermedi(KV49,25)),FALSE,TRUE)","v":true},0,{"$f":"+spaziIntermedi(KV49,25)-KX49","v":0},false,0,null,0,0,null,null,null,0,0,0,null,null,0,0,{"$f":"IF((IF(restoZero(LM49,25),(spaziIntermedi(LM49,25))+1,spaziIntermedi(LM49,25)))=(spaziIntermedi(LN49,25)),FALSE,TRUE)","v":true},0,{"$f":"+spaziIntermedi(LN49,25)-LP49","v":0},false,0,null,0,0,null,null,null,0,0,0,0,0,null,null,0,0,{"$f":"IF((IF(restoZero(MG49,25),(spaziIntermedi(MG49,25))+1,spaziIntermedi(MG49,25)))=(spaziIntermedi(MH49,25)),FALSE,TRUE)","v":true},0,{"$f":"+spaziIntermedi(MH49,25)-MJ49","v":0},false,0,null,0,0,null,null,null,0,0,0,null,null,0,0,{"$f":"IF((IF(restoZero(MY49,25),(spaziIntermedi(MY49,25))+1,spaziIntermedi(MY49,25)))=(spaziIntermedi(MZ49,25)),FALSE,TRUE)","v":true},0,{"$f":"+spaziIntermedi(MZ49,25)-NB49","v":0},false,0,null,0,0,null,null,null,0,0,0,0,0,null,null,0,0,{"$f":"IF((IF(restoZero(NS49,25),(spaziIntermedi(NS49,25))+1,spaziIntermedi(NS49,25)))=(spaziIntermedi(NT49,25)),FALSE,TRUE)","v":true},0,{"$f":"+spaziIntermedi(NT49,25)-NV49","v":0},false,0,null,0,0,null,null,null,0,0,0,null,null,0,0,{"$f":"IF((IF(restoZero(OK49,25),(spaziIntermedi(OK49,25))+1,spaziIntermedi(OK49,25)))=(spaziIntermedi(OL49,25)),FALSE,TRUE)","v":true},0,{"$f":"+spaziIntermedi(OL49,25)-ON49","v":0},false,0,null,0,0,null,null,null,0,0,0,0,0,null,null,0,0,{"$f":"IF((IF(restoZero(PE49,25),(spaziIntermedi(PE49,25))+1,spaziIntermedi(PE49,25)))=(spaziIntermedi(PF49,25)),FALSE,TRUE)","v":true},0,{"$f":"+spaziIntermedi(PF49,25)-PH49","v":0},false,0,null,0,0,null,null,null,0,0,0,null,null,0,0,{"$f":"IF((IF(restoZero(PW49,25),(spaziIntermedi(PW49,25))+1,spaziIntermedi(PW49,25)))=(spaziIntermedi(PX49,25)),FALSE,TRUE)","v":true},0,{"$f":"+spaziIntermedi(PX49,25)-PZ49","v":0},false,0,null,0,0,null,null,null,0,0,0,0,0,null,null,0,0,{"$f":"IF((IF(restoZero(QQ49,25),(spaziIntermedi(QQ49,25))+1,spaziIntermedi(QQ49,25)))=(spaziIntermedi(QR49,25)),FALSE,TRUE)","v":true},0,{"$f":"+spaziIntermedi(QR49,25)-QT49","v":0},false,0,null,0,0,null,null,null,0,0,0,null,null,0,0,{"$f":"IF((IF(restoZero(RI49,25),(spaziIntermedi(RI49,25))+1,spaziIntermedi(RI49,25)))=(spaziIntermedi(RJ49,25)),FALSE,TRUE)","v":true},0,{"$f":"+spaziIntermedi(RJ49,25)-RL49","v":0},false,0,null,0,0,null,null,null,0,0,0,0,0,null,null,0,0,{"$f":"IF((IF(restoZero(SC49,25),(spaziIntermedi(SC49,25))+1,spaziIntermedi(SC49,25)))=(spaziIntermedi(SD49,25)),FALSE,TRUE)","v":true},0,{"$f":"+spaziIntermedi(SD49,25)-SF49","v":0},false,0,null,0,0,null,null,null,0,0,0,null,null,0,0,{"$f":"IF((IF(restoZero(SU49,25),(spaziIntermedi(SU49,25))+1,spaziIntermedi(SU49,25)))=(spaziIntermedi(SV49,25)),FALSE,TRUE)","v":true},0,{"$f":"+spaziIntermedi(SV49,25)-SX49","v":0},false,0,null,0,0,null,null,null,0,0,0,0,0]
[null,null,0,0,{"$f":"IF((IF(restoZero(C50,25),(spaziIntermedi(C50,25))+1,spaziIntermedi(C50,25)))=(spaziIntermedi(D50,25)),FALSE,TRUE)","v":true},0,{"$f":"+spaziIntermedi(D50,25)-F50","v":0},false,0,null,0,0,null,null,null,0,0,0,null,null,0,0,{"$f":"IF((IF(restoZero(U50,25),(spaziIntermedi(U50,25))+1,spaziIntermedi(U50,25)))=(spaziIntermedi(V50,25)),FALSE,TRUE)","v":true},0,{"$f":"+spaziIntermedi(V50,25)-X50","v":0},false,0,null,0,0,null,null,null,0,0,0,0,0,null,null,0,0,{"$f":"IF((IF(restoZero(AO50,25),(spaziIntermedi(AO50,25))+1,spaziIntermedi(AO50,25)))=(spaziIntermedi(AP50,25)),FALSE,TRUE)","v":true},0,{"$f":"+spaziIntermedi(AP50,25)-AR50","v":0},false,0,null,0,0,null,null,null,0,0,0,null,null,0,0,{"$f":"IF((IF(restoZero(BG50,25),(spaziIntermedi(BG50,25))+1,spaziIntermedi(BG50,25)))=(spaziIntermedi(BH50,25)),FALSE,TRUE)","v":true},0,{"$f":"+spaziIntermedi(BH50,25)-BJ50","v":0},false,0,null,0,0,null,null,null,0,0,0,0,0,null,null,0,0,{"$f":"IF((IF(restoZero(CA50,25),(spaziIntermedi(CA50,25))+1,spaziIntermedi(CA50,25)))=(spaziIntermedi(CB50,25)),FALSE,TRUE)","v":true},0,{"$f":"+spaziIntermedi(CB50,25)-CD50","v":0},false,0,null,0,0,null,null,null,0,0,0,null,null,0,0,{"$f":"IF((IF(restoZero(CS50,25),(spaziIntermedi(CS50,25))+1,spaziIntermedi(CS50,25)))=(spaziIntermedi(CT50,25)),FALSE,TRUE)","v":true},0,{"$f":"+spaziIntermedi(CT50,25)-CV50","v":0},false,0,null,0,0,null,null,null,0,0,0,0,0,null,null,0,0,{"$f":"IF((IF(restoZero(DM50,25),(spaziIntermedi(DM50,25))+1,spaziIntermedi(DM50,25)))=(spaziIntermedi(DN50,25)),FALSE,TRUE)","v":true},0,{"$f":"+spaziIntermedi(DN50,25)-DP50","v":0},false,0,null,0,0,null,null,null,0,0,0,null,null,0,0,{"$f":"IF((IF(restoZero(EE50,25),(spaziIntermedi(EE50,25))+1,spaziIntermedi(EE50,25)))=(spaziIntermedi(EF50,25)),FALSE,TRUE)","v":true},0,{"$f":"+spaziIntermedi(EF50,25)-EH50","v":0},false,0,null,0,0,null,null,null,0,0,0,0,0,null,null,0,0,{"$f":"IF((IF(restoZero(EY50,25),(spaziIntermedi(EY50,25))+1,spaziIntermedi(EY50,25)))=(spaziIntermedi(EZ50,25)),FALSE,TRUE)","v":true},0,{"$f":"+spaziIntermedi(EZ50,25)-FB50","v":0},false,0,null,0,0,null,null,null,0,0,0,null,null,0,0,{"$f":"IF((IF(restoZero(FQ50,25),(spaziIntermedi(FQ50,25))+1,spaziIntermedi(FQ50,25)))=(spaziIntermedi(FR50,25)),FALSE,TRUE)","v":true},0,{"$f":"+spaziIntermedi(FR50,25)-FT50","v":0},false,0,null,0,0,null,null,null,0,0,0,0,0,null,null,0,0,{"$f":"IF((IF(restoZero(GK50,25),(spaziIntermedi(GK50,25))+1,spaziIntermedi(GK50,25)))=(spaziIntermedi(GL50,25)),FALSE,TRUE)","v":true},0,{"$f":"+spaziIntermedi(GL50,25)-GN50","v":0},false,0,null,0,0,null,null,null,0,0,0,null,null,0,0,{"$f":"IF((IF(restoZero(HC50,25),(spaziIntermedi(HC50,25))+1,spaziIntermedi(HC50,25)))=(spaziIntermedi(HD50,25)),FALSE,TRUE)","v":true},0,{"$f":"+spaziIntermedi(HD50,25)-HF50","v":0},false,0,null,0,0,null,null,null,0,0,0,0,0,null,null,0,0,{"$f":"IF((IF(restoZero(HW50,25),(spaziIntermedi(HW50,25))+1,spaziIntermedi(HW50,25)))=(spaziIntermedi(HX50,25)),FALSE,TRUE)","v":true},0,{"$f":"+spaziIntermedi(HX50,25)-HZ50","v":0},false,0,null,0,0,null,null,null,0,0,0,null,null,0,0,{"$f":"IF((IF(restoZero(IO50,25),(spaziIntermedi(IO50,25))+1,spaziIntermedi(IO50,25)))=(spaziIntermedi(IP50,25)),FALSE,TRUE)","v":true},0,{"$f":"+spaziIntermedi(IP50,25)-IR50","v":0},false,0,null,0,0,null,null,null,0,0,0,0,0,null,null,0,0,{"$f":"IF((IF(restoZero(JI50,25),(spaziIntermedi(JI50,25))+1,spaziIntermedi(JI50,25)))=(spaziIntermedi(JJ50,25)),FALSE,TRUE)","v":true},0,{"$f":"+spaziIntermedi(JJ50,25)-JL50","v":0},false,0,null,0,0,null,null,null,0,0,0,null,null,0,0,{"$f":"IF((IF(restoZero(KA50,25),(spaziIntermedi(KA50,25))+1,spaziIntermedi(KA50,25)))=(spaziIntermedi(KB50,25)),FALSE,TRUE)","v":true},0,{"$f":"+spaziIntermedi(KB50,25)-KD50","v":0},false,0,null,0,0,null,null,null,0,0,0,0,0,null,null,0,0,{"$f":"IF((IF(restoZero(KU50,25),(spaziIntermedi(KU50,25))+1,spaziIntermedi(KU50,25)))=(spaziIntermedi(KV50,25)),FALSE,TRUE)","v":true},0,{"$f":"+spaziIntermedi(KV50,25)-KX50","v":0},false,0,null,0,0,null,null,null,0,0,0,null,null,0,0,{"$f":"IF((IF(restoZero(LM50,25),(spaziIntermedi(LM50,25))+1,spaziIntermedi(LM50,25)))=(spaziIntermedi(LN50,25)),FALSE,TRUE)","v":true},0,{"$f":"+spaziIntermedi(LN50,25)-LP50","v":0},false,0,null,0,0,null,null,null,0,0,0,0,0,null,null,0,0,{"$f":"IF((IF(restoZero(MG50,25),(spaziIntermedi(MG50,25))+1,spaziIntermedi(MG50,25)))=(spaziIntermedi(MH50,25)),FALSE,TRUE)","v":true},0,{"$f":"+spaziIntermedi(MH50,25)-MJ50","v":0},false,0,null,0,0,null,null,null,0,0,0,null,null,0,0,{"$f":"IF((IF(restoZero(MY50,25),(spaziIntermedi(MY50,25))+1,spaziIntermedi(MY50,25)))=(spaziIntermedi(MZ50,25)),FALSE,TRUE)","v":true},0,{"$f":"+spaziIntermedi(MZ50,25)-NB50","v":0},false,0,null,0,0,null,null,null,0,0,0,0,0,null,null,0,0,{"$f":"IF((IF(restoZero(NS50,25),(spaziIntermedi(NS50,25))+1,spaziIntermedi(NS50,25)))=(spaziIntermedi(NT50,25)),FALSE,TRUE)","v":true},0,{"$f":"+spaziIntermedi(NT50,25)-NV50","v":0},false,0,null,0,0,null,null,null,0,0,0,null,null,0,0,{"$f":"IF((IF(restoZero(OK50,25),(spaziIntermedi(OK50,25))+1,spaziIntermedi(OK50,25)))=(spaziIntermedi(OL50,25)),FALSE,TRUE)","v":true},0,{"$f":"+spaziIntermedi(OL50,25)-ON50","v":0},false,0,null,0,0,null,null,null,0,0,0,0,0,null,null,0,0,{"$f":"IF((IF(restoZero(PE50,25),(spaziIntermedi(PE50,25))+1,spaziIntermedi(PE50,25)))=(spaziIntermedi(PF50,25)),FALSE,TRUE)","v":true},0,{"$f":"+spaziIntermedi(PF50,25)-PH50","v":0},false,0,null,0,0,null,null,null,0,0,0,null,null,0,0,{"$f":"IF((IF(restoZero(PW50,25),(spaziIntermedi(PW50,25))+1,spaziIntermedi(PW50,25)))=(spaziIntermedi(PX50,25)),FALSE,TRUE)","v":true},0,{"$f":"+spaziIntermedi(PX50,25)-PZ50","v":0},false,0,null,0,0,null,null,null,0,0,0,0,0,null,null,0,0,{"$f":"IF((IF(restoZero(QQ50,25),(spaziIntermedi(QQ50,25))+1,spaziIntermedi(QQ50,25)))=(spaziIntermedi(QR50,25)),FALSE,TRUE)","v":true},0,{"$f":"+spaziIntermedi(QR50,25)-QT50","v":0},false,0,null,0,0,null,null,null,0,0,0,null,null,0,0,{"$f":"IF((IF(restoZero(RI50,25),(spaziIntermedi(RI50,25))+1,spaziIntermedi(RI50,25)))=(spaziIntermedi(RJ50,25)),FALSE,TRUE)","v":true},0,{"$f":"+spaziIntermedi(RJ50,25)-RL50","v":0},false,0,null,0,0,null,null,null,0,0,0,0,0,null,null,0,0,{"$f":"IF((IF(restoZero(SC50,25),(spaziIntermedi(SC50,25))+1,spaziIntermedi(SC50,25)))=(spaziIntermedi(SD50,25)),FALSE,TRUE)","v":true},0,{"$f":"+spaziIntermedi(SD50,25)-SF50","v":0},false,0,null,0,0,null,null,null,0,0,0,null,null,0,0,{"$f":"IF((IF(restoZero(SU50,25),(spaziIntermedi(SU50,25))+1,spaziIntermedi(SU50,25)))=(spaziIntermedi(SV50,25)),FALSE,TRUE)","v":true},0,{"$f":"+spaziIntermedi(SV50,25)-SX50","v":0},false,0,null,0,0,null,null,null,0,0,0,0,0]
[null,null,0,0,{"$f":"IF((IF(restoZero(C51,25),(spaziIntermedi(C51,25))+1,spaziIntermedi(C51,25)))=(spaziIntermedi(D51,25)),FALSE,TRUE)","v":true},0,{"$f":"+spaziIntermedi(D51,25)-F51","v":0},false,0,null,0,0,null,null,null,0,0,0,null,null,0,0,{"$f":"IF((IF(restoZero(U51,25),(spaziIntermedi(U51,25))+1,spaziIntermedi(U51,25)))=(spaziIntermedi(V51,25)),FALSE,TRUE)","v":true},0,{"$f":"+spaziIntermedi(V51,25)-X51","v":0},false,0,null,0,0,null,null,null,0,0,0,0,0,null,null,0,0,{"$f":"IF((IF(restoZero(AO51,25),(spaziIntermedi(AO51,25))+1,spaziIntermedi(AO51,25)))=(spaziIntermedi(AP51,25)),FALSE,TRUE)","v":true},0,{"$f":"+spaziIntermedi(AP51,25)-AR51","v":0},false,0,null,0,0,null,null,null,0,0,0,null,null,0,0,{"$f":"IF((IF(restoZero(BG51,25),(spaziIntermedi(BG51,25))+1,spaziIntermedi(BG51,25)))=(spaziIntermedi(BH51,25)),FALSE,TRUE)","v":true},0,{"$f":"+spaziIntermedi(BH51,25)-BJ51","v":0},false,0,null,0,0,null,null,null,0,0,0,0,0,null,null,0,0,{"$f":"IF((IF(restoZero(CA51,25),(spaziIntermedi(CA51,25))+1,spaziIntermedi(CA51,25)))=(spaziIntermedi(CB51,25)),FALSE,TRUE)","v":true},0,{"$f":"+spaziIntermedi(CB51,25)-CD51","v":0},false,0,null,0,0,null,null,null,0,0,0,null,null,0,0,{"$f":"IF((IF(restoZero(CS51,25),(spaziIntermedi(CS51,25))+1,spaziIntermedi(CS51,25)))=(spaziIntermedi(CT51,25)),FALSE,TRUE)","v":true},0,{"$f":"+spaziIntermedi(CT51,25)-CV51","v":0},false,0,null,0,0,null,null,null,0,0,0,0,0,null,null,0,0,{"$f":"IF((IF(restoZero(DM51,25),(spaziIntermedi(DM51,25))+1,spaziIntermedi(DM51,25)))=(spaziIntermedi(DN51,25)),FALSE,TRUE)","v":true},0,{"$f":"+spaziIntermedi(DN51,25)-DP51","v":0},false,0,null,0,0,null,null,null,0,0,0,null,null,0,0,{"$f":"IF((IF(restoZero(EE51,25),(spaziIntermedi(EE51,25))+1,spaziIntermedi(EE51,25)))=(spaziIntermedi(EF51,25)),FALSE,TRUE)","v":true},0,{"$f":"+spaziIntermedi(EF51,25)-EH51","v":0},false,0,null,0,0,null,null,null,0,0,0,0,0,null,null,0,0,{"$f":"IF((IF(restoZero(EY51,25),(spaziIntermedi(EY51,25))+1,spaziIntermedi(EY51,25)))=(spaziIntermedi(EZ51,25)),FALSE,TRUE)","v":true},0,{"$f":"+spaziIntermedi(EZ51,25)-FB51","v":0},false,0,null,0,0,null,null,null,0,0,0,null,null,0,0,{"$f":"IF((IF(restoZero(FQ51,25),(spaziIntermedi(FQ51,25))+1,spaziIntermedi(FQ51,25)))=(spaziIntermedi(FR51,25)),FALSE,TRUE)","v":true},0,{"$f":"+spaziIntermedi(FR51,25)-FT51","v":0},false,0,null,0,0,null,null,null,0,0,0,0,0,null,null,0,0,{"$f":"IF((IF(restoZero(GK51,25),(spaziIntermedi(GK51,25))+1,spaziIntermedi(GK51,25)))=(spaziIntermedi(GL51,25)),FALSE,TRUE)","v":true},0,{"$f":"+spaziIntermedi(GL51,25)-GN51","v":0},false,0,null,0,0,null,null,null,0,0,0,null,null,0,0,{"$f":"IF((IF(restoZero(HC51,25),(spaziIntermedi(HC51,25))+1,spaziIntermedi(HC51,25)))=(spaziIntermedi(HD51,25)),FALSE,TRUE)","v":true},0,{"$f":"+spaziIntermedi(HD51,25)-HF51","v":0},false,0,null,0,0,null,null,null,0,0,0,0,0,null,null,0,0,{"$f":"IF((IF(restoZero(HW51,25),(spaziIntermedi(HW51,25))+1,spaziIntermedi(HW51,25)))=(spaziIntermedi(HX51,25)),FALSE,TRUE)","v":true},0,{"$f":"+spaziIntermedi(HX51,25)-HZ51","v":0},false,0,null,0,0,null,null,null,0,0,0,null,null,0,0,{"$f":"IF((IF(restoZero(IO51,25),(spaziIntermedi(IO51,25))+1,spaziIntermedi(IO51,25)))=(spaziIntermedi(IP51,25)),FALSE,TRUE)","v":true},0,{"$f":"+spaziIntermedi(IP51,25)-IR51","v":0},false,0,null,0,0,null,null,null,0,0,0,0,0,null,null,0,0,{"$f":"IF((IF(restoZero(JI51,25),(spaziIntermedi(JI51,25))+1,spaziIntermedi(JI51,25)))=(spaziIntermedi(JJ51,25)),FALSE,TRUE)","v":true},0,{"$f":"+spaziIntermedi(JJ51,25)-JL51","v":0},false,0,null,0,0,null,null,null,0,0,0,null,null,0,0,{"$f":"IF((IF(restoZero(KA51,25),(spaziIntermedi(KA51,25))+1,spaziIntermedi(KA51,25)))=(spaziIntermedi(KB51,25)),FALSE,TRUE)","v":true},0,{"$f":"+spaziIntermedi(KB51,25)-KD51","v":0},false,0,null,0,0,null,null,null,0,0,0,0,0,null,null,0,0,{"$f":"IF((IF(restoZero(KU51,25),(spaziIntermedi(KU51,25))+1,spaziIntermedi(KU51,25)))=(spaziIntermedi(KV51,25)),FALSE,TRUE)","v":true},0,{"$f":"+spaziIntermedi(KV51,25)-KX51","v":0},false,0,null,0,0,null,null,null,0,0,0,null,null,0,0,{"$f":"IF((IF(restoZero(LM51,25),(spaziIntermedi(LM51,25))+1,spaziIntermedi(LM51,25)))=(spaziIntermedi(LN51,25)),FALSE,TRUE)","v":true},0,{"$f":"+spaziIntermedi(LN51,25)-LP51","v":0},false,0,null,0,0,null,null,null,0,0,0,0,0,null,null,0,0,{"$f":"IF((IF(restoZero(MG51,25),(spaziIntermedi(MG51,25))+1,spaziIntermedi(MG51,25)))=(spaziIntermedi(MH51,25)),FALSE,TRUE)","v":true},0,{"$f":"+spaziIntermedi(MH51,25)-MJ51","v":0},false,0,null,0,0,null,null,null,0,0,0,null,null,0,0,{"$f":"IF((IF(restoZero(MY51,25),(spaziIntermedi(MY51,25))+1,spaziIntermedi(MY51,25)))=(spaziIntermedi(MZ51,25)),FALSE,TRUE)","v":true},0,{"$f":"+spaziIntermedi(MZ51,25)-NB51","v":0},false,0,null,0,0,null,null,null,0,0,0,0,0,null,null,0,0,{"$f":"IF((IF(restoZero(NS51,25),(spaziIntermedi(NS51,25))+1,spaziIntermedi(NS51,25)))=(spaziIntermedi(NT51,25)),FALSE,TRUE)","v":true},0,{"$f":"+spaziIntermedi(NT51,25)-NV51","v":0},false,0,null,0,0,null,null,null,0,0,0,null,null,0,0,{"$f":"IF((IF(restoZero(OK51,25),(spaziIntermedi(OK51,25))+1,spaziIntermedi(OK51,25)))=(spaziIntermedi(OL51,25)),FALSE,TRUE)","v":true},0,{"$f":"+spaziIntermedi(OL51,25)-ON51","v":0},false,0,null,0,0,null,null,null,0,0,0,0,0,null,null,0,0,{"$f":"IF((IF(restoZero(PE51,25),(spaziIntermedi(PE51,25))+1,spaziIntermedi(PE51,25)))=(spaziIntermedi(PF51,25)),FALSE,TRUE)","v":true},0,{"$f":"+spaziIntermedi(PF51,25)-PH51","v":0},false,0,null,0,0,null,null,null,0,0,0,null,null,0,0,{"$f":"IF((IF(restoZero(PW51,25),(spaziIntermedi(PW51,25))+1,spaziIntermedi(PW51,25)))=(spaziIntermedi(PX51,25)),FALSE,TRUE)","v":true},0,{"$f":"+spaziIntermedi(PX51,25)-PZ51","v":0},false,0,null,0,0,null,null,null,0,0,0,0,0,null,null,0,0,{"$f":"IF((IF(restoZero(QQ51,25),(spaziIntermedi(QQ51,25))+1,spaziIntermedi(QQ51,25)))=(spaziIntermedi(QR51,25)),FALSE,TRUE)","v":true},0,{"$f":"+spaziIntermedi(QR51,25)-QT51","v":0},false,0,null,0,0,null,null,null,0,0,0,null,null,0,0,{"$f":"IF((IF(restoZero(RI51,25),(spaziIntermedi(RI51,25))+1,spaziIntermedi(RI51,25)))=(spaziIntermedi(RJ51,25)),FALSE,TRUE)","v":true},0,{"$f":"+spaziIntermedi(RJ51,25)-RL51","v":0},false,0,null,0,0,null,null,null,0,0,0,0,0,null,null,0,0,{"$f":"IF((IF(restoZero(SC51,25),(spaziIntermedi(SC51,25))+1,spaziIntermedi(SC51,25)))=(spaziIntermedi(SD51,25)),FALSE,TRUE)","v":true},0,{"$f":"+spaziIntermedi(SD51,25)-SF51","v":0},false,0,null,0,0,null,null,null,0,0,0,null,null,0,0,{"$f":"IF((IF(restoZero(SU51,25),(spaziIntermedi(SU51,25))+1,spaziIntermedi(SU51,25)))=(spaziIntermedi(SV51,25)),FALSE,TRUE)","v":true},0,{"$f":"+spaziIntermedi(SV51,25)-SX51","v":0},false,0,null,0,0,null,null,null,0,0,0,0,0]
[null,null,0,0,{"$f":"IF((IF(restoZero(C52,25),(spaziIntermedi(C52,25))+1,spaziIntermedi(C52,25)))=(spaziIntermedi(D52,25)),FALSE,TRUE)","v":true},0,{"$f":"+spaziIntermedi(D52,25)-F52","v":0},false,0,null,0,0,null,null,null,0,0,0,null,null,0,0,{"$f":"IF((IF(restoZero(U52,25),(spaziIntermedi(U52,25))+1,spaziIntermedi(U52,25)))=(spaziIntermedi(V52,25)),FALSE,TRUE)","v":true},0,{"$f":"+spaziIntermedi(V52,25)-X52","v":0},false,0,null,0,0,null,null,null,0,0,0,0,0,null,null,0,0,{"$f":"IF((IF(restoZero(AO52,25),(spaziIntermedi(AO52,25))+1,spaziIntermedi(AO52,25)))=(spaziIntermedi(AP52,25)),FALSE,TRUE)","v":true},0,{"$f":"+spaziIntermedi(AP52,25)-AR52","v":0},false,0,null,0,0,null,null,null,0,0,0,null,null,0,0,{"$f":"IF((IF(restoZero(BG52,25),(spaziIntermedi(BG52,25))+1,spaziIntermedi(BG52,25)))=(spaziIntermedi(BH52,25)),FALSE,TRUE)","v":true},0,{"$f":"+spaziIntermedi(BH52,25)-BJ52","v":0},false,0,null,0,0,null,null,null,0,0,0,0,0,null,null,0,0,{"$f":"IF((IF(restoZero(CA52,25),(spaziIntermedi(CA52,25))+1,spaziIntermedi(CA52,25)))=(spaziIntermedi(CB52,25)),FALSE,TRUE)","v":true},0,{"$f":"+spaziIntermedi(CB52,25)-CD52","v":0},false,0,null,0,0,null,null,null,0,0,0,null,null,0,0,{"$f":"IF((IF(restoZero(CS52,25),(spaziIntermedi(CS52,25))+1,spaziIntermedi(CS52,25)))=(spaziIntermedi(CT52,25)),FALSE,TRUE)","v":true},0,{"$f":"+spaziIntermedi(CT52,25)-CV52","v":0},false,0,null,0,0,null,null,null,0,0,0,0,0,null,null,0,0,{"$f":"IF((IF(restoZero(DM52,25),(spaziIntermedi(DM52,25))+1,spaziIntermedi(DM52,25)))=(spaziIntermedi(DN52,25)),FALSE,TRUE)","v":true},0,{"$f":"+spaziIntermedi(DN52,25)-DP52","v":0},false,0,null,0,0,null,null,null,0,0,0,null,null,0,0,{"$f":"IF((IF(restoZero(EE52,25),(spaziIntermedi(EE52,25))+1,spaziIntermedi(EE52,25)))=(spaziIntermedi(EF52,25)),FALSE,TRUE)","v":true},0,{"$f":"+spaziIntermedi(EF52,25)-EH52","v":0},false,0,null,0,0,null,null,null,0,0,0,0,0,null,null,0,0,{"$f":"IF((IF(restoZero(EY52,25),(spaziIntermedi(EY52,25))+1,spaziIntermedi(EY52,25)))=(spaziIntermedi(EZ52,25)),FALSE,TRUE)","v":true},0,{"$f":"+spaziIntermedi(EZ52,25)-FB52","v":0},false,0,null,0,0,null,null,null,0,0,0,null,null,0,0,{"$f":"IF((IF(restoZero(FQ52,25),(spaziIntermedi(FQ52,25))+1,spaziIntermedi(FQ52,25)))=(spaziIntermedi(FR52,25)),FALSE,TRUE)","v":true},0,{"$f":"+spaziIntermedi(FR52,25)-FT52","v":0},false,0,null,0,0,null,null,null,0,0,0,0,0,null,null,0,0,{"$f":"IF((IF(restoZero(GK52,25),(spaziIntermedi(GK52,25))+1,spaziIntermedi(GK52,25)))=(spaziIntermedi(GL52,25)),FALSE,TRUE)","v":true},0,{"$f":"+spaziIntermedi(GL52,25)-GN52","v":0},false,0,null,0,0,null,null,null,0,0,0,null,null,0,0,{"$f":"IF((IF(restoZero(HC52,25),(spaziIntermedi(HC52,25))+1,spaziIntermedi(HC52,25)))=(spaziIntermedi(HD52,25)),FALSE,TRUE)","v":true},0,{"$f":"+spaziIntermedi(HD52,25)-HF52","v":0},false,0,null,0,0,null,null,null,0,0,0,0,0,null,null,0,0,{"$f":"IF((IF(restoZero(HW52,25),(spaziIntermedi(HW52,25))+1,spaziIntermedi(HW52,25)))=(spaziIntermedi(HX52,25)),FALSE,TRUE)","v":true},0,{"$f":"+spaziIntermedi(HX52,25)-HZ52","v":0},false,0,null,0,0,null,null,null,0,0,0,null,null,0,0,{"$f":"IF((IF(restoZero(IO52,25),(spaziIntermedi(IO52,25))+1,spaziIntermedi(IO52,25)))=(spaziIntermedi(IP52,25)),FALSE,TRUE)","v":true},0,{"$f":"+spaziIntermedi(IP52,25)-IR52","v":0},false,0,null,0,0,null,null,null,0,0,0,0,0,null,null,0,0,{"$f":"IF((IF(restoZero(JI52,25),(spaziIntermedi(JI52,25))+1,spaziIntermedi(JI52,25)))=(spaziIntermedi(JJ52,25)),FALSE,TRUE)","v":true},0,{"$f":"+spaziIntermedi(JJ52,25)-JL52","v":0},false,0,null,0,0,null,null,null,0,0,0,null,null,0,0,{"$f":"IF((IF(restoZero(KA52,25),(spaziIntermedi(KA52,25))+1,spaziIntermedi(KA52,25)))=(spaziIntermedi(KB52,25)),FALSE,TRUE)","v":true},0,{"$f":"+spaziIntermedi(KB52,25)-KD52","v":0},false,0,null,0,0,null,null,null,0,0,0,0,0,null,null,0,0,{"$f":"IF((IF(restoZero(KU52,25),(spaziIntermedi(KU52,25))+1,spaziIntermedi(KU52,25)))=(spaziIntermedi(KV52,25)),FALSE,TRUE)","v":true},0,{"$f":"+spaziIntermedi(KV52,25)-KX52","v":0},false,0,null,0,0,null,null,null,0,0,0,null,null,0,0,{"$f":"IF((IF(restoZero(LM52,25),(spaziIntermedi(LM52,25))+1,spaziIntermedi(LM52,25)))=(spaziIntermedi(LN52,25)),FALSE,TRUE)","v":true},0,{"$f":"+spaziIntermedi(LN52,25)-LP52","v":0},false,0,null,0,0,null,null,null,0,0,0,0,0,null,null,0,0,{"$f":"IF((IF(restoZero(MG52,25),(spaziIntermedi(MG52,25))+1,spaziIntermedi(MG52,25)))=(spaziIntermedi(MH52,25)),FALSE,TRUE)","v":true},0,{"$f":"+spaziIntermedi(MH52,25)-MJ52","v":0},false,0,null,0,0,null,null,null,0,0,0,null,null,0,0,{"$f":"IF((IF(restoZero(MY52,25),(spaziIntermedi(MY52,25))+1,spaziIntermedi(MY52,25)))=(spaziIntermedi(MZ52,25)),FALSE,TRUE)","v":true},0,{"$f":"+spaziIntermedi(MZ52,25)-NB52","v":0},false,0,null,0,0,null,null,null,0,0,0,0,0,null,null,0,0,{"$f":"IF((IF(restoZero(NS52,25),(spaziIntermedi(NS52,25))+1,spaziIntermedi(NS52,25)))=(spaziIntermedi(NT52,25)),FALSE,TRUE)","v":true},0,{"$f":"+spaziIntermedi(NT52,25)-NV52","v":0},false,0,null,0,0,null,null,null,0,0,0,null,null,0,0,{"$f":"IF((IF(restoZero(OK52,25),(spaziIntermedi(OK52,25))+1,spaziIntermedi(OK52,25)))=(spaziIntermedi(OL52,25)),FALSE,TRUE)","v":true},0,{"$f":"+spaziIntermedi(OL52,25)-ON52","v":0},false,0,null,0,0,null,null,null,0,0,0,0,0,null,null,0,0,{"$f":"IF((IF(restoZero(PE52,25),(spaziIntermedi(PE52,25))+1,spaziIntermedi(PE52,25)))=(spaziIntermedi(PF52,25)),FALSE,TRUE)","v":true},0,{"$f":"+spaziIntermedi(PF52,25)-PH52","v":0},false,0,null,0,0,null,null,null,0,0,0,null,null,0,0,{"$f":"IF((IF(restoZero(PW52,25),(spaziIntermedi(PW52,25))+1,spaziIntermedi(PW52,25)))=(spaziIntermedi(PX52,25)),FALSE,TRUE)","v":true},0,{"$f":"+spaziIntermedi(PX52,25)-PZ52","v":0},false,0,null,0,0,null,null,null,0,0,0,0,0,null,null,0,0,{"$f":"IF((IF(restoZero(QQ52,25),(spaziIntermedi(QQ52,25))+1,spaziIntermedi(QQ52,25)))=(spaziIntermedi(QR52,25)),FALSE,TRUE)","v":true},0,{"$f":"+spaziIntermedi(QR52,25)-QT52","v":0},false,0,null,0,0,null,null,null,0,0,0,null,null,0,0,{"$f":"IF((IF(restoZero(RI52,25),(spaziIntermedi(RI52,25))+1,spaziIntermedi(RI52,25)))=(spaziIntermedi(RJ52,25)),FALSE,TRUE)","v":true},0,{"$f":"+spaziIntermedi(RJ52,25)-RL52","v":0},false,0,null,0,0,null,null,null,0,0,0,0,0,null,null,0,0,{"$f":"IF((IF(restoZero(SC52,25),(spaziIntermedi(SC52,25))+1,spaziIntermedi(SC52,25)))=(spaziIntermedi(SD52,25)),FALSE,TRUE)","v":true},0,{"$f":"+spaziIntermedi(SD52,25)-SF52","v":0},false,0,null,0,0,null,null,null,0,0,0,null,null,0,0,{"$f":"IF((IF(restoZero(SU52,25),(spaziIntermedi(SU52,25))+1,spaziIntermedi(SU52,25)))=(spaziIntermedi(SV52,25)),FALSE,TRUE)","v":true},0,{"$f":"+spaziIntermedi(SV52,25)-SX52","v":0},false,0,null,0,0,null,null,null,0,0,0,0,0]
[null,null,0,0,{"$f":"IF((IF(restoZero(C53,25),(spaziIntermedi(C53,25))+1,spaziIntermedi(C53,25)))=(spaziIntermedi(D53,25)),FALSE,TRUE)","v":true},0,{"$f":"+spaziIntermedi(D53,25)-F53","v":0},false,0,null,0,0,null,null,null,0,0,0,null,null,0,0,{"$f":"IF((IF(restoZero(U53,25),(spaziIntermedi(U53,25))+1,spaziIntermedi(U53,25)))=(spaziIntermedi(V53,25)),FALSE,TRUE)","v":true},0,{"$f":"+spaziIntermedi(V53,25)-X53","v":0},false,0,null,0,0,null,null,null,0,0,0,0,0,null,null,0,0,{"$f":"IF((IF(restoZero(AO53,25),(spaziIntermedi(AO53,25))+1,spaziIntermedi(AO53,25)))=(spaziIntermedi(AP53,25)),FALSE,TRUE)","v":true},0,{"$f":"+spaziIntermedi(AP53,25)-AR53","v":0},false,0,null,0,0,null,null,null,0,0,0,null,null,0,0,{"$f":"IF((IF(restoZero(BG53,25),(spaziIntermedi(BG53,25))+1,spaziIntermedi(BG53,25)))=(spaziIntermedi(BH53,25)),FALSE,TRUE)","v":true},0,{"$f":"+spaziIntermedi(BH53,25)-BJ53","v":0},false,0,null,0,0,null,null,null,0,0,0,0,0,null,null,0,0,{"$f":"IF((IF(restoZero(CA53,25),(spaziIntermedi(CA53,25))+1,spaziIntermedi(CA53,25)))=(spaziIntermedi(CB53,25)),FALSE,TRUE)","v":true},0,{"$f":"+spaziIntermedi(CB53,25)-CD53","v":0},false,0,null,0,0,null,null,null,0,0,0,null,null,0,0,{"$f":"IF((IF(restoZero(CS53,25),(spaziIntermedi(CS53,25))+1,spaziIntermedi(CS53,25)))=(spaziIntermedi(CT53,25)),FALSE,TRUE)","v":true},0,{"$f":"+spaziIntermedi(CT53,25)-CV53","v":0},false,0,null,0,0,null,null,null,0,0,0,0,0,null,null,0,0,{"$f":"IF((IF(restoZero(DM53,25),(spaziIntermedi(DM53,25))+1,spaziIntermedi(DM53,25)))=(spaziIntermedi(DN53,25)),FALSE,TRUE)","v":true},0,{"$f":"+spaziIntermedi(DN53,25)-DP53","v":0},false,0,null,0,0,null,null,null,0,0,0,null,null,0,0,{"$f":"IF((IF(restoZero(EE53,25),(spaziIntermedi(EE53,25))+1,spaziIntermedi(EE53,25)))=(spaziIntermedi(EF53,25)),FALSE,TRUE)","v":true},0,{"$f":"+spaziIntermedi(EF53,25)-EH53","v":0},false,0,null,0,0,null,null,null,0,0,0,0,0,null,null,0,0,{"$f":"IF((IF(restoZero(EY53,25),(spaziIntermedi(EY53,25))+1,spaziIntermedi(EY53,25)))=(spaziIntermedi(EZ53,25)),FALSE,TRUE)","v":true},0,{"$f":"+spaziIntermedi(EZ53,25)-FB53","v":0},false,0,null,0,0,null,null,null,0,0,0,null,null,0,0,{"$f":"IF((IF(restoZero(FQ53,25),(spaziIntermedi(FQ53,25))+1,spaziIntermedi(FQ53,25)))=(spaziIntermedi(FR53,25)),FALSE,TRUE)","v":true},0,{"$f":"+spaziIntermedi(FR53,25)-FT53","v":0},false,0,null,0,0,null,null,null,0,0,0,0,0,null,null,0,0,{"$f":"IF((IF(restoZero(GK53,25),(spaziIntermedi(GK53,25))+1,spaziIntermedi(GK53,25)))=(spaziIntermedi(GL53,25)),FALSE,TRUE)","v":true},0,{"$f":"+spaziIntermedi(GL53,25)-GN53","v":0},false,0,null,0,0,null,null,null,0,0,0,null,null,0,0,{"$f":"IF((IF(restoZero(HC53,25),(spaziIntermedi(HC53,25))+1,spaziIntermedi(HC53,25)))=(spaziIntermedi(HD53,25)),FALSE,TRUE)","v":true},0,{"$f":"+spaziIntermedi(HD53,25)-HF53","v":0},false,0,null,0,0,null,null,null,0,0,0,0,0,null,null,0,0,{"$f":"IF((IF(restoZero(HW53,25),(spaziIntermedi(HW53,25))+1,spaziIntermedi(HW53,25)))=(spaziIntermedi(HX53,25)),FALSE,TRUE)","v":true},0,{"$f":"+spaziIntermedi(HX53,25)-HZ53","v":0},false,0,null,0,0,null,null,null,0,0,0,null,null,0,0,{"$f":"IF((IF(restoZero(IO53,25),(spaziIntermedi(IO53,25))+1,spaziIntermedi(IO53,25)))=(spaziIntermedi(IP53,25)),FALSE,TRUE)","v":true},0,{"$f":"+spaziIntermedi(IP53,25)-IR53","v":0},false,0,null,0,0,null,null,null,0,0,0,0,0,null,null,0,0,{"$f":"IF((IF(restoZero(JI53,25),(spaziIntermedi(JI53,25))+1,spaziIntermedi(JI53,25)))=(spaziIntermedi(JJ53,25)),FALSE,TRUE)","v":true},0,{"$f":"+spaziIntermedi(JJ53,25)-JL53","v":0},false,0,null,0,0,null,null,null,0,0,0,null,null,0,0,{"$f":"IF((IF(restoZero(KA53,25),(spaziIntermedi(KA53,25))+1,spaziIntermedi(KA53,25)))=(spaziIntermedi(KB53,25)),FALSE,TRUE)","v":true},0,{"$f":"+spaziIntermedi(KB53,25)-KD53","v":0},false,0,null,0,0,null,null,null,0,0,0,0,0,null,null,0,0,{"$f":"IF((IF(restoZero(KU53,25),(spaziIntermedi(KU53,25))+1,spaziIntermedi(KU53,25)))=(spaziIntermedi(KV53,25)),FALSE,TRUE)","v":true},0,{"$f":"+spaziIntermedi(KV53,25)-KX53","v":0},false,0,null,0,0,null,null,null,0,0,0,null,null,0,0,{"$f":"IF((IF(restoZero(LM53,25),(spaziIntermedi(LM53,25))+1,spaziIntermedi(LM53,25)))=(spaziIntermedi(LN53,25)),FALSE,TRUE)","v":true},0,{"$f":"+spaziIntermedi(LN53,25)-LP53","v":0},false,0,null,0,0,null,null,null,0,0,0,0,0,null,null,0,0,{"$f":"IF((IF(restoZero(MG53,25),(spaziIntermedi(MG53,25))+1,spaziIntermedi(MG53,25)))=(spaziIntermedi(MH53,25)),FALSE,TRUE)","v":true},0,{"$f":"+spaziIntermedi(MH53,25)-MJ53","v":0},false,0,null,0,0,null,null,null,0,0,0,null,null,0,0,{"$f":"IF((IF(restoZero(MY53,25),(spaziIntermedi(MY53,25))+1,spaziIntermedi(MY53,25)))=(spaziIntermedi(MZ53,25)),FALSE,TRUE)","v":true},0,{"$f":"+spaziIntermedi(MZ53,25)-NB53","v":0},false,0,null,0,0,null,null,null,0,0,0,0,0,null,null,0,0,{"$f":"IF((IF(restoZero(NS53,25),(spaziIntermedi(NS53,25))+1,spaziIntermedi(NS53,25)))=(spaziIntermedi(NT53,25)),FALSE,TRUE)","v":true},0,{"$f":"+spaziIntermedi(NT53,25)-NV53","v":0},false,0,null,0,0,null,null,null,0,0,0,null,null,0,0,{"$f":"IF((IF(restoZero(OK53,25),(spaziIntermedi(OK53,25))+1,spaziIntermedi(OK53,25)))=(spaziIntermedi(OL53,25)),FALSE,TRUE)","v":true},0,{"$f":"+spaziIntermedi(OL53,25)-ON53","v":0},false,0,null,0,0,null,null,null,0,0,0,0,0,null,null,0,0,{"$f":"IF((IF(restoZero(PE53,25),(spaziIntermedi(PE53,25))+1,spaziIntermedi(PE53,25)))=(spaziIntermedi(PF53,25)),FALSE,TRUE)","v":true},0,{"$f":"+spaziIntermedi(PF53,25)-PH53","v":0},false,0,null,0,0,null,null,null,0,0,0,null,null,0,0,{"$f":"IF((IF(restoZero(PW53,25),(spaziIntermedi(PW53,25))+1,spaziIntermedi(PW53,25)))=(spaziIntermedi(PX53,25)),FALSE,TRUE)","v":true},0,{"$f":"+spaziIntermedi(PX53,25)-PZ53","v":0},false,0,null,0,0,null,null,null,0,0,0,0,0,null,null,0,0,{"$f":"IF((IF(restoZero(QQ53,25),(spaziIntermedi(QQ53,25))+1,spaziIntermedi(QQ53,25)))=(spaziIntermedi(QR53,25)),FALSE,TRUE)","v":true},0,{"$f":"+spaziIntermedi(QR53,25)-QT53","v":0},false,0,null,0,0,null,null,null,0,0,0,null,null,0,0,{"$f":"IF((IF(restoZero(RI53,25),(spaziIntermedi(RI53,25))+1,spaziIntermedi(RI53,25)))=(spaziIntermedi(RJ53,25)),FALSE,TRUE)","v":true},0,{"$f":"+spaziIntermedi(RJ53,25)-RL53","v":0},false,0,null,0,0,null,null,null,0,0,0,0,0,null,null,0,0,{"$f":"IF((IF(restoZero(SC53,25),(spaziIntermedi(SC53,25))+1,spaziIntermedi(SC53,25)))=(spaziIntermedi(SD53,25)),FALSE,TRUE)","v":true},0,{"$f":"+spaziIntermedi(SD53,25)-SF53","v":0},false,0,null,0,0,null,null,null,0,0,0,null,null,0,0,{"$f":"IF((IF(restoZero(SU53,25),(spaziIntermedi(SU53,25))+1,spaziIntermedi(SU53,25)))=(spaziIntermedi(SV53,25)),FALSE,TRUE)","v":true},0,{"$f":"+spaziIntermedi(SV53,25)-SX53","v":0},false,0,null,0,0,null,null,null,0,0,0,0,0]
[null,null,0,0,{"$f":"IF((IF(restoZero(C54,25),(spaziIntermedi(C54,25))+1,spaziIntermedi(C54,25)))=(spaziIntermedi(D54,25)),FALSE,TRUE)","v":true},0,{"$f":"+spaziIntermedi(D54,25)-F54","v":0},false,0,null,0,0,null,null,null,0,0,0,null,null,0,0,{"$f":"IF((IF(restoZero(U54,25),(spaziIntermedi(U54,25))+1,spaziIntermedi(U54,25)))=(spaziIntermedi(V54,25)),FALSE,TRUE)","v":true},0,{"$f":"+spaziIntermedi(V54,25)-X54","v":0},false,0,null,0,0,null,null,null,0,0,0,0,0,null,null,0,0,{"$f":"IF((IF(restoZero(AO54,25),(spaziIntermedi(AO54,25))+1,spaziIntermedi(AO54,25)))=(spaziIntermedi(AP54,25)),FALSE,TRUE)","v":true},0,{"$f":"+spaziIntermedi(AP54,25)-AR54","v":0},false,0,null,0,0,null,null,null,0,0,0,null,null,0,0,{"$f":"IF((IF(restoZero(BG54,25),(spaziIntermedi(BG54,25))+1,spaziIntermedi(BG54,25)))=(spaziIntermedi(BH54,25)),FALSE,TRUE)","v":true},0,{"$f":"+spaziIntermedi(BH54,25)-BJ54","v":0},false,0,null,0,0,null,null,null,0,0,0,0,0,null,null,0,0,{"$f":"IF((IF(restoZero(CA54,25),(spaziIntermedi(CA54,25))+1,spaziIntermedi(CA54,25)))=(spaziIntermedi(CB54,25)),FALSE,TRUE)","v":true},0,{"$f":"+spaziIntermedi(CB54,25)-CD54","v":0},false,0,null,0,0,null,null,null,0,0,0,null,null,0,0,{"$f":"IF((IF(restoZero(CS54,25),(spaziIntermedi(CS54,25))+1,spaziIntermedi(CS54,25)))=(spaziIntermedi(CT54,25)),FALSE,TRUE)","v":true},0,{"$f":"+spaziIntermedi(CT54,25)-CV54","v":0},false,0,null,0,0,null,null,null,0,0,0,0,0,null,null,0,0,{"$f":"IF((IF(restoZero(DM54,25),(spaziIntermedi(DM54,25))+1,spaziIntermedi(DM54,25)))=(spaziIntermedi(DN54,25)),FALSE,TRUE)","v":true},0,{"$f":"+spaziIntermedi(DN54,25)-DP54","v":0},false,0,null,0,0,null,null,null,0,0,0,null,null,0,0,{"$f":"IF((IF(restoZero(EE54,25),(spaziIntermedi(EE54,25))+1,spaziIntermedi(EE54,25)))=(spaziIntermedi(EF54,25)),FALSE,TRUE)","v":true},0,{"$f":"+spaziIntermedi(EF54,25)-EH54","v":0},false,0,null,0,0,null,null,null,0,0,0,0,0,null,null,0,0,{"$f":"IF((IF(restoZero(EY54,25),(spaziIntermedi(EY54,25))+1,spaziIntermedi(EY54,25)))=(spaziIntermedi(EZ54,25)),FALSE,TRUE)","v":true},0,{"$f":"+spaziIntermedi(EZ54,25)-FB54","v":0},false,0,null,0,0,null,null,null,0,0,0,null,null,0,0,{"$f":"IF((IF(restoZero(FQ54,25),(spaziIntermedi(FQ54,25))+1,spaziIntermedi(FQ54,25)))=(spaziIntermedi(FR54,25)),FALSE,TRUE)","v":true},0,{"$f":"+spaziIntermedi(FR54,25)-FT54","v":0},false,0,null,0,0,null,null,null,0,0,0,0,0,null,null,0,0,{"$f":"IF((IF(restoZero(GK54,25),(spaziIntermedi(GK54,25))+1,spaziIntermedi(GK54,25)))=(spaziIntermedi(GL54,25)),FALSE,TRUE)","v":true},0,{"$f":"+spaziIntermedi(GL54,25)-GN54","v":0},false,0,null,0,0,null,null,null,0,0,0,null,null,0,0,{"$f":"IF((IF(restoZero(HC54,25),(spaziIntermedi(HC54,25))+1,spaziIntermedi(HC54,25)))=(spaziIntermedi(HD54,25)),FALSE,TRUE)","v":true},0,{"$f":"+spaziIntermedi(HD54,25)-HF54","v":0},false,0,null,0,0,null,null,null,0,0,0,0,0,null,null,0,0,{"$f":"IF((IF(restoZero(HW54,25),(spaziIntermedi(HW54,25))+1,spaziIntermedi(HW54,25)))=(spaziIntermedi(HX54,25)),FALSE,TRUE)","v":true},0,{"$f":"+spaziIntermedi(HX54,25)-HZ54","v":0},false,0,null,0,0,null,null,null,0,0,0,null,null,0,0,{"$f":"IF((IF(restoZero(IO54,25),(spaziIntermedi(IO54,25))+1,spaziIntermedi(IO54,25)))=(spaziIntermedi(IP54,25)),FALSE,TRUE)","v":true},0,{"$f":"+spaziIntermedi(IP54,25)-IR54","v":0},false,0,null,0,0,null,null,null,0,0,0,0,0,null,null,0,0,{"$f":"IF((IF(restoZero(JI54,25),(spaziIntermedi(JI54,25))+1,spaziIntermedi(JI54,25)))=(spaziIntermedi(JJ54,25)),FALSE,TRUE)","v":true},0,{"$f":"+spaziIntermedi(JJ54,25)-JL54","v":0},false,0,null,0,0,null,null,null,0,0,0,null,null,0,0,{"$f":"IF((IF(restoZero(KA54,25),(spaziIntermedi(KA54,25))+1,spaziIntermedi(KA54,25)))=(spaziIntermedi(KB54,25)),FALSE,TRUE)","v":true},0,{"$f":"+spaziIntermedi(KB54,25)-KD54","v":0},false,0,null,0,0,null,null,null,0,0,0,0,0,null,null,0,0,{"$f":"IF((IF(restoZero(KU54,25),(spaziIntermedi(KU54,25))+1,spaziIntermedi(KU54,25)))=(spaziIntermedi(KV54,25)),FALSE,TRUE)","v":true},0,{"$f":"+spaziIntermedi(KV54,25)-KX54","v":0},false,0,null,0,0,null,null,null,0,0,0,null,null,0,0,{"$f":"IF((IF(restoZero(LM54,25),(spaziIntermedi(LM54,25))+1,spaziIntermedi(LM54,25)))=(spaziIntermedi(LN54,25)),FALSE,TRUE)","v":true},0,{"$f":"+spaziIntermedi(LN54,25)-LP54","v":0},false,0,null,0,0,null,null,null,0,0,0,0,0,null,null,0,0,{"$f":"IF((IF(restoZero(MG54,25),(spaziIntermedi(MG54,25))+1,spaziIntermedi(MG54,25)))=(spaziIntermedi(MH54,25)),FALSE,TRUE)","v":true},0,{"$f":"+spaziIntermedi(MH54,25)-MJ54","v":0},false,0,null,0,0,null,null,null,0,0,0,null,null,0,0,{"$f":"IF((IF(restoZero(MY54,25),(spaziIntermedi(MY54,25))+1,spaziIntermedi(MY54,25)))=(spaziIntermedi(MZ54,25)),FALSE,TRUE)","v":true},0,{"$f":"+spaziIntermedi(MZ54,25)-NB54","v":0},false,0,null,0,0,null,null,null,0,0,0,0,0,null,null,0,0,{"$f":"IF((IF(restoZero(NS54,25),(spaziIntermedi(NS54,25))+1,spaziIntermedi(NS54,25)))=(spaziIntermedi(NT54,25)),FALSE,TRUE)","v":true},0,{"$f":"+spaziIntermedi(NT54,25)-NV54","v":0},false,0,null,0,0,null,null,null,0,0,0,null,null,0,0,{"$f":"IF((IF(restoZero(OK54,25),(spaziIntermedi(OK54,25))+1,spaziIntermedi(OK54,25)))=(spaziIntermedi(OL54,25)),FALSE,TRUE)","v":true},0,{"$f":"+spaziIntermedi(OL54,25)-ON54","v":0},false,0,null,0,0,null,null,null,0,0,0,0,0,null,null,0,0,{"$f":"IF((IF(restoZero(PE54,25),(spaziIntermedi(PE54,25))+1,spaziIntermedi(PE54,25)))=(spaziIntermedi(PF54,25)),FALSE,TRUE)","v":true},0,{"$f":"+spaziIntermedi(PF54,25)-PH54","v":0},false,0,null,0,0,null,null,null,0,0,0,null,null,0,0,{"$f":"IF((IF(restoZero(PW54,25),(spaziIntermedi(PW54,25))+1,spaziIntermedi(PW54,25)))=(spaziIntermedi(PX54,25)),FALSE,TRUE)","v":true},0,{"$f":"+spaziIntermedi(PX54,25)-PZ54","v":0},false,0,null,0,0,null,null,null,0,0,0,0,0,null,null,0,0,{"$f":"IF((IF(restoZero(QQ54,25),(spaziIntermedi(QQ54,25))+1,spaziIntermedi(QQ54,25)))=(spaziIntermedi(QR54,25)),FALSE,TRUE)","v":true},0,{"$f":"+spaziIntermedi(QR54,25)-QT54","v":0},false,0,null,0,0,null,null,null,0,0,0,null,null,0,0,{"$f":"IF((IF(restoZero(RI54,25),(spaziIntermedi(RI54,25))+1,spaziIntermedi(RI54,25)))=(spaziIntermedi(RJ54,25)),FALSE,TRUE)","v":true},0,{"$f":"+spaziIntermedi(RJ54,25)-RL54","v":0},false,0,null,0,0,null,null,null,0,0,0,0,0,null,null,0,0,{"$f":"IF((IF(restoZero(SC54,25),(spaziIntermedi(SC54,25))+1,spaziIntermedi(SC54,25)))=(spaziIntermedi(SD54,25)),FALSE,TRUE)","v":true},0,{"$f":"+spaziIntermedi(SD54,25)-SF54","v":0},false,0,null,0,0,null,null,null,0,0,0,null,null,0,0,{"$f":"IF((IF(restoZero(SU54,25),(spaziIntermedi(SU54,25))+1,spaziIntermedi(SU54,25)))=(spaziIntermedi(SV54,25)),FALSE,TRUE)","v":true},0,{"$f":"+spaziIntermedi(SV54,25)-SX54","v":0},false,0,null,0,0,null,null,null,0,0,0,0,0]
[null,null,0,0,{"$f":"IF((IF(restoZero(C55,25),(spaziIntermedi(C55,25))+1,spaziIntermedi(C55,25)))=(spaziIntermedi(D55,25)),FALSE,TRUE)","v":true},0,{"$f":"+spaziIntermedi(D55,25)-F55","v":0},false,0,null,0,0,null,null,null,0,0,0,null,null,0,0,{"$f":"IF((IF(restoZero(U55,25),(spaziIntermedi(U55,25))+1,spaziIntermedi(U55,25)))=(spaziIntermedi(V55,25)),FALSE,TRUE)","v":true},0,{"$f":"+spaziIntermedi(V55,25)-X55","v":0},false,0,null,0,0,null,null,null,0,0,0,0,0,null,null,0,0,{"$f":"IF((IF(restoZero(AO55,25),(spaziIntermedi(AO55,25))+1,spaziIntermedi(AO55,25)))=(spaziIntermedi(AP55,25)),FALSE,TRUE)","v":true},0,{"$f":"+spaziIntermedi(AP55,25)-AR55","v":0},false,0,null,0,0,null,null,null,0,0,0,null,null,0,0,{"$f":"IF((IF(restoZero(BG55,25),(spaziIntermedi(BG55,25))+1,spaziIntermedi(BG55,25)))=(spaziIntermedi(BH55,25)),FALSE,TRUE)","v":true},0,{"$f":"+spaziIntermedi(BH55,25)-BJ55","v":0},false,0,null,0,0,null,null,null,0,0,0,0,0,null,null,0,0,{"$f":"IF((IF(restoZero(CA55,25),(spaziIntermedi(CA55,25))+1,spaziIntermedi(CA55,25)))=(spaziIntermedi(CB55,25)),FALSE,TRUE)","v":true},0,{"$f":"+spaziIntermedi(CB55,25)-CD55","v":0},false,0,null,0,0,null,null,null,0,0,0,null,null,0,0,{"$f":"IF((IF(restoZero(CS55,25),(spaziIntermedi(CS55,25))+1,spaziIntermedi(CS55,25)))=(spaziIntermedi(CT55,25)),FALSE,TRUE)","v":true},0,{"$f":"+spaziIntermedi(CT55,25)-CV55","v":0},false,0,null,0,0,null,null,null,0,0,0,0,0,null,null,0,0,{"$f":"IF((IF(restoZero(DM55,25),(spaziIntermedi(DM55,25))+1,spaziIntermedi(DM55,25)))=(spaziIntermedi(DN55,25)),FALSE,TRUE)","v":true},0,{"$f":"+spaziIntermedi(DN55,25)-DP55","v":0},false,0,null,0,0,null,null,null,0,0,0,null,null,0,0,{"$f":"IF((IF(restoZero(EE55,25),(spaziIntermedi(EE55,25))+1,spaziIntermedi(EE55,25)))=(spaziIntermedi(EF55,25)),FALSE,TRUE)","v":true},0,{"$f":"+spaziIntermedi(EF55,25)-EH55","v":0},false,0,null,0,0,null,null,null,0,0,0,0,0,null,null,0,0,{"$f":"IF((IF(restoZero(EY55,25),(spaziIntermedi(EY55,25))+1,spaziIntermedi(EY55,25)))=(spaziIntermedi(EZ55,25)),FALSE,TRUE)","v":true},0,{"$f":"+spaziIntermedi(EZ55,25)-FB55","v":0},false,0,null,0,0,null,null,null,0,0,0,null,null,0,0,{"$f":"IF((IF(restoZero(FQ55,25),(spaziIntermedi(FQ55,25))+1,spaziIntermedi(FQ55,25)))=(spaziIntermedi(FR55,25)),FALSE,TRUE)","v":true},0,{"$f":"+spaziIntermedi(FR55,25)-FT55","v":0},false,0,null,0,0,null,null,null,0,0,0,0,0,null,null,0,0,{"$f":"IF((IF(restoZero(GK55,25),(spaziIntermedi(GK55,25))+1,spaziIntermedi(GK55,25)))=(spaziIntermedi(GL55,25)),FALSE,TRUE)","v":true},0,{"$f":"+spaziIntermedi(GL55,25)-GN55","v":0},false,0,null,0,0,null,null,null,0,0,0,null,null,0,0,{"$f":"IF((IF(restoZero(HC55,25),(spaziIntermedi(HC55,25))+1,spaziIntermedi(HC55,25)))=(spaziIntermedi(HD55,25)),FALSE,TRUE)","v":true},0,{"$f":"+spaziIntermedi(HD55,25)-HF55","v":0},false,0,null,0,0,null,null,null,0,0,0,0,0,null,null,0,0,{"$f":"IF((IF(restoZero(HW55,25),(spaziIntermedi(HW55,25))+1,spaziIntermedi(HW55,25)))=(spaziIntermedi(HX55,25)),FALSE,TRUE)","v":true},0,{"$f":"+spaziIntermedi(HX55,25)-HZ55","v":0},false,0,null,0,0,null,null,null,0,0,0,null,null,0,0,{"$f":"IF((IF(restoZero(IO55,25),(spaziIntermedi(IO55,25))+1,spaziIntermedi(IO55,25)))=(spaziIntermedi(IP55,25)),FALSE,TRUE)","v":true},0,{"$f":"+spaziIntermedi(IP55,25)-IR55","v":0},false,0,null,0,0,null,null,null,0,0,0,0,0,null,null,0,0,{"$f":"IF((IF(restoZero(JI55,25),(spaziIntermedi(JI55,25))+1,spaziIntermedi(JI55,25)))=(spaziIntermedi(JJ55,25)),FALSE,TRUE)","v":true},0,{"$f":"+spaziIntermedi(JJ55,25)-JL55","v":0},false,0,null,0,0,null,null,null,0,0,0,null,null,0,0,{"$f":"IF((IF(restoZero(KA55,25),(spaziIntermedi(KA55,25))+1,spaziIntermedi(KA55,25)))=(spaziIntermedi(KB55,25)),FALSE,TRUE)","v":true},0,{"$f":"+spaziIntermedi(KB55,25)-KD55","v":0},false,0,null,0,0,null,null,null,0,0,0,0,0,null,null,0,0,{"$f":"IF((IF(restoZero(KU55,25),(spaziIntermedi(KU55,25))+1,spaziIntermedi(KU55,25)))=(spaziIntermedi(KV55,25)),FALSE,TRUE)","v":true},0,{"$f":"+spaziIntermedi(KV55,25)-KX55","v":0},false,0,null,0,0,null,null,null,0,0,0,null,null,0,0,{"$f":"IF((IF(restoZero(LM55,25),(spaziIntermedi(LM55,25))+1,spaziIntermedi(LM55,25)))=(spaziIntermedi(LN55,25)),FALSE,TRUE)","v":true},0,{"$f":"+spaziIntermedi(LN55,25)-LP55","v":0},false,0,null,0,0,null,null,null,0,0,0,0,0,null,null,0,0,{"$f":"IF((IF(restoZero(MG55,25),(spaziIntermedi(MG55,25))+1,spaziIntermedi(MG55,25)))=(spaziIntermedi(MH55,25)),FALSE,TRUE)","v":true},0,{"$f":"+spaziIntermedi(MH55,25)-MJ55","v":0},false,0,null,0,0,null,null,null,0,0,0,null,null,0,0,{"$f":"IF((IF(restoZero(MY55,25),(spaziIntermedi(MY55,25))+1,spaziIntermedi(MY55,25)))=(spaziIntermedi(MZ55,25)),FALSE,TRUE)","v":true},0,{"$f":"+spaziIntermedi(MZ55,25)-NB55","v":0},false,0,null,0,0,null,null,null,0,0,0,0,0,null,null,0,0,{"$f":"IF((IF(restoZero(NS55,25),(spaziIntermedi(NS55,25))+1,spaziIntermedi(NS55,25)))=(spaziIntermedi(NT55,25)),FALSE,TRUE)","v":true},0,{"$f":"+spaziIntermedi(NT55,25)-NV55","v":0},false,0,null,0,0,null,null,null,0,0,0,null,null,0,0,{"$f":"IF((IF(restoZero(OK55,25),(spaziIntermedi(OK55,25))+1,spaziIntermedi(OK55,25)))=(spaziIntermedi(OL55,25)),FALSE,TRUE)","v":true},0,{"$f":"+spaziIntermedi(OL55,25)-ON55","v":0},false,0,null,0,0,null,null,null,0,0,0,0,0,null,null,0,0,{"$f":"IF((IF(restoZero(PE55,25),(spaziIntermedi(PE55,25))+1,spaziIntermedi(PE55,25)))=(spaziIntermedi(PF55,25)),FALSE,TRUE)","v":true},0,{"$f":"+spaziIntermedi(PF55,25)-PH55","v":0},false,0,null,0,0,null,null,null,0,0,0,null,null,0,0,{"$f":"IF((IF(restoZero(PW55,25),(spaziIntermedi(PW55,25))+1,spaziIntermedi(PW55,25)))=(spaziIntermedi(PX55,25)),FALSE,TRUE)","v":true},0,{"$f":"+spaziIntermedi(PX55,25)-PZ55","v":0},false,0,null,0,0,null,null,null,0,0,0,0,0,null,null,0,0,{"$f":"IF((IF(restoZero(QQ55,25),(spaziIntermedi(QQ55,25))+1,spaziIntermedi(QQ55,25)))=(spaziIntermedi(QR55,25)),FALSE,TRUE)","v":true},0,{"$f":"+spaziIntermedi(QR55,25)-QT55","v":0},false,0,null,0,0,null,null,null,0,0,0,null,null,0,0,{"$f":"IF((IF(restoZero(RI55,25),(spaziIntermedi(RI55,25))+1,spaziIntermedi(RI55,25)))=(spaziIntermedi(RJ55,25)),FALSE,TRUE)","v":true},0,{"$f":"+spaziIntermedi(RJ55,25)-RL55","v":0},false,0,null,0,0,null,null,null,0,0,0,0,0,null,null,0,0,{"$f":"IF((IF(restoZero(SC55,25),(spaziIntermedi(SC55,25))+1,spaziIntermedi(SC55,25)))=(spaziIntermedi(SD55,25)),FALSE,TRUE)","v":true},0,{"$f":"+spaziIntermedi(SD55,25)-SF55","v":0},false,0,null,0,0,null,null,null,0,0,0,null,null,0,0,{"$f":"IF((IF(restoZero(SU55,25),(spaziIntermedi(SU55,25))+1,spaziIntermedi(SU55,25)))=(spaziIntermedi(SV55,25)),FALSE,TRUE)","v":true},0,{"$f":"+spaziIntermedi(SV55,25)-SX55","v":0},false,0,null,0,0,null,null,null,0,0,0,0,0]
[null,null,0,0,{"$f":"IF((IF(restoZero(C56,25),(spaziIntermedi(C56,25))+1,spaziIntermedi(C56,25)))=(spaziIntermedi(D56,25)),FALSE,TRUE)","v":true},0,{"$f":"+spaziIntermedi(D56,25)-F56","v":0},false,0,null,0,0,null,null,null,0,0,0,null,null,0,0,{"$f":"IF((IF(restoZero(U56,25),(spaziIntermedi(U56,25))+1,spaziIntermedi(U56,25)))=(spaziIntermedi(V56,25)),FALSE,TRUE)","v":true},0,{"$f":"+spaziIntermedi(V56,25)-X56","v":0},false,0,null,0,0,null,null,null,0,0,0,0,0,null,null,0,0,{"$f":"IF((IF(restoZero(AO56,25),(spaziIntermedi(AO56,25))+1,spaziIntermedi(AO56,25)))=(spaziIntermedi(AP56,25)),FALSE,TRUE)","v":true},0,{"$f":"+spaziIntermedi(AP56,25)-AR56","v":0},false,0,null,0,0,null,null,null,0,0,0,null,null,0,0,{"$f":"IF((IF(restoZero(BG56,25),(spaziIntermedi(BG56,25))+1,spaziIntermedi(BG56,25)))=(spaziIntermedi(BH56,25)),FALSE,TRUE)","v":true},0,{"$f":"+spaziIntermedi(BH56,25)-BJ56","v":0},false,0,null,0,0,null,null,null,0,0,0,0,0,null,null,0,0,{"$f":"IF((IF(restoZero(CA56,25),(spaziIntermedi(CA56,25))+1,spaziIntermedi(CA56,25)))=(spaziIntermedi(CB56,25)),FALSE,TRUE)","v":true},0,{"$f":"+spaziIntermedi(CB56,25)-CD56","v":0},false,0,null,0,0,null,null,null,0,0,0,null,null,0,0,{"$f":"IF((IF(restoZero(CS56,25),(spaziIntermedi(CS56,25))+1,spaziIntermedi(CS56,25)))=(spaziIntermedi(CT56,25)),FALSE,TRUE)","v":true},0,{"$f":"+spaziIntermedi(CT56,25)-CV56","v":0},false,0,null,0,0,null,null,null,0,0,0,0,0,null,null,0,0,{"$f":"IF((IF(restoZero(DM56,25),(spaziIntermedi(DM56,25))+1,spaziIntermedi(DM56,25)))=(spaziIntermedi(DN56,25)),FALSE,TRUE)","v":true},0,{"$f":"+spaziIntermedi(DN56,25)-DP56","v":0},false,0,null,0,0,null,null,null,0,0,0,null,null,0,0,{"$f":"IF((IF(restoZero(EE56,25),(spaziIntermedi(EE56,25))+1,spaziIntermedi(EE56,25)))=(spaziIntermedi(EF56,25)),FALSE,TRUE)","v":true},0,{"$f":"+spaziIntermedi(EF56,25)-EH56","v":0},false,0,null,0,0,null,null,null,0,0,0,0,0,null,null,0,0,{"$f":"IF((IF(restoZero(EY56,25),(spaziIntermedi(EY56,25))+1,spaziIntermedi(EY56,25)))=(spaziIntermedi(EZ56,25)),FALSE,TRUE)","v":true},0,{"$f":"+spaziIntermedi(EZ56,25)-FB56","v":0},false,0,null,0,0,null,null,null,0,0,0,null,null,0,0,{"$f":"IF((IF(restoZero(FQ56,25),(spaziIntermedi(FQ56,25))+1,spaziIntermedi(FQ56,25)))=(spaziIntermedi(FR56,25)),FALSE,TRUE)","v":true},0,{"$f":"+spaziIntermedi(FR56,25)-FT56","v":0},false,0,null,0,0,null,null,null,0,0,0,0,0,null,null,0,0,{"$f":"IF((IF(restoZero(GK56,25),(spaziIntermedi(GK56,25))+1,spaziIntermedi(GK56,25)))=(spaziIntermedi(GL56,25)),FALSE,TRUE)","v":true},0,{"$f":"+spaziIntermedi(GL56,25)-GN56","v":0},false,0,null,0,0,null,null,null,0,0,0,null,null,0,0,{"$f":"IF((IF(restoZero(HC56,25),(spaziIntermedi(HC56,25))+1,spaziIntermedi(HC56,25)))=(spaziIntermedi(HD56,25)),FALSE,TRUE)","v":true},0,{"$f":"+spaziIntermedi(HD56,25)-HF56","v":0},false,0,null,0,0,null,null,null,0,0,0,0,0,null,null,0,0,{"$f":"IF((IF(restoZero(HW56,25),(spaziIntermedi(HW56,25))+1,spaziIntermedi(HW56,25)))=(spaziIntermedi(HX56,25)),FALSE,TRUE)","v":true},0,{"$f":"+spaziIntermedi(HX56,25)-HZ56","v":0},false,0,null,0,0,null,null,null,0,0,0,null,null,0,0,{"$f":"IF((IF(restoZero(IO56,25),(spaziIntermedi(IO56,25))+1,spaziIntermedi(IO56,25)))=(spaziIntermedi(IP56,25)),FALSE,TRUE)","v":true},0,{"$f":"+spaziIntermedi(IP56,25)-IR56","v":0},false,0,null,0,0,null,null,null,0,0,0,0,0,null,null,0,0,{"$f":"IF((IF(restoZero(JI56,25),(spaziIntermedi(JI56,25))+1,spaziIntermedi(JI56,25)))=(spaziIntermedi(JJ56,25)),FALSE,TRUE)","v":true},0,{"$f":"+spaziIntermedi(JJ56,25)-JL56","v":0},false,0,null,0,0,null,null,null,0,0,0,null,null,0,0,{"$f":"IF((IF(restoZero(KA56,25),(spaziIntermedi(KA56,25))+1,spaziIntermedi(KA56,25)))=(spaziIntermedi(KB56,25)),FALSE,TRUE)","v":true},0,{"$f":"+spaziIntermedi(KB56,25)-KD56","v":0},false,0,null,0,0,null,null,null,0,0,0,0,0,null,null,0,0,{"$f":"IF((IF(restoZero(KU56,25),(spaziIntermedi(KU56,25))+1,spaziIntermedi(KU56,25)))=(spaziIntermedi(KV56,25)),FALSE,TRUE)","v":true},0,{"$f":"+spaziIntermedi(KV56,25)-KX56","v":0},false,0,null,0,0,null,null,null,0,0,0,null,null,0,0,{"$f":"IF((IF(restoZero(LM56,25),(spaziIntermedi(LM56,25))+1,spaziIntermedi(LM56,25)))=(spaziIntermedi(LN56,25)),FALSE,TRUE)","v":true},0,{"$f":"+spaziIntermedi(LN56,25)-LP56","v":0},false,0,null,0,0,null,null,null,0,0,0,0,0,null,null,0,0,{"$f":"IF((IF(restoZero(MG56,25),(spaziIntermedi(MG56,25))+1,spaziIntermedi(MG56,25)))=(spaziIntermedi(MH56,25)),FALSE,TRUE)","v":true},0,{"$f":"+spaziIntermedi(MH56,25)-MJ56","v":0},false,0,null,0,0,null,null,null,0,0,0,null,null,0,0,{"$f":"IF((IF(restoZero(MY56,25),(spaziIntermedi(MY56,25))+1,spaziIntermedi(MY56,25)))=(spaziIntermedi(MZ56,25)),FALSE,TRUE)","v":true},0,{"$f":"+spaziIntermedi(MZ56,25)-NB56","v":0},false,0,null,0,0,null,null,null,0,0,0,0,0,null,null,0,0,{"$f":"IF((IF(restoZero(NS56,25),(spaziIntermedi(NS56,25))+1,spaziIntermedi(NS56,25)))=(spaziIntermedi(NT56,25)),FALSE,TRUE)","v":true},0,{"$f":"+spaziIntermedi(NT56,25)-NV56","v":0},false,0,null,0,0,null,null,null,0,0,0,null,null,0,0,{"$f":"IF((IF(restoZero(OK56,25),(spaziIntermedi(OK56,25))+1,spaziIntermedi(OK56,25)))=(spaziIntermedi(OL56,25)),FALSE,TRUE)","v":true},0,{"$f":"+spaziIntermedi(OL56,25)-ON56","v":0},false,0,null,0,0,null,null,null,0,0,0,0,0,null,null,0,0,{"$f":"IF((IF(restoZero(PE56,25),(spaziIntermedi(PE56,25))+1,spaziIntermedi(PE56,25)))=(spaziIntermedi(PF56,25)),FALSE,TRUE)","v":true},0,{"$f":"+spaziIntermedi(PF56,25)-PH56","v":0},false,0,null,0,0,null,null,null,0,0,0,null,null,0,0,{"$f":"IF((IF(restoZero(PW56,25),(spaziIntermedi(PW56,25))+1,spaziIntermedi(PW56,25)))=(spaziIntermedi(PX56,25)),FALSE,TRUE)","v":true},0,{"$f":"+spaziIntermedi(PX56,25)-PZ56","v":0},false,0,null,0,0,null,null,null,0,0,0,0,0,null,null,0,0,{"$f":"IF((IF(restoZero(QQ56,25),(spaziIntermedi(QQ56,25))+1,spaziIntermedi(QQ56,25)))=(spaziIntermedi(QR56,25)),FALSE,TRUE)","v":true},0,{"$f":"+spaziIntermedi(QR56,25)-QT56","v":0},false,0,null,0,0,null,null,null,0,0,0,null,null,0,0,{"$f":"IF((IF(restoZero(RI56,25),(spaziIntermedi(RI56,25))+1,spaziIntermedi(RI56,25)))=(spaziIntermedi(RJ56,25)),FALSE,TRUE)","v":true},0,{"$f":"+spaziIntermedi(RJ56,25)-RL56","v":0},false,0,null,0,0,null,null,null,0,0,0,0,0,null,null,0,0,{"$f":"IF((IF(restoZero(SC56,25),(spaziIntermedi(SC56,25))+1,spaziIntermedi(SC56,25)))=(spaziIntermedi(SD56,25)),FALSE,TRUE)","v":true},0,{"$f":"+spaziIntermedi(SD56,25)-SF56","v":0},false,0,null,0,0,null,null,null,0,0,0,null,null,0,0,{"$f":"IF((IF(restoZero(SU56,25),(spaziIntermedi(SU56,25))+1,spaziIntermedi(SU56,25)))=(spaziIntermedi(SV56,25)),FALSE,TRUE)","v":true},0,{"$f":"+spaziIntermedi(SV56,25)-SX56","v":0},false,0,null,0,0,null,null,null,0,0,0,0,0]
[null,null,0,0,{"$f":"IF((IF(restoZero(C57,25),(spaziIntermedi(C57,25))+1,spaziIntermedi(C57,25)))=(spaziIntermedi(D57,25)),FALSE,TRUE)","v":true},0,{"$f":"+spaziIntermedi(D57,25)-F57","v":0},false,0,null,0,0,null,null,null,0,0,0,null,null,0,0,{"$f":"IF((IF(restoZero(U57,25),(spaziIntermedi(U57,25))+1,spaziIntermedi(U57,25)))=(spaziIntermedi(V57,25)),FALSE,TRUE)","v":true},0,{"$f":"+spaziIntermedi(V57,25)-X57","v":0},false,0,null,0,0,null,null,null,0,0,0,0,0,null,null,0,0,{"$f":"IF((IF(restoZero(AO57,25),(spaziIntermedi(AO57,25))+1,spaziIntermedi(AO57,25)))=(spaziIntermedi(AP57,25)),FALSE,TRUE)","v":true},0,{"$f":"+spaziIntermedi(AP57,25)-AR57","v":0},false,0,null,0,0,null,null,null,0,0,0,null,null,0,0,{"$f":"IF((IF(restoZero(BG57,25),(spaziIntermedi(BG57,25))+1,spaziIntermedi(BG57,25)))=(spaziIntermedi(BH57,25)),FALSE,TRUE)","v":true},0,{"$f":"+spaziIntermedi(BH57,25)-BJ57","v":0},false,0,null,0,0,null,null,null,0,0,0,0,0,null,null,0,0,{"$f":"IF((IF(restoZero(CA57,25),(spaziIntermedi(CA57,25))+1,spaziIntermedi(CA57,25)))=(spaziIntermedi(CB57,25)),FALSE,TRUE)","v":true},0,{"$f":"+spaziIntermedi(CB57,25)-CD57","v":0},false,0,null,0,0,null,null,null,0,0,0,null,null,0,0,{"$f":"IF((IF(restoZero(CS57,25),(spaziIntermedi(CS57,25))+1,spaziIntermedi(CS57,25)))=(spaziIntermedi(CT57,25)),FALSE,TRUE)","v":true},0,{"$f":"+spaziIntermedi(CT57,25)-CV57","v":0},false,0,null,0,0,null,null,null,0,0,0,0,0,null,null,0,0,{"$f":"IF((IF(restoZero(DM57,25),(spaziIntermedi(DM57,25))+1,spaziIntermedi(DM57,25)))=(spaziIntermedi(DN57,25)),FALSE,TRUE)","v":true},0,{"$f":"+spaziIntermedi(DN57,25)-DP57","v":0},false,0,null,0,0,null,null,null,0,0,0,null,null,0,0,{"$f":"IF((IF(restoZero(EE57,25),(spaziIntermedi(EE57,25))+1,spaziIntermedi(EE57,25)))=(spaziIntermedi(EF57,25)),FALSE,TRUE)","v":true},0,{"$f":"+spaziIntermedi(EF57,25)-EH57","v":0},false,0,null,0,0,null,null,null,0,0,0,0,0,null,null,0,0,{"$f":"IF((IF(restoZero(EY57,25),(spaziIntermedi(EY57,25))+1,spaziIntermedi(EY57,25)))=(spaziIntermedi(EZ57,25)),FALSE,TRUE)","v":true},0,{"$f":"+spaziIntermedi(EZ57,25)-FB57","v":0},false,0,null,0,0,null,null,null,0,0,0,null,null,0,0,{"$f":"IF((IF(restoZero(FQ57,25),(spaziIntermedi(FQ57,25))+1,spaziIntermedi(FQ57,25)))=(spaziIntermedi(FR57,25)),FALSE,TRUE)","v":true},0,{"$f":"+spaziIntermedi(FR57,25)-FT57","v":0},false,0,null,0,0,null,null,null,0,0,0,0,0,null,null,0,0,{"$f":"IF((IF(restoZero(GK57,25),(spaziIntermedi(GK57,25))+1,spaziIntermedi(GK57,25)))=(spaziIntermedi(GL57,25)),FALSE,TRUE)","v":true},0,{"$f":"+spaziIntermedi(GL57,25)-GN57","v":0},false,0,null,0,0,null,null,null,0,0,0,null,null,0,0,{"$f":"IF((IF(restoZero(HC57,25),(spaziIntermedi(HC57,25))+1,spaziIntermedi(HC57,25)))=(spaziIntermedi(HD57,25)),FALSE,TRUE)","v":true},0,{"$f":"+spaziIntermedi(HD57,25)-HF57","v":0},false,0,null,0,0,null,null,null,0,0,0,0,0,null,null,0,0,{"$f":"IF((IF(restoZero(HW57,25),(spaziIntermedi(HW57,25))+1,spaziIntermedi(HW57,25)))=(spaziIntermedi(HX57,25)),FALSE,TRUE)","v":true},0,{"$f":"+spaziIntermedi(HX57,25)-HZ57","v":0},false,0,null,0,0,null,null,null,0,0,0,null,null,0,0,{"$f":"IF((IF(restoZero(IO57,25),(spaziIntermedi(IO57,25))+1,spaziIntermedi(IO57,25)))=(spaziIntermedi(IP57,25)),FALSE,TRUE)","v":true},0,{"$f":"+spaziIntermedi(IP57,25)-IR57","v":0},false,0,null,0,0,null,null,null,0,0,0,0,0,null,null,0,0,{"$f":"IF((IF(restoZero(JI57,25),(spaziIntermedi(JI57,25))+1,spaziIntermedi(JI57,25)))=(spaziIntermedi(JJ57,25)),FALSE,TRUE)","v":true},0,{"$f":"+spaziIntermedi(JJ57,25)-JL57","v":0},false,0,null,0,0,null,null,null,0,0,0,null,null,0,0,{"$f":"IF((IF(restoZero(KA57,25),(spaziIntermedi(KA57,25))+1,spaziIntermedi(KA57,25)))=(spaziIntermedi(KB57,25)),FALSE,TRUE)","v":true},0,{"$f":"+spaziIntermedi(KB57,25)-KD57","v":0},false,0,null,0,0,null,null,null,0,0,0,0,0,null,null,0,0,{"$f":"IF((IF(restoZero(KU57,25),(spaziIntermedi(KU57,25))+1,spaziIntermedi(KU57,25)))=(spaziIntermedi(KV57,25)),FALSE,TRUE)","v":true},0,{"$f":"+spaziIntermedi(KV57,25)-KX57","v":0},false,0,null,0,0,null,null,null,0,0,0,null,null,0,0,{"$f":"IF((IF(restoZero(LM57,25),(spaziIntermedi(LM57,25))+1,spaziIntermedi(LM57,25)))=(spaziIntermedi(LN57,25)),FALSE,TRUE)","v":true},0,{"$f":"+spaziIntermedi(LN57,25)-LP57","v":0},false,0,null,0,0,null,null,null,0,0,0,0,0,null,null,0,0,{"$f":"IF((IF(restoZero(MG57,25),(spaziIntermedi(MG57,25))+1,spaziIntermedi(MG57,25)))=(spaziIntermedi(MH57,25)),FALSE,TRUE)","v":true},0,{"$f":"+spaziIntermedi(MH57,25)-MJ57","v":0},false,0,null,0,0,null,null,null,0,0,0,null,null,0,0,{"$f":"IF((IF(restoZero(MY57,25),(spaziIntermedi(MY57,25))+1,spaziIntermedi(MY57,25)))=(spaziIntermedi(MZ57,25)),FALSE,TRUE)","v":true},0,{"$f":"+spaziIntermedi(MZ57,25)-NB57","v":0},false,0,null,0,0,null,null,null,0,0,0,0,0,null,null,0,0,{"$f":"IF((IF(restoZero(NS57,25),(spaziIntermedi(NS57,25))+1,spaziIntermedi(NS57,25)))=(spaziIntermedi(NT57,25)),FALSE,TRUE)","v":true},0,{"$f":"+spaziIntermedi(NT57,25)-NV57","v":0},false,0,null,0,0,null,null,null,0,0,0,null,null,0,0,{"$f":"IF((IF(restoZero(OK57,25),(spaziIntermedi(OK57,25))+1,spaziIntermedi(OK57,25)))=(spaziIntermedi(OL57,25)),FALSE,TRUE)","v":true},0,{"$f":"+spaziIntermedi(OL57,25)-ON57","v":0},false,0,null,0,0,null,null,null,0,0,0,0,0,null,null,0,0,{"$f":"IF((IF(restoZero(PE57,25),(spaziIntermedi(PE57,25))+1,spaziIntermedi(PE57,25)))=(spaziIntermedi(PF57,25)),FALSE,TRUE)","v":true},0,{"$f":"+spaziIntermedi(PF57,25)-PH57","v":0},false,0,null,0,0,null,null,null,0,0,0,null,null,0,0,{"$f":"IF((IF(restoZero(PW57,25),(spaziIntermedi(PW57,25))+1,spaziIntermedi(PW57,25)))=(spaziIntermedi(PX57,25)),FALSE,TRUE)","v":true},0,{"$f":"+spaziIntermedi(PX57,25)-PZ57","v":0},false,0,null,0,0,null,null,null,0,0,0,0,0,null,null,0,0,{"$f":"IF((IF(restoZero(QQ57,25),(spaziIntermedi(QQ57,25))+1,spaziIntermedi(QQ57,25)))=(spaziIntermedi(QR57,25)),FALSE,TRUE)","v":true},0,{"$f":"+spaziIntermedi(QR57,25)-QT57","v":0},false,0,null,0,0,null,null,null,0,0,0,null,null,0,0,{"$f":"IF((IF(restoZero(RI57,25),(spaziIntermedi(RI57,25))+1,spaziIntermedi(RI57,25)))=(spaziIntermedi(RJ57,25)),FALSE,TRUE)","v":true},0,{"$f":"+spaziIntermedi(RJ57,25)-RL57","v":0},false,0,null,0,0,null,null,null,0,0,0,0,0,null,null,0,0,{"$f":"IF((IF(restoZero(SC57,25),(spaziIntermedi(SC57,25))+1,spaziIntermedi(SC57,25)))=(spaziIntermedi(SD57,25)),FALSE,TRUE)","v":true},0,{"$f":"+spaziIntermedi(SD57,25)-SF57","v":0},false,0,null,0,0,null,null,null,0,0,0,null,null,0,0,{"$f":"IF((IF(restoZero(SU57,25),(spaziIntermedi(SU57,25))+1,spaziIntermedi(SU57,25)))=(spaziIntermedi(SV57,25)),FALSE,TRUE)","v":true},0,{"$f":"+spaziIntermedi(SV57,25)-SX57","v":0},false,0,null,0,0,null,null,null,0,0,0,0,0]
[null,null,0,0,{"$f":"IF((IF(restoZero(C58,25),(spaziIntermedi(C58,25))+1,spaziIntermedi(C58,25)))=(spaziIntermedi(D58,25)),FALSE,TRUE)","v":true},0,{"$f":"+spaziIntermedi(D58,25)-F58","v":0},false,0,null,0,0,null,null,null,0,0,0,null,null,0,0,{"$f":"IF((IF(restoZero(U58,25),(spaziIntermedi(U58,25))+1,spaziIntermedi(U58,25)))=(spaziIntermedi(V58,25)),FALSE,TRUE)","v":true},0,{"$f":"+spaziIntermedi(V58,25)-X58","v":0},false,0,null,0,0,null,null,null,0,0,0,0,0,null,null,0,0,{"$f":"IF((IF(restoZero(AO58,25),(spaziIntermedi(AO58,25))+1,spaziIntermedi(AO58,25)))=(spaziIntermedi(AP58,25)),FALSE,TRUE)","v":true},0,{"$f":"+spaziIntermedi(AP58,25)-AR58","v":0},false,0,null,0,0,null,null,null,0,0,0,null,null,0,0,{"$f":"IF((IF(restoZero(BG58,25),(spaziIntermedi(BG58,25))+1,spaziIntermedi(BG58,25)))=(spaziIntermedi(BH58,25)),FALSE,TRUE)","v":true},0,{"$f":"+spaziIntermedi(BH58,25)-BJ58","v":0},false,0,null,0,0,null,null,null,0,0,0,0,0,null,null,0,0,{"$f":"IF((IF(restoZero(CA58,25),(spaziIntermedi(CA58,25))+1,spaziIntermedi(CA58,25)))=(spaziIntermedi(CB58,25)),FALSE,TRUE)","v":true},0,{"$f":"+spaziIntermedi(CB58,25)-CD58","v":0},false,0,null,0,0,null,null,null,0,0,0,null,null,0,0,{"$f":"IF((IF(restoZero(CS58,25),(spaziIntermedi(CS58,25))+1,spaziIntermedi(CS58,25)))=(spaziIntermedi(CT58,25)),FALSE,TRUE)","v":true},0,{"$f":"+spaziIntermedi(CT58,25)-CV58","v":0},false,0,null,0,0,null,null,null,0,0,0,0,0,null,null,0,0,{"$f":"IF((IF(restoZero(DM58,25),(spaziIntermedi(DM58,25))+1,spaziIntermedi(DM58,25)))=(spaziIntermedi(DN58,25)),FALSE,TRUE)","v":true},0,{"$f":"+spaziIntermedi(DN58,25)-DP58","v":0},false,0,null,0,0,null,null,null,0,0,0,null,null,0,0,{"$f":"IF((IF(restoZero(EE58,25),(spaziIntermedi(EE58,25))+1,spaziIntermedi(EE58,25)))=(spaziIntermedi(EF58,25)),FALSE,TRUE)","v":true},0,{"$f":"+spaziIntermedi(EF58,25)-EH58","v":0},false,0,null,0,0,null,null,null,0,0,0,0,0,null,null,0,0,{"$f":"IF((IF(restoZero(EY58,25),(spaziIntermedi(EY58,25))+1,spaziIntermedi(EY58,25)))=(spaziIntermedi(EZ58,25)),FALSE,TRUE)","v":true},0,{"$f":"+spaziIntermedi(EZ58,25)-FB58","v":0},false,0,null,0,0,null,null,null,0,0,0,null,null,0,0,{"$f":"IF((IF(restoZero(FQ58,25),(spaziIntermedi(FQ58,25))+1,spaziIntermedi(FQ58,25)))=(spaziIntermedi(FR58,25)),FALSE,TRUE)","v":true},0,{"$f":"+spaziIntermedi(FR58,25)-FT58","v":0},false,0,null,0,0,null,null,null,0,0,0,0,0,null,null,0,0,{"$f":"IF((IF(restoZero(GK58,25),(spaziIntermedi(GK58,25))+1,spaziIntermedi(GK58,25)))=(spaziIntermedi(GL58,25)),FALSE,TRUE)","v":true},0,{"$f":"+spaziIntermedi(GL58,25)-GN58","v":0},false,0,null,0,0,null,null,null,0,0,0,null,null,0,0,{"$f":"IF((IF(restoZero(HC58,25),(spaziIntermedi(HC58,25))+1,spaziIntermedi(HC58,25)))=(spaziIntermedi(HD58,25)),FALSE,TRUE)","v":true},0,{"$f":"+spaziIntermedi(HD58,25)-HF58","v":0},false,0,null,0,0,null,null,null,0,0,0,0,0,null,null,0,0,{"$f":"IF((IF(restoZero(HW58,25),(spaziIntermedi(HW58,25))+1,spaziIntermedi(HW58,25)))=(spaziIntermedi(HX58,25)),FALSE,TRUE)","v":true},0,{"$f":"+spaziIntermedi(HX58,25)-HZ58","v":0},false,0,null,0,0,null,null,null,0,0,0,null,null,0,0,{"$f":"IF((IF(restoZero(IO58,25),(spaziIntermedi(IO58,25))+1,spaziIntermedi(IO58,25)))=(spaziIntermedi(IP58,25)),FALSE,TRUE)","v":true},0,{"$f":"+spaziIntermedi(IP58,25)-IR58","v":0},false,0,null,0,0,null,null,null,0,0,0,0,0,null,null,0,0,{"$f":"IF((IF(restoZero(JI58,25),(spaziIntermedi(JI58,25))+1,spaziIntermedi(JI58,25)))=(spaziIntermedi(JJ58,25)),FALSE,TRUE)","v":true},0,{"$f":"+spaziIntermedi(JJ58,25)-JL58","v":0},false,0,null,0,0,null,null,null,0,0,0,null,null,0,0,{"$f":"IF((IF(restoZero(KA58,25),(spaziIntermedi(KA58,25))+1,spaziIntermedi(KA58,25)))=(spaziIntermedi(KB58,25)),FALSE,TRUE)","v":true},0,{"$f":"+spaziIntermedi(KB58,25)-KD58","v":0},false,0,null,0,0,null,null,null,0,0,0,0,0,null,null,0,0,{"$f":"IF((IF(restoZero(KU58,25),(spaziIntermedi(KU58,25))+1,spaziIntermedi(KU58,25)))=(spaziIntermedi(KV58,25)),FALSE,TRUE)","v":true},0,{"$f":"+spaziIntermedi(KV58,25)-KX58","v":0},false,0,null,0,0,null,null,null,0,0,0,null,null,0,0,{"$f":"IF((IF(restoZero(LM58,25),(spaziIntermedi(LM58,25))+1,spaziIntermedi(LM58,25)))=(spaziIntermedi(LN58,25)),FALSE,TRUE)","v":true},0,{"$f":"+spaziIntermedi(LN58,25)-LP58","v":0},false,0,null,0,0,null,null,null,0,0,0,0,0,null,null,0,0,{"$f":"IF((IF(restoZero(MG58,25),(spaziIntermedi(MG58,25))+1,spaziIntermedi(MG58,25)))=(spaziIntermedi(MH58,25)),FALSE,TRUE)","v":true},0,{"$f":"+spaziIntermedi(MH58,25)-MJ58","v":0},false,0,null,0,0,null,null,null,0,0,0,null,null,0,0,{"$f":"IF((IF(restoZero(MY58,25),(spaziIntermedi(MY58,25))+1,spaziIntermedi(MY58,25)))=(spaziIntermedi(MZ58,25)),FALSE,TRUE)","v":true},0,{"$f":"+spaziIntermedi(MZ58,25)-NB58","v":0},false,0,null,0,0,null,null,null,0,0,0,0,0,null,null,0,0,{"$f":"IF((IF(restoZero(NS58,25),(spaziIntermedi(NS58,25))+1,spaziIntermedi(NS58,25)))=(spaziIntermedi(NT58,25)),FALSE,TRUE)","v":true},0,{"$f":"+spaziIntermedi(NT58,25)-NV58","v":0},false,0,null,0,0,null,null,null,0,0,0,null,null,0,0,{"$f":"IF((IF(restoZero(OK58,25),(spaziIntermedi(OK58,25))+1,spaziIntermedi(OK58,25)))=(spaziIntermedi(OL58,25)),FALSE,TRUE)","v":true},0,{"$f":"+spaziIntermedi(OL58,25)-ON58","v":0},false,0,null,0,0,null,null,null,0,0,0,0,0,null,null,0,0,{"$f":"IF((IF(restoZero(PE58,25),(spaziIntermedi(PE58,25))+1,spaziIntermedi(PE58,25)))=(spaziIntermedi(PF58,25)),FALSE,TRUE)","v":true},0,{"$f":"+spaziIntermedi(PF58,25)-PH58","v":0},false,0,null,0,0,null,null,null,0,0,0,null,null,0,0,{"$f":"IF((IF(restoZero(PW58,25),(spaziIntermedi(PW58,25))+1,spaziIntermedi(PW58,25)))=(spaziIntermedi(PX58,25)),FALSE,TRUE)","v":true},0,{"$f":"+spaziIntermedi(PX58,25)-PZ58","v":0},false,0,null,0,0,null,null,null,0,0,0,0,0,null,null,0,0,{"$f":"IF((IF(restoZero(QQ58,25),(spaziIntermedi(QQ58,25))+1,spaziIntermedi(QQ58,25)))=(spaziIntermedi(QR58,25)),FALSE,TRUE)","v":true},0,{"$f":"+spaziIntermedi(QR58,25)-QT58","v":0},false,0,null,0,0,null,null,null,0,0,0,null,null,0,0,{"$f":"IF((IF(restoZero(RI58,25),(spaziIntermedi(RI58,25))+1,spaziIntermedi(RI58,25)))=(spaziIntermedi(RJ58,25)),FALSE,TRUE)","v":true},0,{"$f":"+spaziIntermedi(RJ58,25)-RL58","v":0},false,0,null,0,0,null,null,null,0,0,0,0,0,null,null,0,0,{"$f":"IF((IF(restoZero(SC58,25),(spaziIntermedi(SC58,25))+1,spaziIntermedi(SC58,25)))=(spaziIntermedi(SD58,25)),FALSE,TRUE)","v":true},0,{"$f":"+spaziIntermedi(SD58,25)-SF58","v":0},false,0,null,0,0,null,null,null,0,0,0,null,null,0,0,{"$f":"IF((IF(restoZero(SU58,25),(spaziIntermedi(SU58,25))+1,spaziIntermedi(SU58,25)))=(spaziIntermedi(SV58,25)),FALSE,TRUE)","v":true},0,{"$f":"+spaziIntermedi(SV58,25)-SX58","v":0},false,0,null,0,0,null,null,null,0,0,0,0,0]
[null,null,0,0,{"$f":"IF((IF(restoZero(C59,25),(spaziIntermedi(C59,25))+1,spaziIntermedi(C59,25)))=(spaziIntermedi(D59,25)),FALSE,TRUE)","v":true},0,{"$f":"+spaziIntermedi(D59,25)-F59","v":0},false,0,null,0,0,null,null,null,0,0,0,null,null,0,0,{"$f":"IF((IF(restoZero(U59,25),(spaziIntermedi(U59,25))+1,spaziIntermedi(U59,25)))=(spaziIntermedi(V59,25)),FALSE,TRUE)","v":true},0,{"$f":"+spaziIntermedi(V59,25)-X59","v":0},false,0,null,0,0,null,null,null,0,0,0,0,0,null,null,0,0,{"$f":"IF((IF(restoZero(AO59,25),(spaziIntermedi(AO59,25))+1,spaziIntermedi(AO59,25)))=(spaziIntermedi(AP59,25)),FALSE,TRUE)","v":true},0,{"$f":"+spaziIntermedi(AP59,25)-AR59","v":0},false,0,null,0,0,null,null,null,0,0,0,null,null,0,0,{"$f":"IF((IF(restoZero(BG59,25),(spaziIntermedi(BG59,25))+1,spaziIntermedi(BG59,25)))=(spaziIntermedi(BH59,25)),FALSE,TRUE)","v":true},0,{"$f":"+spaziIntermedi(BH59,25)-BJ59","v":0},false,0,null,0,0,null,null,null,0,0,0,0,0,null,null,0,0,{"$f":"IF((IF(restoZero(CA59,25),(spaziIntermedi(CA59,25))+1,spaziIntermedi(CA59,25)))=(spaziIntermedi(CB59,25)),FALSE,TRUE)","v":true},0,{"$f":"+spaziIntermedi(CB59,25)-CD59","v":0},false,0,null,0,0,null,null,null,0,0,0,null,null,0,0,{"$f":"IF((IF(restoZero(CS59,25),(spaziIntermedi(CS59,25))+1,spaziIntermedi(CS59,25)))=(spaziIntermedi(CT59,25)),FALSE,TRUE)","v":true},0,{"$f":"+spaziIntermedi(CT59,25)-CV59","v":0},false,0,null,0,0,null,null,null,0,0,0,0,0,null,null,0,0,{"$f":"IF((IF(restoZero(DM59,25),(spaziIntermedi(DM59,25))+1,spaziIntermedi(DM59,25)))=(spaziIntermedi(DN59,25)),FALSE,TRUE)","v":true},0,{"$f":"+spaziIntermedi(DN59,25)-DP59","v":0},false,0,null,0,0,null,null,null,0,0,0,null,null,0,0,{"$f":"IF((IF(restoZero(EE59,25),(spaziIntermedi(EE59,25))+1,spaziIntermedi(EE59,25)))=(spaziIntermedi(EF59,25)),FALSE,TRUE)","v":true},0,{"$f":"+spaziIntermedi(EF59,25)-EH59","v":0},false,0,null,0,0,null,null,null,0,0,0,0,0,null,null,0,0,{"$f":"IF((IF(restoZero(EY59,25),(spaziIntermedi(EY59,25))+1,spaziIntermedi(EY59,25)))=(spaziIntermedi(EZ59,25)),FALSE,TRUE)","v":true},0,{"$f":"+spaziIntermedi(EZ59,25)-FB59","v":0},false,0,null,0,0,null,null,null,0,0,0,null,null,0,0,{"$f":"IF((IF(restoZero(FQ59,25),(spaziIntermedi(FQ59,25))+1,spaziIntermedi(FQ59,25)))=(spaziIntermedi(FR59,25)),FALSE,TRUE)","v":true},0,{"$f":"+spaziIntermedi(FR59,25)-FT59","v":0},false,0,null,0,0,null,null,null,0,0,0,0,0,null,null,0,0,{"$f":"IF((IF(restoZero(GK59,25),(spaziIntermedi(GK59,25))+1,spaziIntermedi(GK59,25)))=(spaziIntermedi(GL59,25)),FALSE,TRUE)","v":true},0,{"$f":"+spaziIntermedi(GL59,25)-GN59","v":0},false,0,null,0,0,null,null,null,0,0,0,null,null,0,0,{"$f":"IF((IF(restoZero(HC59,25),(spaziIntermedi(HC59,25))+1,spaziIntermedi(HC59,25)))=(spaziIntermedi(HD59,25)),FALSE,TRUE)","v":true},0,{"$f":"+spaziIntermedi(HD59,25)-HF59","v":0},false,0,null,0,0,null,null,null,0,0,0,0,0,null,null,0,0,{"$f":"IF((IF(restoZero(HW59,25),(spaziIntermedi(HW59,25))+1,spaziIntermedi(HW59,25)))=(spaziIntermedi(HX59,25)),FALSE,TRUE)","v":true},0,{"$f":"+spaziIntermedi(HX59,25)-HZ59","v":0},false,0,null,0,0,null,null,null,0,0,0,null,null,0,0,{"$f":"IF((IF(restoZero(IO59,25),(spaziIntermedi(IO59,25))+1,spaziIntermedi(IO59,25)))=(spaziIntermedi(IP59,25)),FALSE,TRUE)","v":true},0,{"$f":"+spaziIntermedi(IP59,25)-IR59","v":0},false,0,null,0,0,null,null,null,0,0,0,0,0,null,null,0,0,{"$f":"IF((IF(restoZero(JI59,25),(spaziIntermedi(JI59,25))+1,spaziIntermedi(JI59,25)))=(spaziIntermedi(JJ59,25)),FALSE,TRUE)","v":true},0,{"$f":"+spaziIntermedi(JJ59,25)-JL59","v":0},false,0,null,0,0,null,null,null,0,0,0,null,null,0,0,{"$f":"IF((IF(restoZero(KA59,25),(spaziIntermedi(KA59,25))+1,spaziIntermedi(KA59,25)))=(spaziIntermedi(KB59,25)),FALSE,TRUE)","v":true},0,{"$f":"+spaziIntermedi(KB59,25)-KD59","v":0},false,0,null,0,0,null,null,null,0,0,0,0,0,null,null,0,0,{"$f":"IF((IF(restoZero(KU59,25),(spaziIntermedi(KU59,25))+1,spaziIntermedi(KU59,25)))=(spaziIntermedi(KV59,25)),FALSE,TRUE)","v":true},0,{"$f":"+spaziIntermedi(KV59,25)-KX59","v":0},false,0,null,0,0,null,null,null,0,0,0,null,null,0,0,{"$f":"IF((IF(restoZero(LM59,25),(spaziIntermedi(LM59,25))+1,spaziIntermedi(LM59,25)))=(spaziIntermedi(LN59,25)),FALSE,TRUE)","v":true},0,{"$f":"+spaziIntermedi(LN59,25)-LP59","v":0},false,0,null,0,0,null,null,null,0,0,0,0,0,null,null,0,0,{"$f":"IF((IF(restoZero(MG59,25),(spaziIntermedi(MG59,25))+1,spaziIntermedi(MG59,25)))=(spaziIntermedi(MH59,25)),FALSE,TRUE)","v":true},0,{"$f":"+spaziIntermedi(MH59,25)-MJ59","v":0},false,0,null,0,0,null,null,null,0,0,0,null,null,0,0,{"$f":"IF((IF(restoZero(MY59,25),(spaziIntermedi(MY59,25))+1,spaziIntermedi(MY59,25)))=(spaziIntermedi(MZ59,25)),FALSE,TRUE)","v":true},0,{"$f":"+spaziIntermedi(MZ59,25)-NB59","v":0},false,0,null,0,0,null,null,null,0,0,0,0,0,null,null,0,0,{"$f":"IF((IF(restoZero(NS59,25),(spaziIntermedi(NS59,25))+1,spaziIntermedi(NS59,25)))=(spaziIntermedi(NT59,25)),FALSE,TRUE)","v":true},0,{"$f":"+spaziIntermedi(NT59,25)-NV59","v":0},false,0,null,0,0,null,null,null,0,0,0,null,null,0,0,{"$f":"IF((IF(restoZero(OK59,25),(spaziIntermedi(OK59,25))+1,spaziIntermedi(OK59,25)))=(spaziIntermedi(OL59,25)),FALSE,TRUE)","v":true},0,{"$f":"+spaziIntermedi(OL59,25)-ON59","v":0},false,0,null,0,0,null,null,null,0,0,0,0,0,null,null,0,0,{"$f":"IF((IF(restoZero(PE59,25),(spaziIntermedi(PE59,25))+1,spaziIntermedi(PE59,25)))=(spaziIntermedi(PF59,25)),FALSE,TRUE)","v":true},0,{"$f":"+spaziIntermedi(PF59,25)-PH59","v":0},false,0,null,0,0,null,null,null,0,0,0,null,null,0,0,{"$f":"IF((IF(restoZero(PW59,25),(spaziIntermedi(PW59,25))+1,spaziIntermedi(PW59,25)))=(spaziIntermedi(PX59,25)),FALSE,TRUE)","v":true},0,{"$f":"+spaziIntermedi(PX59,25)-PZ59","v":0},false,0,null,0,0,null,null,null,0,0,0,0,0,null,null,0,0,{"$f":"IF((IF(restoZero(QQ59,25),(spaziIntermedi(QQ59,25))+1,spaziIntermedi(QQ59,25)))=(spaziIntermedi(QR59,25)),FALSE,TRUE)","v":true},0,{"$f":"+spaziIntermedi(QR59,25)-QT59","v":0},false,0,null,0,0,null,null,null,0,0,0,null,null,0,0,{"$f":"IF((IF(restoZero(RI59,25),(spaziIntermedi(RI59,25))+1,spaziIntermedi(RI59,25)))=(spaziIntermedi(RJ59,25)),FALSE,TRUE)","v":true},0,{"$f":"+spaziIntermedi(RJ59,25)-RL59","v":0},false,0,null,0,0,null,null,null,0,0,0,0,0,null,null,0,0,{"$f":"IF((IF(restoZero(SC59,25),(spaziIntermedi(SC59,25))+1,spaziIntermedi(SC59,25)))=(spaziIntermedi(SD59,25)),FALSE,TRUE)","v":true},0,{"$f":"+spaziIntermedi(SD59,25)-SF59","v":0},false,0,null,0,0,null,null,null,0,0,0,null,null,0,0,{"$f":"IF((IF(restoZero(SU59,25),(spaziIntermedi(SU59,25))+1,spaziIntermedi(SU59,25)))=(spaziIntermedi(SV59,25)),FALSE,TRUE)","v":true},0,{"$f":"+spaziIntermedi(SV59,25)-SX59","v":0},false,0,null,0,0,null,null,null,0,0,0,0,0]
[null,null,0,0,{"$f":"IF((IF(restoZero(C60,25),(spaziIntermedi(C60,25))+1,spaziIntermedi(C60,25)))=(spaziIntermedi(D60,25)),FALSE,TRUE)","v":true},0,{"$f":"+spaziIntermedi(D60,25)-F60","v":0},false,0,null,0,0,null,null,null,0,0,0,null,null,0,0,{"$f":"IF((IF(restoZero(U60,25),(spaziIntermedi(U60,25))+1,spaziIntermedi(U60,25)))=(spaziIntermedi(V60,25)),FALSE,TRUE)","v":true},0,{"$f":"+spaziIntermedi(V60,25)-X60","v":0},false,0,null,0,0,null,null,null,0,0,0,0,0,null,null,0,0,{"$f":"IF((IF(restoZero(AO60,25),(spaziIntermedi(AO60,25))+1,spaziIntermedi(AO60,25)))=(spaziIntermedi(AP60,25)),FALSE,TRUE)","v":true},0,{"$f":"+spaziIntermedi(AP60,25)-AR60","v":0},false,0,null,0,0,null,null,null,0,0,0,null,null,0,0,{"$f":"IF((IF(restoZero(BG60,25),(spaziIntermedi(BG60,25))+1,spaziIntermedi(BG60,25)))=(spaziIntermedi(BH60,25)),FALSE,TRUE)","v":true},0,{"$f":"+spaziIntermedi(BH60,25)-BJ60","v":0},false,0,null,0,0,null,null,null,0,0,0,0,0,null,null,0,0,{"$f":"IF((IF(restoZero(CA60,25),(spaziIntermedi(CA60,25))+1,spaziIntermedi(CA60,25)))=(spaziIntermedi(CB60,25)),FALSE,TRUE)","v":true},0,{"$f":"+spaziIntermedi(CB60,25)-CD60","v":0},false,0,null,0,0,null,null,null,0,0,0,null,null,0,0,{"$f":"IF((IF(restoZero(CS60,25),(spaziIntermedi(CS60,25))+1,spaziIntermedi(CS60,25)))=(spaziIntermedi(CT60,25)),FALSE,TRUE)","v":true},0,{"$f":"+spaziIntermedi(CT60,25)-CV60","v":0},false,0,null,0,0,null,null,null,0,0,0,0,0,null,null,0,0,{"$f":"IF((IF(restoZero(DM60,25),(spaziIntermedi(DM60,25))+1,spaziIntermedi(DM60,25)))=(spaziIntermedi(DN60,25)),FALSE,TRUE)","v":true},0,{"$f":"+spaziIntermedi(DN60,25)-DP60","v":0},false,0,null,0,0,null,null,null,0,0,0,null,null,0,0,{"$f":"IF((IF(restoZero(EE60,25),(spaziIntermedi(EE60,25))+1,spaziIntermedi(EE60,25)))=(spaziIntermedi(EF60,25)),FALSE,TRUE)","v":true},0,{"$f":"+spaziIntermedi(EF60,25)-EH60","v":0},false,0,null,0,0,null,null,null,0,0,0,0,0,null,null,0,0,{"$f":"IF((IF(restoZero(EY60,25),(spaziIntermedi(EY60,25))+1,spaziIntermedi(EY60,25)))=(spaziIntermedi(EZ60,25)),FALSE,TRUE)","v":true},0,{"$f":"+spaziIntermedi(EZ60,25)-FB60","v":0},false,0,null,0,0,null,null,null,0,0,0,null,null,0,0,{"$f":"IF((IF(restoZero(FQ60,25),(spaziIntermedi(FQ60,25))+1,spaziIntermedi(FQ60,25)))=(spaziIntermedi(FR60,25)),FALSE,TRUE)","v":true},0,{"$f":"+spaziIntermedi(FR60,25)-FT60","v":0},false,0,null,0,0,null,null,null,0,0,0,0,0,null,null,0,0,{"$f":"IF((IF(restoZero(GK60,25),(spaziIntermedi(GK60,25))+1,spaziIntermedi(GK60,25)))=(spaziIntermedi(GL60,25)),FALSE,TRUE)","v":true},0,{"$f":"+spaziIntermedi(GL60,25)-GN60","v":0},false,0,null,0,0,null,null,null,0,0,0,null,null,0,0,{"$f":"IF((IF(restoZero(HC60,25),(spaziIntermedi(HC60,25))+1,spaziIntermedi(HC60,25)))=(spaziIntermedi(HD60,25)),FALSE,TRUE)","v":true},0,{"$f":"+spaziIntermedi(HD60,25)-HF60","v":0},false,0,null,0,0,null,null,null,0,0,0,0,0,null,null,0,0,{"$f":"IF((IF(restoZero(HW60,25),(spaziIntermedi(HW60,25))+1,spaziIntermedi(HW60,25)))=(spaziIntermedi(HX60,25)),FALSE,TRUE)","v":true},0,{"$f":"+spaziIntermedi(HX60,25)-HZ60","v":0},false,0,null,0,0,null,null,null,0,0,0,null,null,0,0,{"$f":"IF((IF(restoZero(IO60,25),(spaziIntermedi(IO60,25))+1,spaziIntermedi(IO60,25)))=(spaziIntermedi(IP60,25)),FALSE,TRUE)","v":true},0,{"$f":"+spaziIntermedi(IP60,25)-IR60","v":0},false,0,null,0,0,null,null,null,0,0,0,0,0,null,null,0,0,{"$f":"IF((IF(restoZero(JI60,25),(spaziIntermedi(JI60,25))+1,spaziIntermedi(JI60,25)))=(spaziIntermedi(JJ60,25)),FALSE,TRUE)","v":true},0,{"$f":"+spaziIntermedi(JJ60,25)-JL60","v":0},false,0,null,0,0,null,null,null,0,0,0,null,null,0,0,{"$f":"IF((IF(restoZero(KA60,25),(spaziIntermedi(KA60,25))+1,spaziIntermedi(KA60,25)))=(spaziIntermedi(KB60,25)),FALSE,TRUE)","v":true},0,{"$f":"+spaziIntermedi(KB60,25)-KD60","v":0},false,0,null,0,0,null,null,null,0,0,0,0,0,null,null,0,0,{"$f":"IF((IF(restoZero(KU60,25),(spaziIntermedi(KU60,25))+1,spaziIntermedi(KU60,25)))=(spaziIntermedi(KV60,25)),FALSE,TRUE)","v":true},0,{"$f":"+spaziIntermedi(KV60,25)-KX60","v":0},false,0,null,0,0,null,null,null,0,0,0,null,null,0,0,{"$f":"IF((IF(restoZero(LM60,25),(spaziIntermedi(LM60,25))+1,spaziIntermedi(LM60,25)))=(spaziIntermedi(LN60,25)),FALSE,TRUE)","v":true},0,{"$f":"+spaziIntermedi(LN60,25)-LP60","v":0},false,0,null,0,0,null,null,null,0,0,0,0,0,null,null,0,0,{"$f":"IF((IF(restoZero(MG60,25),(spaziIntermedi(MG60,25))+1,spaziIntermedi(MG60,25)))=(spaziIntermedi(MH60,25)),FALSE,TRUE)","v":true},0,{"$f":"+spaziIntermedi(MH60,25)-MJ60","v":0},false,0,null,0,0,null,null,null,0,0,0,null,null,0,0,{"$f":"IF((IF(restoZero(MY60,25),(spaziIntermedi(MY60,25))+1,spaziIntermedi(MY60,25)))=(spaziIntermedi(MZ60,25)),FALSE,TRUE)","v":true},0,{"$f":"+spaziIntermedi(MZ60,25)-NB60","v":0},false,0,null,0,0,null,null,null,0,0,0,0,0,null,null,0,0,{"$f":"IF((IF(restoZero(NS60,25),(spaziIntermedi(NS60,25))+1,spaziIntermedi(NS60,25)))=(spaziIntermedi(NT60,25)),FALSE,TRUE)","v":true},0,{"$f":"+spaziIntermedi(NT60,25)-NV60","v":0},false,0,null,0,0,null,null,null,0,0,0,null,null,0,0,{"$f":"IF((IF(restoZero(OK60,25),(spaziIntermedi(OK60,25))+1,spaziIntermedi(OK60,25)))=(spaziIntermedi(OL60,25)),FALSE,TRUE)","v":true},0,{"$f":"+spaziIntermedi(OL60,25)-ON60","v":0},false,0,null,0,0,null,null,null,0,0,0,0,0,null,null,0,0,{"$f":"IF((IF(restoZero(PE60,25),(spaziIntermedi(PE60,25))+1,spaziIntermedi(PE60,25)))=(spaziIntermedi(PF60,25)),FALSE,TRUE)","v":true},0,{"$f":"+spaziIntermedi(PF60,25)-PH60","v":0},false,0,null,0,0,null,null,null,0,0,0,null,null,0,0,{"$f":"IF((IF(restoZero(PW60,25),(spaziIntermedi(PW60,25))+1,spaziIntermedi(PW60,25)))=(spaziIntermedi(PX60,25)),FALSE,TRUE)","v":true},0,{"$f":"+spaziIntermedi(PX60,25)-PZ60","v":0},false,0,null,0,0,null,null,null,0,0,0,0,0,null,null,0,0,{"$f":"IF((IF(restoZero(QQ60,25),(spaziIntermedi(QQ60,25))+1,spaziIntermedi(QQ60,25)))=(spaziIntermedi(QR60,25)),FALSE,TRUE)","v":true},0,{"$f":"+spaziIntermedi(QR60,25)-QT60","v":0},false,0,null,0,0,null,null,null,0,0,0,null,null,0,0,{"$f":"IF((IF(restoZero(RI60,25),(spaziIntermedi(RI60,25))+1,spaziIntermedi(RI60,25)))=(spaziIntermedi(RJ60,25)),FALSE,TRUE)","v":true},0,{"$f":"+spaziIntermedi(RJ60,25)-RL60","v":0},false,0,null,0,0,null,null,null,0,0,0,0,0,null,null,0,0,{"$f":"IF((IF(restoZero(SC60,25),(spaziIntermedi(SC60,25))+1,spaziIntermedi(SC60,25)))=(spaziIntermedi(SD60,25)),FALSE,TRUE)","v":true},0,{"$f":"+spaziIntermedi(SD60,25)-SF60","v":0},false,0,null,0,0,null,null,null,0,0,0,null,null,0,0,{"$f":"IF((IF(restoZero(SU60,25),(spaziIntermedi(SU60,25))+1,spaziIntermedi(SU60,25)))=(spaziIntermedi(SV60,25)),FALSE,TRUE)","v":true},0,{"$f":"+spaziIntermedi(SV60,25)-SX60","v":0},false,0,null,0,0,null,null,null,0,0,0,0,0]
[null,null,0,0,{"$f":"IF((IF(restoZero(C61,25),(spaziIntermedi(C61,25))+1,spaziIntermedi(C61,25)))=(spaziIntermedi(D61,25)),FALSE,TRUE)","v":true},0,{"$f":"+spaziIntermedi(D61,25)-F61","v":0},false,0,null,0,0,null,null,null,0,0,0,null,null,0,0,{"$f":"IF((IF(restoZero(U61,25),(spaziIntermedi(U61,25))+1,spaziIntermedi(U61,25)))=(spaziIntermedi(V61,25)),FALSE,TRUE)","v":true},0,{"$f":"+spaziIntermedi(V61,25)-X61","v":0},false,0,null,0,0,null,null,null,0,0,0,0,0,null,null,0,0,{"$f":"IF((IF(restoZero(AO61,25),(spaziIntermedi(AO61,25))+1,spaziIntermedi(AO61,25)))=(spaziIntermedi(AP61,25)),FALSE,TRUE)","v":true},0,{"$f":"+spaziIntermedi(AP61,25)-AR61","v":0},false,0,null,0,0,null,null,null,0,0,0,null,null,0,0,{"$f":"IF((IF(restoZero(BG61,25),(spaziIntermedi(BG61,25))+1,spaziIntermedi(BG61,25)))=(spaziIntermedi(BH61,25)),FALSE,TRUE)","v":true},0,{"$f":"+spaziIntermedi(BH61,25)-BJ61","v":0},false,0,null,0,0,null,null,null,0,0,0,0,0,null,null,0,0,{"$f":"IF((IF(restoZero(CA61,25),(spaziIntermedi(CA61,25))+1,spaziIntermedi(CA61,25)))=(spaziIntermedi(CB61,25)),FALSE,TRUE)","v":true},0,{"$f":"+spaziIntermedi(CB61,25)-CD61","v":0},false,0,null,0,0,null,null,null,0,0,0,null,null,0,0,{"$f":"IF((IF(restoZero(CS61,25),(spaziIntermedi(CS61,25))+1,spaziIntermedi(CS61,25)))=(spaziIntermedi(CT61,25)),FALSE,TRUE)","v":true},0,{"$f":"+spaziIntermedi(CT61,25)-CV61","v":0},false,0,null,0,0,null,null,null,0,0,0,0,0,null,null,0,0,{"$f":"IF((IF(restoZero(DM61,25),(spaziIntermedi(DM61,25))+1,spaziIntermedi(DM61,25)))=(spaziIntermedi(DN61,25)),FALSE,TRUE)","v":true},0,{"$f":"+spaziIntermedi(DN61,25)-DP61","v":0},false,0,null,0,0,null,null,null,0,0,0,null,null,0,0,{"$f":"IF((IF(restoZero(EE61,25),(spaziIntermedi(EE61,25))+1,spaziIntermedi(EE61,25)))=(spaziIntermedi(EF61,25)),FALSE,TRUE)","v":true},0,{"$f":"+spaziIntermedi(EF61,25)-EH61","v":0},false,0,null,0,0,null,null,null,0,0,0,0,0,null,null,0,0,{"$f":"IF((IF(restoZero(EY61,25),(spaziIntermedi(EY61,25))+1,spaziIntermedi(EY61,25)))=(spaziIntermedi(EZ61,25)),FALSE,TRUE)","v":true},0,{"$f":"+spaziIntermedi(EZ61,25)-FB61","v":0},false,0,null,0,0,null,null,null,0,0,0,null,null,0,0,{"$f":"IF((IF(restoZero(FQ61,25),(spaziIntermedi(FQ61,25))+1,spaziIntermedi(FQ61,25)))=(spaziIntermedi(FR61,25)),FALSE,TRUE)","v":true},0,{"$f":"+spaziIntermedi(FR61,25)-FT61","v":0},false,0,null,0,0,null,null,null,0,0,0,0,0,null,null,0,0,{"$f":"IF((IF(restoZero(GK61,25),(spaziIntermedi(GK61,25))+1,spaziIntermedi(GK61,25)))=(spaziIntermedi(GL61,25)),FALSE,TRUE)","v":true},0,{"$f":"+spaziIntermedi(GL61,25)-GN61","v":0},false,0,null,0,0,null,null,null,0,0,0,null,null,0,0,{"$f":"IF((IF(restoZero(HC61,25),(spaziIntermedi(HC61,25))+1,spaziIntermedi(HC61,25)))=(spaziIntermedi(HD61,25)),FALSE,TRUE)","v":true},0,{"$f":"+spaziIntermedi(HD61,25)-HF61","v":0},false,0,null,0,0,null,null,null,0,0,0,0,0,null,null,0,0,{"$f":"IF((IF(restoZero(HW61,25),(spaziIntermedi(HW61,25))+1,spaziIntermedi(HW61,25)))=(spaziIntermedi(HX61,25)),FALSE,TRUE)","v":true},0,{"$f":"+spaziIntermedi(HX61,25)-HZ61","v":0},false,0,null,0,0,null,null,null,0,0,0,null,null,0,0,{"$f":"IF((IF(restoZero(IO61,25),(spaziIntermedi(IO61,25))+1,spaziIntermedi(IO61,25)))=(spaziIntermedi(IP61,25)),FALSE,TRUE)","v":true},0,{"$f":"+spaziIntermedi(IP61,25)-IR61","v":0},false,0,null,0,0,null,null,null,0,0,0,0,0,null,null,0,0,{"$f":"IF((IF(restoZero(JI61,25),(spaziIntermedi(JI61,25))+1,spaziIntermedi(JI61,25)))=(spaziIntermedi(JJ61,25)),FALSE,TRUE)","v":true},0,{"$f":"+spaziIntermedi(JJ61,25)-JL61","v":0},false,0,null,0,0,null,null,null,0,0,0,null,null,0,0,{"$f":"IF((IF(restoZero(KA61,25),(spaziIntermedi(KA61,25))+1,spaziIntermedi(KA61,25)))=(spaziIntermedi(KB61,25)),FALSE,TRUE)","v":true},0,{"$f":"+spaziIntermedi(KB61,25)-KD61","v":0},false,0,null,0,0,null,null,null,0,0,0,0,0,null,null,0,0,{"$f":"IF((IF(restoZero(KU61,25),(spaziIntermedi(KU61,25))+1,spaziIntermedi(KU61,25)))=(spaziIntermedi(KV61,25)),FALSE,TRUE)","v":true},0,{"$f":"+spaziIntermedi(KV61,25)-KX61","v":0},false,0,null,0,0,null,null,null,0,0,0,null,null,0,0,{"$f":"IF((IF(restoZero(LM61,25),(spaziIntermedi(LM61,25))+1,spaziIntermedi(LM61,25)))=(spaziIntermedi(LN61,25)),FALSE,TRUE)","v":true},0,{"$f":"+spaziIntermedi(LN61,25)-LP61","v":0},false,0,null,0,0,null,null,null,0,0,0,0,0,null,null,0,0,{"$f":"IF((IF(restoZero(MG61,25),(spaziIntermedi(MG61,25))+1,spaziIntermedi(MG61,25)))=(spaziIntermedi(MH61,25)),FALSE,TRUE)","v":true},0,{"$f":"+spaziIntermedi(MH61,25)-MJ61","v":0},false,0,null,0,0,null,null,null,0,0,0,null,null,0,0,{"$f":"IF((IF(restoZero(MY61,25),(spaziIntermedi(MY61,25))+1,spaziIntermedi(MY61,25)))=(spaziIntermedi(MZ61,25)),FALSE,TRUE)","v":true},0,{"$f":"+spaziIntermedi(MZ61,25)-NB61","v":0},false,0,null,0,0,null,null,null,0,0,0,0,0,null,null,0,0,{"$f":"IF((IF(restoZero(NS61,25),(spaziIntermedi(NS61,25))+1,spaziIntermedi(NS61,25)))=(spaziIntermedi(NT61,25)),FALSE,TRUE)","v":true},0,{"$f":"+spaziIntermedi(NT61,25)-NV61","v":0},false,0,null,0,0,null,null,null,0,0,0,null,null,0,0,{"$f":"IF((IF(restoZero(OK61,25),(spaziIntermedi(OK61,25))+1,spaziIntermedi(OK61,25)))=(spaziIntermedi(OL61,25)),FALSE,TRUE)","v":true},0,{"$f":"+spaziIntermedi(OL61,25)-ON61","v":0},false,0,null,0,0,null,null,null,0,0,0,0,0,null,null,0,0,{"$f":"IF((IF(restoZero(PE61,25),(spaziIntermedi(PE61,25))+1,spaziIntermedi(PE61,25)))=(spaziIntermedi(PF61,25)),FALSE,TRUE)","v":true},0,{"$f":"+spaziIntermedi(PF61,25)-PH61","v":0},false,0,null,0,0,null,null,null,0,0,0,null,null,0,0,{"$f":"IF((IF(restoZero(PW61,25),(spaziIntermedi(PW61,25))+1,spaziIntermedi(PW61,25)))=(spaziIntermedi(PX61,25)),FALSE,TRUE)","v":true},0,{"$f":"+spaziIntermedi(PX61,25)-PZ61","v":0},false,0,null,0,0,null,null,null,0,0,0,0,0,null,null,0,0,{"$f":"IF((IF(restoZero(QQ61,25),(spaziIntermedi(QQ61,25))+1,spaziIntermedi(QQ61,25)))=(spaziIntermedi(QR61,25)),FALSE,TRUE)","v":true},0,{"$f":"+spaziIntermedi(QR61,25)-QT61","v":0},false,0,null,0,0,null,null,null,0,0,0,null,null,0,0,{"$f":"IF((IF(restoZero(RI61,25),(spaziIntermedi(RI61,25))+1,spaziIntermedi(RI61,25)))=(spaziIntermedi(RJ61,25)),FALSE,TRUE)","v":true},0,{"$f":"+spaziIntermedi(RJ61,25)-RL61","v":0},false,0,null,0,0,null,null,null,0,0,0,0,0,null,null,0,0,{"$f":"IF((IF(restoZero(SC61,25),(spaziIntermedi(SC61,25))+1,spaziIntermedi(SC61,25)))=(spaziIntermedi(SD61,25)),FALSE,TRUE)","v":true},0,{"$f":"+spaziIntermedi(SD61,25)-SF61","v":0},false,0,null,0,0,null,null,null,0,0,0,null,null,0,0,{"$f":"IF((IF(restoZero(SU61,25),(spaziIntermedi(SU61,25))+1,spaziIntermedi(SU61,25)))=(spaziIntermedi(SV61,25)),FALSE,TRUE)","v":true},0,{"$f":"+spaziIntermedi(SV61,25)-SX61","v":0},false,0,null,0,0,null,null,null,0,0,0,0,0]
[null,null,0,0,{"$f":"IF((IF(restoZero(C62,25),(spaziIntermedi(C62,25))+1,spaziIntermedi(C62,25)))=(spaziIntermedi(D62,25)),FALSE,TRUE)","v":true},0,{"$f":"+spaziIntermedi(D62,25)-F62","v":0},false,0,null,0,0,null,null,null,0,0,0,null,null,0,0,{"$f":"IF((IF(restoZero(U62,25),(spaziIntermedi(U62,25))+1,spaziIntermedi(U62,25)))=(spaziIntermedi(V62,25)),FALSE,TRUE)","v":true},0,{"$f":"+spaziIntermedi(V62,25)-X62","v":0},false,0,null,0,0,null,null,null,0,0,0,0,0,null,null,0,0,{"$f":"IF((IF(restoZero(AO62,25),(spaziIntermedi(AO62,25))+1,spaziIntermedi(AO62,25)))=(spaziIntermedi(AP62,25)),FALSE,TRUE)","v":true},0,{"$f":"+spaziIntermedi(AP62,25)-AR62","v":0},false,0,null,0,0,null,null,null,0,0,0,null,null,0,0,{"$f":"IF((IF(restoZero(BG62,25),(spaziIntermedi(BG62,25))+1,spaziIntermedi(BG62,25)))=(spaziIntermedi(BH62,25)),FALSE,TRUE)","v":true},0,{"$f":"+spaziIntermedi(BH62,25)-BJ62","v":0},false,0,null,0,0,null,null,null,0,0,0,0,0,null,null,0,0,{"$f":"IF((IF(restoZero(CA62,25),(spaziIntermedi(CA62,25))+1,spaziIntermedi(CA62,25)))=(spaziIntermedi(CB62,25)),FALSE,TRUE)","v":true},0,{"$f":"+spaziIntermedi(CB62,25)-CD62","v":0},false,0,null,0,0,null,null,null,0,0,0,null,null,0,0,{"$f":"IF((IF(restoZero(CS62,25),(spaziIntermedi(CS62,25))+1,spaziIntermedi(CS62,25)))=(spaziIntermedi(CT62,25)),FALSE,TRUE)","v":true},0,{"$f":"+spaziIntermedi(CT62,25)-CV62","v":0},false,0,null,0,0,null,null,null,0,0,0,0,0,null,null,0,0,{"$f":"IF((IF(restoZero(DM62,25),(spaziIntermedi(DM62,25))+1,spaziIntermedi(DM62,25)))=(spaziIntermedi(DN62,25)),FALSE,TRUE)","v":true},0,{"$f":"+spaziIntermedi(DN62,25)-DP62","v":0},false,0,null,0,0,null,null,null,0,0,0,null,null,0,0,{"$f":"IF((IF(restoZero(EE62,25),(spaziIntermedi(EE62,25))+1,spaziIntermedi(EE62,25)))=(spaziIntermedi(EF62,25)),FALSE,TRUE)","v":true},0,{"$f":"+spaziIntermedi(EF62,25)-EH62","v":0},false,0,null,0,0,null,null,null,0,0,0,0,0,null,null,0,0,{"$f":"IF((IF(restoZero(EY62,25),(spaziIntermedi(EY62,25))+1,spaziIntermedi(EY62,25)))=(spaziIntermedi(EZ62,25)),FALSE,TRUE)","v":true},0,{"$f":"+spaziIntermedi(EZ62,25)-FB62","v":0},false,0,null,0,0,null,null,null,0,0,0,null,null,0,0,{"$f":"IF((IF(restoZero(FQ62,25),(spaziIntermedi(FQ62,25))+1,spaziIntermedi(FQ62,25)))=(spaziIntermedi(FR62,25)),FALSE,TRUE)","v":true},0,{"$f":"+spaziIntermedi(FR62,25)-FT62","v":0},false,0,null,0,0,null,null,null,0,0,0,0,0,null,null,0,0,{"$f":"IF((IF(restoZero(GK62,25),(spaziIntermedi(GK62,25))+1,spaziIntermedi(GK62,25)))=(spaziIntermedi(GL62,25)),FALSE,TRUE)","v":true},0,{"$f":"+spaziIntermedi(GL62,25)-GN62","v":0},false,0,null,0,0,null,null,null,0,0,0,null,null,0,0,{"$f":"IF((IF(restoZero(HC62,25),(spaziIntermedi(HC62,25))+1,spaziIntermedi(HC62,25)))=(spaziIntermedi(HD62,25)),FALSE,TRUE)","v":true},0,{"$f":"+spaziIntermedi(HD62,25)-HF62","v":0},false,0,null,0,0,null,null,null,0,0,0,0,0,null,null,0,0,{"$f":"IF((IF(restoZero(HW62,25),(spaziIntermedi(HW62,25))+1,spaziIntermedi(HW62,25)))=(spaziIntermedi(HX62,25)),FALSE,TRUE)","v":true},0,{"$f":"+spaziIntermedi(HX62,25)-HZ62","v":0},false,0,null,0,0,null,null,null,0,0,0,null,null,0,0,{"$f":"IF((IF(restoZero(IO62,25),(spaziIntermedi(IO62,25))+1,spaziIntermedi(IO62,25)))=(spaziIntermedi(IP62,25)),FALSE,TRUE)","v":true},0,{"$f":"+spaziIntermedi(IP62,25)-IR62","v":0},false,0,null,0,0,null,null,null,0,0,0,0,0,null,null,0,0,{"$f":"IF((IF(restoZero(JI62,25),(spaziIntermedi(JI62,25))+1,spaziIntermedi(JI62,25)))=(spaziIntermedi(JJ62,25)),FALSE,TRUE)","v":true},0,{"$f":"+spaziIntermedi(JJ62,25)-JL62","v":0},false,0,null,0,0,null,null,null,0,0,0,null,null,0,0,{"$f":"IF((IF(restoZero(KA62,25),(spaziIntermedi(KA62,25))+1,spaziIntermedi(KA62,25)))=(spaziIntermedi(KB62,25)),FALSE,TRUE)","v":true},0,{"$f":"+spaziIntermedi(KB62,25)-KD62","v":0},false,0,null,0,0,null,null,null,0,0,0,0,0,null,null,0,0,{"$f":"IF((IF(restoZero(KU62,25),(spaziIntermedi(KU62,25))+1,spaziIntermedi(KU62,25)))=(spaziIntermedi(KV62,25)),FALSE,TRUE)","v":true},0,{"$f":"+spaziIntermedi(KV62,25)-KX62","v":0},false,0,null,0,0,null,null,null,0,0,0,null,null,0,0,{"$f":"IF((IF(restoZero(LM62,25),(spaziIntermedi(LM62,25))+1,spaziIntermedi(LM62,25)))=(spaziIntermedi(LN62,25)),FALSE,TRUE)","v":true},0,{"$f":"+spaziIntermedi(LN62,25)-LP62","v":0},false,0,null,0,0,null,null,null,0,0,0,0,0,null,null,0,0,{"$f":"IF((IF(restoZero(MG62,25),(spaziIntermedi(MG62,25))+1,spaziIntermedi(MG62,25)))=(spaziIntermedi(MH62,25)),FALSE,TRUE)","v":true},0,{"$f":"+spaziIntermedi(MH62,25)-MJ62","v":0},false,0,null,0,0,null,null,null,0,0,0,null,null,0,0,{"$f":"IF((IF(restoZero(MY62,25),(spaziIntermedi(MY62,25))+1,spaziIntermedi(MY62,25)))=(spaziIntermedi(MZ62,25)),FALSE,TRUE)","v":true},0,{"$f":"+spaziIntermedi(MZ62,25)-NB62","v":0},false,0,null,0,0,null,null,null,0,0,0,0,0,null,null,0,0,{"$f":"IF((IF(restoZero(NS62,25),(spaziIntermedi(NS62,25))+1,spaziIntermedi(NS62,25)))=(spaziIntermedi(NT62,25)),FALSE,TRUE)","v":true},0,{"$f":"+spaziIntermedi(NT62,25)-NV62","v":0},false,0,null,0,0,null,null,null,0,0,0,null,null,0,0,{"$f":"IF((IF(restoZero(OK62,25),(spaziIntermedi(OK62,25))+1,spaziIntermedi(OK62,25)))=(spaziIntermedi(OL62,25)),FALSE,TRUE)","v":true},0,{"$f":"+spaziIntermedi(OL62,25)-ON62","v":0},false,0,null,0,0,null,null,null,0,0,0,0,0,null,null,0,0,{"$f":"IF((IF(restoZero(PE62,25),(spaziIntermedi(PE62,25))+1,spaziIntermedi(PE62,25)))=(spaziIntermedi(PF62,25)),FALSE,TRUE)","v":true},0,{"$f":"+spaziIntermedi(PF62,25)-PH62","v":0},false,0,null,0,0,null,null,null,0,0,0,null,null,0,0,{"$f":"IF((IF(restoZero(PW62,25),(spaziIntermedi(PW62,25))+1,spaziIntermedi(PW62,25)))=(spaziIntermedi(PX62,25)),FALSE,TRUE)","v":true},0,{"$f":"+spaziIntermedi(PX62,25)-PZ62","v":0},false,0,null,0,0,null,null,null,0,0,0,0,0,null,null,0,0,{"$f":"IF((IF(restoZero(QQ62,25),(spaziIntermedi(QQ62,25))+1,spaziIntermedi(QQ62,25)))=(spaziIntermedi(QR62,25)),FALSE,TRUE)","v":true},0,{"$f":"+spaziIntermedi(QR62,25)-QT62","v":0},false,0,null,0,0,null,null,null,0,0,0,null,null,0,0,{"$f":"IF((IF(restoZero(RI62,25),(spaziIntermedi(RI62,25))+1,spaziIntermedi(RI62,25)))=(spaziIntermedi(RJ62,25)),FALSE,TRUE)","v":true},0,{"$f":"+spaziIntermedi(RJ62,25)-RL62","v":0},false,0,null,0,0,null,null,null,0,0,0,0,0,null,null,0,0,{"$f":"IF((IF(restoZero(SC62,25),(spaziIntermedi(SC62,25))+1,spaziIntermedi(SC62,25)))=(spaziIntermedi(SD62,25)),FALSE,TRUE)","v":true},0,{"$f":"+spaziIntermedi(SD62,25)-SF62","v":0},false,0,null,0,0,null,null,null,0,0,0,null,null,0,0,{"$f":"IF((IF(restoZero(SU62,25),(spaziIntermedi(SU62,25))+1,spaziIntermedi(SU62,25)))=(spaziIntermedi(SV62,25)),FALSE,TRUE)","v":true},0,{"$f":"+spaziIntermedi(SV62,25)-SX62","v":0},false,0,null,0,0,null,null,null,0,0,0,0,0]
[null,null,0,0,{"$f":"IF((IF(restoZero(C78,25),(spaziIntermedi(C78,25))+1,spaziIntermedi(C78,25)))=(spaziIntermedi(D78,25)),FALSE,TRUE)","v":true},0,{"$f":"+spaziIntermedi(D78,25)-F78","v":0},false,0,null,0,0,null,null,null,0,0,0,null,null,0,0,{"$f":"IF((IF(restoZero(U78,25),(spaziIntermedi(U78,25))+1,spaziIntermedi(U78,25)))=(spaziIntermedi(V78,25)),FALSE,TRUE)","v":true},0,{"$f":"+spaziIntermedi(V78,25)-X78","v":0},false,0,null,0,0,null,null,null,0,0,0,0,0,null,null,0,0,{"$f":"IF((IF(restoZero(AO78,25),(spaziIntermedi(AO78,25))+1,spaziIntermedi(AO78,25)))=(spaziIntermedi(AP78,25)),FALSE,TRUE)","v":true},0,{"$f":"+spaziIntermedi(AP78,25)-AR78","v":0},false,0,null,0,0,null,null,null,0,0,0,null,null,0,0,{"$f":"IF((IF(restoZero(BG78,25),(spaziIntermedi(BG78,25))+1,spaziIntermedi(BG78,25)))=(spaziIntermedi(BH78,25)),FALSE,TRUE)","v":true},0,{"$f":"+spaziIntermedi(BH78,25)-BJ78","v":0},false,0,null,0,0,null,null,null,0,0,0,0,0,null,null,0,0,{"$f":"IF((IF(restoZero(CA78,25),(spaziIntermedi(CA78,25))+1,spaziIntermedi(CA78,25)))=(spaziIntermedi(CB78,25)),FALSE,TRUE)","v":true},0,{"$f":"+spaziIntermedi(CB78,25)-CD78","v":0},false,0,null,0,0,null,null,null,0,0,0,null,null,0,0,{"$f":"IF((IF(restoZero(CS78,25),(spaziIntermedi(CS78,25))+1,spaziIntermedi(CS78,25)))=(spaziIntermedi(CT78,25)),FALSE,TRUE)","v":true},0,{"$f":"+spaziIntermedi(CT78,25)-CV78","v":0},false,0,null,0,0,null,null,null,0,0,0,0,0,null,null,0,0,{"$f":"IF((IF(restoZero(DM78,25),(spaziIntermedi(DM78,25))+1,spaziIntermedi(DM78,25)))=(spaziIntermedi(DN78,25)),FALSE,TRUE)","v":true},0,{"$f":"+spaziIntermedi(DN78,25)-DP78","v":0},false,0,null,0,0,null,null,null,0,0,0,null,null,0,0,{"$f":"IF((IF(restoZero(EE78,25),(spaziIntermedi(EE78,25))+1,spaziIntermedi(EE78,25)))=(spaziIntermedi(EF78,25)),FALSE,TRUE)","v":true},0,{"$f":"+spaziIntermedi(EF78,25)-EH78","v":0},false,0,null,0,0,null,null,null,0,0,0,0,0,null,null,0,0,{"$f":"IF((IF(restoZero(EY78,25),(spaziIntermedi(EY78,25))+1,spaziIntermedi(EY78,25)))=(spaziIntermedi(EZ78,25)),FALSE,TRUE)","v":true},0,{"$f":"+spaziIntermedi(EZ78,25)-FB78","v":0},false,0,null,0,0,null,null,null,0,0,0,null,null,0,0,{"$f":"IF((IF(restoZero(FQ78,25),(spaziIntermedi(FQ78,25))+1,spaziIntermedi(FQ78,25)))=(spaziIntermedi(FR78,25)),FALSE,TRUE)","v":true},0,{"$f":"+spaziIntermedi(FR78,25)-FT78","v":0},false,0,null,0,0,null,null,null,0,0,0,0,0,null,null,0,0,{"$f":"IF((IF(restoZero(GK78,25),(spaziIntermedi(GK78,25))+1,spaziIntermedi(GK78,25)))=(spaziIntermedi(GL78,25)),FALSE,TRUE)","v":true},0,{"$f":"+spaziIntermedi(GL78,25)-GN78","v":0},false,0,null,0,0,null,null,null,0,0,0,null,null,0,0,{"$f":"IF((IF(restoZero(HC78,25),(spaziIntermedi(HC78,25))+1,spaziIntermedi(HC78,25)))=(spaziIntermedi(HD78,25)),FALSE,TRUE)","v":true},0,{"$f":"+spaziIntermedi(HD78,25)-HF78","v":0},false,0,null,0,0,null,null,null,0,0,0,0,0,null,null,0,0,{"$f":"IF((IF(restoZero(HW78,25),(spaziIntermedi(HW78,25))+1,spaziIntermedi(HW78,25)))=(spaziIntermedi(HX78,25)),FALSE,TRUE)","v":true},0,{"$f":"+spaziIntermedi(HX78,25)-HZ78","v":0},false,0,null,0,0,null,null,null,0,0,0,null,null,0,0,{"$f":"IF((IF(restoZero(IO78,25),(spaziIntermedi(IO78,25))+1,spaziIntermedi(IO78,25)))=(spaziIntermedi(IP78,25)),FALSE,TRUE)","v":true},0,{"$f":"+spaziIntermedi(IP78,25)-IR78","v":0},false,0,null,0,0,null,null,null,0,0,0,0,0,null,null,0,0,{"$f":"IF((IF(restoZero(JI78,25),(spaziIntermedi(JI78,25))+1,spaziIntermedi(JI78,25)))=(spaziIntermedi(JJ78,25)),FALSE,TRUE)","v":true},0,{"$f":"+spaziIntermedi(JJ78,25)-JL78","v":0},false,0,null,0,0,null,null,null,0,0,0,null,null,0,0,{"$f":"IF((IF(restoZero(KA78,25),(spaziIntermedi(KA78,25))+1,spaziIntermedi(KA78,25)))=(spaziIntermedi(KB78,25)),FALSE,TRUE)","v":true},0,{"$f":"+spaziIntermedi(KB78,25)-KD78","v":0},false,0,null,0,0,null,null,null,0,0,0,0,0,null,null,0,0,{"$f":"IF((IF(restoZero(KU78,25),(spaziIntermedi(KU78,25))+1,spaziIntermedi(KU78,25)))=(spaziIntermedi(KV78,25)),FALSE,TRUE)","v":true},0,{"$f":"+spaziIntermedi(KV78,25)-KX78","v":0},false,0,null,0,0,null,null,null,0,0,0,null,null,0,0,{"$f":"IF((IF(restoZero(LM78,25),(spaziIntermedi(LM78,25))+1,spaziIntermedi(LM78,25)))=(spaziIntermedi(LN78,25)),FALSE,TRUE)","v":true},0,{"$f":"+spaziIntermedi(LN78,25)-LP78","v":0},false,0,null,0,0,null,null,null,0,0,0,0,0,null,null,0,0,{"$f":"IF((IF(restoZero(MG78,25),(spaziIntermedi(MG78,25))+1,spaziIntermedi(MG78,25)))=(spaziIntermedi(MH78,25)),FALSE,TRUE)","v":true},0,{"$f":"+spaziIntermedi(MH78,25)-MJ78","v":0},false,0,null,0,0,null,null,null,0,0,0,null,null,0,0,{"$f":"IF((IF(restoZero(MY78,25),(spaziIntermedi(MY78,25))+1,spaziIntermedi(MY78,25)))=(spaziIntermedi(MZ78,25)),FALSE,TRUE)","v":true},0,{"$f":"+spaziIntermedi(MZ78,25)-NB78","v":0},false,0,null,0,0,null,null,null,0,0,0,0,0,null,null,0,0,{"$f":"IF((IF(restoZero(NS78,25),(spaziIntermedi(NS78,25))+1,spaziIntermedi(NS78,25)))=(spaziIntermedi(NT78,25)),FALSE,TRUE)","v":true},0,{"$f":"+spaziIntermedi(NT78,25)-NV78","v":0},false,0,null,0,0,null,null,null,0,0,0,null,null,0,0,{"$f":"IF((IF(restoZero(OK78,25),(spaziIntermedi(OK78,25))+1,spaziIntermedi(OK78,25)))=(spaziIntermedi(OL78,25)),FALSE,TRUE)","v":true},0,{"$f":"+spaziIntermedi(OL78,25)-ON78","v":0},false,0,null,0,0,null,null,null,0,0,0,0,0,null,null,0,0,{"$f":"IF((IF(restoZero(PE78,25),(spaziIntermedi(PE78,25))+1,spaziIntermedi(PE78,25)))=(spaziIntermedi(PF78,25)),FALSE,TRUE)","v":true},0,{"$f":"+spaziIntermedi(PF78,25)-PH78","v":0},false,0,null,0,0,null,null,null,0,0,0,null,null,0,0,{"$f":"IF((IF(restoZero(PW78,25),(spaziIntermedi(PW78,25))+1,spaziIntermedi(PW78,25)))=(spaziIntermedi(PX78,25)),FALSE,TRUE)","v":true},0,{"$f":"+spaziIntermedi(PX78,25)-PZ78","v":0},false,0,null,0,0,null,null,null,0,0,0,0,0,null,null,0,0,{"$f":"IF((IF(restoZero(QQ78,25),(spaziIntermedi(QQ78,25))+1,spaziIntermedi(QQ78,25)))=(spaziIntermedi(QR78,25)),FALSE,TRUE)","v":true},0,{"$f":"+spaziIntermedi(QR78,25)-QT78","v":0},false,0,null,0,0,null,null,null,0,0,0,null,null,0,0,{"$f":"IF((IF(restoZero(RI78,25),(spaziIntermedi(RI78,25))+1,spaziIntermedi(RI78,25)))=(spaziIntermedi(RJ78,25)),FALSE,TRUE)","v":true},0,{"$f":"+spaziIntermedi(RJ78,25)-RL78","v":0},false,0,null,0,0,null,null,null,0,0,0,0,0,null,null,0,0,{"$f":"IF((IF(restoZero(SC78,25),(spaziIntermedi(SC78,25))+1,spaziIntermedi(SC78,25)))=(spaziIntermedi(SD78,25)),FALSE,TRUE)","v":true},0,{"$f":"+spaziIntermedi(SD78,25)-SF78","v":0},false,0,null,0,0,null,null,null,0,0,0,null,null,0,0,{"$f":"IF((IF(restoZero(SU78,25),(spaziIntermedi(SU78,25))+1,spaziIntermedi(SU78,25)))=(spaziIntermedi(SV78,25)),FALSE,TRUE)","v":true},0,{"$f":"+spaziIntermedi(SV78,25)-SX78","v":0},false,0,null,0,0,null,null,null,0,0,0,0,0]
[null,null,0,0,{"$f":"IF((IF(restoZero(C82,25),(spaziIntermedi(C82,25))+1,spaziIntermedi(C82,25)))=(spaziIntermedi(D82,25)),FALSE,TRUE)","v":true},0,{"$f":"+spaziIntermedi(D82,25)-F82","v":0},false,0,null,0,0,null,null,null,0,0,0,null,null,0,0,{"$f":"IF((IF(restoZero(U82,25),(spaziIntermedi(U82,25))+1,spaziIntermedi(U82,25)))=(spaziIntermedi(V82,25)),FALSE,TRUE)","v":true},0,{"$f":"+spaziIntermedi(V82,25)-X82","v":0},false,0,null,0,0,null,null,null,0,0,0,0,0,null,null,0,0,{"$f":"IF((IF(restoZero(AO82,25),(spaziIntermedi(AO82,25))+1,spaziIntermedi(AO82,25)))=(spaziIntermedi(AP82,25)),FALSE,TRUE)","v":true},0,{"$f":"+spaziIntermedi(AP82,25)-AR82","v":0},false,0,null,0,0,null,null,null,0,0,0,null,null,0,0,{"$f":"IF((IF(restoZero(BG82,25),(spaziIntermedi(BG82,25))+1,spaziIntermedi(BG82,25)))=(spaziIntermedi(BH82,25)),FALSE,TRUE)","v":true},0,{"$f":"+spaziIntermedi(BH82,25)-BJ82","v":0},false,0,null,0,0,null,null,null,0,0,0,0,0,null,null,0,0,{"$f":"IF((IF(restoZero(CA82,25),(spaziIntermedi(CA82,25))+1,spaziIntermedi(CA82,25)))=(spaziIntermedi(CB82,25)),FALSE,TRUE)","v":true},0,{"$f":"+spaziIntermedi(CB82,25)-CD82","v":0},false,0,null,0,0,null,null,null,0,0,0,null,null,0,0,{"$f":"IF((IF(restoZero(CS82,25),(spaziIntermedi(CS82,25))+1,spaziIntermedi(CS82,25)))=(spaziIntermedi(CT82,25)),FALSE,TRUE)","v":true},0,{"$f":"+spaziIntermedi(CT82,25)-CV82","v":0},false,0,null,0,0,null,null,null,0,0,0,0,0,null,null,0,0,{"$f":"IF((IF(restoZero(DM82,25),(spaziIntermedi(DM82,25))+1,spaziIntermedi(DM82,25)))=(spaziIntermedi(DN82,25)),FALSE,TRUE)","v":true},0,{"$f":"+spaziIntermedi(DN82,25)-DP82","v":0},false,0,null,0,0,null,null,null,0,0,0,null,null,0,0,{"$f":"IF((IF(restoZero(EE82,25),(spaziIntermedi(EE82,25))+1,spaziIntermedi(EE82,25)))=(spaziIntermedi(EF82,25)),FALSE,TRUE)","v":true},0,{"$f":"+spaziIntermedi(EF82,25)-EH82","v":0},false,0,null,0,0,null,null,null,0,0,0,0,0,null,null,0,0,{"$f":"IF((IF(restoZero(EY82,25),(spaziIntermedi(EY82,25))+1,spaziIntermedi(EY82,25)))=(spaziIntermedi(EZ82,25)),FALSE,TRUE)","v":true},0,{"$f":"+spaziIntermedi(EZ82,25)-FB82","v":0},false,0,null,0,0,null,null,null,0,0,0,null,null,0,0,{"$f":"IF((IF(restoZero(FQ82,25),(spaziIntermedi(FQ82,25))+1,spaziIntermedi(FQ82,25)))=(spaziIntermedi(FR82,25)),FALSE,TRUE)","v":true},0,{"$f":"+spaziIntermedi(FR82,25)-FT82","v":0},false,0,null,0,0,null,null,null,0,0,0,0,0,null,null,0,0,{"$f":"IF((IF(restoZero(GK82,25),(spaziIntermedi(GK82,25))+1,spaziIntermedi(GK82,25)))=(spaziIntermedi(GL82,25)),FALSE,TRUE)","v":true},0,{"$f":"+spaziIntermedi(GL82,25)-GN82","v":0},false,0,null,0,0,null,null,null,0,0,0,null,null,0,0,{"$f":"IF((IF(restoZero(HC82,25),(spaziIntermedi(HC82,25))+1,spaziIntermedi(HC82,25)))=(spaziIntermedi(HD82,25)),FALSE,TRUE)","v":true},0,{"$f":"+spaziIntermedi(HD82,25)-HF82","v":0},false,0,null,0,0,null,null,null,0,0,0,0,0,null,null,0,0,{"$f":"IF((IF(restoZero(HW82,25),(spaziIntermedi(HW82,25))+1,spaziIntermedi(HW82,25)))=(spaziIntermedi(HX82,25)),FALSE,TRUE)","v":true},0,{"$f":"+spaziIntermedi(HX82,25)-HZ82","v":0},false,0,null,0,0,null,null,null,0,0,0,null,null,0,0,{"$f":"IF((IF(restoZero(IO82,25),(spaziIntermedi(IO82,25))+1,spaziIntermedi(IO82,25)))=(spaziIntermedi(IP82,25)),FALSE,TRUE)","v":true},0,{"$f":"+spaziIntermedi(IP82,25)-IR82","v":0},false,0,null,0,0,null,null,null,0,0,0,0,0,null,null,0,0,{"$f":"IF((IF(restoZero(JI82,25),(spaziIntermedi(JI82,25))+1,spaziIntermedi(JI82,25)))=(spaziIntermedi(JJ82,25)),FALSE,TRUE)","v":true},0,{"$f":"+spaziIntermedi(JJ82,25)-JL82","v":0},false,0,null,0,0,null,null,null,0,0,0,null,null,0,0,{"$f":"IF((IF(restoZero(KA82,25),(spaziIntermedi(KA82,25))+1,spaziIntermedi(KA82,25)))=(spaziIntermedi(KB82,25)),FALSE,TRUE)","v":true},0,{"$f":"+spaziIntermedi(KB82,25)-KD82","v":0},false,0,null,0,0,null,null,null,0,0,0,0,0,null,null,0,0,{"$f":"IF((IF(restoZero(KU82,25),(spaziIntermedi(KU82,25))+1,spaziIntermedi(KU82,25)))=(spaziIntermedi(KV82,25)),FALSE,TRUE)","v":true},0,{"$f":"+spaziIntermedi(KV82,25)-KX82","v":0},false,0,null,0,0,null,null,null,0,0,0,null,null,0,0,{"$f":"IF((IF(restoZero(LM82,25),(spaziIntermedi(LM82,25))+1,spaziIntermedi(LM82,25)))=(spaziIntermedi(LN82,25)),FALSE,TRUE)","v":true},0,{"$f":"+spaziIntermedi(LN82,25)-LP82","v":0},false,0,null,0,0,null,null,null,0,0,0,0,0,null,null,0,0,{"$f":"IF((IF(restoZero(MG82,25),(spaziIntermedi(MG82,25))+1,spaziIntermedi(MG82,25)))=(spaziIntermedi(MH82,25)),FALSE,TRUE)","v":true},0,{"$f":"+spaziIntermedi(MH82,25)-MJ82","v":0},false,0,null,0,0,null,null,null,0,0,0,null,null,0,0,{"$f":"IF((IF(restoZero(MY82,25),(spaziIntermedi(MY82,25))+1,spaziIntermedi(MY82,25)))=(spaziIntermedi(MZ82,25)),FALSE,TRUE)","v":true},0,{"$f":"+spaziIntermedi(MZ82,25)-NB82","v":0},false,0,null,0,0,null,null,null,0,0,0,0,0,null,null,0,0,{"$f":"IF((IF(restoZero(NS82,25),(spaziIntermedi(NS82,25))+1,spaziIntermedi(NS82,25)))=(spaziIntermedi(NT82,25)),FALSE,TRUE)","v":true},0,{"$f":"+spaziIntermedi(NT82,25)-NV82","v":0},false,0,null,0,0,null,null,null,0,0,0,null,null,0,0,{"$f":"IF((IF(restoZero(OK82,25),(spaziIntermedi(OK82,25))+1,spaziIntermedi(OK82,25)))=(spaziIntermedi(OL82,25)),FALSE,TRUE)","v":true},0,{"$f":"+spaziIntermedi(OL82,25)-ON82","v":0},false,0,null,0,0,null,null,null,0,0,0,0,0,null,null,0,0,{"$f":"IF((IF(restoZero(PE82,25),(spaziIntermedi(PE82,25))+1,spaziIntermedi(PE82,25)))=(spaziIntermedi(PF82,25)),FALSE,TRUE)","v":true},0,{"$f":"+spaziIntermedi(PF82,25)-PH82","v":0},false,0,null,0,0,null,null,null,0,0,0,null,null,0,0,{"$f":"IF((IF(restoZero(PW82,25),(spaziIntermedi(PW82,25))+1,spaziIntermedi(PW82,25)))=(spaziIntermedi(PX82,25)),FALSE,TRUE)","v":true},0,{"$f":"+spaziIntermedi(PX82,25)-PZ82","v":0},false,0,null,0,0,null,null,null,0,0,0,0,0,null,null,0,0,{"$f":"IF((IF(restoZero(QQ82,25),(spaziIntermedi(QQ82,25))+1,spaziIntermedi(QQ82,25)))=(spaziIntermedi(QR82,25)),FALSE,TRUE)","v":true},0,{"$f":"+spaziIntermedi(QR82,25)-QT82","v":0},false,0,null,0,0,null,null,null,0,0,0,null,null,0,0,{"$f":"IF((IF(restoZero(RI82,25),(spaziIntermedi(RI82,25))+1,spaziIntermedi(RI82,25)))=(spaziIntermedi(RJ82,25)),FALSE,TRUE)","v":true},0,{"$f":"+spaziIntermedi(RJ82,25)-RL82","v":0},false,0,null,0,0,null,null,null,0,0,0,0,0,null,null,0,0,{"$f":"IF((IF(restoZero(SC82,25),(spaziIntermedi(SC82,25))+1,spaziIntermedi(SC82,25)))=(spaziIntermedi(SD82,25)),FALSE,TRUE)","v":true},0,{"$f":"+spaziIntermedi(SD82,25)-SF82","v":0},false,0,null,0,0,null,null,null,0,0,0,null,null,0,0,{"$f":"IF((IF(restoZero(SU82,25),(spaziIntermedi(SU82,25))+1,spaziIntermedi(SU82,25)))=(spaziIntermedi(SV82,25)),FALSE,TRUE)","v":true},0,{"$f":"+spaziIntermedi(SV82,25)-SX82","v":0},false,0,null,0,0,null,null,null,0,0,0,0,0]
[null,null,0,0,{"$f":"IF((IF(restoZero(C101,25),(spaziIntermedi(C101,25))+1,spaziIntermedi(C101,25)))=(spaziIntermedi(D101,25)),FALSE,TRUE)","v":true},0,{"$f":"+spaziIntermedi(D101,25)-F101","v":0},false,0,null,0,0,null,null,null,0,0,0,null,null,0,0,{"$f":"IF((IF(restoZero(U101,25),(spaziIntermedi(U101,25))+1,spaziIntermedi(U101,25)))=(spaziIntermedi(V101,25)),FALSE,TRUE)","v":true},0,{"$f":"+spaziIntermedi(V101,25)-X101","v":0},false,0,null,0,0,null,null,null,0,0,0,0,0,null,null,0,0,{"$f":"IF((IF(restoZero(AO101,25),(spaziIntermedi(AO101,25))+1,spaziIntermedi(AO101,25)))=(spaziIntermedi(AP101,25)),FALSE,TRUE)","v":true},0,{"$f":"+spaziIntermedi(AP101,25)-AR101","v":0},false,0,null,0,0,null,null,null,0,0,0,null,null,0,0,{"$f":"IF((IF(restoZero(BG101,25),(spaziIntermedi(BG101,25))+1,spaziIntermedi(BG101,25)))=(spaziIntermedi(BH101,25)),FALSE,TRUE)","v":true},0,{"$f":"+spaziIntermedi(BH101,25)-BJ101","v":0},false,0,null,0,0,null,null,null,0,0,0,0,0,null,null,0,0,{"$f":"IF((IF(restoZero(CA101,25),(spaziIntermedi(CA101,25))+1,spaziIntermedi(CA101,25)))=(spaziIntermedi(CB101,25)),FALSE,TRUE)","v":true},0,{"$f":"+spaziIntermedi(CB101,25)-CD101","v":0},false,0,null,0,0,null,null,null,0,0,0,null,null,0,0,{"$f":"IF((IF(restoZero(CS101,25),(spaziIntermedi(CS101,25))+1,spaziIntermedi(CS101,25)))=(spaziIntermedi(CT101,25)),FALSE,TRUE)","v":true},0,{"$f":"+spaziIntermedi(CT101,25)-CV101","v":0},false,0,null,0,0,null,null,null,0,0,0,0,0,null,null,0,0,{"$f":"IF((IF(restoZero(DM101,25),(spaziIntermedi(DM101,25))+1,spaziIntermedi(DM101,25)))=(spaziIntermedi(DN101,25)),FALSE,TRUE)","v":true},0,{"$f":"+spaziIntermedi(DN101,25)-DP101","v":0},false,0,null,0,0,null,null,null,0,0,0,null,null,0,0,{"$f":"IF((IF(restoZero(EE101,25),(spaziIntermedi(EE101,25))+1,spaziIntermedi(EE101,25)))=(spaziIntermedi(EF101,25)),FALSE,TRUE)","v":true},0,{"$f":"+spaziIntermedi(EF101,25)-EH101","v":0},false,0,null,0,0,null,null,null,0,0,0,0,0,null,null,0,0,{"$f":"IF((IF(restoZero(EY101,25),(spaziIntermedi(EY101,25))+1,spaziIntermedi(EY101,25)))=(spaziIntermedi(EZ101,25)),FALSE,TRUE)","v":true},0,{"$f":"+spaziIntermedi(EZ101,25)-FB101","v":0},false,0,null,0,0,null,null,null,0,0,0,null,null,0,0,{"$f":"IF((IF(restoZero(FQ101,25),(spaziIntermedi(FQ101,25))+1,spaziIntermedi(FQ101,25)))=(spaziIntermedi(FR101,25)),FALSE,TRUE)","v":true},0,{"$f":"+spaziIntermedi(FR101,25)-FT101","v":0},false,0,null,0,0,null,null,null,0,0,0,0,0,null,null,0,0,{"$f":"IF((IF(restoZero(GK101,25),(spaziIntermedi(GK101,25))+1,spaziIntermedi(GK101,25)))=(spaziIntermedi(GL101,25)),FALSE,TRUE)","v":true},0,{"$f":"+spaziIntermedi(GL101,25)-GN101","v":0},false,0,null,0,0,null,null,null,0,0,0,null,null,0,0,{"$f":"IF((IF(restoZero(HC101,25),(spaziIntermedi(HC101,25))+1,spaziIntermedi(HC101,25)))=(spaziIntermedi(HD101,25)),FALSE,TRUE)","v":true},0,{"$f":"+spaziIntermedi(HD101,25)-HF101","v":0},false,0,null,0,0,null,null,null,0,0,0,0,0,null,null,0,0,{"$f":"IF((IF(restoZero(HW101,25),(spaziIntermedi(HW101,25))+1,spaziIntermedi(HW101,25)))=(spaziIntermedi(HX101,25)),FALSE,TRUE)","v":true},0,{"$f":"+spaziIntermedi(HX101,25)-HZ101","v":0},false,0,null,0,0,null,null,null,0,0,0,null,null,0,0,{"$f":"IF((IF(restoZero(IO101,25),(spaziIntermedi(IO101,25))+1,spaziIntermedi(IO101,25)))=(spaziIntermedi(IP101,25)),FALSE,TRUE)","v":true},0,{"$f":"+spaziIntermedi(IP101,25)-IR101","v":0},false,0,null,0,0,null,null,null,0,0,0,0,0,null,null,0,0,{"$f":"IF((IF(restoZero(JI101,25),(spaziIntermedi(JI101,25))+1,spaziIntermedi(JI101,25)))=(spaziIntermedi(JJ101,25)),FALSE,TRUE)","v":true},0,{"$f":"+spaziIntermedi(JJ101,25)-JL101","v":0},false,0,null,0,0,null,null,null,0,0,0,null,null,0,0,{"$f":"IF((IF(restoZero(KA101,25),(spaziIntermedi(KA101,25))+1,spaziIntermedi(KA101,25)))=(spaziIntermedi(KB101,25)),FALSE,TRUE)","v":true},0,{"$f":"+spaziIntermedi(KB101,25)-KD101","v":0},false,0,null,0,0,null,null,null,0,0,0,0,0,null,null,0,0,{"$f":"IF((IF(restoZero(KU101,25),(spaziIntermedi(KU101,25))+1,spaziIntermedi(KU101,25)))=(spaziIntermedi(KV101,25)),FALSE,TRUE)","v":true},0,{"$f":"+spaziIntermedi(KV101,25)-KX101","v":0},false,0,null,0,0,null,null,null,0,0,0,null,null,0,0,{"$f":"IF((IF(restoZero(LM101,25),(spaziIntermedi(LM101,25))+1,spaziIntermedi(LM101,25)))=(spaziIntermedi(LN101,25)),FALSE,TRUE)","v":true},0,{"$f":"+spaziIntermedi(LN101,25)-LP101","v":0},false,0,null,0,0,null,null,null,0,0,0,0,0,null,null,0,0,{"$f":"IF((IF(restoZero(MG101,25),(spaziIntermedi(MG101,25))+1,spaziIntermedi(MG101,25)))=(spaziIntermedi(MH101,25)),FALSE,TRUE)","v":true},0,{"$f":"+spaziIntermedi(MH101,25)-MJ101","v":0},false,0,null,0,0,null,null,null,0,0,0,null,null,0,0,{"$f":"IF((IF(restoZero(MY101,25),(spaziIntermedi(MY101,25))+1,spaziIntermedi(MY101,25)))=(spaziIntermedi(MZ101,25)),FALSE,TRUE)","v":true},0,{"$f":"+spaziIntermedi(MZ101,25)-NB101","v":0},false,0,null,0,0,null,null,null,0,0,0,0,0,null,null,0,0,{"$f":"IF((IF(restoZero(NS101,25),(spaziIntermedi(NS101,25))+1,spaziIntermedi(NS101,25)))=(spaziIntermedi(NT101,25)),FALSE,TRUE)","v":true},0,{"$f":"+spaziIntermedi(NT101,25)-NV101","v":0},false,0,null,0,0,null,null,null,0,0,0,null,null,0,0,{"$f":"IF((IF(restoZero(OK101,25),(spaziIntermedi(OK101,25))+1,spaziIntermedi(OK101,25)))=(spaziIntermedi(OL101,25)),FALSE,TRUE)","v":true},0,{"$f":"+spaziIntermedi(OL101,25)-ON101","v":0},false,0,null,0,0,null,null,null,0,0,0,0,0,null,null,0,0,{"$f":"IF((IF(restoZero(PE101,25),(spaziIntermedi(PE101,25))+1,spaziIntermedi(PE101,25)))=(spaziIntermedi(PF101,25)),FALSE,TRUE)","v":true},0,{"$f":"+spaziIntermedi(PF101,25)-PH101","v":0},false,0,null,0,0,null,null,null,0,0,0,null,null,0,0,{"$f":"IF((IF(restoZero(PW101,25),(spaziIntermedi(PW101,25))+1,spaziIntermedi(PW101,25)))=(spaziIntermedi(PX101,25)),FALSE,TRUE)","v":true},0,{"$f":"+spaziIntermedi(PX101,25)-PZ101","v":0},false,0,null,0,0,null,null,null,0,0,0,0,0,null,null,0,0,{"$f":"IF((IF(restoZero(QQ101,25),(spaziIntermedi(QQ101,25))+1,spaziIntermedi(QQ101,25)))=(spaziIntermedi(QR101,25)),FALSE,TRUE)","v":true},0,{"$f":"+spaziIntermedi(QR101,25)-QT101","v":0},false,0,null,0,0,null,null,null,0,0,0,null,null,0,0,{"$f":"IF((IF(restoZero(RI101,25),(spaziIntermedi(RI101,25))+1,spaziIntermedi(RI101,25)))=(spaziIntermedi(RJ101,25)),FALSE,TRUE)","v":true},0,{"$f":"+spaziIntermedi(RJ101,25)-RL101","v":0},false,0,null,0,0,null,null,null,0,0,0,0,0,null,null,0,0,{"$f":"IF((IF(restoZero(SC101,25),(spaziIntermedi(SC101,25))+1,spaziIntermedi(SC101,25)))=(spaziIntermedi(SD101,25)),FALSE,TRUE)","v":true},0,{"$f":"+spaziIntermedi(SD101,25)-SF101","v":0},false,0,null,0,0,null,null,null,0,0,0,null,null,0,0,{"$f":"IF((IF(restoZero(SU101,25),(spaziIntermedi(SU101,25))+1,spaziIntermedi(SU101,25)))=(spaziIntermedi(SV101,25)),FALSE,TRUE)","v":true},0,{"$f":"+spaziIntermedi(SV101,25)-SX101","v":0},false,0,null,0,0,null,null,null,0,0,0,0,0]
[null,null,0,0,{"$f":"IF((IF(restoZero(C126,25),(spaziIntermedi(C126,25))+1,spaziIntermedi(C126,25)))=(spaziIntermedi(D126,25)),FALSE,TRUE)","v":true},0,{"$f":"+spaziIntermedi(D126,25)-F126","v":0},false,0,null,0,0,null,null,null,0,0,0,null,null,0,0,{"$f":"IF((IF(restoZero(U126,25),(spaziIntermedi(U126,25))+1,spaziIntermedi(U126,25)))=(spaziIntermedi(V126,25)),FALSE,TRUE)","v":true},0,{"$f":"+spaziIntermedi(V126,25)-X126","v":0},false,0,null,0,0,null,null,null,0,0,0,0,0,null,null,0,0,{"$f":"IF((IF(restoZero(AO126,25),(spaziIntermedi(AO126,25))+1,spaziIntermedi(AO126,25)))=(spaziIntermedi(AP126,25)),FALSE,TRUE)","v":true},0,{"$f":"+spaziIntermedi(AP126,25)-AR126","v":0},false,0,null,0,0,null,null,null,0,0,0,null,null,0,0,{"$f":"IF((IF(restoZero(BG126,25),(spaziIntermedi(BG126,25))+1,spaziIntermedi(BG126,25)))=(spaziIntermedi(BH126,25)),FALSE,TRUE)","v":true},0,{"$f":"+spaziIntermedi(BH126,25)-BJ126","v":0},false,0,null,0,0,null,null,null,0,0,0,0,0,null,null,0,0,{"$f":"IF((IF(restoZero(CA126,25),(spaziIntermedi(CA126,25))+1,spaziIntermedi(CA126,25)))=(spaziIntermedi(CB126,25)),FALSE,TRUE)","v":true},0,{"$f":"+spaziIntermedi(CB126,25)-CD126","v":0},false,0,null,0,0,null,null,null,0,0,0,null,null,0,0,{"$f":"IF((IF(restoZero(CS126,25),(spaziIntermedi(CS126,25))+1,spaziIntermedi(CS126,25)))=(spaziIntermedi(CT126,25)),FALSE,TRUE)","v":true},0,{"$f":"+spaziIntermedi(CT126,25)-CV126","v":0},false,0,null,0,0,null,null,null,0,0,0,0,0,null,null,0,0,{"$f":"IF((IF(restoZero(DM126,25),(spaziIntermedi(DM126,25))+1,spaziIntermedi(DM126,25)))=(spaziIntermedi(DN126,25)),FALSE,TRUE)","v":true},0,{"$f":"+spaziIntermedi(DN126,25)-DP126","v":0},false,0,null,0,0,null,null,null,0,0,0,null,null,0,0,{"$f":"IF((IF(restoZero(EE126,25),(spaziIntermedi(EE126,25))+1,spaziIntermedi(EE126,25)))=(spaziIntermedi(EF126,25)),FALSE,TRUE)","v":true},0,{"$f":"+spaziIntermedi(EF126,25)-EH126","v":0},false,0,null,0,0,null,null,null,0,0,0,0,0,null,null,0,0,{"$f":"IF((IF(restoZero(EY126,25),(spaziIntermedi(EY126,25))+1,spaziIntermedi(EY126,25)))=(spaziIntermedi(EZ126,25)),FALSE,TRUE)","v":true},0,{"$f":"+spaziIntermedi(EZ126,25)-FB126","v":0},false,0,null,0,0,null,null,null,0,0,0,null,null,0,0,{"$f":"IF((IF(restoZero(FQ126,25),(spaziIntermedi(FQ126,25))+1,spaziIntermedi(FQ126,25)))=(spaziIntermedi(FR126,25)),FALSE,TRUE)","v":true},0,{"$f":"+spaziIntermedi(FR126,25)-FT126","v":0},false,0,null,0,0,null,null,null,0,0,0,0,0,null,null,0,0,{"$f":"IF((IF(restoZero(GK126,25),(spaziIntermedi(GK126,25))+1,spaziIntermedi(GK126,25)))=(spaziIntermedi(GL126,25)),FALSE,TRUE)","v":true},0,{"$f":"+spaziIntermedi(GL126,25)-GN126","v":0},false,0,null,0,0,null,null,null,0,0,0,null,null,0,0,{"$f":"IF((IF(restoZero(HC126,25),(spaziIntermedi(HC126,25))+1,spaziIntermedi(HC126,25)))=(spaziIntermedi(HD126,25)),FALSE,TRUE)","v":true},0,{"$f":"+spaziIntermedi(HD126,25)-HF126","v":0},false,0,null,0,0,null,null,null,0,0,0,0,0,null,null,0,0,{"$f":"IF((IF(restoZero(HW126,25),(spaziIntermedi(HW126,25))+1,spaziIntermedi(HW126,25)))=(spaziIntermedi(HX126,25)),FALSE,TRUE)","v":true},0,{"$f":"+spaziIntermedi(HX126,25)-HZ126","v":0},false,0,null,0,0,null,null,null,0,0,0,null,null,0,0,{"$f":"IF((IF(restoZero(IO126,25),(spaziIntermedi(IO126,25))+1,spaziIntermedi(IO126,25)))=(spaziIntermedi(IP126,25)),FALSE,TRUE)","v":true},0,{"$f":"+spaziIntermedi(IP126,25)-IR126","v":0},false,0,null,0,0,null,null,null,0,0,0,0,0,null,null,0,0,{"$f":"IF((IF(restoZero(JI126,25),(spaziIntermedi(JI126,25))+1,spaziIntermedi(JI126,25)))=(spaziIntermedi(JJ126,25)),FALSE,TRUE)","v":true},0,{"$f":"+spaziIntermedi(JJ126,25)-JL126","v":0},false,0,null,0,0,null,null,null,0,0,0,null,null,0,0,{"$f":"IF((IF(restoZero(KA126,25),(spaziIntermedi(KA126,25))+1,spaziIntermedi(KA126,25)))=(spaziIntermedi(KB126,25)),FALSE,TRUE)","v":true},0,{"$f":"+spaziIntermedi(KB126,25)-KD126","v":0},false,0,null,0,0,null,null,null,0,0,0,0,0,null,null,0,0,{"$f":"IF((IF(restoZero(KU126,25),(spaziIntermedi(KU126,25))+1,spaziIntermedi(KU126,25)))=(spaziIntermedi(KV126,25)),FALSE,TRUE)","v":true},0,{"$f":"+spaziIntermedi(KV126,25)-KX126","v":0},false,0,null,0,0,null,null,null,0,0,0,null,null,0,0,{"$f":"IF((IF(restoZero(LM126,25),(spaziIntermedi(LM126,25))+1,spaziIntermedi(LM126,25)))=(spaziIntermedi(LN126,25)),FALSE,TRUE)","v":true},0,{"$f":"+spaziIntermedi(LN126,25)-LP126","v":0},false,0,null,0,0,null,null,null,0,0,0,0,0,null,null,0,0,{"$f":"IF((IF(restoZero(MG126,25),(spaziIntermedi(MG126,25))+1,spaziIntermedi(MG126,25)))=(spaziIntermedi(MH126,25)),FALSE,TRUE)","v":true},0,{"$f":"+spaziIntermedi(MH126,25)-MJ126","v":0},false,0,null,0,0,null,null,null,0,0,0,null,null,0,0,{"$f":"IF((IF(restoZero(MY126,25),(spaziIntermedi(MY126,25))+1,spaziIntermedi(MY126,25)))=(spaziIntermedi(MZ126,25)),FALSE,TRUE)","v":true},0,{"$f":"+spaziIntermedi(MZ126,25)-NB126","v":0},false,0,null,0,0,null,null,null,0,0,0,0,0,null,null,0,0,{"$f":"IF((IF(restoZero(NS126,25),(spaziIntermedi(NS126,25))+1,spaziIntermedi(NS126,25)))=(spaziIntermedi(NT126,25)),FALSE,TRUE)","v":true},0,{"$f":"+spaziIntermedi(NT126,25)-NV126","v":0},false,0,null,0,0,null,null,null,0,0,0,null,null,0,0,{"$f":"IF((IF(restoZero(OK126,25),(spaziIntermedi(OK126,25))+1,spaziIntermedi(OK126,25)))=(spaziIntermedi(OL126,25)),FALSE,TRUE)","v":true},0,{"$f":"+spaziIntermedi(OL126,25)-ON126","v":0},false,0,null,0,0,null,null,null,0,0,0,0,0,null,null,0,0,{"$f":"IF((IF(restoZero(PE126,25),(spaziIntermedi(PE126,25))+1,spaziIntermedi(PE126,25)))=(spaziIntermedi(PF126,25)),FALSE,TRUE)","v":true},0,{"$f":"+spaziIntermedi(PF126,25)-PH126","v":0},false,0,null,0,0,null,null,null,0,0,0,null,null,0,0,{"$f":"IF((IF(restoZero(PW126,25),(spaziIntermedi(PW126,25))+1,spaziIntermedi(PW126,25)))=(spaziIntermedi(PX126,25)),FALSE,TRUE)","v":true},0,{"$f":"+spaziIntermedi(PX126,25)-PZ126","v":0},false,0,null,0,0,null,null,null,0,0,0,0,0,null,null,0,0,{"$f":"IF((IF(restoZero(QQ126,25),(spaziIntermedi(QQ126,25))+1,spaziIntermedi(QQ126,25)))=(spaziIntermedi(QR126,25)),FALSE,TRUE)","v":true},0,{"$f":"+spaziIntermedi(QR126,25)-QT126","v":0},false,0,null,0,0,null,null,null,0,0,0,null,null,0,0,{"$f":"IF((IF(restoZero(RI126,25),(spaziIntermedi(RI126,25))+1,spaziIntermedi(RI126,25)))=(spaziIntermedi(RJ126,25)),FALSE,TRUE)","v":true},0,{"$f":"+spaziIntermedi(RJ126,25)-RL126","v":0},false,0,null,0,0,null,null,null,0,0,0,0,0,null,null,0,0,{"$f":"IF((IF(restoZero(SC126,25),(spaziIntermedi(SC126,25))+1,spaziIntermedi(SC126,25)))=(spaziIntermedi(SD126,25)),FALSE,TRUE)","v":true},0,{"$f":"+spaziIntermedi(SD126,25)-SF126","v":0},false,0,null,0,0,null,null,null,0,0,0,null,null,0,0,{"$f":"IF((IF(restoZero(SU126,25),(spaziIntermedi(SU126,25))+1,spaziIntermedi(SU126,25)))=(spaziIntermedi(SV126,25)),FALSE,TRUE)","v":true},0,{"$f":"+spaziIntermedi(SV126,25)-SX126","v":0},false,0,null,0,0,null,null,null,0,0,0,0,0]
[null,null,0,0,{"$f":"IF((IF(restoZero(C145,25),(spaziIntermedi(C145,25))+1,spaziIntermedi(C145,25)))=(spaziIntermedi(D145,25)),FALSE,TRUE)","v":true},0,{"$f":"+spaziIntermedi(D145,25)-F145","v":0},false,0,null,0,0,null,null,null,0,0,0,null,null,0,0,{"$f":"IF((IF(restoZero(U145,25),(spaziIntermedi(U145,25))+1,spaziIntermedi(U145,25)))=(spaziIntermedi(V145,25)),FALSE,TRUE)","v":true},0,{"$f":"+spaziIntermedi(V145,25)-X145","v":0},false,0,null,0,0,null,null,null,0,0,0,0,0,null,null,0,0,{"$f":"IF((IF(restoZero(AO145,25),(spaziIntermedi(AO145,25))+1,spaziIntermedi(AO145,25)))=(spaziIntermedi(AP145,25)),FALSE,TRUE)","v":true},0,{"$f":"+spaziIntermedi(AP145,25)-AR145","v":0},false,0,null,0,0,null,null,null,0,0,0,null,null,0,0,{"$f":"IF((IF(restoZero(BG145,25),(spaziIntermedi(BG145,25))+1,spaziIntermedi(BG145,25)))=(spaziIntermedi(BH145,25)),FALSE,TRUE)","v":true},0,{"$f":"+spaziIntermedi(BH145,25)-BJ145","v":0},false,0,null,0,0,null,null,null,0,0,0,0,0,null,null,0,0,{"$f":"IF((IF(restoZero(CA145,25),(spaziIntermedi(CA145,25))+1,spaziIntermedi(CA145,25)))=(spaziIntermedi(CB145,25)),FALSE,TRUE)","v":true},0,{"$f":"+spaziIntermedi(CB145,25)-CD145","v":0},false,0,null,0,0,null,null,null,0,0,0,null,null,0,0,{"$f":"IF((IF(restoZero(CS145,25),(spaziIntermedi(CS145,25))+1,spaziIntermedi(CS145,25)))=(spaziIntermedi(CT145,25)),FALSE,TRUE)","v":true},0,{"$f":"+spaziIntermedi(CT145,25)-CV145","v":0},false,0,null,0,0,null,null,null,0,0,0,0,0,null,null,0,0,{"$f":"IF((IF(restoZero(DM145,25),(spaziIntermedi(DM145,25))+1,spaziIntermedi(DM145,25)))=(spaziIntermedi(DN145,25)),FALSE,TRUE)","v":true},0,{"$f":"+spaziIntermedi(DN145,25)-DP145","v":0},false,0,null,0,0,null,null,null,0,0,0,null,null,0,0,{"$f":"IF((IF(restoZero(EE145,25),(spaziIntermedi(EE145,25))+1,spaziIntermedi(EE145,25)))=(spaziIntermedi(EF145,25)),FALSE,TRUE)","v":true},0,{"$f":"+spaziIntermedi(EF145,25)-EH145","v":0},false,0,null,0,0,null,null,null,0,0,0,0,0,null,null,0,0,{"$f":"IF((IF(restoZero(EY145,25),(spaziIntermedi(EY145,25))+1,spaziIntermedi(EY145,25)))=(spaziIntermedi(EZ145,25)),FALSE,TRUE)","v":true},0,{"$f":"+spaziIntermedi(EZ145,25)-FB145","v":0},false,0,null,0,0,null,null,null,0,0,0,null,null,0,0,{"$f":"IF((IF(restoZero(FQ145,25),(spaziIntermedi(FQ145,25))+1,spaziIntermedi(FQ145,25)))=(spaziIntermedi(FR145,25)),FALSE,TRUE)","v":true},0,{"$f":"+spaziIntermedi(FR145,25)-FT145","v":0},false,0,null,0,0,null,null,null,0,0,0,0,0,null,null,0,0,{"$f":"IF((IF(restoZero(GK145,25),(spaziIntermedi(GK145,25))+1,spaziIntermedi(GK145,25)))=(spaziIntermedi(GL145,25)),FALSE,TRUE)","v":true},0,{"$f":"+spaziIntermedi(GL145,25)-GN145","v":0},false,0,null,0,0,null,null,null,0,0,0,null,null,0,0,{"$f":"IF((IF(restoZero(HC145,25),(spaziIntermedi(HC145,25))+1,spaziIntermedi(HC145,25)))=(spaziIntermedi(HD145,25)),FALSE,TRUE)","v":true},0,{"$f":"+spaziIntermedi(HD145,25)-HF145","v":0},false,0,null,0,0,null,null,null,0,0,0,0,0,null,null,0,0,{"$f":"IF((IF(restoZero(HW145,25),(spaziIntermedi(HW145,25))+1,spaziIntermedi(HW145,25)))=(spaziIntermedi(HX145,25)),FALSE,TRUE)","v":true},0,{"$f":"+spaziIntermedi(HX145,25)-HZ145","v":0},false,0,null,0,0,null,null,null,0,0,0,null,null,0,0,{"$f":"IF((IF(restoZero(IO145,25),(spaziIntermedi(IO145,25))+1,spaziIntermedi(IO145,25)))=(spaziIntermedi(IP145,25)),FALSE,TRUE)","v":true},0,{"$f":"+spaziIntermedi(IP145,25)-IR145","v":0},false,0,null,0,0,null,null,null,0,0,0,0,0,null,null,0,0,{"$f":"IF((IF(restoZero(JI145,25),(spaziIntermedi(JI145,25))+1,spaziIntermedi(JI145,25)))=(spaziIntermedi(JJ145,25)),FALSE,TRUE)","v":true},0,{"$f":"+spaziIntermedi(JJ145,25)-JL145","v":0},false,0,null,0,0,null,null,null,0,0,0,null,null,0,0,{"$f":"IF((IF(restoZero(KA145,25),(spaziIntermedi(KA145,25))+1,spaziIntermedi(KA145,25)))=(spaziIntermedi(KB145,25)),FALSE,TRUE)","v":true},0,{"$f":"+spaziIntermedi(KB145,25)-KD145","v":0},false,0,null,0,0,null,null,null,0,0,0,0,0,null,null,0,0,{"$f":"IF((IF(restoZero(KU145,25),(spaziIntermedi(KU145,25))+1,spaziIntermedi(KU145,25)))=(spaziIntermedi(KV145,25)),FALSE,TRUE)","v":true},0,{"$f":"+spaziIntermedi(KV145,25)-KX145","v":0},false,0,null,0,0,null,null,null,0,0,0,null,null,0,0,{"$f":"IF((IF(restoZero(LM145,25),(spaziIntermedi(LM145,25))+1,spaziIntermedi(LM145,25)))=(spaziIntermedi(LN145,25)),FALSE,TRUE)","v":true},0,{"$f":"+spaziIntermedi(LN145,25)-LP145","v":0},false,0,null,0,0,null,null,null,0,0,0,0,0,null,null,0,0,{"$f":"IF((IF(restoZero(MG145,25),(spaziIntermedi(MG145,25))+1,spaziIntermedi(MG145,25)))=(spaziIntermedi(MH145,25)),FALSE,TRUE)","v":true},0,{"$f":"+spaziIntermedi(MH145,25)-MJ145","v":0},false,0,null,0,0,null,null,null,0,0,0,null,null,0,0,{"$f":"IF((IF(restoZero(MY145,25),(spaziIntermedi(MY145,25))+1,spaziIntermedi(MY145,25)))=(spaziIntermedi(MZ145,25)),FALSE,TRUE)","v":true},0,{"$f":"+spaziIntermedi(MZ145,25)-NB145","v":0},false,0,null,0,0,null,null,null,0,0,0,0,0,null,null,0,0,{"$f":"IF((IF(restoZero(NS145,25),(spaziIntermedi(NS145,25))+1,spaziIntermedi(NS145,25)))=(spaziIntermedi(NT145,25)),FALSE,TRUE)","v":true},0,{"$f":"+spaziIntermedi(NT145,25)-NV145","v":0},false,0,null,0,0,null,null,null,0,0,0,null,null,0,0,{"$f":"IF((IF(restoZero(OK145,25),(spaziIntermedi(OK145,25))+1,spaziIntermedi(OK145,25)))=(spaziIntermedi(OL145,25)),FALSE,TRUE)","v":true},0,{"$f":"+spaziIntermedi(OL145,25)-ON145","v":0},false,0,null,0,0,null,null,null,0,0,0,0,0,null,null,0,0,{"$f":"IF((IF(restoZero(PE145,25),(spaziIntermedi(PE145,25))+1,spaziIntermedi(PE145,25)))=(spaziIntermedi(PF145,25)),FALSE,TRUE)","v":true},0,{"$f":"+spaziIntermedi(PF145,25)-PH145","v":0},false,0,null,0,0,null,null,null,0,0,0,null,null,0,0,{"$f":"IF((IF(restoZero(PW145,25),(spaziIntermedi(PW145,25))+1,spaziIntermedi(PW145,25)))=(spaziIntermedi(PX145,25)),FALSE,TRUE)","v":true},0,{"$f":"+spaziIntermedi(PX145,25)-PZ145","v":0},false,0,null,0,0,null,null,null,0,0,0,0,0,null,null,0,0,{"$f":"IF((IF(restoZero(QQ145,25),(spaziIntermedi(QQ145,25))+1,spaziIntermedi(QQ145,25)))=(spaziIntermedi(QR145,25)),FALSE,TRUE)","v":true},0,{"$f":"+spaziIntermedi(QR145,25)-QT145","v":0},false,0,null,0,0,null,null,null,0,0,0,null,null,0,0,{"$f":"IF((IF(restoZero(RI145,25),(spaziIntermedi(RI145,25))+1,spaziIntermedi(RI145,25)))=(spaziIntermedi(RJ145,25)),FALSE,TRUE)","v":true},0,{"$f":"+spaziIntermedi(RJ145,25)-RL145","v":0},false,0,null,0,0,null,null,null,0,0,0,0,0,null,null,0,0,{"$f":"IF((IF(restoZero(SC145,25),(spaziIntermedi(SC145,25))+1,spaziIntermedi(SC145,25)))=(spaziIntermedi(SD145,25)),FALSE,TRUE)","v":true},0,{"$f":"+spaziIntermedi(SD145,25)-SF145","v":0},false,0,null,0,0,null,null,null,0,0,0,null,null,0,0,{"$f":"IF((IF(restoZero(SU145,25),(spaziIntermedi(SU145,25))+1,spaziIntermedi(SU145,25)))=(spaziIntermedi(SV145,25)),FALSE,TRUE)","v":true},0,{"$f":"+spaziIntermedi(SV145,25)-SX145","v":0},false,0,null,0,0,null,null,null,0,0,0,0,0]
[null,null,0,0,{"$f":"IF((IF(restoZero(C164,25),(spaziIntermedi(C164,25))+1,spaziIntermedi(C164,25)))=(spaziIntermedi(D164,25)),FALSE,TRUE)","v":true},0,{"$f":"+spaziIntermedi(D164,25)-F164","v":0},false,0,null,0,0,null,null,null,0,0,0,null,null,0,0,{"$f":"IF((IF(restoZero(U164,25),(spaziIntermedi(U164,25))+1,spaziIntermedi(U164,25)))=(spaziIntermedi(V164,25)),FALSE,TRUE)","v":true},0,{"$f":"+spaziIntermedi(V164,25)-X164","v":0},false,0,null,0,0,null,null,null,0,0,0,0,0,null,null,0,0,{"$f":"IF((IF(restoZero(AO164,25),(spaziIntermedi(AO164,25))+1,spaziIntermedi(AO164,25)))=(spaziIntermedi(AP164,25)),FALSE,TRUE)","v":true},0,{"$f":"+spaziIntermedi(AP164,25)-AR164","v":0},false,0,null,0,0,null,null,null,0,0,0,null,null,0,0,{"$f":"IF((IF(restoZero(BG164,25),(spaziIntermedi(BG164,25))+1,spaziIntermedi(BG164,25)))=(spaziIntermedi(BH164,25)),FALSE,TRUE)","v":true},0,{"$f":"+spaziIntermedi(BH164,25)-BJ164","v":0},false,0,null,0,0,null,null,null,0,0,0,0,0,null,null,0,0,{"$f":"IF((IF(restoZero(CA164,25),(spaziIntermedi(CA164,25))+1,spaziIntermedi(CA164,25)))=(spaziIntermedi(CB164,25)),FALSE,TRUE)","v":true},0,{"$f":"+spaziIntermedi(CB164,25)-CD164","v":0},false,0,null,0,0,null,null,null,0,0,0,null,null,0,0,{"$f":"IF((IF(restoZero(CS164,25),(spaziIntermedi(CS164,25))+1,spaziIntermedi(CS164,25)))=(spaziIntermedi(CT164,25)),FALSE,TRUE)","v":true},0,{"$f":"+spaziIntermedi(CT164,25)-CV164","v":0},false,0,null,0,0,null,null,null,0,0,0,0,0,null,null,0,0,{"$f":"IF((IF(restoZero(DM164,25),(spaziIntermedi(DM164,25))+1,spaziIntermedi(DM164,25)))=(spaziIntermedi(DN164,25)),FALSE,TRUE)","v":true},0,{"$f":"+spaziIntermedi(DN164,25)-DP164","v":0},false,0,null,0,0,null,null,null,0,0,0,null,null,0,0,{"$f":"IF((IF(restoZero(EE164,25),(spaziIntermedi(EE164,25))+1,spaziIntermedi(EE164,25)))=(spaziIntermedi(EF164,25)),FALSE,TRUE)","v":true},0,{"$f":"+spaziIntermedi(EF164,25)-EH164","v":0},false,0,null,0,0,null,null,null,0,0,0,0,0,null,null,0,0,{"$f":"IF((IF(restoZero(EY164,25),(spaziIntermedi(EY164,25))+1,spaziIntermedi(EY164,25)))=(spaziIntermedi(EZ164,25)),FALSE,TRUE)","v":true},0,{"$f":"+spaziIntermedi(EZ164,25)-FB164","v":0},false,0,null,0,0,null,null,null,0,0,0,null,null,0,0,{"$f":"IF((IF(restoZero(FQ164,25),(spaziIntermedi(FQ164,25))+1,spaziIntermedi(FQ164,25)))=(spaziIntermedi(FR164,25)),FALSE,TRUE)","v":true},0,{"$f":"+spaziIntermedi(FR164,25)-FT164","v":0},false,0,null,0,0,null,null,null,0,0,0,0,0,null,null,0,0,{"$f":"IF((IF(restoZero(GK164,25),(spaziIntermedi(GK164,25))+1,spaziIntermedi(GK164,25)))=(spaziIntermedi(GL164,25)),FALSE,TRUE)","v":true},0,{"$f":"+spaziIntermedi(GL164,25)-GN164","v":0},false,0,null,0,0,null,null,null,0,0,0,null,null,0,0,{"$f":"IF((IF(restoZero(HC164,25),(spaziIntermedi(HC164,25))+1,spaziIntermedi(HC164,25)))=(spaziIntermedi(HD164,25)),FALSE,TRUE)","v":true},0,{"$f":"+spaziIntermedi(HD164,25)-HF164","v":0},false,0,null,0,0,null,null,null,0,0,0,0,0,null,null,0,0,{"$f":"IF((IF(restoZero(HW164,25),(spaziIntermedi(HW164,25))+1,spaziIntermedi(HW164,25)))=(spaziIntermedi(HX164,25)),FALSE,TRUE)","v":true},0,{"$f":"+spaziIntermedi(HX164,25)-HZ164","v":0},false,0,null,0,0,null,null,null,0,0,0,null,null,0,0,{"$f":"IF((IF(restoZero(IO164,25),(spaziIntermedi(IO164,25))+1,spaziIntermedi(IO164,25)))=(spaziIntermedi(IP164,25)),FALSE,TRUE)","v":true},0,{"$f":"+spaziIntermedi(IP164,25)-IR164","v":0},false,0,null,0,0,null,null,null,0,0,0,0,0,null,null,0,0,{"$f":"IF((IF(restoZero(JI164,25),(spaziIntermedi(JI164,25))+1,spaziIntermedi(JI164,25)))=(spaziIntermedi(JJ164,25)),FALSE,TRUE)","v":true},0,{"$f":"+spaziIntermedi(JJ164,25)-JL164","v":0},false,0,null,0,0,null,null,null,0,0,0,null,null,0,0,{"$f":"IF((IF(restoZero(KA164,25),(spaziIntermedi(KA164,25))+1,spaziIntermedi(KA164,25)))=(spaziIntermedi(KB164,25)),FALSE,TRUE)","v":true},0,{"$f":"+spaziIntermedi(KB164,25)-KD164","v":0},false,0,null,0,0,null,null,null,0,0,0,0,0,null,null,0,0,{"$f":"IF((IF(restoZero(KU164,25),(spaziIntermedi(KU164,25))+1,spaziIntermedi(KU164,25)))=(spaziIntermedi(KV164,25)),FALSE,TRUE)","v":true},0,{"$f":"+spaziIntermedi(KV164,25)-KX164","v":0},false,0,null,0,0,null,null,null,0,0,0,null,null,0,0,{"$f":"IF((IF(restoZero(LM164,25),(spaziIntermedi(LM164,25))+1,spaziIntermedi(LM164,25)))=(spaziIntermedi(LN164,25)),FALSE,TRUE)","v":true},0,{"$f":"+spaziIntermedi(LN164,25)-LP164","v":0},false,0,null,0,0,null,null,null,0,0,0,0,0,null,null,0,0,{"$f":"IF((IF(restoZero(MG164,25),(spaziIntermedi(MG164,25))+1,spaziIntermedi(MG164,25)))=(spaziIntermedi(MH164,25)),FALSE,TRUE)","v":true},0,{"$f":"+spaziIntermedi(MH164,25)-MJ164","v":0},false,0,null,0,0,null,null,null,0,0,0,null,null,0,0,{"$f":"IF((IF(restoZero(MY164,25),(spaziIntermedi(MY164,25))+1,spaziIntermedi(MY164,25)))=(spaziIntermedi(MZ164,25)),FALSE,TRUE)","v":true},0,{"$f":"+spaziIntermedi(MZ164,25)-NB164","v":0},false,0,null,0,0,null,null,null,0,0,0,0,0,null,null,0,0,{"$f":"IF((IF(restoZero(NS164,25),(spaziIntermedi(NS164,25))+1,spaziIntermedi(NS164,25)))=(spaziIntermedi(NT164,25)),FALSE,TRUE)","v":true},0,{"$f":"+spaziIntermedi(NT164,25)-NV164","v":0},false,0,null,0,0,null,null,null,0,0,0,null,null,0,0,{"$f":"IF((IF(restoZero(OK164,25),(spaziIntermedi(OK164,25))+1,spaziIntermedi(OK164,25)))=(spaziIntermedi(OL164,25)),FALSE,TRUE)","v":true},0,{"$f":"+spaziIntermedi(OL164,25)-ON164","v":0},false,0,null,0,0,null,null,null,0,0,0,0,0,null,null,0,0,{"$f":"IF((IF(restoZero(PE164,25),(spaziIntermedi(PE164,25))+1,spaziIntermedi(PE164,25)))=(spaziIntermedi(PF164,25)),FALSE,TRUE)","v":true},0,{"$f":"+spaziIntermedi(PF164,25)-PH164","v":0},false,0,null,0,0,null,null,null,0,0,0,null,null,0,0,{"$f":"IF((IF(restoZero(PW164,25),(spaziIntermedi(PW164,25))+1,spaziIntermedi(PW164,25)))=(spaziIntermedi(PX164,25)),FALSE,TRUE)","v":true},0,{"$f":"+spaziIntermedi(PX164,25)-PZ164","v":0},false,0,null,0,0,null,null,null,0,0,0,0,0,null,null,0,0,{"$f":"IF((IF(restoZero(QQ164,25),(spaziIntermedi(QQ164,25))+1,spaziIntermedi(QQ164,25)))=(spaziIntermedi(QR164,25)),FALSE,TRUE)","v":true},0,{"$f":"+spaziIntermedi(QR164,25)-QT164","v":0},false,0,null,0,0,null,null,null,0,0,0,null,null,0,0,{"$f":"IF((IF(restoZero(RI164,25),(spaziIntermedi(RI164,25))+1,spaziIntermedi(RI164,25)))=(spaziIntermedi(RJ164,25)),FALSE,TRUE)","v":true},0,{"$f":"+spaziIntermedi(RJ164,25)-RL164","v":0},false,0,null,0,0,null,null,null,0,0,0,0,0,null,null,0,0,{"$f":"IF((IF(restoZero(SC164,25),(spaziIntermedi(SC164,25))+1,spaziIntermedi(SC164,25)))=(spaziIntermedi(SD164,25)),FALSE,TRUE)","v":true},0,{"$f":"+spaziIntermedi(SD164,25)-SF164","v":0},false,0,null,0,0,null,null,null,0,0,0,null,null,0,0,{"$f":"IF((IF(restoZero(SU164,25),(spaziIntermedi(SU164,25))+1,spaziIntermedi(SU164,25)))=(spaziIntermedi(SV164,25)),FALSE,TRUE)","v":true},0,{"$f":"+spaziIntermedi(SV164,25)-SX164","v":0},false,0,null,0,0,null,null,null,0,0,0,0,0]
[null,null,0,0,{"$f":"IF((IF(restoZero(C189,25),(spaziIntermedi(C189,25))+1,spaziIntermedi(C189,25)))=(spaziIntermedi(D189,25)),FALSE,TRUE)","v":true},0,{"$f":"+spaziIntermedi(D189,25)-F189","v":0},false,0,null,0,0,null,null,null,0,0,0,null,null,0,0,{"$f":"IF((IF(restoZero(U189,25),(spaziIntermedi(U189,25))+1,spaziIntermedi(U189,25)))=(spaziIntermedi(V189,25)),FALSE,TRUE)","v":true},0,{"$f":"+spaziIntermedi(V189,25)-X189","v":0},false,0,null,0,0,null,null,null,0,0,0,0,0,null,null,0,0,{"$f":"IF((IF(restoZero(AO189,25),(spaziIntermedi(AO189,25))+1,spaziIntermedi(AO189,25)))=(spaziIntermedi(AP189,25)),FALSE,TRUE)","v":true},0,{"$f":"+spaziIntermedi(AP189,25)-AR189","v":0},false,0,null,0,0,null,null,null,0,0,0,null,null,0,0,{"$f":"IF((IF(restoZero(BG189,25),(spaziIntermedi(BG189,25))+1,spaziIntermedi(BG189,25)))=(spaziIntermedi(BH189,25)),FALSE,TRUE)","v":true},0,{"$f":"+spaziIntermedi(BH189,25)-BJ189","v":0},false,0,null,0,0,null,null,null,0,0,0,0,0,null,null,0,0,{"$f":"IF((IF(restoZero(CA189,25),(spaziIntermedi(CA189,25))+1,spaziIntermedi(CA189,25)))=(spaziIntermedi(CB189,25)),FALSE,TRUE)","v":true},0,{"$f":"+spaziIntermedi(CB189,25)-CD189","v":0},false,0,null,0,0,null,null,null,0,0,0,null,null,0,0,{"$f":"IF((IF(restoZero(CS189,25),(spaziIntermedi(CS189,25))+1,spaziIntermedi(CS189,25)))=(spaziIntermedi(CT189,25)),FALSE,TRUE)","v":true},0,{"$f":"+spaziIntermedi(CT189,25)-CV189","v":0},false,0,null,0,0,null,null,null,0,0,0,0,0,null,null,0,0,{"$f":"IF((IF(restoZero(DM189,25),(spaziIntermedi(DM189,25))+1,spaziIntermedi(DM189,25)))=(spaziIntermedi(DN189,25)),FALSE,TRUE)","v":true},0,{"$f":"+spaziIntermedi(DN189,25)-DP189","v":0},false,0,null,0,0,null,null,null,0,0,0,null,null,0,0,{"$f":"IF((IF(restoZero(EE189,25),(spaziIntermedi(EE189,25))+1,spaziIntermedi(EE189,25)))=(spaziIntermedi(EF189,25)),FALSE,TRUE)","v":true},0,{"$f":"+spaziIntermedi(EF189,25)-EH189","v":0},false,0,null,0,0,null,null,null,0,0,0,0,0,null,null,0,0,{"$f":"IF((IF(restoZero(EY189,25),(spaziIntermedi(EY189,25))+1,spaziIntermedi(EY189,25)))=(spaziIntermedi(EZ189,25)),FALSE,TRUE)","v":true},0,{"$f":"+spaziIntermedi(EZ189,25)-FB189","v":0},false,0,null,0,0,null,null,null,0,0,0,null,null,0,0,{"$f":"IF((IF(restoZero(FQ189,25),(spaziIntermedi(FQ189,25))+1,spaziIntermedi(FQ189,25)))=(spaziIntermedi(FR189,25)),FALSE,TRUE)","v":true},0,{"$f":"+spaziIntermedi(FR189,25)-FT189","v":0},false,0,null,0,0,null,null,null,0,0,0,0,0,null,null,0,0,{"$f":"IF((IF(restoZero(GK189,25),(spaziIntermedi(GK189,25))+1,spaziIntermedi(GK189,25)))=(spaziIntermedi(GL189,25)),FALSE,TRUE)","v":true},0,{"$f":"+spaziIntermedi(GL189,25)-GN189","v":0},false,0,null,0,0,null,null,null,0,0,0,null,null,0,0,{"$f":"IF((IF(restoZero(HC189,25),(spaziIntermedi(HC189,25))+1,spaziIntermedi(HC189,25)))=(spaziIntermedi(HD189,25)),FALSE,TRUE)","v":true},0,{"$f":"+spaziIntermedi(HD189,25)-HF189","v":0},false,0,null,0,0,null,null,null,0,0,0,0,0,null,null,0,0,{"$f":"IF((IF(restoZero(HW189,25),(spaziIntermedi(HW189,25))+1,spaziIntermedi(HW189,25)))=(spaziIntermedi(HX189,25)),FALSE,TRUE)","v":true},0,{"$f":"+spaziIntermedi(HX189,25)-HZ189","v":0},false,0,null,0,0,null,null,null,0,0,0,null,null,0,0,{"$f":"IF((IF(restoZero(IO189,25),(spaziIntermedi(IO189,25))+1,spaziIntermedi(IO189,25)))=(spaziIntermedi(IP189,25)),FALSE,TRUE)","v":true},0,{"$f":"+spaziIntermedi(IP189,25)-IR189","v":0},false,0,null,0,0,null,null,null,0,0,0,0,0,null,null,0,0,{"$f":"IF((IF(restoZero(JI189,25),(spaziIntermedi(JI189,25))+1,spaziIntermedi(JI189,25)))=(spaziIntermedi(JJ189,25)),FALSE,TRUE)","v":true},0,{"$f":"+spaziIntermedi(JJ189,25)-JL189","v":0},false,0,null,0,0,null,null,null,0,0,0,null,null,0,0,{"$f":"IF((IF(restoZero(KA189,25),(spaziIntermedi(KA189,25))+1,spaziIntermedi(KA189,25)))=(spaziIntermedi(KB189,25)),FALSE,TRUE)","v":true},0,{"$f":"+spaziIntermedi(KB189,25)-KD189","v":0},false,0,null,0,0,null,null,null,0,0,0,0,0,null,null,0,0,{"$f":"IF((IF(restoZero(KU189,25),(spaziIntermedi(KU189,25))+1,spaziIntermedi(KU189,25)))=(spaziIntermedi(KV189,25)),FALSE,TRUE)","v":true},0,{"$f":"+spaziIntermedi(KV189,25)-KX189","v":0},false,0,null,0,0,null,null,null,0,0,0,null,null,0,0,{"$f":"IF((IF(restoZero(LM189,25),(spaziIntermedi(LM189,25))+1,spaziIntermedi(LM189,25)))=(spaziIntermedi(LN189,25)),FALSE,TRUE)","v":true},0,{"$f":"+spaziIntermedi(LN189,25)-LP189","v":0},false,0,null,0,0,null,null,null,0,0,0,0,0,null,null,0,0,{"$f":"IF((IF(restoZero(MG189,25),(spaziIntermedi(MG189,25))+1,spaziIntermedi(MG189,25)))=(spaziIntermedi(MH189,25)),FALSE,TRUE)","v":true},0,{"$f":"+spaziIntermedi(MH189,25)-MJ189","v":0},false,0,null,0,0,null,null,null,0,0,0,null,null,0,0,{"$f":"IF((IF(restoZero(MY189,25),(spaziIntermedi(MY189,25))+1,spaziIntermedi(MY189,25)))=(spaziIntermedi(MZ189,25)),FALSE,TRUE)","v":true},0,{"$f":"+spaziIntermedi(MZ189,25)-NB189","v":0},false,0,null,0,0,null,null,null,0,0,0,0,0,null,null,0,0,{"$f":"IF((IF(restoZero(NS189,25),(spaziIntermedi(NS189,25))+1,spaziIntermedi(NS189,25)))=(spaziIntermedi(NT189,25)),FALSE,TRUE)","v":true},0,{"$f":"+spaziIntermedi(NT189,25)-NV189","v":0},false,0,null,0,0,null,null,null,0,0,0,null,null,0,0,{"$f":"IF((IF(restoZero(OK189,25),(spaziIntermedi(OK189,25))+1,spaziIntermedi(OK189,25)))=(spaziIntermedi(OL189,25)),FALSE,TRUE)","v":true},0,{"$f":"+spaziIntermedi(OL189,25)-ON189","v":0},false,0,null,0,0,null,null,null,0,0,0,0,0,null,null,0,0,{"$f":"IF((IF(restoZero(PE189,25),(spaziIntermedi(PE189,25))+1,spaziIntermedi(PE189,25)))=(spaziIntermedi(PF189,25)),FALSE,TRUE)","v":true},0,{"$f":"+spaziIntermedi(PF189,25)-PH189","v":0},false,0,null,0,0,null,null,null,0,0,0,null,null,0,0,{"$f":"IF((IF(restoZero(PW189,25),(spaziIntermedi(PW189,25))+1,spaziIntermedi(PW189,25)))=(spaziIntermedi(PX189,25)),FALSE,TRUE)","v":true},0,{"$f":"+spaziIntermedi(PX189,25)-PZ189","v":0},false,0,null,0,0,null,null,null,0,0,0,0,0,null,null,0,0,{"$f":"IF((IF(restoZero(QQ189,25),(spaziIntermedi(QQ189,25))+1,spaziIntermedi(QQ189,25)))=(spaziIntermedi(QR189,25)),FALSE,TRUE)","v":true},0,{"$f":"+spaziIntermedi(QR189,25)-QT189","v":0},false,0,null,0,0,null,null,null,0,0,0,null,null,0,0,{"$f":"IF((IF(restoZero(RI189,25),(spaziIntermedi(RI189,25))+1,spaziIntermedi(RI189,25)))=(spaziIntermedi(RJ189,25)),FALSE,TRUE)","v":true},0,{"$f":"+spaziIntermedi(RJ189,25)-RL189","v":0},false,0,null,0,0,null,null,null,0,0,0,0,0,null,null,0,0,{"$f":"IF((IF(restoZero(SC189,25),(spaziIntermedi(SC189,25))+1,spaziIntermedi(SC189,25)))=(spaziIntermedi(SD189,25)),FALSE,TRUE)","v":true},0,{"$f":"+spaziIntermedi(SD189,25)-SF189","v":0},false,0,null,0,0,null,null,null,0,0,0,null,null,0,0,{"$f":"IF((IF(restoZero(SU189,25),(spaziIntermedi(SU189,25))+1,spaziIntermedi(SU189,25)))=(spaziIntermedi(SV189,25)),FALSE,TRUE)","v":true},0,{"$f":"+spaziIntermedi(SV189,25)-SX189","v":0},false,0,null,0,0,null,null,null,0,0,0,0,0]
[null,null,0,0,{"$f":"IF((IF(restoZero(C208,25),(spaziIntermedi(C208,25))+1,spaziIntermedi(C208,25)))=(spaziIntermedi(D208,25)),FALSE,TRUE)","v":true},0,{"$f":"+spaziIntermedi(D208,25)-F208","v":0},false,0,null,0,0,null,null,null,0,0,0,null,null,0,0,{"$f":"IF((IF(restoZero(U208,25),(spaziIntermedi(U208,25))+1,spaziIntermedi(U208,25)))=(spaziIntermedi(V208,25)),FALSE,TRUE)","v":true},0,{"$f":"+spaziIntermedi(V208,25)-X208","v":0},false,0,null,0,0,null,null,null,0,0,0,0,0,null,null,0,0,{"$f":"IF((IF(restoZero(AO208,25),(spaziIntermedi(AO208,25))+1,spaziIntermedi(AO208,25)))=(spaziIntermedi(AP208,25)),FALSE,TRUE)","v":true},0,{"$f":"+spaziIntermedi(AP208,25)-AR208","v":0},false,0,null,0,0,null,null,null,0,0,0,null,null,0,0,{"$f":"IF((IF(restoZero(BG208,25),(spaziIntermedi(BG208,25))+1,spaziIntermedi(BG208,25)))=(spaziIntermedi(BH208,25)),FALSE,TRUE)","v":true},0,{"$f":"+spaziIntermedi(BH208,25)-BJ208","v":0},false,0,null,0,0,null,null,null,0,0,0,0,0,null,null,0,0,{"$f":"IF((IF(restoZero(CA208,25),(spaziIntermedi(CA208,25))+1,spaziIntermedi(CA208,25)))=(spaziIntermedi(CB208,25)),FALSE,TRUE)","v":true},0,{"$f":"+spaziIntermedi(CB208,25)-CD208","v":0},false,0,null,0,0,null,null,null,0,0,0,null,null,0,0,{"$f":"IF((IF(restoZero(CS208,25),(spaziIntermedi(CS208,25))+1,spaziIntermedi(CS208,25)))=(spaziIntermedi(CT208,25)),FALSE,TRUE)","v":true},0,{"$f":"+spaziIntermedi(CT208,25)-CV208","v":0},false,0,null,0,0,null,null,null,0,0,0,0,0,null,null,0,0,{"$f":"IF((IF(restoZero(DM208,25),(spaziIntermedi(DM208,25))+1,spaziIntermedi(DM208,25)))=(spaziIntermedi(DN208,25)),FALSE,TRUE)","v":true},0,{"$f":"+spaziIntermedi(DN208,25)-DP208","v":0},false,0,null,0,0,null,null,null,0,0,0,null,null,0,0,{"$f":"IF((IF(restoZero(EE208,25),(spaziIntermedi(EE208,25))+1,spaziIntermedi(EE208,25)))=(spaziIntermedi(EF208,25)),FALSE,TRUE)","v":true},0,{"$f":"+spaziIntermedi(EF208,25)-EH208","v":0},false,0,null,0,0,null,null,null,0,0,0,0,0,null,null,0,0,{"$f":"IF((IF(restoZero(EY208,25),(spaziIntermedi(EY208,25))+1,spaziIntermedi(EY208,25)))=(spaziIntermedi(EZ208,25)),FALSE,TRUE)","v":true},0,{"$f":"+spaziIntermedi(EZ208,25)-FB208","v":0},false,0,null,0,0,null,null,null,0,0,0,null,null,0,0,{"$f":"IF((IF(restoZero(FQ208,25),(spaziIntermedi(FQ208,25))+1,spaziIntermedi(FQ208,25)))=(spaziIntermedi(FR208,25)),FALSE,TRUE)","v":true},0,{"$f":"+spaziIntermedi(FR208,25)-FT208","v":0},false,0,null,0,0,null,null,null,0,0,0,0,0,null,null,0,0,{"$f":"IF((IF(restoZero(GK208,25),(spaziIntermedi(GK208,25))+1,spaziIntermedi(GK208,25)))=(spaziIntermedi(GL208,25)),FALSE,TRUE)","v":true},0,{"$f":"+spaziIntermedi(GL208,25)-GN208","v":0},false,0,null,0,0,null,null,null,0,0,0,null,null,0,0,{"$f":"IF((IF(restoZero(HC208,25),(spaziIntermedi(HC208,25))+1,spaziIntermedi(HC208,25)))=(spaziIntermedi(HD208,25)),FALSE,TRUE)","v":true},0,{"$f":"+spaziIntermedi(HD208,25)-HF208","v":0},false,0,null,0,0,null,null,null,0,0,0,0,0,null,null,0,0,{"$f":"IF((IF(restoZero(HW208,25),(spaziIntermedi(HW208,25))+1,spaziIntermedi(HW208,25)))=(spaziIntermedi(HX208,25)),FALSE,TRUE)","v":true},0,{"$f":"+spaziIntermedi(HX208,25)-HZ208","v":0},false,0,null,0,0,null,null,null,0,0,0,null,null,0,0,{"$f":"IF((IF(restoZero(IO208,25),(spaziIntermedi(IO208,25))+1,spaziIntermedi(IO208,25)))=(spaziIntermedi(IP208,25)),FALSE,TRUE)","v":true},0,{"$f":"+spaziIntermedi(IP208,25)-IR208","v":0},false,0,null,0,0,null,null,null,0,0,0,0,0,null,null,0,0,{"$f":"IF((IF(restoZero(JI208,25),(spaziIntermedi(JI208,25))+1,spaziIntermedi(JI208,25)))=(spaziIntermedi(JJ208,25)),FALSE,TRUE)","v":true},0,{"$f":"+spaziIntermedi(JJ208,25)-JL208","v":0},false,0,null,0,0,null,null,null,0,0,0,null,null,0,0,{"$f":"IF((IF(restoZero(KA208,25),(spaziIntermedi(KA208,25))+1,spaziIntermedi(KA208,25)))=(spaziIntermedi(KB208,25)),FALSE,TRUE)","v":true},0,{"$f":"+spaziIntermedi(KB208,25)-KD208","v":0},false,0,null,0,0,null,null,null,0,0,0,0,0,null,null,0,0,{"$f":"IF((IF(restoZero(KU208,25),(spaziIntermedi(KU208,25))+1,spaziIntermedi(KU208,25)))=(spaziIntermedi(KV208,25)),FALSE,TRUE)","v":true},0,{"$f":"+spaziIntermedi(KV208,25)-KX208","v":0},false,0,null,0,0,null,null,null,0,0,0,null,null,0,0,{"$f":"IF((IF(restoZero(LM208,25),(spaziIntermedi(LM208,25))+1,spaziIntermedi(LM208,25)))=(spaziIntermedi(LN208,25)),FALSE,TRUE)","v":true},0,{"$f":"+spaziIntermedi(LN208,25)-LP208","v":0},false,0,null,0,0,null,null,null,0,0,0,0,0,null,null,0,0,{"$f":"IF((IF(restoZero(MG208,25),(spaziIntermedi(MG208,25))+1,spaziIntermedi(MG208,25)))=(spaziIntermedi(MH208,25)),FALSE,TRUE)","v":true},0,{"$f":"+spaziIntermedi(MH208,25)-MJ208","v":0},false,0,null,0,0,null,null,null,0,0,0,null,null,0,0,{"$f":"IF((IF(restoZero(MY208,25),(spaziIntermedi(MY208,25))+1,spaziIntermedi(MY208,25)))=(spaziIntermedi(MZ208,25)),FALSE,TRUE)","v":true},0,{"$f":"+spaziIntermedi(MZ208,25)-NB208","v":0},false,0,null,0,0,null,null,null,0,0,0,0,0,null,null,0,0,{"$f":"IF((IF(restoZero(NS208,25),(spaziIntermedi(NS208,25))+1,spaziIntermedi(NS208,25)))=(spaziIntermedi(NT208,25)),FALSE,TRUE)","v":true},0,{"$f":"+spaziIntermedi(NT208,25)-NV208","v":0},false,0,null,0,0,null,null,null,0,0,0,null,null,0,0,{"$f":"IF((IF(restoZero(OK208,25),(spaziIntermedi(OK208,25))+1,spaziIntermedi(OK208,25)))=(spaziIntermedi(OL208,25)),FALSE,TRUE)","v":true},0,{"$f":"+spaziIntermedi(OL208,25)-ON208","v":0},false,0,null,0,0,null,null,null,0,0,0,0,0,null,null,0,0,{"$f":"IF((IF(restoZero(PE208,25),(spaziIntermedi(PE208,25))+1,spaziIntermedi(PE208,25)))=(spaziIntermedi(PF208,25)),FALSE,TRUE)","v":true},0,{"$f":"+spaziIntermedi(PF208,25)-PH208","v":0},false,0,null,0,0,null,null,null,0,0,0,null,null,0,0,{"$f":"IF((IF(restoZero(PW208,25),(spaziIntermedi(PW208,25))+1,spaziIntermedi(PW208,25)))=(spaziIntermedi(PX208,25)),FALSE,TRUE)","v":true},0,{"$f":"+spaziIntermedi(PX208,25)-PZ208","v":0},false,0,null,0,0,null,null,null,0,0,0,0,0,null,null,0,0,{"$f":"IF((IF(restoZero(QQ208,25),(spaziIntermedi(QQ208,25))+1,spaziIntermedi(QQ208,25)))=(spaziIntermedi(QR208,25)),FALSE,TRUE)","v":true},0,{"$f":"+spaziIntermedi(QR208,25)-QT208","v":0},false,0,null,0,0,null,null,null,0,0,0,null,null,0,0,{"$f":"IF((IF(restoZero(RI208,25),(spaziIntermedi(RI208,25))+1,spaziIntermedi(RI208,25)))=(spaziIntermedi(RJ208,25)),FALSE,TRUE)","v":true},0,{"$f":"+spaziIntermedi(RJ208,25)-RL208","v":0},false,0,null,0,0,null,null,null,0,0,0,0,0,null,null,0,0,{"$f":"IF((IF(restoZero(SC208,25),(spaziIntermedi(SC208,25))+1,spaziIntermedi(SC208,25)))=(spaziIntermedi(SD208,25)),FALSE,TRUE)","v":true},0,{"$f":"+spaziIntermedi(SD208,25)-SF208","v":0},false,0,null,0,0,null,null,null,0,0,0,null,null,0,0,{"$f":"IF((IF(restoZero(SU208,25),(spaziIntermedi(SU208,25))+1,spaziIntermedi(SU208,25)))=(spaziIntermedi(SV208,25)),FALSE,TRUE)","v":true},0,{"$f":"+spaziIntermedi(SV208,25)-SX208","v":0},false,0,null,0,0,null,null,null,0,0,0,0,0]
[null,null,0,0,{"$f":"IF((IF(restoZero(C214,25),(spaziIntermedi(C214,25))+1,spaziIntermedi(C214,25)))=(spaziIntermedi(D214,25)),FALSE,TRUE)","v":true},0,{"$f":"+spaziIntermedi(D214,25)-F214","v":0},false,0,null,0,0,null,null,null,0,0,0,null,null,0,0,{"$f":"IF((IF(restoZero(U214,25),(spaziIntermedi(U214,25))+1,spaziIntermedi(U214,25)))=(spaziIntermedi(V214,25)),FALSE,TRUE)","v":true},0,{"$f":"+spaziIntermedi(V214,25)-X214","v":0},false,0,null,0,0,null,null,null,0,0,0,0,0,null,null,0,0,{"$f":"IF((IF(restoZero(AO214,25),(spaziIntermedi(AO214,25))+1,spaziIntermedi(AO214,25)))=(spaziIntermedi(AP214,25)),FALSE,TRUE)","v":true},0,{"$f":"+spaziIntermedi(AP214,25)-AR214","v":0},false,0,null,0,0,null,null,null,0,0,0,null,null,0,0,{"$f":"IF((IF(restoZero(BG214,25),(spaziIntermedi(BG214,25))+1,spaziIntermedi(BG214,25)))=(spaziIntermedi(BH214,25)),FALSE,TRUE)","v":true},0,{"$f":"+spaziIntermedi(BH214,25)-BJ214","v":0},false,0,null,0,0,null,null,null,0,0,0,0,0,null,null,0,0,{"$f":"IF((IF(restoZero(CA214,25),(spaziIntermedi(CA214,25))+1,spaziIntermedi(CA214,25)))=(spaziIntermedi(CB214,25)),FALSE,TRUE)","v":true},0,{"$f":"+spaziIntermedi(CB214,25)-CD214","v":0},false,0,null,0,0,null,null,null,0,0,0,null,null,0,0,{"$f":"IF((IF(restoZero(CS214,25),(spaziIntermedi(CS214,25))+1,spaziIntermedi(CS214,25)))=(spaziIntermedi(CT214,25)),FALSE,TRUE)","v":true},0,{"$f":"+spaziIntermedi(CT214,25)-CV214","v":0},false,0,null,0,0,null,null,null,0,0,0,0,0,null,null,0,0,{"$f":"IF((IF(restoZero(DM214,25),(spaziIntermedi(DM214,25))+1,spaziIntermedi(DM214,25)))=(spaziIntermedi(DN214,25)),FALSE,TRUE)","v":true},0,{"$f":"+spaziIntermedi(DN214,25)-DP214","v":0},false,0,null,0,0,null,null,null,0,0,0,null,null,0,0,{"$f":"IF((IF(restoZero(EE214,25),(spaziIntermedi(EE214,25))+1,spaziIntermedi(EE214,25)))=(spaziIntermedi(EF214,25)),FALSE,TRUE)","v":true},0,{"$f":"+spaziIntermedi(EF214,25)-EH214","v":0},false,0,null,0,0,null,null,null,0,0,0,0,0,null,null,0,0,{"$f":"IF((IF(restoZero(EY214,25),(spaziIntermedi(EY214,25))+1,spaziIntermedi(EY214,25)))=(spaziIntermedi(EZ214,25)),FALSE,TRUE)","v":true},0,{"$f":"+spaziIntermedi(EZ214,25)-FB214","v":0},false,0,null,0,0,null,null,null,0,0,0,null,null,0,0,{"$f":"IF((IF(restoZero(FQ214,25),(spaziIntermedi(FQ214,25))+1,spaziIntermedi(FQ214,25)))=(spaziIntermedi(FR214,25)),FALSE,TRUE)","v":true},0,{"$f":"+spaziIntermedi(FR214,25)-FT214","v":0},false,0,null,0,0,null,null,null,0,0,0,0,0,null,null,0,0,{"$f":"IF((IF(restoZero(GK214,25),(spaziIntermedi(GK214,25))+1,spaziIntermedi(GK214,25)))=(spaziIntermedi(GL214,25)),FALSE,TRUE)","v":true},0,{"$f":"+spaziIntermedi(GL214,25)-GN214","v":0},false,0,null,0,0,null,null,null,0,0,0,null,null,0,0,{"$f":"IF((IF(restoZero(HC214,25),(spaziIntermedi(HC214,25))+1,spaziIntermedi(HC214,25)))=(spaziIntermedi(HD214,25)),FALSE,TRUE)","v":true},0,{"$f":"+spaziIntermedi(HD214,25)-HF214","v":0},false,0,null,0,0,null,null,null,0,0,0,0,0,null,null,0,0,{"$f":"IF((IF(restoZero(HW214,25),(spaziIntermedi(HW214,25))+1,spaziIntermedi(HW214,25)))=(spaziIntermedi(HX214,25)),FALSE,TRUE)","v":true},0,{"$f":"+spaziIntermedi(HX214,25)-HZ214","v":0},false,0,null,0,0,null,null,null,0,0,0,null,null,0,0,{"$f":"IF((IF(restoZero(IO214,25),(spaziIntermedi(IO214,25))+1,spaziIntermedi(IO214,25)))=(spaziIntermedi(IP214,25)),FALSE,TRUE)","v":true},0,{"$f":"+spaziIntermedi(IP214,25)-IR214","v":0},false,0,null,0,0,null,null,null,0,0,0,0,0,null,null,0,0,{"$f":"IF((IF(restoZero(JI214,25),(spaziIntermedi(JI214,25))+1,spaziIntermedi(JI214,25)))=(spaziIntermedi(JJ214,25)),FALSE,TRUE)","v":true},0,{"$f":"+spaziIntermedi(JJ214,25)-JL214","v":0},false,0,null,0,0,null,null,null,0,0,0,null,null,0,0,{"$f":"IF((IF(restoZero(KA214,25),(spaziIntermedi(KA214,25))+1,spaziIntermedi(KA214,25)))=(spaziIntermedi(KB214,25)),FALSE,TRUE)","v":true},0,{"$f":"+spaziIntermedi(KB214,25)-KD214","v":0},false,0,null,0,0,null,null,null,0,0,0,0,0,null,null,0,0,{"$f":"IF((IF(restoZero(KU214,25),(spaziIntermedi(KU214,25))+1,spaziIntermedi(KU214,25)))=(spaziIntermedi(KV214,25)),FALSE,TRUE)","v":true},0,{"$f":"+spaziIntermedi(KV214,25)-KX214","v":0},false,0,null,0,0,null,null,null,0,0,0,null,null,0,0,{"$f":"IF((IF(restoZero(LM214,25),(spaziIntermedi(LM214,25))+1,spaziIntermedi(LM214,25)))=(spaziIntermedi(LN214,25)),FALSE,TRUE)","v":true},0,{"$f":"+spaziIntermedi(LN214,25)-LP214","v":0},false,0,null,0,0,null,null,null,0,0,0,0,0,null,null,0,0,{"$f":"IF((IF(restoZero(MG214,25),(spaziIntermedi(MG214,25))+1,spaziIntermedi(MG214,25)))=(spaziIntermedi(MH214,25)),FALSE,TRUE)","v":true},0,{"$f":"+spaziIntermedi(MH214,25)-MJ214","v":0},false,0,null,0,0,null,null,null,0,0,0,null,null,0,0,{"$f":"IF((IF(restoZero(MY214,25),(spaziIntermedi(MY214,25))+1,spaziIntermedi(MY214,25)))=(spaziIntermedi(MZ214,25)),FALSE,TRUE)","v":true},0,{"$f":"+spaziIntermedi(MZ214,25)-NB214","v":0},false,0,null,0,0,null,null,null,0,0,0,0,0,null,null,0,0,{"$f":"IF((IF(restoZero(NS214,25),(spaziIntermedi(NS214,25))+1,spaziIntermedi(NS214,25)))=(spaziIntermedi(NT214,25)),FALSE,TRUE)","v":true},0,{"$f":"+spaziIntermedi(NT214,25)-NV214","v":0},false,0,null,0,0,null,null,null,0,0,0,null,null,0,0,{"$f":"IF((IF(restoZero(OK214,25),(spaziIntermedi(OK214,25))+1,spaziIntermedi(OK214,25)))=(spaziIntermedi(OL214,25)),FALSE,TRUE)","v":true},0,{"$f":"+spaziIntermedi(OL214,25)-ON214","v":0},false,0,null,0,0,null,null,null,0,0,0,0,0,null,null,0,0,{"$f":"IF((IF(restoZero(PE214,25),(spaziIntermedi(PE214,25))+1,spaziIntermedi(PE214,25)))=(spaziIntermedi(PF214,25)),FALSE,TRUE)","v":true},0,{"$f":"+spaziIntermedi(PF214,25)-PH214","v":0},false,0,null,0,0,null,null,null,0,0,0,null,null,0,0,{"$f":"IF((IF(restoZero(PW214,25),(spaziIntermedi(PW214,25))+1,spaziIntermedi(PW214,25)))=(spaziIntermedi(PX214,25)),FALSE,TRUE)","v":true},0,{"$f":"+spaziIntermedi(PX214,25)-PZ214","v":0},false,0,null,0,0,null,null,null,0,0,0,0,0,null,null,0,0,{"$f":"IF((IF(restoZero(QQ214,25),(spaziIntermedi(QQ214,25))+1,spaziIntermedi(QQ214,25)))=(spaziIntermedi(QR214,25)),FALSE,TRUE)","v":true},0,{"$f":"+spaziIntermedi(QR214,25)-QT214","v":0},false,0,null,0,0,null,null,null,0,0,0,null,null,0,0,{"$f":"IF((IF(restoZero(RI214,25),(spaziIntermedi(RI214,25))+1,spaziIntermedi(RI214,25)))=(spaziIntermedi(RJ214,25)),FALSE,TRUE)","v":true},0,{"$f":"+spaziIntermedi(RJ214,25)-RL214","v":0},false,0,null,0,0,null,null,null,0,0,0,0,0,null,null,0,0,{"$f":"IF((IF(restoZero(SC214,25),(spaziIntermedi(SC214,25))+1,spaziIntermedi(SC214,25)))=(spaziIntermedi(SD214,25)),FALSE,TRUE)","v":true},0,{"$f":"+spaziIntermedi(SD214,25)-SF214","v":0},false,0,null,0,0,null,null,null,0,0,0,null,null,0,0,{"$f":"IF((IF(restoZero(SU214,25),(spaziIntermedi(SU214,25))+1,spaziIntermedi(SU214,25)))=(spaziIntermedi(SV214,25)),FALSE,TRUE)","v":true},0,{"$f":"+spaziIntermedi(SV214,25)-SX214","v":0},false,0,null,0,0,null,null,null,0,0,0,0,0]
[null,null,0,0,{"$f":"IF((IF(restoZero(C233,25),(spaziIntermedi(C233,25))+1,spaziIntermedi(C233,25)))=(spaziIntermedi(D233,25)),FALSE,TRUE)","v":true},0,{"$f":"+spaziIntermedi(D233,25)-F233","v":0},false,0,null,0,0,null,null,null,0,0,0,null,null,0,0,{"$f":"IF((IF(restoZero(U233,25),(spaziIntermedi(U233,25))+1,spaziIntermedi(U233,25)))=(spaziIntermedi(V233,25)),FALSE,TRUE)","v":true},0,{"$f":"+spaziIntermedi(V233,25)-X233","v":0},false,0,null,0,0,null,null,null,0,0,0,0,0,null,null,0,0,{"$f":"IF((IF(restoZero(AO233,25),(spaziIntermedi(AO233,25))+1,spaziIntermedi(AO233,25)))=(spaziIntermedi(AP233,25)),FALSE,TRUE)","v":true},0,{"$f":"+spaziIntermedi(AP233,25)-AR233","v":0},false,0,null,0,0,null,null,null,0,0,0,null,null,0,0,{"$f":"IF((IF(restoZero(BG233,25),(spaziIntermedi(BG233,25))+1,spaziIntermedi(BG233,25)))=(spaziIntermedi(BH233,25)),FALSE,TRUE)","v":true},0,{"$f":"+spaziIntermedi(BH233,25)-BJ233","v":0},false,0,null,0,0,null,null,null,0,0,0,0,0,null,null,0,0,{"$f":"IF((IF(restoZero(CA233,25),(spaziIntermedi(CA233,25))+1,spaziIntermedi(CA233,25)))=(spaziIntermedi(CB233,25)),FALSE,TRUE)","v":true},0,{"$f":"+spaziIntermedi(CB233,25)-CD233","v":0},false,0,null,0,0,null,null,null,0,0,0,null,null,0,0,{"$f":"IF((IF(restoZero(CS233,25),(spaziIntermedi(CS233,25))+1,spaziIntermedi(CS233,25)))=(spaziIntermedi(CT233,25)),FALSE,TRUE)","v":true},0,{"$f":"+spaziIntermedi(CT233,25)-CV233","v":0},false,0,null,0,0,null,null,null,0,0,0,0,0,null,null,0,0,{"$f":"IF((IF(restoZero(DM233,25),(spaziIntermedi(DM233,25))+1,spaziIntermedi(DM233,25)))=(spaziIntermedi(DN233,25)),FALSE,TRUE)","v":true},0,{"$f":"+spaziIntermedi(DN233,25)-DP233","v":0},false,0,null,0,0,null,null,null,0,0,0,null,null,0,0,{"$f":"IF((IF(restoZero(EE233,25),(spaziIntermedi(EE233,25))+1,spaziIntermedi(EE233,25)))=(spaziIntermedi(EF233,25)),FALSE,TRUE)","v":true},0,{"$f":"+spaziIntermedi(EF233,25)-EH233","v":0},false,0,null,0,0,null,null,null,0,0,0,0,0,null,null,0,0,{"$f":"IF((IF(restoZero(EY233,25),(spaziIntermedi(EY233,25))+1,spaziIntermedi(EY233,25)))=(spaziIntermedi(EZ233,25)),FALSE,TRUE)","v":true},0,{"$f":"+spaziIntermedi(EZ233,25)-FB233","v":0},false,0,null,0,0,null,null,null,0,0,0,null,null,0,0,{"$f":"IF((IF(restoZero(FQ233,25),(spaziIntermedi(FQ233,25))+1,spaziIntermedi(FQ233,25)))=(spaziIntermedi(FR233,25)),FALSE,TRUE)","v":true},0,{"$f":"+spaziIntermedi(FR233,25)-FT233","v":0},false,0,null,0,0,null,null,null,0,0,0,0,0,null,null,0,0,{"$f":"IF((IF(restoZero(GK233,25),(spaziIntermedi(GK233,25))+1,spaziIntermedi(GK233,25)))=(spaziIntermedi(GL233,25)),FALSE,TRUE)","v":true},0,{"$f":"+spaziIntermedi(GL233,25)-GN233","v":0},false,0,null,0,0,null,null,null,0,0,0,null,null,0,0,{"$f":"IF((IF(restoZero(HC233,25),(spaziIntermedi(HC233,25))+1,spaziIntermedi(HC233,25)))=(spaziIntermedi(HD233,25)),FALSE,TRUE)","v":true},0,{"$f":"+spaziIntermedi(HD233,25)-HF233","v":0},false,0,null,0,0,null,null,null,0,0,0,0,0,null,null,0,0,{"$f":"IF((IF(restoZero(HW233,25),(spaziIntermedi(HW233,25))+1,spaziIntermedi(HW233,25)))=(spaziIntermedi(HX233,25)),FALSE,TRUE)","v":true},0,{"$f":"+spaziIntermedi(HX233,25)-HZ233","v":0},false,0,null,0,0,null,null,null,0,0,0,null,null,0,0,{"$f":"IF((IF(restoZero(IO233,25),(spaziIntermedi(IO233,25))+1,spaziIntermedi(IO233,25)))=(spaziIntermedi(IP233,25)),FALSE,TRUE)","v":true},0,{"$f":"+spaziIntermedi(IP233,25)-IR233","v":0},false,0,null,0,0,null,null,null,0,0,0,0,0,null,null,0,0,{"$f":"IF((IF(restoZero(JI233,25),(spaziIntermedi(JI233,25))+1,spaziIntermedi(JI233,25)))=(spaziIntermedi(JJ233,25)),FALSE,TRUE)","v":true},0,{"$f":"+spaziIntermedi(JJ233,25)-JL233","v":0},false,0,null,0,0,null,null,null,0,0,0,null,null,0,0,{"$f":"IF((IF(restoZero(KA233,25),(spaziIntermedi(KA233,25))+1,spaziIntermedi(KA233,25)))=(spaziIntermedi(KB233,25)),FALSE,TRUE)","v":true},0,{"$f":"+spaziIntermedi(KB233,25)-KD233","v":0},false,0,null,0,0,null,null,null,0,0,0,0,0,null,null,0,0,{"$f":"IF((IF(restoZero(KU233,25),(spaziIntermedi(KU233,25))+1,spaziIntermedi(KU233,25)))=(spaziIntermedi(KV233,25)),FALSE,TRUE)","v":true},0,{"$f":"+spaziIntermedi(KV233,25)-KX233","v":0},false,0,null,0,0,null,null,null,0,0,0,null,null,0,0,{"$f":"IF((IF(restoZero(LM233,25),(spaziIntermedi(LM233,25))+1,spaziIntermedi(LM233,25)))=(spaziIntermedi(LN233,25)),FALSE,TRUE)","v":true},0,{"$f":"+spaziIntermedi(LN233,25)-LP233","v":0},false,0,null,0,0,null,null,null,0,0,0,0,0,null,null,0,0,{"$f":"IF((IF(restoZero(MG233,25),(spaziIntermedi(MG233,25))+1,spaziIntermedi(MG233,25)))=(spaziIntermedi(MH233,25)),FALSE,TRUE)","v":true},0,{"$f":"+spaziIntermedi(MH233,25)-MJ233","v":0},false,0,null,0,0,null,null,null,0,0,0,null,null,0,0,{"$f":"IF((IF(restoZero(MY233,25),(spaziIntermedi(MY233,25))+1,spaziIntermedi(MY233,25)))=(spaziIntermedi(MZ233,25)),FALSE,TRUE)","v":true},0,{"$f":"+spaziIntermedi(MZ233,25)-NB233","v":0},false,0,null,0,0,null,null,null,0,0,0,0,0,null,null,0,0,{"$f":"IF((IF(restoZero(NS233,25),(spaziIntermedi(NS233,25))+1,spaziIntermedi(NS233,25)))=(spaziIntermedi(NT233,25)),FALSE,TRUE)","v":true},0,{"$f":"+spaziIntermedi(NT233,25)-NV233","v":0},false,0,null,0,0,null,null,null,0,0,0,null,null,0,0,{"$f":"IF((IF(restoZero(OK233,25),(spaziIntermedi(OK233,25))+1,spaziIntermedi(OK233,25)))=(spaziIntermedi(OL233,25)),FALSE,TRUE)","v":true},0,{"$f":"+spaziIntermedi(OL233,25)-ON233","v":0},false,0,null,0,0,null,null,null,0,0,0,0,0,null,null,0,0,{"$f":"IF((IF(restoZero(PE233,25),(spaziIntermedi(PE233,25))+1,spaziIntermedi(PE233,25)))=(spaziIntermedi(PF233,25)),FALSE,TRUE)","v":true},0,{"$f":"+spaziIntermedi(PF233,25)-PH233","v":0},false,0,null,0,0,null,null,null,0,0,0,null,null,0,0,{"$f":"IF((IF(restoZero(PW233,25),(spaziIntermedi(PW233,25))+1,spaziIntermedi(PW233,25)))=(spaziIntermedi(PX233,25)),FALSE,TRUE)","v":true},0,{"$f":"+spaziIntermedi(PX233,25)-PZ233","v":0},false,0,null,0,0,null,null,null,0,0,0,0,0,null,null,0,0,{"$f":"IF((IF(restoZero(QQ233,25),(spaziIntermedi(QQ233,25))+1,spaziIntermedi(QQ233,25)))=(spaziIntermedi(QR233,25)),FALSE,TRUE)","v":true},0,{"$f":"+spaziIntermedi(QR233,25)-QT233","v":0},false,0,null,0,0,null,null,null,0,0,0,null,null,0,0,{"$f":"IF((IF(restoZero(RI233,25),(spaziIntermedi(RI233,25))+1,spaziIntermedi(RI233,25)))=(spaziIntermedi(RJ233,25)),FALSE,TRUE)","v":true},0,{"$f":"+spaziIntermedi(RJ233,25)-RL233","v":0},false,0,null,0,0,null,null,null,0,0,0,0,0,null,null,0,0,{"$f":"IF((IF(restoZero(SC233,25),(spaziIntermedi(SC233,25))+1,spaziIntermedi(SC233,25)))=(spaziIntermedi(SD233,25)),FALSE,TRUE)","v":true},0,{"$f":"+spaziIntermedi(SD233,25)-SF233","v":0},false,0,null,0,0,null,null,null,0,0,0,null,null,0,0,{"$f":"IF((IF(restoZero(SU233,25),(spaziIntermedi(SU233,25))+1,spaziIntermedi(SU233,25)))=(spaziIntermedi(SV233,25)),FALSE,TRUE)","v":true},0,{"$f":"+spaziIntermedi(SV233,25)-SX233","v":0},false,0,null,0,0,null,null,null,0,0,0,0,0]
[null,null,0,0,{"$f":"IF((IF(restoZero(C259,25),(spaziIntermedi(C259,25))+1,spaziIntermedi(C259,25)))=(spaziIntermedi(D259,25)),FALSE,TRUE)","v":true},0,{"$f":"+spaziIntermedi(D259,25)-F259","v":0},false,0,null,0,0,null,null,null,0,0,0,null,null,0,0,{"$f":"IF((IF(restoZero(U259,25),(spaziIntermedi(U259,25))+1,spaziIntermedi(U259,25)))=(spaziIntermedi(V259,25)),FALSE,TRUE)","v":true},0,{"$f":"+spaziIntermedi(V259,25)-X259","v":0},false,0,null,0,0,null,null,null,0,0,0,0,0,null,null,0,0,{"$f":"IF((IF(restoZero(AO259,25),(spaziIntermedi(AO259,25))+1,spaziIntermedi(AO259,25)))=(spaziIntermedi(AP259,25)),FALSE,TRUE)","v":true},0,{"$f":"+spaziIntermedi(AP259,25)-AR259","v":0},false,0,null,0,0,null,null,null,0,0,0,null,null,0,0,{"$f":"IF((IF(restoZero(BG259,25),(spaziIntermedi(BG259,25))+1,spaziIntermedi(BG259,25)))=(spaziIntermedi(BH259,25)),FALSE,TRUE)","v":true},0,{"$f":"+spaziIntermedi(BH259,25)-BJ259","v":0},false,0,null,0,0,null,null,null,0,0,0,0,0,null,null,0,0,{"$f":"IF((IF(restoZero(CA259,25),(spaziIntermedi(CA259,25))+1,spaziIntermedi(CA259,25)))=(spaziIntermedi(CB259,25)),FALSE,TRUE)","v":true},0,{"$f":"+spaziIntermedi(CB259,25)-CD259","v":0},false,0,null,0,0,null,null,null,0,0,0,null,null,0,0,{"$f":"IF((IF(restoZero(CS259,25),(spaziIntermedi(CS259,25))+1,spaziIntermedi(CS259,25)))=(spaziIntermedi(CT259,25)),FALSE,TRUE)","v":true},0,{"$f":"+spaziIntermedi(CT259,25)-CV259","v":0},false,0,null,0,0,null,null,null,0,0,0,0,0,null,null,0,0,{"$f":"IF((IF(restoZero(DM259,25),(spaziIntermedi(DM259,25))+1,spaziIntermedi(DM259,25)))=(spaziIntermedi(DN259,25)),FALSE,TRUE)","v":true},0,{"$f":"+spaziIntermedi(DN259,25)-DP259","v":0},false,0,null,0,0,null,null,null,0,0,0,null,null,0,0,{"$f":"IF((IF(restoZero(EE259,25),(spaziIntermedi(EE259,25))+1,spaziIntermedi(EE259,25)))=(spaziIntermedi(EF259,25)),FALSE,TRUE)","v":true},0,{"$f":"+spaziIntermedi(EF259,25)-EH259","v":0},false,0,null,0,0,null,null,null,0,0,0,0,0,null,null,0,0,{"$f":"IF((IF(restoZero(EY259,25),(spaziIntermedi(EY259,25))+1,spaziIntermedi(EY259,25)))=(spaziIntermedi(EZ259,25)),FALSE,TRUE)","v":true},0,{"$f":"+spaziIntermedi(EZ259,25)-FB259","v":0},false,0,null,0,0,null,null,null,0,0,0,null,null,0,0,{"$f":"IF((IF(restoZero(FQ259,25),(spaziIntermedi(FQ259,25))+1,spaziIntermedi(FQ259,25)))=(spaziIntermedi(FR259,25)),FALSE,TRUE)","v":true},0,{"$f":"+spaziIntermedi(FR259,25)-FT259","v":0},false,0,null,0,0,null,null,null,0,0,0,0,0,null,null,0,0,{"$f":"IF((IF(restoZero(GK259,25),(spaziIntermedi(GK259,25))+1,spaziIntermedi(GK259,25)))=(spaziIntermedi(GL259,25)),FALSE,TRUE)","v":true},0,{"$f":"+spaziIntermedi(GL259,25)-GN259","v":0},false,0,null,0,0,null,null,null,0,0,0,null,null,0,0,{"$f":"IF((IF(restoZero(HC259,25),(spaziIntermedi(HC259,25))+1,spaziIntermedi(HC259,25)))=(spaziIntermedi(HD259,25)),FALSE,TRUE)","v":true},0,{"$f":"+spaziIntermedi(HD259,25)-HF259","v":0},false,0,null,0,0,null,null,null,0,0,0,0,0,null,null,0,0,{"$f":"IF((IF(restoZero(HW259,25),(spaziIntermedi(HW259,25))+1,spaziIntermedi(HW259,25)))=(spaziIntermedi(HX259,25)),FALSE,TRUE)","v":true},0,{"$f":"+spaziIntermedi(HX259,25)-HZ259","v":0},false,0,null,0,0,null,null,null,0,0,0,null,null,0,0,{"$f":"IF((IF(restoZero(IO259,25),(spaziIntermedi(IO259,25))+1,spaziIntermedi(IO259,25)))=(spaziIntermedi(IP259,25)),FALSE,TRUE)","v":true},0,{"$f":"+spaziIntermedi(IP259,25)-IR259","v":0},false,0,null,0,0,null,null,null,0,0,0,0,0,null,null,0,0,{"$f":"IF((IF(restoZero(JI259,25),(spaziIntermedi(JI259,25))+1,spaziIntermedi(JI259,25)))=(spaziIntermedi(JJ259,25)),FALSE,TRUE)","v":true},0,{"$f":"+spaziIntermedi(JJ259,25)-JL259","v":0},false,0,null,0,0,null,null,null,0,0,0,null,null,0,0,{"$f":"IF((IF(restoZero(KA259,25),(spaziIntermedi(KA259,25))+1,spaziIntermedi(KA259,25)))=(spaziIntermedi(KB259,25)),FALSE,TRUE)","v":true},0,{"$f":"+spaziIntermedi(KB259,25)-KD259","v":0},false,0,null,0,0,null,null,null,0,0,0,0,0,null,null,0,0,{"$f":"IF((IF(restoZero(KU259,25),(spaziIntermedi(KU259,25))+1,spaziIntermedi(KU259,25)))=(spaziIntermedi(KV259,25)),FALSE,TRUE)","v":true},0,{"$f":"+spaziIntermedi(KV259,25)-KX259","v":0},false,0,null,0,0,null,null,null,0,0,0,null,null,0,0,{"$f":"IF((IF(restoZero(LM259,25),(spaziIntermedi(LM259,25))+1,spaziIntermedi(LM259,25)))=(spaziIntermedi(LN259,25)),FALSE,TRUE)","v":true},0,{"$f":"+spaziIntermedi(LN259,25)-LP259","v":0},false,0,null,0,0,null,null,null,0,0,0,0,0,null,null,0,0,{"$f":"IF((IF(restoZero(MG259,25),(spaziIntermedi(MG259,25))+1,spaziIntermedi(MG259,25)))=(spaziIntermedi(MH259,25)),FALSE,TRUE)","v":true},0,{"$f":"+spaziIntermedi(MH259,25)-MJ259","v":0},false,0,null,0,0,null,null,null,0,0,0,null,null,0,0,{"$f":"IF((IF(restoZero(MY259,25),(spaziIntermedi(MY259,25))+1,spaziIntermedi(MY259,25)))=(spaziIntermedi(MZ259,25)),FALSE,TRUE)","v":true},0,{"$f":"+spaziIntermedi(MZ259,25)-NB259","v":0},false,0,null,0,0,null,null,null,0,0,0,0,0,null,null,0,0,{"$f":"IF((IF(restoZero(NS259,25),(spaziIntermedi(NS259,25))+1,spaziIntermedi(NS259,25)))=(spaziIntermedi(NT259,25)),FALSE,TRUE)","v":true},0,{"$f":"+spaziIntermedi(NT259,25)-NV259","v":0},false,0,null,0,0,null,null,null,0,0,0,null,null,0,0,{"$f":"IF((IF(restoZero(OK259,25),(spaziIntermedi(OK259,25))+1,spaziIntermedi(OK259,25)))=(spaziIntermedi(OL259,25)),FALSE,TRUE)","v":true},0,{"$f":"+spaziIntermedi(OL259,25)-ON259","v":0},false,0,null,0,0,null,null,null,0,0,0,0,0,null,null,0,0,{"$f":"IF((IF(restoZero(PE259,25),(spaziIntermedi(PE259,25))+1,spaziIntermedi(PE259,25)))=(spaziIntermedi(PF259,25)),FALSE,TRUE)","v":true},0,{"$f":"+spaziIntermedi(PF259,25)-PH259","v":0},false,0,null,0,0,null,null,null,0,0,0,null,null,0,0,{"$f":"IF((IF(restoZero(PW259,25),(spaziIntermedi(PW259,25))+1,spaziIntermedi(PW259,25)))=(spaziIntermedi(PX259,25)),FALSE,TRUE)","v":true},0,{"$f":"+spaziIntermedi(PX259,25)-PZ259","v":0},false,0,null,0,0,null,null,null,0,0,0,0,0,null,null,0,0,{"$f":"IF((IF(restoZero(QQ259,25),(spaziIntermedi(QQ259,25))+1,spaziIntermedi(QQ259,25)))=(spaziIntermedi(QR259,25)),FALSE,TRUE)","v":true},0,{"$f":"+spaziIntermedi(QR259,25)-QT259","v":0},false,0,null,0,0,null,null,null,0,0,0,null,null,0,0,{"$f":"IF((IF(restoZero(RI259,25),(spaziIntermedi(RI259,25))+1,spaziIntermedi(RI259,25)))=(spaziIntermedi(RJ259,25)),FALSE,TRUE)","v":true},0,{"$f":"+spaziIntermedi(RJ259,25)-RL259","v":0},false,0,null,0,0,null,null,null,0,0,0,0,0,null,null,0,0,{"$f":"IF((IF(restoZero(SC259,25),(spaziIntermedi(SC259,25))+1,spaziIntermedi(SC259,25)))=(spaziIntermedi(SD259,25)),FALSE,TRUE)","v":true},0,{"$f":"+spaziIntermedi(SD259,25)-SF259","v":0},false,0,null,0,0,null,null,null,0,0,0,null,null,0,0,{"$f":"IF((IF(restoZero(SU259,25),(spaziIntermedi(SU259,25))+1,spaziIntermedi(SU259,25)))=(spaziIntermedi(SV259,25)),FALSE,TRUE)","v":true},0,{"$f":"+spaziIntermedi(SV259,25)-SX259","v":0},false,0,null,0,0,null,null,null,0,0,0,0,0]
[null,null,0,0,{"$f":"IF((IF(restoZero(C276,25),(spaziIntermedi(C276,25))+1,spaziIntermedi(C276,25)))=(spaziIntermedi(D276,25)),FALSE,TRUE)","v":true},0,{"$f":"+spaziIntermedi(D276,25)-F276","v":0},false,0,null,0,0,null,null,null,0,{"$f":"IF(N276=0,0,B276*2)","v":0},{"$f":"IF(OR(B276=\"\"),0,IF(O276=\"PIASTRA\",P276*2,_xlfn.CEILING.MATH(SUM(12,(B276/M276),((L276*C$2)/M276))*2,1)))","v":0},null,null,0,0,{"$f":"IF((IF(restoZero(U276,25),(spaziIntermedi(U276,25))+1,spaziIntermedi(U276,25)))=(spaziIntermedi(V276,25)),FALSE,TRUE)","v":true},0,{"$f":"+spaziIntermedi(V276,25)-X276","v":0},false,0,null,0,0,null,null,null,{"$f":"_xlfn.CEILING.MATH(IF(AG276<>\"PIASTRA\",0,IFERROR(IF(MOD(T276,AE276)=0,(((_xlfn.CEILING.MATH(T276/AE276)-1))+(T276/AE276))*2,((_xlfn.CEILING.MATH(T276/AE276)+(AD276/AE276))*2)),0)),1)","v":0},{"$f":"IF(AF276=0,0,T276*2)","v":0},{"$f":"IF(OR(T276=\"\"),0,IF(AG276=\"PIASTRA\",AH276*2,_xlfn.CEILING.MATH(SUM(12,(T276/AE276),((AD276*U$2)/AE276))*2,1)))","v":0},0,0,null,null,0,0,{"$f":"IF((IF(restoZero(AO276,25),(spaziIntermedi(AO276,25))+1,spaziIntermedi(AO276,25)))=(spaziIntermedi(AP276,25)),FALSE,TRUE)","v":true},0,{"$f":"+spaziIntermedi(AP276,25)-AR276","v":0},false,0,null,{"$f":"+IF(AT276=FALSE,AU276,0)","v":0},0,null,null,null,{"$f":"_xlfn.CEILING.MATH(IF(BA276<>\"PIASTRA\",0,IFERROR(IF(MOD(AN276,AY276)=0,(((_xlfn.CEILING.MATH(AN276/AY276)-1))+(AN276/AY276))*2,((_xlfn.CEILING.MATH(AN276/AY276)+(AX276/AY276))*2)),0)),1)","v":0},{"$f":"IF(AZ276=0,0,AN276*2)","v":0},{"$f":"IF(OR(AN276=\"\"),0,IF(BA276=\"PIASTRA\",BB276*2,_xlfn.CEILING.MATH(SUM(12,(AN276/AY276),((AX276*AO$2)/AY276))*2,1)))","v":0},null,null,0,0,{"$f":"IF((IF(restoZero(BG276,25),(spaziIntermedi(BG276,25))+1,spaziIntermedi(BG276,25)))=(spaziIntermedi(BH276,25)),FALSE,TRUE)","v":true},0,{"$f":"+spaziIntermedi(BH276,25)-BJ276","v":0},false,0,null,{"$f":"+IF(BL276=FALSE,BM276,0)","v":0},0,null,null,null,{"$f":"_xlfn.CEILING.MATH(IF(BS276<>\"PIASTRA\",0,IFERROR(IF(MOD(BF276,BQ276)=0,(((_xlfn.CEILING.MATH(BF276/BQ276)-1))+(BF276/BQ276))*2,((_xlfn.CEILING.MATH(BF276/BQ276)+(BP276/BQ276))*2)),0)),1)","v":0},{"$f":"IF(BR276=0,0,BF276*2)","v":0},{"$f":"IF(OR(BF276=\"\"),0,IF(BS276=\"PIASTRA\",BT276*2,_xlfn.CEILING.MATH(SUM(12,(BF276/BQ276),((BP276*BG$2)/BQ276))*2,1)))","v":0},0,0,null,null,0,0,{"$f":"IF((IF(restoZero(CA276,25),(spaziIntermedi(CA276,25))+1,spaziIntermedi(CA276,25)))=(spaziIntermedi(CB276,25)),FALSE,TRUE)","v":true},0,{"$f":"+spaziIntermedi(CB276,25)-CD276","v":0},false,0,null,{"$f":"+IF(CF276=FALSE,CG276,0)","v":0},0,null,null,null,{"$f":"_xlfn.CEILING.MATH(IF(CM276<>\"PIASTRA\",0,IFERROR(IF(MOD(BZ276,CK276)=0,(((_xlfn.CEILING.MATH(BZ276/CK276)-1))+(BZ276/CK276))*2,((_xlfn.CEILING.MATH(BZ276/CK276)+(CJ276/CK276))*2)),0)),1)","v":0},{"$f":"IF(CL276=0,0,BZ276*2)","v":0},{"$f":"IF(OR(BZ276=\"\"),0,IF(CM276=\"PIASTRA\",CN276*2,_xlfn.CEILING.MATH(SUM(12,(BZ276/CK276),((CJ276*CA$2)/CK276))*2,1)))","v":0},null,null,0,0,{"$f":"IF((IF(restoZero(CS276,25),(spaziIntermedi(CS276,25))+1,spaziIntermedi(CS276,25)))=(spaziIntermedi(CT276,25)),FALSE,TRUE)","v":true},0,{"$f":"+spaziIntermedi(CT276,25)-CV276","v":0},false,0,null,{"$f":"+IF(CX276=FALSE,CY276,0)","v":0},0,null,null,null,{"$f":"_xlfn.CEILING.MATH(IF(DE276<>\"PIASTRA\",0,IFERROR(IF(MOD(CR276,DC276)=0,(((_xlfn.CEILING.MATH(CR276/DC276)-1))+(CR276/DC276))*2,((_xlfn.CEILING.MATH(CR276/DC276)+(DB276/DC276))*2)),0)),1)","v":0},{"$f":"IF(DD276=0,0,CR276*2)","v":0},{"$f":"IF(OR(CR276=\"\"),0,IF(DE276=\"PIASTRA\",DF276*2,_xlfn.CEILING.MATH(SUM(12,(CR276/DC276),((DB276*$C$2)/DC276))*2,1)))","v":0},0,0,null,null,0,0,{"$f":"IF((IF(restoZero(DM276,25),(spaziIntermedi(DM276,25))+1,spaziIntermedi(DM276,25)))=(spaziIntermedi(DN276,25)),FALSE,TRUE)","v":true},0,{"$f":"+spaziIntermedi(DN276,25)-DP276","v":0},false,0,null,{"$f":"+IF(DR276=FALSE,DS276,0)","v":0},0,null,null,null,{"$f":"_xlfn.CEILING.MATH(IF(DY276<>\"PIASTRA\",0,IFERROR(IF(MOD(DL276,DW276)=0,(((_xlfn.CEILING.MATH(DL276/DW276)-1))+(DL276/DW276))*2,((_xlfn.CEILING.MATH(DL276/DW276)+(DV276/DW276))*2)),0)),1)","v":0},{"$f":"IF(DX276=0,0,DL276*2)","v":0},{"$f":"IF(OR(DL276=\"\"),0,IF(DY276=\"PIASTRA\",DZ276*2,_xlfn.CEILING.MATH(SUM(12,(DL276/DW276),((DV276*DM$2)/DW276))*2,1)))","v":0},null,null,0,0,{"$f":"IF((IF(restoZero(EE276,25),(spaziIntermedi(EE276,25))+1,spaziIntermedi(EE276,25)))=(spaziIntermedi(EF276,25)),FALSE,TRUE)","v":true},0,{"$f":"+spaziIntermedi(EF276,25)-EH276","v":0},false,0,null,{"$f":"+IF(EJ276=FALSE,EK276,0)","v":0},0,null,null,null,{"$f":"_xlfn.CEILING.MATH(IF(EQ276<>\"PIASTRA\",0,IFERROR(IF(MOD(ED276,EO276)=0,(((_xlfn.CEILING.MATH(ED276/EO276)-1))+(ED276/EO276))*2,((_xlfn.CEILING.MATH(ED276/EO276)+(EN276/EO276))*2)),0)),1)","v":0},{"$f":"IF(EP276=0,0,ED276*2)","v":0},{"$f":"IF(OR(ED276=\"\"),0,IF(EQ276=\"PIASTRA\",ER276*2,_xlfn.CEILING.MATH(SUM(12,(ED276/EO276),((EN276*EE$2)/EO276))*2,1)))","v":0},0,0,null,null,0,0,{"$f":"IF((IF(restoZero(EY276,25),(spaziIntermedi(EY276,25))+1,spaziIntermedi(EY276,25)))=(spaziIntermedi(EZ276,25)),FALSE,TRUE)","v":true},0,{"$f":"+spaziIntermedi(EZ276,25)-FB276","v":0},false,0,null,{"$f":"+IF(FD276=FALSE,FE276,0)","v":0},0,null,null,null,{"$f":"_xlfn.CEILING.MATH(IF(FK276<>\"PIASTRA\",0,IFERROR(IF(MOD(EX276,FI276)=0,(((_xlfn.CEILING.MATH(EX276/FI276)-1))+(EX276/FI276))*2,((_xlfn.CEILING.MATH(EX276/FI276)+(FH276/FI276))*2)),0)),1)","v":0},{"$f":"IF(FJ276=0,0,EX276*2)","v":0},{"$f":"IF(OR(EX276=\"\"),0,IF(FK276=\"PIASTRA\",FL276*2,_xlfn.CEILING.MATH(SUM(12,(EX276/FI276),((FH276*EY$2)/FI276))*2,1)))","v":0},null,null,0,0,{"$f":"IF((IF(restoZero(FQ276,25),(spaziIntermedi(FQ276,25))+1,spaziIntermedi(FQ276,25)))=(spaziIntermedi(FR276,25)),FALSE,TRUE)","v":true},0,{"$f":"+spaziIntermedi(FR276,25)-FT276","v":0},false,0,null,{"$f":"+IF(FV276=FALSE,FW276,0)","v":0},0,null,null,null,{"$f":"_xlfn.CEILING.MATH(IF(GC276<>\"PIASTRA\",0,IFERROR(IF(MOD(FP276,GA276)=0,(((_xlfn.CEILING.MATH(FP276/GA276)-1))+(FP276/GA276))*2,((_xlfn.CEILING.MATH(FP276/GA276)+(FZ276/GA276))*2)),0)),1)","v":0},{"$f":"IF(GB276=0,0,FP276*2)","v":0},{"$f":"IF(OR(FP276=\"\"),0,IF(GC276=\"PIASTRA\",GD276*2,_xlfn.CEILING.MATH(SUM(12,(FP276/GA276),((FZ276*FQ$2)/GA276))*2,1)))","v":0},0,0,null,null,0,0,{"$f":"IF((IF(restoZero(GK276,25),(spaziIntermedi(GK276,25))+1,spaziIntermedi(GK276,25)))=(spaziIntermedi(GL276,25)),FALSE,TRUE)","v":true},0,{"$f":"+spaziIntermedi(GL276,25)-GN276","v":0},false,0,null,{"$f":"+IF(GP276=FALSE,GQ276,0)","v":0},0,null,null,null,{"$f":"_xlfn.CEILING.MATH(IF(GW276<>\"PIASTRA\",0,IFERROR(IF(MOD(GJ276,GU276)=0,(((_xlfn.CEILING.MATH(GJ276/GU276)-1))+(GJ276/GU276))*2,((_xlfn.CEILING.MATH(GJ276/GU276)+(GT276/GU276))*2)),0)),1)","v":0},{"$f":"IF(GV276=0,0,GJ276*2)","v":0},{"$f":"IF(OR(GJ276=\"\"),0,IF(GW276=\"PIASTRA\",GX276*2,_xlfn.CEILING.MATH(SUM(12,(GJ276/GU276),((GT276*GK$2)/GU276))*2,1)))","v":0},null,null,0,0,{"$f":"IF((IF(restoZero(HC276,25),(spaziIntermedi(HC276,25))+1,spaziIntermedi(HC276,25)))=(spaziIntermedi(HD276,25)),FALSE,TRUE)","v":true},0,{"$f":"+spaziIntermedi(HD276,25)-HF276","v":0},false,0,null,{"$f":"+IF(HH276=FALSE,HI276,0)","v":0},0,null,null,null,{"$f":"_xlfn.CEILING.MATH(IF(HO276<>\"PIASTRA\",0,IFERROR(IF(MOD(HB276,HM276)=0,(((_xlfn.CEILING.MATH(HB276/HM276)-1))+(HB276/HM276))*2,((_xlfn.CEILING.MATH(HB276/HM276)+(HL276/HM276))*2)),0)),1)","v":0},{"$f":"IF(HN276=0,0,HB276*2)","v":0},{"$f":"IF(OR(HB276=\"\"),0,IF(HO276=\"PIASTRA\",HP276*2,_xlfn.CEILING.MATH(SUM(12,(HB276/HM276),((HL276*HC$2)/HM276))*2,1)))","v":0},0,0,null,null,0,0,{"$f":"IF((IF(restoZero(HW276,25),(spaziIntermedi(HW276,25))+1,spaziIntermedi(HW276,25)))=(spaziIntermedi(HX276,25)),FALSE,TRUE)","v":true},0,{"$f":"+spaziIntermedi(HX276,25)-HZ276","v":0},false,0,null,{"$f":"+IF(IB276=FALSE,IC276,0)","v":0},0,null,null,null,{"$f":"_xlfn.CEILING.MATH(IF(II276<>\"PIASTRA\",0,IFERROR(IF(MOD(HV276,IG276)=0,(((_xlfn.CEILING.MATH(HV276/IG276)-1))+(HV276/IG276))*2,((_xlfn.CEILING.MATH(HV276/IG276)+(IF276/IG276))*2)),0)),1)","v":0},{"$f":"IF(IH276=0,0,HV276*2)","v":0},{"$f":"IF(OR(HV276=\"\"),0,IF(II276=\"PIASTRA\",IJ276*2,_xlfn.CEILING.MATH(SUM(12,(HV276/IG276),((IF276*HW$2)/IG276))*2,1)))","v":0},null,null,0,0,{"$f":"IF((IF(restoZero(IO276,25),(spaziIntermedi(IO276,25))+1,spaziIntermedi(IO276,25)))=(spaziIntermedi(IP276,25)),FALSE,TRUE)","v":true},0,{"$f":"+spaziIntermedi(IP276,25)-IR276","v":0},false,0,null,{"$f":"+IF(IT276=FALSE,IU276,0)","v":0},0,null,null,null,{"$f":"_xlfn.CEILING.MATH(IF(JA276<>\"PIASTRA\",0,IFERROR(IF(MOD(IN276,IY276)=0,(((_xlfn.CEILING.MATH(IN276/IY276)-1))+(IN276/IY276))*2,((_xlfn.CEILING.MATH(IN276/IY276)+(IX276/IY276))*2)),0)),1)","v":0},{"$f":"IF(IZ276=0,0,IN276*2)","v":0},{"$f":"IF(OR(IN276=\"\"),0,IF(JA276=\"PIASTRA\",JB276*2,_xlfn.CEILING.MATH(SUM(12,(IN276/IY276),((IX276*IO$2)/IY276))*2,1)))","v":0},0,0,null,null,0,0,{"$f":"IF((IF(restoZero(JI276,25),(spaziIntermedi(JI276,25))+1,spaziIntermedi(JI276,25)))=(spaziIntermedi(JJ276,25)),FALSE,TRUE)","v":true},0,{"$f":"+spaziIntermedi(JJ276,25)-JL276","v":0},false,0,null,{"$f":"+IF(JN276=FALSE,JO276,0)","v":0},0,null,null,null,{"$f":"_xlfn.CEILING.MATH(IF(JU276<>\"PIASTRA\",0,IFERROR(IF(MOD(JH276,JS276)=0,(((_xlfn.CEILING.MATH(JH276/JS276)-1))+(JH276/JS276))*2,((_xlfn.CEILING.MATH(JH276/JS276)+(JR276/JS276))*2)),0)),1)","v":0},{"$f":"IF(JT276=0,0,JH276*2)","v":0},{"$f":"IF(OR(JH276=\"\"),0,IF(JU276=\"PIASTRA\",JV276*2,_xlfn.CEILING.MATH(SUM(12,(JH276/JS276),((JR276*JI$2)/JS276))*2,1)))","v":0},null,null,0,0,{"$f":"IF((IF(restoZero(KA276,25),(spaziIntermedi(KA276,25))+1,spaziIntermedi(KA276,25)))=(spaziIntermedi(KB276,25)),FALSE,TRUE)","v":true},0,{"$f":"+spaziIntermedi(KB276,25)-KD276","v":0},false,0,null,{"$f":"+IF(KF276=FALSE,KG276,0)","v":0},0,null,null,null,{"$f":"_xlfn.CEILING.MATH(IF(KM276<>\"PIASTRA\",0,IFERROR(IF(MOD(JZ276,KK276)=0,(((_xlfn.CEILING.MATH(JZ276/KK276)-1))+(JZ276/KK276))*2,((_xlfn.CEILING.MATH(JZ276/KK276)+(KJ276/KK276))*2)),0)),1)","v":0},{"$f":"IF(KL276=0,0,JZ276*2)","v":0},{"$f":"IF(OR(JZ276=\"\"),0,IF(KM276=\"PIASTRA\",KN276*2,_xlfn.CEILING.MATH(SUM(12,(JZ276/KK276),((KJ276*KA$2)/KK276))*2,1)))","v":0},0,0,null,null,0,0,{"$f":"IF((IF(restoZero(KU276,25),(spaziIntermedi(KU276,25))+1,spaziIntermedi(KU276,25)))=(spaziIntermedi(KV276,25)),FALSE,TRUE)","v":true},0,{"$f":"+spaziIntermedi(KV276,25)-KX276","v":0},false,0,null,{"$f":"+IF(KZ276=FALSE,LA276,0)","v":0},0,null,null,null,{"$f":"_xlfn.CEILING.MATH(IF(LG276<>\"PIASTRA\",0,IFERROR(IF(MOD(KT276,LE276)=0,(((_xlfn.CEILING.MATH(KT276/LE276)-1))+(KT276/LE276))*2,((_xlfn.CEILING.MATH(KT276/LE276)+(LD276/LE276))*2)),0)),1)","v":0},{"$f":"IF(LF276=0,0,KT276*2)","v":0},{"$f":"IF(OR(KT276=\"\"),0,IF(LG276=\"PIASTRA\",LH276*2,_xlfn.CEILING.MATH(SUM(12,(KT276/LE276),((LD276*KU$2)/LE276))*2,1)))","v":0},null,null,0,0,{"$f":"IF((IF(restoZero(LM276,25),(spaziIntermedi(LM276,25))+1,spaziIntermedi(LM276,25)))=(spaziIntermedi(LN276,25)),FALSE,TRUE)","v":true},0,{"$f":"+spaziIntermedi(LN276,25)-LP276","v":0},false,0,null,{"$f":"+IF(LR276=FALSE,LS276,0)","v":0},0,null,null,null,{"$f":"_xlfn.CEILING.MATH(IF(LY276<>\"PIASTRA\",0,IFERROR(IF(MOD(LL276,LW276)=0,(((_xlfn.CEILING.MATH(LL276/LW276)-1))+(LL276/LW276))*2,((_xlfn.CEILING.MATH(LL276/LW276)+(LV276/LW276))*2)),0)),1)","v":0},{"$f":"IF(LX276=0,0,LL276*2)","v":0},{"$f":"IF(OR(LL276=\"\"),0,IF(LY276=\"PIASTRA\",LZ276*2,_xlfn.CEILING.MATH(SUM(12,(LL276/LW276),((LV276*LM$2)/LW276))*2,1)))","v":0},0,0,null,null,0,0,{"$f":"IF((IF(restoZero(MG276,25),(spaziIntermedi(MG276,25))+1,spaziIntermedi(MG276,25)))=(spaziIntermedi(MH276,25)),FALSE,TRUE)","v":true},0,{"$f":"+spaziIntermedi(MH276,25)-MJ276","v":0},false,0,null,{"$f":"+IF(ML276=FALSE,MM276,0)","v":0},0,null,null,null,{"$f":"_xlfn.CEILING.MATH(IF(MS276<>\"PIASTRA\",0,IFERROR(IF(MOD(MF276,MQ276)=0,(((_xlfn.CEILING.MATH(MF276/MQ276)-1))+(MF276/MQ276))*2,((_xlfn.CEILING.MATH(MF276/MQ276)+(MP276/MQ276))*2)),0)),1)","v":0},{"$f":"IF(MR276=0,0,MF276*2)","v":0},{"$f":"IF(OR(MF276=\"\"),0,IF(MS276=\"PIASTRA\",MT276*2,_xlfn.CEILING.MATH(SUM(12,(MF276/MQ276),((MP276*MG$2)/MQ276))*2,1)))","v":0},null,null,0,0,{"$f":"IF((IF(restoZero(MY276,25),(spaziIntermedi(MY276,25))+1,spaziIntermedi(MY276,25)))=(spaziIntermedi(MZ276,25)),FALSE,TRUE)","v":true},0,{"$f":"+spaziIntermedi(MZ276,25)-NB276","v":0},false,0,null,{"$f":"+IF(ND276=FALSE,NE276,0)","v":0},0,null,null,null,{"$f":"_xlfn.CEILING.MATH(IF(NK276<>\"PIASTRA\",0,IFERROR(IF(MOD(MX276,NI276)=0,(((_xlfn.CEILING.MATH(MX276/NI276)-1))+(MX276/NI276))*2,((_xlfn.CEILING.MATH(MX276/NI276)+(NH276/NI276))*2)),0)),1)","v":0},{"$f":"IF(NJ276=0,0,MX276*2)","v":0},{"$f":"IF(OR(MX276=\"\"),0,IF(NK276=\"PIASTRA\",NL276*2,_xlfn.CEILING.MATH(SUM(12,(MX276/NI276),((NH276*MY$2)/NI276))*2,1)))","v":0},0,0,null,null,0,0,{"$f":"IF((IF(restoZero(NS276,25),(spaziIntermedi(NS276,25))+1,spaziIntermedi(NS276,25)))=(spaziIntermedi(NT276,25)),FALSE,TRUE)","v":true},0,{"$f":"+spaziIntermedi(NT276,25)-NV276","v":0},false,0,null,{"$f":"+IF(NX276=FALSE,NY276,0)","v":0},0,null,null,null,{"$f":"_xlfn.CEILING.MATH(IF(OE276<>\"PIASTRA\",0,IFERROR(IF(MOD(NR276,OC276)=0,(((_xlfn.CEILING.MATH(NR276/OC276)-1))+(NR276/OC276))*2,((_xlfn.CEILING.MATH(NR276/OC276)+(OB276/OC276))*2)),0)),1)","v":0},{"$f":"IF(OD276=0,0,NR276*2)","v":0},{"$f":"IF(OR(NR276=\"\"),0,IF(OE276=\"PIASTRA\",OF276*2,_xlfn.CEILING.MATH(SUM(12,(NR276/OC276),((OB276*NS$2)/OC276))*2,1)))","v":0},null,null,0,0,{"$f":"IF((IF(restoZero(OK276,25),(spaziIntermedi(OK276,25))+1,spaziIntermedi(OK276,25)))=(spaziIntermedi(OL276,25)),FALSE,TRUE)","v":true},0,{"$f":"+spaziIntermedi(OL276,25)-ON276","v":0},false,0,null,{"$f":"+IF(OP276=FALSE,OQ276,0)","v":0},0,null,null,null,{"$f":"_xlfn.CEILING.MATH(IF(OW276<>\"PIASTRA\",0,IFERROR(IF(MOD(OJ276,OU276)=0,(((_xlfn.CEILING.MATH(OJ276/OU276)-1))+(OJ276/OU276))*2,((_xlfn.CEILING.MATH(OJ276/OU276)+(OT276/OU276))*2)),0)),1)","v":0},{"$f":"IF(OV276=0,0,OJ276*2)","v":0},{"$f":"IF(OR(OJ276=\"\"),0,IF(OW276=\"PIASTRA\",OX276*2,_xlfn.CEILING.MATH(SUM(12,(OJ276/OU276),((OT276*OK$2)/OU276))*2,1)))","v":0},0,0,null,null,0,0,{"$f":"IF((IF(restoZero(PE276,25),(spaziIntermedi(PE276,25))+1,spaziIntermedi(PE276,25)))=(spaziIntermedi(PF276,25)),FALSE,TRUE)","v":true},0,{"$f":"+spaziIntermedi(PF276,25)-PH276","v":0},false,0,null,{"$f":"+IF(PJ276=FALSE,PK276,0)","v":0},0,null,null,null,{"$f":"_xlfn.CEILING.MATH(IF(PQ276<>\"PIASTRA\",0,IFERROR(IF(MOD(PD276,PO276)=0,(((_xlfn.CEILING.MATH(PD276/PO276)-1))+(PD276/PO276))*2,((_xlfn.CEILING.MATH(PD276/PO276)+(PN276/PO276))*2)),0)),1)","v":0},{"$f":"IF(PP276=0,0,PD276*2)","v":0},{"$f":"IF(OR(PD276=\"\"),0,IF(PQ276=\"PIASTRA\",PR276*2,_xlfn.CEILING.MATH(SUM(12,(PD276/PO276),((PN276*PE$2)/PO276))*2,1)))","v":0},null,null,0,0,{"$f":"IF((IF(restoZero(PW276,25),(spaziIntermedi(PW276,25))+1,spaziIntermedi(PW276,25)))=(spaziIntermedi(PX276,25)),FALSE,TRUE)","v":true},0,{"$f":"+spaziIntermedi(PX276,25)-PZ276","v":0},false,0,null,{"$f":"+IF(QB276=FALSE,QC276,0)","v":0},0,null,null,null,{"$f":"_xlfn.CEILING.MATH(IF(QI276<>\"PIASTRA\",0,IFERROR(IF(MOD(PV276,QG276)=0,(((_xlfn.CEILING.MATH(PV276/QG276)-1))+(PV276/QG276))*2,((_xlfn.CEILING.MATH(PV276/QG276)+(QF276/QG276))*2)),0)),1)","v":0},{"$f":"IF(QH276=0,0,PV276*2)","v":0},{"$f":"IF(OR(PV276=\"\"),0,IF(QI276=\"PIASTRA\",QJ276*2,_xlfn.CEILING.MATH(SUM(12,(PV276/QG276),((QF276*PW$2)/QG276))*2,1)))","v":0},0,0,null,null,0,0,{"$f":"IF((IF(restoZero(QQ276,25),(spaziIntermedi(QQ276,25))+1,spaziIntermedi(QQ276,25)))=(spaziIntermedi(QR276,25)),FALSE,TRUE)","v":true},0,{"$f":"+spaziIntermedi(QR276,25)-QT276","v":0},false,0,null,{"$f":"+IF(QV276=FALSE,QW276,0)","v":0},0,null,null,null,{"$f":"_xlfn.CEILING.MATH(IF(RC276<>\"PIASTRA\",0,IFERROR(IF(MOD(QP276,RA276)=0,(((_xlfn.CEILING.MATH(QP276/RA276)-1))+(QP276/RA276))*2,((_xlfn.CEILING.MATH(QP276/RA276)+(QZ276/RA276))*2)),0)),1)","v":0},{"$f":"IF(RB276=0,0,QP276*2)","v":0},{"$f":"IF(OR(QP276=\"\"),0,IF(RC276=\"PIASTRA\",RD276*2,_xlfn.CEILING.MATH(SUM(12,(QP276/RA276),((QZ276*QQ$2)/RA276))*2,1)))","v":0},null,null,0,0,{"$f":"IF((IF(restoZero(RI276,25),(spaziIntermedi(RI276,25))+1,spaziIntermedi(RI276,25)))=(spaziIntermedi(RJ276,25)),FALSE,TRUE)","v":true},0,{"$f":"+spaziIntermedi(RJ276,25)-RL276","v":0},false,0,null,{"$f":"+IF(RN276=FALSE,RO276,0)","v":0},0,null,null,null,{"$f":"_xlfn.CEILING.MATH(IF(RU276<>\"PIASTRA\",0,IFERROR(IF(MOD(RH276,RS276)=0,(((_xlfn.CEILING.MATH(RH276/RS276)-1))+(RH276/RS276))*2,((_xlfn.CEILING.MATH(RH276/RS276)+(RR276/RS276))*2)),0)),1)","v":0},{"$f":"IF(RT276=0,0,RH276*2)","v":0},{"$f":"IF(OR(RH276=\"\"),0,IF(RU276=\"PIASTRA\",RV276*2,_xlfn.CEILING.MATH(SUM(12,(RH276/RS276),((RR276*RI$2)/RS276))*2,1)))","v":0},0,0,null,null,0,0,{"$f":"IF((IF(restoZero(SC276,25),(spaziIntermedi(SC276,25))+1,spaziIntermedi(SC276,25)))=(spaziIntermedi(SD276,25)),FALSE,TRUE)","v":true},0,{"$f":"+spaziIntermedi(SD276,25)-SF276","v":0},false,0,null,{"$f":"+IF(SH276=FALSE,SI276,0)","v":0},0,null,null,null,{"$f":"_xlfn.CEILING.MATH(IF(SO276<>\"PIASTRA\",0,IFERROR(IF(MOD(SB276,SM276)=0,(((_xlfn.CEILING.MATH(SB276/SM276)-1))+(SB276/SM276))*2,((_xlfn.CEILING.MATH(SB276/SM276)+(SL276/SM276))*2)),0)),1)","v":0},{"$f":"IF(SN276=0,0,SB276*2)","v":0},{"$f":"IF(OR(SB276=\"\"),0,IF(SO276=\"PIASTRA\",SP276*2,_xlfn.CEILING.MATH(SUM(12,(SB276/SM276),((SL276*SC$2)/SM276))*2,1)))","v":0},null,null,0,0,{"$f":"IF((IF(restoZero(SU276,25),(spaziIntermedi(SU276,25))+1,spaziIntermedi(SU276,25)))=(spaziIntermedi(SV276,25)),FALSE,TRUE)","v":true},0,{"$f":"+spaziIntermedi(SV276,25)-SX276","v":0},false,0,null,{"$f":"+IF(SZ276=FALSE,TA276,0)","v":0},0,null,null,null,{"$f":"_xlfn.CEILING.MATH(IF(TG276<>\"PIASTRA\",0,IFERROR(IF(MOD(ST276,TE276)=0,(((_xlfn.CEILING.MATH(ST276/TE276)-1))+(ST276/TE276))*2,((_xlfn.CEILING.MATH(ST276/TE276)+(TD276/TE276))*2)),0)),1)","v":0},{"$f":"IF(TF276=0,0,ST276*2)","v":0},{"$f":"IF(OR(ST276=\"\"),0,IF(TG276=\"PIASTRA\",TH276*2,_xlfn.CEILING.MATH(SUM(12,(ST276/TE276),((TD276*SU$2)/TE276))*2,1)))","v":0},0,0]
[null,null,0,0,{"$f":"IF((IF(restoZero(C295,25),(spaziIntermedi(C295,25))+1,spaziIntermedi(C295,25)))=(spaziIntermedi(D295,25)),FALSE,TRUE)","v":true},0,{"$f":"+spaziIntermedi(D295,25)-F295","v":0},false,0,null,0,0,null,null,null,0,0,0,null,null,0,0,{"$f":"IF((IF(restoZero(U295,25),(spaziIntermedi(U295,25))+1,spaziIntermedi(U295,25)))=(spaziIntermedi(V295,25)),FALSE,TRUE)","v":true},0,{"$f":"+spaziIntermedi(V295,25)-X295","v":0},false,0,null,0,0,null,null,null,0,0,0,0,0,null,null,0,0,{"$f":"IF((IF(restoZero(AO295,25),(spaziIntermedi(AO295,25))+1,spaziIntermedi(AO295,25)))=(spaziIntermedi(AP295,25)),FALSE,TRUE)","v":true},0,{"$f":"+spaziIntermedi(AP295,25)-AR295","v":0},false,0,null,0,0,null,null,null,0,0,0,null,null,0,0,{"$f":"IF((IF(restoZero(BG295,25),(spaziIntermedi(BG295,25))+1,spaziIntermedi(BG295,25)))=(spaziIntermedi(BH295,25)),FALSE,TRUE)","v":true},0,{"$f":"+spaziIntermedi(BH295,25)-BJ295","v":0},false,0,null,0,0,null,null,null,0,0,0,0,0,null,null,0,0,{"$f":"IF((IF(restoZero(CA295,25),(spaziIntermedi(CA295,25))+1,spaziIntermedi(CA295,25)))=(spaziIntermedi(CB295,25)),FALSE,TRUE)","v":true},0,{"$f":"+spaziIntermedi(CB295,25)-CD295","v":0},false,0,null,0,0,null,null,null,0,0,0,null,null,0,0,{"$f":"IF((IF(restoZero(CS295,25),(spaziIntermedi(CS295,25))+1,spaziIntermedi(CS295,25)))=(spaziIntermedi(CT295,25)),FALSE,TRUE)","v":true},0,{"$f":"+spaziIntermedi(CT295,25)-CV295","v":0},false,0,null,0,0,null,null,null,0,0,0,0,0,null,null,0,0,{"$f":"IF((IF(restoZero(DM295,25),(spaziIntermedi(DM295,25))+1,spaziIntermedi(DM295,25)))=(spaziIntermedi(DN295,25)),FALSE,TRUE)","v":true},0,{"$f":"+spaziIntermedi(DN295,25)-DP295","v":0},false,0,null,0,0,null,null,null,0,0,0,null,null,0,0,{"$f":"IF((IF(restoZero(EE295,25),(spaziIntermedi(EE295,25))+1,spaziIntermedi(EE295,25)))=(spaziIntermedi(EF295,25)),FALSE,TRUE)","v":true},0,{"$f":"+spaziIntermedi(EF295,25)-EH295","v":0},false,0,null,0,0,null,null,null,0,0,0,0,0,null,null,0,0,{"$f":"IF((IF(restoZero(EY295,25),(spaziIntermedi(EY295,25))+1,spaziIntermedi(EY295,25)))=(spaziIntermedi(EZ295,25)),FALSE,TRUE)","v":true},0,{"$f":"+spaziIntermedi(EZ295,25)-FB295","v":0},false,0,null,0,0,null,null,null,0,0,0,null,null,0,0,{"$f":"IF((IF(restoZero(FQ295,25),(spaziIntermedi(FQ295,25))+1,spaziIntermedi(FQ295,25)))=(spaziIntermedi(FR295,25)),FALSE,TRUE)","v":true},0,{"$f":"+spaziIntermedi(FR295,25)-FT295","v":0},false,0,null,0,0,null,null,null,0,0,0,0,0,null,null,0,0,{"$f":"IF((IF(restoZero(GK295,25),(spaziIntermedi(GK295,25))+1,spaziIntermedi(GK295,25)))=(spaziIntermedi(GL295,25)),FALSE,TRUE)","v":true},0,{"$f":"+spaziIntermedi(GL295,25)-GN295","v":0},false,0,null,0,0,null,null,null,0,0,0,null,null,0,0,{"$f":"IF((IF(restoZero(HC295,25),(spaziIntermedi(HC295,25))+1,spaziIntermedi(HC295,25)))=(spaziIntermedi(HD295,25)),FALSE,TRUE)","v":true},0,{"$f":"+spaziIntermedi(HD295,25)-HF295","v":0},false,0,null,0,0,null,null,null,0,0,0,0,0,null,null,0,0,{"$f":"IF((IF(restoZero(HW295,25),(spaziIntermedi(HW295,25))+1,spaziIntermedi(HW295,25)))=(spaziIntermedi(HX295,25)),FALSE,TRUE)","v":true},0,{"$f":"+spaziIntermedi(HX295,25)-HZ295","v":0},false,0,null,0,0,null,null,null,0,0,0,null,null,0,0,{"$f":"IF((IF(restoZero(IO295,25),(spaziIntermedi(IO295,25))+1,spaziIntermedi(IO295,25)))=(spaziIntermedi(IP295,25)),FALSE,TRUE)","v":true},0,{"$f":"+spaziIntermedi(IP295,25)-IR295","v":0},false,0,null,0,0,null,null,null,0,0,0,0,0,null,null,0,0,{"$f":"IF((IF(restoZero(JI295,25),(spaziIntermedi(JI295,25))+1,spaziIntermedi(JI295,25)))=(spaziIntermedi(JJ295,25)),FALSE,TRUE)","v":true},0,{"$f":"+spaziIntermedi(JJ295,25)-JL295","v":0},false,0,null,0,0,null,null,null,0,0,0,null,null,0,0,{"$f":"IF((IF(restoZero(KA295,25),(spaziIntermedi(KA295,25))+1,spaziIntermedi(KA295,25)))=(spaziIntermedi(KB295,25)),FALSE,TRUE)","v":true},0,{"$f":"+spaziIntermedi(KB295,25)-KD295","v":0},false,0,null,0,0,null,null,null,0,0,0,0,0,null,null,0,0,{"$f":"IF((IF(restoZero(KU295,25),(spaziIntermedi(KU295,25))+1,spaziIntermedi(KU295,25)))=(spaziIntermedi(KV295,25)),FALSE,TRUE)","v":true},0,{"$f":"+spaziIntermedi(KV295,25)-KX295","v":0},false,0,null,0,0,null,null,null,0,0,0,null,null,0,0,{"$f":"IF((IF(restoZero(LM295,25),(spaziIntermedi(LM295,25))+1,spaziIntermedi(LM295,25)))=(spaziIntermedi(LN295,25)),FALSE,TRUE)","v":true},0,{"$f":"+spaziIntermedi(LN295,25)-LP295","v":0},false,0,null,0,0,null,null,null,0,0,0,0,0,null,null,0,0,{"$f":"IF((IF(restoZero(MG295,25),(spaziIntermedi(MG295,25))+1,spaziIntermedi(MG295,25)))=(spaziIntermedi(MH295,25)),FALSE,TRUE)","v":true},0,{"$f":"+spaziIntermedi(MH295,25)-MJ295","v":0},false,0,null,0,0,null,null,null,0,0,0,null,null,0,0,{"$f":"IF((IF(restoZero(MY295,25),(spaziIntermedi(MY295,25))+1,spaziIntermedi(MY295,25)))=(spaziIntermedi(MZ295,25)),FALSE,TRUE)","v":true},0,{"$f":"+spaziIntermedi(MZ295,25)-NB295","v":0},false,0,null,0,0,null,null,null,0,0,0,0,0,null,null,0,0,{"$f":"IF((IF(restoZero(NS295,25),(spaziIntermedi(NS295,25))+1,spaziIntermedi(NS295,25)))=(spaziIntermedi(NT295,25)),FALSE,TRUE)","v":true},0,{"$f":"+spaziIntermedi(NT295,25)-NV295","v":0},false,0,null,0,0,null,null,null,0,0,0,null,null,0,0,{"$f":"IF((IF(restoZero(OK295,25),(spaziIntermedi(OK295,25))+1,spaziIntermedi(OK295,25)))=(spaziIntermedi(OL295,25)),FALSE,TRUE)","v":true},0,{"$f":"+spaziIntermedi(OL295,25)-ON295","v":0},false,0,null,0,0,null,null,null,0,0,0,0,0,null,null,0,0,{"$f":"IF((IF(restoZero(PE295,25),(spaziIntermedi(PE295,25))+1,spaziIntermedi(PE295,25)))=(spaziIntermedi(PF295,25)),FALSE,TRUE)","v":true},0,{"$f":"+spaziIntermedi(PF295,25)-PH295","v":0},false,0,null,0,0,null,null,null,0,0,0,null,null,0,0,{"$f":"IF((IF(restoZero(PW295,25),(spaziIntermedi(PW295,25))+1,spaziIntermedi(PW295,25)))=(spaziIntermedi(PX295,25)),FALSE,TRUE)","v":true},0,{"$f":"+spaziIntermedi(PX295,25)-PZ295","v":0},false,0,null,0,0,null,null,null,0,0,0,0,0,null,null,0,0,{"$f":"IF((IF(restoZero(QQ295,25),(spaziIntermedi(QQ295,25))+1,spaziIntermedi(QQ295,25)))=(spaziIntermedi(QR295,25)),FALSE,TRUE)","v":true},0,{"$f":"+spaziIntermedi(QR295,25)-QT295","v":0},false,0,null,0,0,null,null,null,0,0,0,null,null,0,0,{"$f":"IF((IF(restoZero(RI295,25),(spaziIntermedi(RI295,25))+1,spaziIntermedi(RI295,25)))=(spaziIntermedi(RJ295,25)),FALSE,TRUE)","v":true},0,{"$f":"+spaziIntermedi(RJ295,25)-RL295","v":0},false,0,null,0,0,null,null,null,0,0,0,0,0,null,null,0,0,{"$f":"IF((IF(restoZero(SC295,25),(spaziIntermedi(SC295,25))+1,spaziIntermedi(SC295,25)))=(spaziIntermedi(SD295,25)),FALSE,TRUE)","v":true},0,{"$f":"+spaziIntermedi(SD295,25)-SF295","v":0},false,0,null,0,0,null,null,null,0,0,0,null,null,0,0,{"$f":"IF((IF(restoZero(SU295,25),(spaziIntermedi(SU295,25))+1,spaziIntermedi(SU295,25)))=(spaziIntermedi(SV295,25)),FALSE,TRUE)","v":true},0,{"$f":"+spaziIntermedi(SV295,25)-SX295","v":0},false,0,null,0,0,null,null,null,0,0,0,0,0]
[null,null,0,0,{"$f":"IF((IF(restoZero(C314,25),(spaziIntermedi(C314,25))+1,spaziIntermedi(C314,25)))=(spaziIntermedi(D314,25)),FALSE,TRUE)","v":true},0,{"$f":"+spaziIntermedi(D314,25)-F314","v":0},false,0,null,0,0,null,null,null,0,0,0,null,null,0,0,{"$f":"IF((IF(restoZero(U314,25),(spaziIntermedi(U314,25))+1,spaziIntermedi(U314,25)))=(spaziIntermedi(V314,25)),FALSE,TRUE)","v":true},0,{"$f":"+spaziIntermedi(V314,25)-X314","v":0},false,0,null,0,0,null,null,null,0,0,0,0,0,null,null,0,0,{"$f":"IF((IF(restoZero(AO314,25),(spaziIntermedi(AO314,25))+1,spaziIntermedi(AO314,25)))=(spaziIntermedi(AP314,25)),FALSE,TRUE)","v":true},0,{"$f":"+spaziIntermedi(AP314,25)-AR314","v":0},false,0,null,0,0,null,null,null,0,0,0,null,null,0,0,{"$f":"IF((IF(restoZero(BG314,25),(spaziIntermedi(BG314,25))+1,spaziIntermedi(BG314,25)))=(spaziIntermedi(BH314,25)),FALSE,TRUE)","v":true},0,{"$f":"+spaziIntermedi(BH314,25)-BJ314","v":0},false,0,null,0,0,null,null,null,0,0,0,0,0,null,null,0,0,{"$f":"IF((IF(restoZero(CA314,25),(spaziIntermedi(CA314,25))+1,spaziIntermedi(CA314,25)))=(spaziIntermedi(CB314,25)),FALSE,TRUE)","v":true},0,{"$f":"+spaziIntermedi(CB314,25)-CD314","v":0},false,0,null,0,0,null,null,null,0,0,0,null,null,0,0,{"$f":"IF((IF(restoZero(CS314,25),(spaziIntermedi(CS314,25))+1,spaziIntermedi(CS314,25)))=(spaziIntermedi(CT314,25)),FALSE,TRUE)","v":true},0,{"$f":"+spaziIntermedi(CT314,25)-CV314","v":0},false,0,null,0,0,null,null,null,0,0,0,0,0,null,null,0,0,{"$f":"IF((IF(restoZero(DM314,25),(spaziIntermedi(DM314,25))+1,spaziIntermedi(DM314,25)))=(spaziIntermedi(DN314,25)),FALSE,TRUE)","v":true},0,{"$f":"+spaziIntermedi(DN314,25)-DP314","v":0},false,0,null,0,0,null,null,null,0,0,0,null,null,0,0,{"$f":"IF((IF(restoZero(EE314,25),(spaziIntermedi(EE314,25))+1,spaziIntermedi(EE314,25)))=(spaziIntermedi(EF314,25)),FALSE,TRUE)","v":true},0,{"$f":"+spaziIntermedi(EF314,25)-EH314","v":0},false,0,null,0,0,null,null,null,0,0,0,0,0,null,null,0,0,{"$f":"IF((IF(restoZero(EY314,25),(spaziIntermedi(EY314,25))+1,spaziIntermedi(EY314,25)))=(spaziIntermedi(EZ314,25)),FALSE,TRUE)","v":true},0,{"$f":"+spaziIntermedi(EZ314,25)-FB314","v":0},false,0,null,0,0,null,null,null,0,0,0,null,null,0,0,{"$f":"IF((IF(restoZero(FQ314,25),(spaziIntermedi(FQ314,25))+1,spaziIntermedi(FQ314,25)))=(spaziIntermedi(FR314,25)),FALSE,TRUE)","v":true},0,{"$f":"+spaziIntermedi(FR314,25)-FT314","v":0},false,0,null,0,0,null,null,null,0,0,0,0,0,null,null,0,0,{"$f":"IF((IF(restoZero(GK314,25),(spaziIntermedi(GK314,25))+1,spaziIntermedi(GK314,25)))=(spaziIntermedi(GL314,25)),FALSE,TRUE)","v":true},0,{"$f":"+spaziIntermedi(GL314,25)-GN314","v":0},false,0,null,0,0,null,null,null,0,0,0,null,null,0,0,{"$f":"IF((IF(restoZero(HC314,25),(spaziIntermedi(HC314,25))+1,spaziIntermedi(HC314,25)))=(spaziIntermedi(HD314,25)),FALSE,TRUE)","v":true},0,{"$f":"+spaziIntermedi(HD314,25)-HF314","v":0},false,0,null,0,0,null,null,null,0,0,0,0,0,null,null,0,0,{"$f":"IF((IF(restoZero(HW314,25),(spaziIntermedi(HW314,25))+1,spaziIntermedi(HW314,25)))=(spaziIntermedi(HX314,25)),FALSE,TRUE)","v":true},0,{"$f":"+spaziIntermedi(HX314,25)-HZ314","v":0},false,0,null,0,0,null,null,null,0,0,0,null,null,0,0,{"$f":"IF((IF(restoZero(IO314,25),(spaziIntermedi(IO314,25))+1,spaziIntermedi(IO314,25)))=(spaziIntermedi(IP314,25)),FALSE,TRUE)","v":true},0,{"$f":"+spaziIntermedi(IP314,25)-IR314","v":0},false,0,null,0,0,null,null,null,0,0,0,0,0,null,null,0,0,{"$f":"IF((IF(restoZero(JI314,25),(spaziIntermedi(JI314,25))+1,spaziIntermedi(JI314,25)))=(spaziIntermedi(JJ314,25)),FALSE,TRUE)","v":true},0,{"$f":"+spaziIntermedi(JJ314,25)-JL314","v":0},false,0,null,0,0,null,null,null,0,0,0,null,null,0,0,{"$f":"IF((IF(restoZero(KA314,25),(spaziIntermedi(KA314,25))+1,spaziIntermedi(KA314,25)))=(spaziIntermedi(KB314,25)),FALSE,TRUE)","v":true},0,{"$f":"+spaziIntermedi(KB314,25)-KD314","v":0},false,0,null,0,0,null,null,null,0,0,0,0,0,null,null,0,0,{"$f":"IF((IF(restoZero(KU314,25),(spaziIntermedi(KU314,25))+1,spaziIntermedi(KU314,25)))=(spaziIntermedi(KV314,25)),FALSE,TRUE)","v":true},0,{"$f":"+spaziIntermedi(KV314,25)-KX314","v":0},false,0,null,0,0,null,null,null,0,0,0,null,null,0,0,{"$f":"IF((IF(restoZero(LM314,25),(spaziIntermedi(LM314,25))+1,spaziIntermedi(LM314,25)))=(spaziIntermedi(LN314,25)),FALSE,TRUE)","v":true},0,{"$f":"+spaziIntermedi(LN314,25)-LP314","v":0},false,0,null,0,0,null,null,null,0,0,0,0,0,null,null,0,0,{"$f":"IF((IF(restoZero(MG314,25),(spaziIntermedi(MG314,25))+1,spaziIntermedi(MG314,25)))=(spaziIntermedi(MH314,25)),FALSE,TRUE)","v":true},0,{"$f":"+spaziIntermedi(MH314,25)-MJ314","v":0},false,0,null,0,0,null,null,null,0,0,0,null,null,0,0,{"$f":"IF((IF(restoZero(MY314,25),(spaziIntermedi(MY314,25))+1,spaziIntermedi(MY314,25)))=(spaziIntermedi(MZ314,25)),FALSE,TRUE)","v":true},0,{"$f":"+spaziIntermedi(MZ314,25)-NB314","v":0},false,0,null,0,0,null,null,null,0,0,0,0,0,null,null,0,0,{"$f":"IF((IF(restoZero(NS314,25),(spaziIntermedi(NS314,25))+1,spaziIntermedi(NS314,25)))=(spaziIntermedi(NT314,25)),FALSE,TRUE)","v":true},0,{"$f":"+spaziIntermedi(NT314,25)-NV314","v":0},false,0,null,0,0,null,null,null,0,0,0,null,null,0,0,{"$f":"IF((IF(restoZero(OK314,25),(spaziIntermedi(OK314,25))+1,spaziIntermedi(OK314,25)))=(spaziIntermedi(OL314,25)),FALSE,TRUE)","v":true},0,{"$f":"+spaziIntermedi(OL314,25)-ON314","v":0},false,0,null,0,0,null,null,null,0,0,0,0,0,null,null,0,0,{"$f":"IF((IF(restoZero(PE314,25),(spaziIntermedi(PE314,25))+1,spaziIntermedi(PE314,25)))=(spaziIntermedi(PF314,25)),FALSE,TRUE)","v":true},0,{"$f":"+spaziIntermedi(PF314,25)-PH314","v":0},false,0,null,0,0,null,null,null,0,0,0,null,null,0,0,{"$f":"IF((IF(restoZero(PW314,25),(spaziIntermedi(PW314,25))+1,spaziIntermedi(PW314,25)))=(spaziIntermedi(PX314,25)),FALSE,TRUE)","v":true},0,{"$f":"+spaziIntermedi(PX314,25)-PZ314","v":0},false,0,null,0,0,null,null,null,0,0,0,0,0,null,null,0,0,{"$f":"IF((IF(restoZero(QQ314,25),(spaziIntermedi(QQ314,25))+1,spaziIntermedi(QQ314,25)))=(spaziIntermedi(QR314,25)),FALSE,TRUE)","v":true},0,{"$f":"+spaziIntermedi(QR314,25)-QT314","v":0},false,0,null,0,0,null,null,null,0,0,0,null,null,0,0,{"$f":"IF((IF(restoZero(RI314,25),(spaziIntermedi(RI314,25))+1,spaziIntermedi(RI314,25)))=(spaziIntermedi(RJ314,25)),FALSE,TRUE)","v":true},0,{"$f":"+spaziIntermedi(RJ314,25)-RL314","v":0},false,0,null,0,0,null,null,null,0,0,0,0,0,null,null,0,0,{"$f":"IF((IF(restoZero(SC314,25),(spaziIntermedi(SC314,25))+1,spaziIntermedi(SC314,25)))=(spaziIntermedi(SD314,25)),FALSE,TRUE)","v":true},0,{"$f":"+spaziIntermedi(SD314,25)-SF314","v":0},false,0,null,0,0,null,null,null,0,0,0,null,null,0,0,{"$f":"IF((IF(restoZero(SU314,25),(spaziIntermedi(SU314,25))+1,spaziIntermedi(SU314,25)))=(spaziIntermedi(SV314,25)),FALSE,TRUE)","v":true},0,{"$f":"+spaziIntermedi(SV314,25)-SX314","v":0},false,0,null,0,0,null,null,null,0,0,0,0,0]
[null,null,0,0,{"$f":"IF((IF(restoZero(C339,25),(spaziIntermedi(C339,25))+1,spaziIntermedi(C339,25)))=(spaziIntermedi(D339,25)),FALSE,TRUE)","v":true},{"$f":"+D339/constLungRot","v":0},{"$f":"+spaziIntermedi(D339,25)-F339","v":0},{"$f":"+G339*constLungRot>=($C$2*2)","v":false},{"$f":"+G339*constLungRot","v":0},null,0,{"$f":"+IF(AND(E339=TRUE,H339=TRUE),$C$2,0)","v":0},null,null,null,{"$f":"_xlfn.CEILING.MATH(IF(O339<>\"PIASTRA\",0,IFERROR(IF(MOD(B339,M339)=0,(((_xlfn.CEILING.MATH(B339/M339)-1))+(B339/M339))*2,((_xlfn.CEILING.MATH(B339/M339)+(L339/M339))*2)),0)),1)","v":0},0,0,null,null,0,0,{"$f":"IF((IF(restoZero(U339,25),(spaziIntermedi(U339,25))+1,spaziIntermedi(U339,25)))=(spaziIntermedi(V339,25)),FALSE,TRUE)","v":true},0,{"$f":"+spaziIntermedi(V339,25)-X339","v":0},false,0,null,0,{"$f":"+IF(AND(W339=TRUE,Z339=TRUE),$C$2,0)","v":0},null,null,null,0,0,0,{"$f":"IFERROR(CEILING((T339/intSpring)*1.5,1),0)","v":0},{"$f":"IFERROR(_xlfn.CEILING.MATH((T339/intStaple)*4,1),0)","v":0},null,null,0,0,{"$f":"IF((IF(restoZero(AO339,25),(spaziIntermedi(AO339,25))+1,spaziIntermedi(AO339,25)))=(spaziIntermedi(AP339,25)),FALSE,TRUE)","v":true},{"$f":"+AP339/constLungRot","v":0},{"$f":"+spaziIntermedi(AP339,25)-AR339","v":0},{"$f":"+AS339*constLungRot>=($C$2*2)","v":false},{"$f":"+AS339*constLungRot","v":0},null,0,{"$f":"+IF(AND(AQ339=TRUE,AT339=TRUE),$C$2,0)","v":0},null,null,null,0,0,0,null,null,0,0,{"$f":"IF((IF(restoZero(BG339,25),(spaziIntermedi(BG339,25))+1,spaziIntermedi(BG339,25)))=(spaziIntermedi(BH339,25)),FALSE,TRUE)","v":true},{"$f":"+BH339/constLungRot","v":0},{"$f":"+spaziIntermedi(BH339,25)-BJ339","v":0},false,{"$f":"+BK339*constLungRot","v":0},null,0,{"$f":"+IF(AND(BI339=TRUE,BL339=TRUE),$C$2,0)","v":0},null,null,null,0,0,0,{"$f":"IFERROR(CEILING((BF339/intSpring)*1.5,1),0)","v":0},{"$f":"IFERROR(_xlfn.CEILING.MATH((BF339/intStaple)*4,1),0)","v":0},null,null,0,0,{"$f":"IF((IF(restoZero(CA339,25),(spaziIntermedi(CA339,25))+1,spaziIntermedi(CA339,25)))=(spaziIntermedi(CB339,25)),FALSE,TRUE)","v":true},{"$f":"+CB339/constLungRot","v":0},{"$f":"+spaziIntermedi(CB339,25)-CD339","v":0},{"$f":"+CE339*constLungRot>=($C$2*2)","v":false},{"$f":"+CE339*constLungRot","v":0},null,0,{"$f":"+IF(AND(CC339=TRUE,CF339=TRUE),$C$2,0)","v":0},null,null,null,0,0,0,null,null,0,0,{"$f":"IF((IF(restoZero(CS339,25),(spaziIntermedi(CS339,25))+1,spaziIntermedi(CS339,25)))=(spaziIntermedi(CT339,25)),FALSE,TRUE)","v":true},{"$f":"+CT339/constLungRot","v":0},{"$f":"+spaziIntermedi(CT339,25)-CV339","v":0},false,{"$f":"+CW339*constLungRot","v":0},null,0,{"$f":"+IF(AND(CU339=TRUE,CX339=TRUE),$C$2,0)","v":0},null,null,null,0,0,0,{"$f":"IFERROR(CEILING((CR339/intSpring)*1.5,1),0)","v":0},{"$f":"IFERROR(_xlfn.CEILING.MATH((CR339/intStaple)*4,1),0)","v":0},null,null,0,0,{"$f":"IF((IF(restoZero(DM339,25),(spaziIntermedi(DM339,25))+1,spaziIntermedi(DM339,25)))=(spaziIntermedi(DN339,25)),FALSE,TRUE)","v":true},{"$f":"+DN339/constLungRot","v":0},{"$f":"+spaziIntermedi(DN339,25)-DP339","v":0},{"$f":"+DQ339*constLungRot>=($C$2*2)","v":false},{"$f":"+DQ339*constLungRot","v":0},null,0,{"$f":"+IF(AND(DO339=TRUE,DR339=TRUE),$C$2,0)","v":0},null,null,null,0,0,0,null,null,0,0,{"$f":"IF((IF(restoZero(EE339,25),(spaziIntermedi(EE339,25))+1,spaziIntermedi(EE339,25)))=(spaziIntermedi(EF339,25)),FALSE,TRUE)","v":true},{"$f":"+EF339/constLungRot","v":0},{"$f":"+spaziIntermedi(EF339,25)-EH339","v":0},false,{"$f":"+EI339*constLungRot","v":0},null,0,{"$f":"+IF(AND(EG339=TRUE,EJ339=TRUE),$C$2,0)","v":0},null,null,null,0,0,0,{"$f":"IFERROR(CEILING((ED339/intSpring)*1.5,1),0)","v":0},{"$f":"IFERROR(_xlfn.CEILING.MATH((ED339/intStaple)*4,1),0)","v":0},null,null,0,0,{"$f":"IF((IF(restoZero(EY339,25),(spaziIntermedi(EY339,25))+1,spaziIntermedi(EY339,25)))=(spaziIntermedi(EZ339,25)),FALSE,TRUE)","v":true},{"$f":"+EZ339/constLungRot","v":0},{"$f":"+spaziIntermedi(EZ339,25)-FB339","v":0},{"$f":"+FC339*constLungRot>=($C$2*2)","v":false},{"$f":"+FC339*constLungRot","v":0},null,0,{"$f":"+IF(AND(FA339=TRUE,FD339=TRUE),$C$2,0)","v":0},null,null,null,0,0,0,null,null,0,0,{"$f":"IF((IF(restoZero(FQ339,25),(spaziIntermedi(FQ339,25))+1,spaziIntermedi(FQ339,25)))=(spaziIntermedi(FR339,25)),FALSE,TRUE)","v":true},{"$f":"+FR339/constLungRot","v":0},{"$f":"+spaziIntermedi(FR339,25)-FT339","v":0},false,{"$f":"+FU339*constLungRot","v":0},null,0,{"$f":"+IF(AND(FS339=TRUE,FV339=TRUE),$C$2,0)","v":0},null,null,null,0,0,0,{"$f":"IFERROR(CEILING((FP339/intSpring)*1.5,1),0)","v":0},{"$f":"IFERROR(_xlfn.CEILING.MATH((FP339/intStaple)*4,1),0)","v":0},null,null,0,0,{"$f":"IF((IF(restoZero(GK339,25),(spaziIntermedi(GK339,25))+1,spaziIntermedi(GK339,25)))=(spaziIntermedi(GL339,25)),FALSE,TRUE)","v":true},{"$f":"+GL339/constLungRot","v":0},{"$f":"+spaziIntermedi(GL339,25)-GN339","v":0},{"$f":"+GO339*constLungRot>=($C$2*2)","v":false},{"$f":"+GO339*constLungRot","v":0},null,0,{"$f":"+IF(AND(GM339=TRUE,GP339=TRUE),$C$2,0)","v":0},null,null,null,0,0,0,null,null,0,0,{"$f":"IF((IF(restoZero(HC339,25),(spaziIntermedi(HC339,25))+1,spaziIntermedi(HC339,25)))=(spaziIntermedi(HD339,25)),FALSE,TRUE)","v":true},{"$f":"+HD339/constLungRot","v":0},{"$f":"+spaziIntermedi(HD339,25)-HF339","v":0},false,{"$f":"+HG339*constLungRot","v":0},null,0,{"$f":"+IF(AND(HE339=TRUE,HH339=TRUE),$C$2,0)","v":0},null,null,null,0,0,0,{"$f":"IFERROR(CEILING((HB339/intSpring)*1.5,1),0)","v":0},{"$f":"IFERROR(_xlfn.CEILING.MATH((HB339/intStaple)*4,1),0)","v":0},null,null,0,0,{"$f":"IF((IF(restoZero(HW339,25),(spaziIntermedi(HW339,25))+1,spaziIntermedi(HW339,25)))=(spaziIntermedi(HX339,25)),FALSE,TRUE)","v":true},{"$f":"+HX339/constLungRot","v":0},{"$f":"+spaziIntermedi(HX339,25)-HZ339","v":0},{"$f":"+IA339*constLungRot>=($C$2*2)","v":false},{"$f":"+IA339*constLungRot","v":0},null,0,{"$f":"+IF(AND(HY339=TRUE,IB339=TRUE),$C$2,0)","v":0},null,null,null,0,0,0,null,null,0,0,{"$f":"IF((IF(restoZero(IO339,25),(spaziIntermedi(IO339,25))+1,spaziIntermedi(IO339,25)))=(spaziIntermedi(IP339,25)),FALSE,TRUE)","v":true},{"$f":"+IP339/constLungRot","v":0},{"$f":"+spaziIntermedi(IP339,25)-IR339","v":0},false,{"$f":"+IS339*constLungRot","v":0},null,0,{"$f":"+IF(AND(IQ339=TRUE,IT339=TRUE),$C$2,0)","v":0},null,null,null,0,0,0,{"$f":"IFERROR(CEILING((IN339/intSpring)*1.5,1),0)","v":0},{"$f":"IFERROR(_xlfn.CEILING.MATH((IN339/intStaple)*4,1),0)","v":0},null,null,0,0,{"$f":"IF((IF(restoZero(JI339,25),(spaziIntermedi(JI339,25))+1,spaziIntermedi(JI339,25)))=(spaziIntermedi(JJ339,25)),FALSE,TRUE)","v":true},{"$f":"+JJ339/constLungRot","v":0},{"$f":"+spaziIntermedi(JJ339,25)-JL339","v":0},{"$f":"+JM339*constLungRot>=($C$2*2)","v":false},{"$f":"+JM339*constLungRot","v":0},null,0,{"$f":"+IF(AND(JK339=TRUE,JN339=TRUE),$C$2,0)","v":0},null,null,null,0,0,0,null,null,0,0,{"$f":"IF((IF(restoZero(KA339,25),(spaziIntermedi(KA339,25))+1,spaziIntermedi(KA339,25)))=(spaziIntermedi(KB339,25)),FALSE,TRUE)","v":true},{"$f":"+KB339/constLungRot","v":0},{"$f":"+spaziIntermedi(KB339,25)-KD339","v":0},false,{"$f":"+KE339*constLungRot","v":0},null,0,{"$f":"+IF(AND(KC339=TRUE,KF339=TRUE),$C$2,0)","v":0},null,null,null,0,0,0,{"$f":"IFERROR(CEILING((JZ339/intSpring)*1.5,1),0)","v":0},{"$f":"IFERROR(_xlfn.CEILING.MATH((JZ339/intStaple)*4,1),0)","v":0},null,null,0,0,{"$f":"IF((IF(restoZero(KU339,25),(spaziIntermedi(KU339,25))+1,spaziIntermedi(KU339,25)))=(spaziIntermedi(KV339,25)),FALSE,TRUE)","v":true},{"$f":"+KV339/constLungRot","v":0},{"$f":"+spaziIntermedi(KV339,25)-KX339","v":0},{"$f":"+KY339*constLungRot>=($C$2*2)","v":false},{"$f":"+KY339*constLungRot","v":0},null,0,{"$f":"+IF(AND(KW339=TRUE,KZ339=TRUE),$C$2,0)","v":0},null,null,null,0,0,0,null,null,0,0,{"$f":"IF((IF(restoZero(LM339,25),(spaziIntermedi(LM339,25))+1,spaziIntermedi(LM339,25)))=(spaziIntermedi(LN339,25)),FALSE,TRUE)","v":true},{"$f":"+LN339/constLungRot","v":0},{"$f":"+spaziIntermedi(LN339,25)-LP339","v":0},false,{"$f":"+LQ339*constLungRot","v":0},null,0,{"$f":"+IF(AND(LO339=TRUE,LR339=TRUE),$C$2,0)","v":0},null,null,null,0,0,0,{"$f":"IFERROR(CEILING((LL339/intSpring)*1.5,1),0)","v":0},{"$f":"IFERROR(_xlfn.CEILING.MATH((LL339/intStaple)*4,1),0)","v":0},null,null,0,0,{"$f":"IF((IF(restoZero(MG339,25),(spaziIntermedi(MG339,25))+1,spaziIntermedi(MG339,25)))=(spaziIntermedi(MH339,25)),FALSE,TRUE)","v":true},{"$f":"+MH339/constLungRot","v":0},{"$f":"+spaziIntermedi(MH339,25)-MJ339","v":0},{"$f":"+MK339*constLungRot>=($C$2*2)","v":false},{"$f":"+MK339*constLungRot","v":0},null,0,{"$f":"+IF(AND(MI339=TRUE,ML339=TRUE),$C$2,0)","v":0},null,null,null,0,0,0,null,null,0,0,{"$f":"IF((IF(restoZero(MY339,25),(spaziIntermedi(MY339,25))+1,spaziIntermedi(MY339,25)))=(spaziIntermedi(MZ339,25)),FALSE,TRUE)","v":true},{"$f":"+MZ339/constLungRot","v":0},{"$f":"+spaziIntermedi(MZ339,25)-NB339","v":0},false,{"$f":"+NC339*constLungRot","v":0},null,0,{"$f":"+IF(AND(NA339=TRUE,ND339=TRUE),$C$2,0)","v":0},null,null,null,0,0,0,{"$f":"IFERROR(CEILING((MX339/intSpring)*1.5,1),0)","v":0},{"$f":"IFERROR(_xlfn.CEILING.MATH((MX339/intStaple)*4,1),0)","v":0},null,null,0,0,{"$f":"IF((IF(restoZero(NS339,25),(spaziIntermedi(NS339,25))+1,spaziIntermedi(NS339,25)))=(spaziIntermedi(NT339,25)),FALSE,TRUE)","v":true},{"$f":"+NT339/constLungRot","v":0},{"$f":"+spaziIntermedi(NT339,25)-NV339","v":0},{"$f":"+NW339*constLungRot>=($C$2*2)","v":false},{"$f":"+NW339*constLungRot","v":0},null,0,{"$f":"+IF(AND(NU339=TRUE,NX339=TRUE),$C$2,0)","v":0},null,null,null,0,0,0,null,null,0,0,{"$f":"IF((IF(restoZero(OK339,25),(spaziIntermedi(OK339,25))+1,spaziIntermedi(OK339,25)))=(spaziIntermedi(OL339,25)),FALSE,TRUE)","v":true},{"$f":"+OL339/constLungRot","v":0},{"$f":"+spaziIntermedi(OL339,25)-ON339","v":0},false,{"$f":"+OO339*constLungRot","v":0},null,0,{"$f":"+IF(AND(OM339=TRUE,OP339=TRUE),$C$2,0)","v":0},null,null,null,0,0,0,{"$f":"IFERROR(CEILING((OJ339/intSpring)*1.5,1),0)","v":0},{"$f":"IFERROR(_xlfn.CEILING.MATH((OJ339/intStaple)*4,1),0)","v":0},null,null,0,0,{"$f":"IF((IF(restoZero(PE339,25),(spaziIntermedi(PE339,25))+1,spaziIntermedi(PE339,25)))=(spaziIntermedi(PF339,25)),FALSE,TRUE)","v":true},{"$f":"+PF339/constLungRot","v":0},{"$f":"+spaziIntermedi(PF339,25)-PH339","v":0},{"$f":"+PI339*constLungRot>=($C$2*2)","v":false},{"$f":"+PI339*constLungRot","v":0},null,0,{"$f":"+IF(AND(PG339=TRUE,PJ339=TRUE),$C$2,0)","v":0},null,null,null,0,0,0,null,null,0,0,{"$f":"IF((IF(restoZero(PW339,25),(spaziIntermedi(PW339,25))+1,spaziIntermedi(PW339,25)))=(spaziIntermedi(PX339,25)),FALSE,TRUE)","v":true},{"$f":"+PX339/constLungRot","v":0},{"$f":"+spaziIntermedi(PX339,25)-PZ339","v":0},false,{"$f":"+QA339*constLungRot","v":0},null,0,{"$f":"+IF(AND(PY339=TRUE,QB339=TRUE),$C$2,0)","v":0},null,null,null,0,0,0,{"$f":"IFERROR(CEILING((PV339/intSpring)*1.5,1),0)","v":0},{"$f":"IFERROR(_xlfn.CEILING.MATH((PV339/intStaple)*4,1),0)","v":0},null,null,0,0,{"$f":"IF((IF(restoZero(QQ339,25),(spaziIntermedi(QQ339,25))+1,spaziIntermedi(QQ339,25)))=(spaziIntermedi(QR339,25)),FALSE,TRUE)","v":true},{"$f":"+QR339/constLungRot","v":0},{"$f":"+spaziIntermedi(QR339,25)-QT339","v":0},{"$f":"+QU339*constLungRot>=($C$2*2)","v":false},{"$f":"+QU339*constLungRot","v":0},null,0,{"$f":"+IF(AND(QS339=TRUE,QV339=TRUE),$C$2,0)","v":0},null,null,null,0,0,0,null,null,0,0,{"$f":"IF((IF(restoZero(RI339,25),(spaziIntermedi(RI339,25))+1,spaziIntermedi(RI339,25)))=(spaziIntermedi(RJ339,25)),FALSE,TRUE)","v":true},{"$f":"+RJ339/constLungRot","v":0},{"$f":"+spaziIntermedi(RJ339,25)-RL339","v":0},false,{"$f":"+RM339*constLungRot","v":0},null,0,{"$f":"+IF(AND(RK339=TRUE,RN339=TRUE),$C$2,0)","v":0},null,null,null,0,0,0,{"$f":"IFERROR(CEILING((RH339/intSpring)*1.5,1),0)","v":0},{"$f":"IFERROR(_xlfn.CEILING.MATH((RH339/intStaple)*4,1),0)","v":0},null,null,0,0,{"$f":"IF((IF(restoZero(SC339,25),(spaziIntermedi(SC339,25))+1,spaziIntermedi(SC339,25)))=(spaziIntermedi(SD339,25)),FALSE,TRUE)","v":true},{"$f":"+SD339/constLungRot","v":0},{"$f":"+spaziIntermedi(SD339,25)-SF339","v":0},{"$f":"+SG339*constLungRot>=($C$2*2)","v":false},{"$f":"+SG339*constLungRot","v":0},null,0,{"$f":"+IF(AND(SE339=TRUE,SH339=TRUE),$C$2,0)","v":0},null,null,null,0,0,0,null,null,0,0,{"$f":"IF((IF(restoZero(SU339,25),(spaziIntermedi(SU339,25))+1,spaziIntermedi(SU339,25)))=(spaziIntermedi(SV339,25)),FALSE,TRUE)","v":true},{"$f":"+SV339/constLungRot","v":0},{"$f":"+spaziIntermedi(SV339,25)-SX339","v":0},false,{"$f":"+SY339*constLungRot","v":0},null,0,{"$f":"+IF(AND(SW339=TRUE,SZ339=TRUE),$C$2,0)","v":0},null,null,null,0,0,0,{"$f":"IFERROR(CEILING((ST339/intSpring)*1.5,1),0)","v":0},{"$f":"IFERROR(_xlfn.CEILING.MATH((ST339/intStaple)*4,1),0)","v":0}]
[null,null,0,0,{"$f":"IF((IF(restoZero(C358,25),(spaziIntermedi(C358,25))+1,spaziIntermedi(C358,25)))=(spaziIntermedi(D358,25)),FALSE,TRUE)","v":true},0,{"$f":"+spaziIntermedi(D358,25)-F358","v":0},false,0,null,0,0,null,null,null,0,0,0,null,null,0,0,{"$f":"IF((IF(restoZero(U358,25),(spaziIntermedi(U358,25))+1,spaziIntermedi(U358,25)))=(spaziIntermedi(V358,25)),FALSE,TRUE)","v":true},0,{"$f":"+spaziIntermedi(V358,25)-X358","v":0},false,0,null,0,0,null,null,null,0,0,0,0,0,null,null,0,0,{"$f":"IF((IF(restoZero(AO358,25),(spaziIntermedi(AO358,25))+1,spaziIntermedi(AO358,25)))=(spaziIntermedi(AP358,25)),FALSE,TRUE)","v":true},0,{"$f":"+spaziIntermedi(AP358,25)-AR358","v":0},false,0,null,0,0,null,null,null,0,0,0,null,null,0,0,{"$f":"IF((IF(restoZero(BG358,25),(spaziIntermedi(BG358,25))+1,spaziIntermedi(BG358,25)))=(spaziIntermedi(BH358,25)),FALSE,TRUE)","v":true},0,{"$f":"+spaziIntermedi(BH358,25)-BJ358","v":0},false,0,null,0,0,null,null,null,0,0,0,0,0,null,null,0,0,{"$f":"IF((IF(restoZero(CA358,25),(spaziIntermedi(CA358,25))+1,spaziIntermedi(CA358,25)))=(spaziIntermedi(CB358,25)),FALSE,TRUE)","v":true},0,{"$f":"+spaziIntermedi(CB358,25)-CD358","v":0},false,0,null,0,0,null,null,null,0,0,0,null,null,0,0,{"$f":"IF((IF(restoZero(CS358,25),(spaziIntermedi(CS358,25))+1,spaziIntermedi(CS358,25)))=(spaziIntermedi(CT358,25)),FALSE,TRUE)","v":true},0,{"$f":"+spaziIntermedi(CT358,25)-CV358","v":0},false,0,null,0,0,null,null,null,0,0,0,0,0,null,null,0,0,{"$f":"IF((IF(restoZero(DM358,25),(spaziIntermedi(DM358,25))+1,spaziIntermedi(DM358,25)))=(spaziIntermedi(DN358,25)),FALSE,TRUE)","v":true},0,{"$f":"+spaziIntermedi(DN358,25)-DP358","v":0},false,0,null,0,0,null,null,null,0,0,0,null,null,0,0,{"$f":"IF((IF(restoZero(EE358,25),(spaziIntermedi(EE358,25))+1,spaziIntermedi(EE358,25)))=(spaziIntermedi(EF358,25)),FALSE,TRUE)","v":true},0,{"$f":"+spaziIntermedi(EF358,25)-EH358","v":0},false,0,null,0,0,null,null,null,0,0,0,0,0,null,null,0,0,{"$f":"IF((IF(restoZero(EY358,25),(spaziIntermedi(EY358,25))+1,spaziIntermedi(EY358,25)))=(spaziIntermedi(EZ358,25)),FALSE,TRUE)","v":true},0,{"$f":"+spaziIntermedi(EZ358,25)-FB358","v":0},false,0,null,0,0,null,null,null,0,0,0,null,null,0,0,{"$f":"IF((IF(restoZero(FQ358,25),(spaziIntermedi(FQ358,25))+1,spaziIntermedi(FQ358,25)))=(spaziIntermedi(FR358,25)),FALSE,TRUE)","v":true},0,{"$f":"+spaziIntermedi(FR358,25)-FT358","v":0},false,0,null,0,0,null,null,null,0,0,0,0,0,null,null,0,0,{"$f":"IF((IF(restoZero(GK358,25),(spaziIntermedi(GK358,25))+1,spaziIntermedi(GK358,25)))=(spaziIntermedi(GL358,25)),FALSE,TRUE)","v":true},0,{"$f":"+spaziIntermedi(GL358,25)-GN358","v":0},false,0,null,0,0,null,null,null,0,0,0,null,null,0,0,{"$f":"IF((IF(restoZero(HC358,25),(spaziIntermedi(HC358,25))+1,spaziIntermedi(HC358,25)))=(spaziIntermedi(HD358,25)),FALSE,TRUE)","v":true},0,{"$f":"+spaziIntermedi(HD358,25)-HF358","v":0},false,0,null,0,0,null,null,null,0,0,0,0,0,null,null,0,0,{"$f":"IF((IF(restoZero(HW358,25),(spaziIntermedi(HW358,25))+1,spaziIntermedi(HW358,25)))=(spaziIntermedi(HX358,25)),FALSE,TRUE)","v":true},0,{"$f":"+spaziIntermedi(HX358,25)-HZ358","v":0},false,0,null,0,0,null,null,null,0,0,0,null,null,0,0,{"$f":"IF((IF(restoZero(IO358,25),(spaziIntermedi(IO358,25))+1,spaziIntermedi(IO358,25)))=(spaziIntermedi(IP358,25)),FALSE,TRUE)","v":true},0,{"$f":"+spaziIntermedi(IP358,25)-IR358","v":0},false,0,null,0,0,null,null,null,0,0,0,0,0,null,null,0,0,{"$f":"IF((IF(restoZero(JI358,25),(spaziIntermedi(JI358,25))+1,spaziIntermedi(JI358,25)))=(spaziIntermedi(JJ358,25)),FALSE,TRUE)","v":true},0,{"$f":"+spaziIntermedi(JJ358,25)-JL358","v":0},false,0,null,0,0,null,null,null,0,0,0,null,null,0,0,{"$f":"IF((IF(restoZero(KA358,25),(spaziIntermedi(KA358,25))+1,spaziIntermedi(KA358,25)))=(spaziIntermedi(KB358,25)),FALSE,TRUE)","v":true},0,{"$f":"+spaziIntermedi(KB358,25)-KD358","v":0},false,0,null,0,0,null,null,null,0,0,0,0,0,null,null,0,0,{"$f":"IF((IF(restoZero(KU358,25),(spaziIntermedi(KU358,25))+1,spaziIntermedi(KU358,25)))=(spaziIntermedi(KV358,25)),FALSE,TRUE)","v":true},0,{"$f":"+spaziIntermedi(KV358,25)-KX358","v":0},false,0,null,0,0,null,null,null,0,0,0,null,null,0,0,{"$f":"IF((IF(restoZero(LM358,25),(spaziIntermedi(LM358,25))+1,spaziIntermedi(LM358,25)))=(spaziIntermedi(LN358,25)),FALSE,TRUE)","v":true},0,{"$f":"+spaziIntermedi(LN358,25)-LP358","v":0},false,0,null,0,0,null,null,null,0,0,0,0,0,null,null,0,0,{"$f":"IF((IF(restoZero(MG358,25),(spaziIntermedi(MG358,25))+1,spaziIntermedi(MG358,25)))=(spaziIntermedi(MH358,25)),FALSE,TRUE)","v":true},0,{"$f":"+spaziIntermedi(MH358,25)-MJ358","v":0},false,0,null,0,0,null,null,null,0,0,0,null,null,0,0,{"$f":"IF((IF(restoZero(MY358,25),(spaziIntermedi(MY358,25))+1,spaziIntermedi(MY358,25)))=(spaziIntermedi(MZ358,25)),FALSE,TRUE)","v":true},0,{"$f":"+spaziIntermedi(MZ358,25)-NB358","v":0},false,0,null,0,0,null,null,null,0,0,0,0,0,null,null,0,0,{"$f":"IF((IF(restoZero(NS358,25),(spaziIntermedi(NS358,25))+1,spaziIntermedi(NS358,25)))=(spaziIntermedi(NT358,25)),FALSE,TRUE)","v":true},0,{"$f":"+spaziIntermedi(NT358,25)-NV358","v":0},false,0,null,0,0,null,null,null,0,0,0,null,null,0,0,{"$f":"IF((IF(restoZero(OK358,25),(spaziIntermedi(OK358,25))+1,spaziIntermedi(OK358,25)))=(spaziIntermedi(OL358,25)),FALSE,TRUE)","v":true},0,{"$f":"+spaziIntermedi(OL358,25)-ON358","v":0},false,0,null,0,0,null,null,null,0,0,0,0,0,null,null,0,0,{"$f":"IF((IF(restoZero(PE358,25),(spaziIntermedi(PE358,25))+1,spaziIntermedi(PE358,25)))=(spaziIntermedi(PF358,25)),FALSE,TRUE)","v":true},0,{"$f":"+spaziIntermedi(PF358,25)-PH358","v":0},false,0,null,0,0,null,null,null,0,0,0,null,null,0,0,{"$f":"IF((IF(restoZero(PW358,25),(spaziIntermedi(PW358,25))+1,spaziIntermedi(PW358,25)))=(spaziIntermedi(PX358,25)),FALSE,TRUE)","v":true},0,{"$f":"+spaziIntermedi(PX358,25)-PZ358","v":0},false,0,null,0,0,null,null,null,0,0,0,0,0,null,null,0,0,{"$f":"IF((IF(restoZero(QQ358,25),(spaziIntermedi(QQ358,25))+1,spaziIntermedi(QQ358,25)))=(spaziIntermedi(QR358,25)),FALSE,TRUE)","v":true},0,{"$f":"+spaziIntermedi(QR358,25)-QT358","v":0},false,0,null,0,0,null,null,null,0,0,0,null,null,0,0,{"$f":"IF((IF(restoZero(RI358,25),(spaziIntermedi(RI358,25))+1,spaziIntermedi(RI358,25)))=(spaziIntermedi(RJ358,25)),FALSE,TRUE)","v":true},0,{"$f":"+spaziIntermedi(RJ358,25)-RL358","v":0},false,0,null,0,0,null,null,null,0,0,0,0,0,null,null,0,0,{"$f":"IF((IF(restoZero(SC358,25),(spaziIntermedi(SC358,25))+1,spaziIntermedi(SC358,25)))=(spaziIntermedi(SD358,25)),FALSE,TRUE)","v":true},0,{"$f":"+spaziIntermedi(SD358,25)-SF358","v":0},false,0,null,0,0,null,null,null,0,0,0,null,null,0,0,{"$f":"IF((IF(restoZero(SU358,25),(spaziIntermedi(SU358,25))+1,spaziIntermedi(SU358,25)))=(spaziIntermedi(SV358,25)),FALSE,TRUE)","v":true},0,{"$f":"+spaziIntermedi(SV358,25)-SX358","v":0},false,0,null,0,0,null,null,null,0,0,0,0,0]
[null,null,0,0,{"$f":"IF((IF(restoZero(C383,25),(spaziIntermedi(C383,25))+1,spaziIntermedi(C383,25)))=(spaziIntermedi(D383,25)),FALSE,TRUE)","v":true},0,{"$f":"+spaziIntermedi(D383,25)-F383","v":0},false,0,null,0,0,null,null,null,0,0,0,null,null,0,0,{"$f":"IF((IF(restoZero(U383,25),(spaziIntermedi(U383,25))+1,spaziIntermedi(U383,25)))=(spaziIntermedi(V383,25)),FALSE,TRUE)","v":true},0,{"$f":"+spaziIntermedi(V383,25)-X383","v":0},false,0,null,0,0,null,null,null,0,0,0,0,0,null,null,0,0,{"$f":"IF((IF(restoZero(AO383,25),(spaziIntermedi(AO383,25))+1,spaziIntermedi(AO383,25)))=(spaziIntermedi(AP383,25)),FALSE,TRUE)","v":true},0,{"$f":"+spaziIntermedi(AP383,25)-AR383","v":0},false,0,null,0,0,null,null,null,0,0,0,null,null,0,0,{"$f":"IF((IF(restoZero(BG383,25),(spaziIntermedi(BG383,25))+1,spaziIntermedi(BG383,25)))=(spaziIntermedi(BH383,25)),FALSE,TRUE)","v":true},0,{"$f":"+spaziIntermedi(BH383,25)-BJ383","v":0},false,0,null,0,0,null,null,null,0,0,0,0,0,null,null,0,0,{"$f":"IF((IF(restoZero(CA383,25),(spaziIntermedi(CA383,25))+1,spaziIntermedi(CA383,25)))=(spaziIntermedi(CB383,25)),FALSE,TRUE)","v":true},0,{"$f":"+spaziIntermedi(CB383,25)-CD383","v":0},false,0,null,0,0,null,null,null,0,0,0,null,null,0,0,{"$f":"IF((IF(restoZero(CS383,25),(spaziIntermedi(CS383,25))+1,spaziIntermedi(CS383,25)))=(spaziIntermedi(CT383,25)),FALSE,TRUE)","v":true},0,{"$f":"+spaziIntermedi(CT383,25)-CV383","v":0},false,0,null,0,0,null,null,null,0,0,0,0,0,null,null,0,0,{"$f":"IF((IF(restoZero(DM383,25),(spaziIntermedi(DM383,25))+1,spaziIntermedi(DM383,25)))=(spaziIntermedi(DN383,25)),FALSE,TRUE)","v":true},0,{"$f":"+spaziIntermedi(DN383,25)-DP383","v":0},false,0,null,0,0,null,null,null,0,0,0,null,null,0,0,{"$f":"IF((IF(restoZero(EE383,25),(spaziIntermedi(EE383,25))+1,spaziIntermedi(EE383,25)))=(spaziIntermedi(EF383,25)),FALSE,TRUE)","v":true},0,{"$f":"+spaziIntermedi(EF383,25)-EH383","v":0},false,0,null,0,0,null,null,null,0,0,0,0,0,null,null,0,0,{"$f":"IF((IF(restoZero(EY383,25),(spaziIntermedi(EY383,25))+1,spaziIntermedi(EY383,25)))=(spaziIntermedi(EZ383,25)),FALSE,TRUE)","v":true},0,{"$f":"+spaziIntermedi(EZ383,25)-FB383","v":0},false,0,null,0,0,null,null,null,0,0,0,null,null,0,0,{"$f":"IF((IF(restoZero(FQ383,25),(spaziIntermedi(FQ383,25))+1,spaziIntermedi(FQ383,25)))=(spaziIntermedi(FR383,25)),FALSE,TRUE)","v":true},0,{"$f":"+spaziIntermedi(FR383,25)-FT383","v":0},false,0,null,0,0,null,null,null,0,0,0,0,0,null,null,0,0,{"$f":"IF((IF(restoZero(GK383,25),(spaziIntermedi(GK383,25))+1,spaziIntermedi(GK383,25)))=(spaziIntermedi(GL383,25)),FALSE,TRUE)","v":true},0,{"$f":"+spaziIntermedi(GL383,25)-GN383","v":0},false,0,null,0,0,null,null,null,0,0,0,null,null,0,0,{"$f":"IF((IF(restoZero(HC383,25),(spaziIntermedi(HC383,25))+1,spaziIntermedi(HC383,25)))=(spaziIntermedi(HD383,25)),FALSE,TRUE)","v":true},0,{"$f":"+spaziIntermedi(HD383,25)-HF383","v":0},false,0,null,0,0,null,null,null,0,0,0,0,0,null,null,0,0,{"$f":"IF((IF(restoZero(HW383,25),(spaziIntermedi(HW383,25))+1,spaziIntermedi(HW383,25)))=(spaziIntermedi(HX383,25)),FALSE,TRUE)","v":true},0,{"$f":"+spaziIntermedi(HX383,25)-HZ383","v":0},false,0,null,0,0,null,null,null,0,0,0,null,null,0,0,{"$f":"IF((IF(restoZero(IO383,25),(spaziIntermedi(IO383,25))+1,spaziIntermedi(IO383,25)))=(spaziIntermedi(IP383,25)),FALSE,TRUE)","v":true},0,{"$f":"+spaziIntermedi(IP383,25)-IR383","v":0},false,0,null,0,0,null,null,null,0,0,0,0,0,null,null,0,0,{"$f":"IF((IF(restoZero(JI383,25),(spaziIntermedi(JI383,25))+1,spaziIntermedi(JI383,25)))=(spaziIntermedi(JJ383,25)),FALSE,TRUE)","v":true},0,{"$f":"+spaziIntermedi(JJ383,25)-JL383","v":0},false,0,null,0,0,null,null,null,0,0,0,null,null,0,0,{"$f":"IF((IF(restoZero(KA383,25),(spaziIntermedi(KA383,25))+1,spaziIntermedi(KA383,25)))=(spaziIntermedi(KB383,25)),FALSE,TRUE)","v":true},0,{"$f":"+spaziIntermedi(KB383,25)-KD383","v":0},false,0,null,0,0,null,null,null,0,0,0,0,0,null,null,0,0,{"$f":"IF((IF(restoZero(KU383,25),(spaziIntermedi(KU383,25))+1,spaziIntermedi(KU383,25)))=(spaziIntermedi(KV383,25)),FALSE,TRUE)","v":true},0,{"$f":"+spaziIntermedi(KV383,25)-KX383","v":0},false,0,null,0,0,null,null,null,0,0,0,null,null,0,0,{"$f":"IF((IF(restoZero(LM383,25),(spaziIntermedi(LM383,25))+1,spaziIntermedi(LM383,25)))=(spaziIntermedi(LN383,25)),FALSE,TRUE)","v":true},0,{"$f":"+spaziIntermedi(LN383,25)-LP383","v":0},false,0,null,0,0,null,null,null,0,0,0,0,0,null,null,0,0,{"$f":"IF((IF(restoZero(MG383,25),(spaziIntermedi(MG383,25))+1,spaziIntermedi(MG383,25)))=(spaziIntermedi(MH383,25)),FALSE,TRUE)","v":true},0,{"$f":"+spaziIntermedi(MH383,25)-MJ383","v":0},false,0,null,0,0,null,null,null,0,0,0,null,null,0,0,{"$f":"IF((IF(restoZero(MY383,25),(spaziIntermedi(MY383,25))+1,spaziIntermedi(MY383,25)))=(spaziIntermedi(MZ383,25)),FALSE,TRUE)","v":true},0,{"$f":"+spaziIntermedi(MZ383,25)-NB383","v":0},false,0,null,0,0,null,null,null,0,0,0,0,0,null,null,0,0,{"$f":"IF((IF(restoZero(NS383,25),(spaziIntermedi(NS383,25))+1,spaziIntermedi(NS383,25)))=(spaziIntermedi(NT383,25)),FALSE,TRUE)","v":true},0,{"$f":"+spaziIntermedi(NT383,25)-NV383","v":0},false,0,null,0,0,null,null,null,0,0,0,null,null,0,0,{"$f":"IF((IF(restoZero(OK383,25),(spaziIntermedi(OK383,25))+1,spaziIntermedi(OK383,25)))=(spaziIntermedi(OL383,25)),FALSE,TRUE)","v":true},0,{"$f":"+spaziIntermedi(OL383,25)-ON383","v":0},false,0,null,0,0,null,null,null,0,0,0,0,0,null,null,0,0,{"$f":"IF((IF(restoZero(PE383,25),(spaziIntermedi(PE383,25))+1,spaziIntermedi(PE383,25)))=(spaziIntermedi(PF383,25)),FALSE,TRUE)","v":true},0,{"$f":"+spaziIntermedi(PF383,25)-PH383","v":0},false,0,null,0,0,null,null,null,0,0,0,null,null,0,0,{"$f":"IF((IF(restoZero(PW383,25),(spaziIntermedi(PW383,25))+1,spaziIntermedi(PW383,25)))=(spaziIntermedi(PX383,25)),FALSE,TRUE)","v":true},0,{"$f":"+spaziIntermedi(PX383,25)-PZ383","v":0},false,0,null,0,0,null,null,null,0,0,0,0,0,null,null,0,0,{"$f":"IF((IF(restoZero(QQ383,25),(spaziIntermedi(QQ383,25))+1,spaziIntermedi(QQ383,25)))=(spaziIntermedi(QR383,25)),FALSE,TRUE)","v":true},0,{"$f":"+spaziIntermedi(QR383,25)-QT383","v":0},false,0,null,0,0,null,null,null,0,0,0,null,null,0,0,{"$f":"IF((IF(restoZero(RI383,25),(spaziIntermedi(RI383,25))+1,spaziIntermedi(RI383,25)))=(spaziIntermedi(RJ383,25)),FALSE,TRUE)","v":true},0,{"$f":"+spaziIntermedi(RJ383,25)-RL383","v":0},false,0,null,0,0,null,null,null,0,0,0,0,0,null,null,0,0,{"$f":"IF((IF(restoZero(SC383,25),(spaziIntermedi(SC383,25))+1,spaziIntermedi(SC383,25)))=(spaziIntermedi(SD383,25)),FALSE,TRUE)","v":true},0,{"$f":"+spaziIntermedi(SD383,25)-SF383","v":0},false,0,null,0,0,null,null,null,0,0,0,null,null,0,0,{"$f":"IF((IF(restoZero(SU383,25),(spaziIntermedi(SU383,25))+1,spaziIntermedi(SU383,25)))=(spaziIntermedi(SV383,25)),FALSE,TRUE)","v":true},0,{"$f":"+spaziIntermedi(SV383,25)-SX383","v":0},false,0,null,0,0,null,null,null,0,0,0,0,0]
[null,null,0,0,{"$f":"IF((IF(restoZero(C402,25),(spaziIntermedi(C402,25))+1,spaziIntermedi(C402,25)))=(spaziIntermedi(D402,25)),FALSE,TRUE)","v":true},0,{"$f":"+spaziIntermedi(D402,25)-F402","v":0},false,0,null,0,0,null,null,null,0,0,0,null,null,0,0,{"$f":"IF((IF(restoZero(U402,25),(spaziIntermedi(U402,25))+1,spaziIntermedi(U402,25)))=(spaziIntermedi(V402,25)),FALSE,TRUE)","v":true},0,{"$f":"+spaziIntermedi(V402,25)-X402","v":0},{"$f":"+Y402*constLungRot>=($C$2*2)","v":false},0,null,0,0,null,null,null,0,0,0,0,0,null,null,0,0,{"$f":"IF((IF(restoZero(AO402,25),(spaziIntermedi(AO402,25))+1,spaziIntermedi(AO402,25)))=(spaziIntermedi(AP402,25)),FALSE,TRUE)","v":true},0,{"$f":"+spaziIntermedi(AP402,25)-AR402","v":0},false,0,null,0,0,null,null,null,0,0,0,null,null,0,0,{"$f":"IF((IF(restoZero(BG402,25),(spaziIntermedi(BG402,25))+1,spaziIntermedi(BG402,25)))=(spaziIntermedi(BH402,25)),FALSE,TRUE)","v":true},0,{"$f":"+spaziIntermedi(BH402,25)-BJ402","v":0},false,0,null,0,0,null,null,null,0,0,0,0,0,null,null,0,0,{"$f":"IF((IF(restoZero(CA402,25),(spaziIntermedi(CA402,25))+1,spaziIntermedi(CA402,25)))=(spaziIntermedi(CB402,25)),FALSE,TRUE)","v":true},0,{"$f":"+spaziIntermedi(CB402,25)-CD402","v":0},false,0,null,0,0,null,null,null,0,0,0,null,null,0,0,{"$f":"IF((IF(restoZero(CS402,25),(spaziIntermedi(CS402,25))+1,spaziIntermedi(CS402,25)))=(spaziIntermedi(CT402,25)),FALSE,TRUE)","v":true},0,{"$f":"+spaziIntermedi(CT402,25)-CV402","v":0},false,0,null,0,0,null,null,null,0,0,0,0,0,null,null,0,0,{"$f":"IF((IF(restoZero(DM402,25),(spaziIntermedi(DM402,25))+1,spaziIntermedi(DM402,25)))=(spaziIntermedi(DN402,25)),FALSE,TRUE)","v":true},0,{"$f":"+spaziIntermedi(DN402,25)-DP402","v":0},false,0,null,0,0,null,null,null,0,0,0,null,null,0,0,{"$f":"IF((IF(restoZero(EE402,25),(spaziIntermedi(EE402,25))+1,spaziIntermedi(EE402,25)))=(spaziIntermedi(EF402,25)),FALSE,TRUE)","v":true},0,{"$f":"+spaziIntermedi(EF402,25)-EH402","v":0},false,0,null,0,0,null,null,null,0,0,0,0,0,null,null,0,0,{"$f":"IF((IF(restoZero(EY402,25),(spaziIntermedi(EY402,25))+1,spaziIntermedi(EY402,25)))=(spaziIntermedi(EZ402,25)),FALSE,TRUE)","v":true},0,{"$f":"+spaziIntermedi(EZ402,25)-FB402","v":0},false,0,null,0,0,null,null,null,0,0,0,null,null,0,0,{"$f":"IF((IF(restoZero(FQ402,25),(spaziIntermedi(FQ402,25))+1,spaziIntermedi(FQ402,25)))=(spaziIntermedi(FR402,25)),FALSE,TRUE)","v":true},0,{"$f":"+spaziIntermedi(FR402,25)-FT402","v":0},false,0,null,0,0,null,null,null,0,0,0,0,0,null,null,0,0,{"$f":"IF((IF(restoZero(GK402,25),(spaziIntermedi(GK402,25))+1,spaziIntermedi(GK402,25)))=(spaziIntermedi(GL402,25)),FALSE,TRUE)","v":true},0,{"$f":"+spaziIntermedi(GL402,25)-GN402","v":0},false,0,null,0,0,null,null,null,0,0,0,null,null,0,0,{"$f":"IF((IF(restoZero(HC402,25),(spaziIntermedi(HC402,25))+1,spaziIntermedi(HC402,25)))=(spaziIntermedi(HD402,25)),FALSE,TRUE)","v":true},0,{"$f":"+spaziIntermedi(HD402,25)-HF402","v":0},false,0,null,0,0,null,null,null,0,0,0,0,0,null,null,0,0,{"$f":"IF((IF(restoZero(HW402,25),(spaziIntermedi(HW402,25))+1,spaziIntermedi(HW402,25)))=(spaziIntermedi(HX402,25)),FALSE,TRUE)","v":true},0,{"$f":"+spaziIntermedi(HX402,25)-HZ402","v":0},false,0,null,0,0,null,null,null,0,0,0,null,null,0,0,{"$f":"IF((IF(restoZero(IO402,25),(spaziIntermedi(IO402,25))+1,spaziIntermedi(IO402,25)))=(spaziIntermedi(IP402,25)),FALSE,TRUE)","v":true},0,{"$f":"+spaziIntermedi(IP402,25)-IR402","v":0},false,0,null,0,0,null,null,null,0,0,0,0,0,null,null,0,0,{"$f":"IF((IF(restoZero(JI402,25),(spaziIntermedi(JI402,25))+1,spaziIntermedi(JI402,25)))=(spaziIntermedi(JJ402,25)),FALSE,TRUE)","v":true},0,{"$f":"+spaziIntermedi(JJ402,25)-JL402","v":0},false,0,null,0,0,null,null,null,0,0,0,null,null,0,0,{"$f":"IF((IF(restoZero(KA402,25),(spaziIntermedi(KA402,25))+1,spaziIntermedi(KA402,25)))=(spaziIntermedi(KB402,25)),FALSE,TRUE)","v":true},0,{"$f":"+spaziIntermedi(KB402,25)-KD402","v":0},false,0,null,0,0,null,null,null,0,0,0,0,0,null,null,0,0,{"$f":"IF((IF(restoZero(KU402,25),(spaziIntermedi(KU402,25))+1,spaziIntermedi(KU402,25)))=(spaziIntermedi(KV402,25)),FALSE,TRUE)","v":true},0,{"$f":"+spaziIntermedi(KV402,25)-KX402","v":0},false,0,null,0,0,null,null,null,0,0,0,null,null,0,0,{"$f":"IF((IF(restoZero(LM402,25),(spaziIntermedi(LM402,25))+1,spaziIntermedi(LM402,25)))=(spaziIntermedi(LN402,25)),FALSE,TRUE)","v":true},0,{"$f":"+spaziIntermedi(LN402,25)-LP402","v":0},false,0,null,0,0,null,null,null,0,0,0,0,0,null,null,0,0,{"$f":"IF((IF(restoZero(MG402,25),(spaziIntermedi(MG402,25))+1,spaziIntermedi(MG402,25)))=(spaziIntermedi(MH402,25)),FALSE,TRUE)","v":true},0,{"$f":"+spaziIntermedi(MH402,25)-MJ402","v":0},false,0,null,0,0,null,null,null,0,0,0,null,null,0,0,{"$f":"IF((IF(restoZero(MY402,25),(spaziIntermedi(MY402,25))+1,spaziIntermedi(MY402,25)))=(spaziIntermedi(MZ402,25)),FALSE,TRUE)","v":true},0,{"$f":"+spaziIntermedi(MZ402,25)-NB402","v":0},false,0,null,0,0,null,null,null,0,0,0,0,0,null,null,0,0,{"$f":"IF((IF(restoZero(NS402,25),(spaziIntermedi(NS402,25))+1,spaziIntermedi(NS402,25)))=(spaziIntermedi(NT402,25)),FALSE,TRUE)","v":true},0,{"$f":"+spaziIntermedi(NT402,25)-NV402","v":0},false,0,null,0,0,null,null,null,0,0,0,null,null,0,0,{"$f":"IF((IF(restoZero(OK402,25),(spaziIntermedi(OK402,25))+1,spaziIntermedi(OK402,25)))=(spaziIntermedi(OL402,25)),FALSE,TRUE)","v":true},0,{"$f":"+spaziIntermedi(OL402,25)-ON402","v":0},false,0,null,0,0,null,null,null,0,0,0,0,0,null,null,0,0,{"$f":"IF((IF(restoZero(PE402,25),(spaziIntermedi(PE402,25))+1,spaziIntermedi(PE402,25)))=(spaziIntermedi(PF402,25)),FALSE,TRUE)","v":true},0,{"$f":"+spaziIntermedi(PF402,25)-PH402","v":0},false,0,null,0,0,null,null,null,0,0,0,null,null,0,0,{"$f":"IF((IF(restoZero(PW402,25),(spaziIntermedi(PW402,25))+1,spaziIntermedi(PW402,25)))=(spaziIntermedi(PX402,25)),FALSE,TRUE)","v":true},0,{"$f":"+spaziIntermedi(PX402,25)-PZ402","v":0},false,0,null,0,0,null,null,null,0,0,0,0,0,null,null,0,0,{"$f":"IF((IF(restoZero(QQ402,25),(spaziIntermedi(QQ402,25))+1,spaziIntermedi(QQ402,25)))=(spaziIntermedi(QR402,25)),FALSE,TRUE)","v":true},0,{"$f":"+spaziIntermedi(QR402,25)-QT402","v":0},false,0,null,0,0,null,null,null,0,0,0,null,null,0,0,{"$f":"IF((IF(restoZero(RI402,25),(spaziIntermedi(RI402,25))+1,spaziIntermedi(RI402,25)))=(spaziIntermedi(RJ402,25)),FALSE,TRUE)","v":true},0,{"$f":"+spaziIntermedi(RJ402,25)-RL402","v":0},false,0,null,0,0,null,null,null,0,0,0,0,0,null,null,0,0,{"$f":"IF((IF(restoZero(SC402,25),(spaziIntermedi(SC402,25))+1,spaziIntermedi(SC402,25)))=(spaziIntermedi(SD402,25)),FALSE,TRUE)","v":true},0,{"$f":"+spaziIntermedi(SD402,25)-SF402","v":0},false,0,null,0,0,null,null,null,0,0,0,null,null,0,0,{"$f":"IF((IF(restoZero(SU402,25),(spaziIntermedi(SU402,25))+1,spaziIntermedi(SU402,25)))=(spaziIntermedi(SV402,25)),FALSE,TRUE)","v":true},0,{"$f":"+spaziIntermedi(SV402,25)-SX402","v":0},false,0,null,0,0,null,null,null,0,0,0,0,0]
[null,null,0,0,{"$f":"IF((IF(restoZero(C421,25),(spaziIntermedi(C421,25))+1,spaziIntermedi(C421,25)))=(spaziIntermedi(D421,25)),FALSE,TRUE)","v":true},0,{"$f":"+spaziIntermedi(D421,25)-F421","v":0},false,0,null,0,0,null,null,null,0,0,0,null,null,0,0,{"$f":"IF((IF(restoZero(U421,25),(spaziIntermedi(U421,25))+1,spaziIntermedi(U421,25)))=(spaziIntermedi(V421,25)),FALSE,TRUE)","v":true},0,{"$f":"+spaziIntermedi(V421,25)-X421","v":0},false,0,null,0,0,null,null,null,0,0,0,0,0,null,null,0,0,{"$f":"IF((IF(restoZero(AO421,25),(spaziIntermedi(AO421,25))+1,spaziIntermedi(AO421,25)))=(spaziIntermedi(AP421,25)),FALSE,TRUE)","v":true},0,{"$f":"+spaziIntermedi(AP421,25)-AR421","v":0},false,0,null,0,0,null,null,null,0,0,0,null,null,0,0,{"$f":"IF((IF(restoZero(BG421,25),(spaziIntermedi(BG421,25))+1,spaziIntermedi(BG421,25)))=(spaziIntermedi(BH421,25)),FALSE,TRUE)","v":true},0,{"$f":"+spaziIntermedi(BH421,25)-BJ421","v":0},false,0,null,0,0,null,null,null,0,0,0,0,0,null,null,0,0,{"$f":"IF((IF(restoZero(CA421,25),(spaziIntermedi(CA421,25))+1,spaziIntermedi(CA421,25)))=(spaziIntermedi(CB421,25)),FALSE,TRUE)","v":true},0,{"$f":"+spaziIntermedi(CB421,25)-CD421","v":0},false,0,null,0,0,null,null,null,0,0,0,null,null,0,0,{"$f":"IF((IF(restoZero(CS421,25),(spaziIntermedi(CS421,25))+1,spaziIntermedi(CS421,25)))=(spaziIntermedi(CT421,25)),FALSE,TRUE)","v":true},0,{"$f":"+spaziIntermedi(CT421,25)-CV421","v":0},false,0,null,0,0,null,null,null,0,0,0,0,0,null,null,0,0,{"$f":"IF((IF(restoZero(DM421,25),(spaziIntermedi(DM421,25))+1,spaziIntermedi(DM421,25)))=(spaziIntermedi(DN421,25)),FALSE,TRUE)","v":true},0,{"$f":"+spaziIntermedi(DN421,25)-DP421","v":0},false,0,null,0,0,null,null,null,0,0,0,null,null,0,0,{"$f":"IF((IF(restoZero(EE421,25),(spaziIntermedi(EE421,25))+1,spaziIntermedi(EE421,25)))=(spaziIntermedi(EF421,25)),FALSE,TRUE)","v":true},0,{"$f":"+spaziIntermedi(EF421,25)-EH421","v":0},false,0,null,0,0,null,null,null,0,0,0,0,0,null,null,0,0,{"$f":"IF((IF(restoZero(EY421,25),(spaziIntermedi(EY421,25))+1,spaziIntermedi(EY421,25)))=(spaziIntermedi(EZ421,25)),FALSE,TRUE)","v":true},0,{"$f":"+spaziIntermedi(EZ421,25)-FB421","v":0},false,0,null,0,0,null,null,null,0,0,0,null,null,0,0,{"$f":"IF((IF(restoZero(FQ421,25),(spaziIntermedi(FQ421,25))+1,spaziIntermedi(FQ421,25)))=(spaziIntermedi(FR421,25)),FALSE,TRUE)","v":true},0,{"$f":"+spaziIntermedi(FR421,25)-FT421","v":0},false,0,null,0,0,null,null,null,0,0,0,0,0,null,null,0,0,{"$f":"IF((IF(restoZero(GK421,25),(spaziIntermedi(GK421,25))+1,spaziIntermedi(GK421,25)))=(spaziIntermedi(GL421,25)),FALSE,TRUE)","v":true},0,{"$f":"+spaziIntermedi(GL421,25)-GN421","v":0},false,0,null,0,0,null,null,null,0,0,0,null,null,0,0,{"$f":"IF((IF(restoZero(HC421,25),(spaziIntermedi(HC421,25))+1,spaziIntermedi(HC421,25)))=(spaziIntermedi(HD421,25)),FALSE,TRUE)","v":true},0,{"$f":"+spaziIntermedi(HD421,25)-HF421","v":0},false,0,null,0,0,null,null,null,0,0,0,0,0,null,null,0,0,{"$f":"IF((IF(restoZero(HW421,25),(spaziIntermedi(HW421,25))+1,spaziIntermedi(HW421,25)))=(spaziIntermedi(HX421,25)),FALSE,TRUE)","v":true},0,{"$f":"+spaziIntermedi(HX421,25)-HZ421","v":0},false,0,null,0,0,null,null,null,0,0,0,null,null,0,0,{"$f":"IF((IF(restoZero(IO421,25),(spaziIntermedi(IO421,25))+1,spaziIntermedi(IO421,25)))=(spaziIntermedi(IP421,25)),FALSE,TRUE)","v":true},0,{"$f":"+spaziIntermedi(IP421,25)-IR421","v":0},false,0,null,0,0,null,null,null,0,0,0,0,0,null,null,0,0,{"$f":"IF((IF(restoZero(JI421,25),(spaziIntermedi(JI421,25))+1,spaziIntermedi(JI421,25)))=(spaziIntermedi(JJ421,25)),FALSE,TRUE)","v":true},0,{"$f":"+spaziIntermedi(JJ421,25)-JL421","v":0},false,0,null,0,0,null,null,null,0,0,0,null,null,0,0,{"$f":"IF((IF(restoZero(KA421,25),(spaziIntermedi(KA421,25))+1,spaziIntermedi(KA421,25)))=(spaziIntermedi(KB421,25)),FALSE,TRUE)","v":true},0,{"$f":"+spaziIntermedi(KB421,25)-KD421","v":0},false,0,null,0,0,null,null,null,0,0,0,0,0,null,null,0,0,{"$f":"IF((IF(restoZero(KU421,25),(spaziIntermedi(KU421,25))+1,spaziIntermedi(KU421,25)))=(spaziIntermedi(KV421,25)),FALSE,TRUE)","v":true},0,{"$f":"+spaziIntermedi(KV421,25)-KX421","v":0},false,0,null,0,0,null,null,null,0,0,0,null,null,0,0,{"$f":"IF((IF(restoZero(LM421,25),(spaziIntermedi(LM421,25))+1,spaziIntermedi(LM421,25)))=(spaziIntermedi(LN421,25)),FALSE,TRUE)","v":true},0,{"$f":"+spaziIntermedi(LN421,25)-LP421","v":0},false,0,null,0,0,null,null,null,0,0,0,0,0,null,null,0,0,{"$f":"IF((IF(restoZero(MG421,25),(spaziIntermedi(MG421,25))+1,spaziIntermedi(MG421,25)))=(spaziIntermedi(MH421,25)),FALSE,TRUE)","v":true},0,{"$f":"+spaziIntermedi(MH421,25)-MJ421","v":0},false,0,null,0,0,null,null,null,0,0,0,null,null,0,0,{"$f":"IF((IF(restoZero(MY421,25),(spaziIntermedi(MY421,25))+1,spaziIntermedi(MY421,25)))=(spaziIntermedi(MZ421,25)),FALSE,TRUE)","v":true},0,{"$f":"+spaziIntermedi(MZ421,25)-NB421","v":0},false,0,null,0,0,null,null,null,0,0,0,0,0,null,null,0,0,{"$f":"IF((IF(restoZero(NS421,25),(spaziIntermedi(NS421,25))+1,spaziIntermedi(NS421,25)))=(spaziIntermedi(NT421,25)),FALSE,TRUE)","v":true},0,{"$f":"+spaziIntermedi(NT421,25)-NV421","v":0},false,0,null,0,0,null,null,null,0,0,0,null,null,0,0,{"$f":"IF((IF(restoZero(OK421,25),(spaziIntermedi(OK421,25))+1,spaziIntermedi(OK421,25)))=(spaziIntermedi(OL421,25)),FALSE,TRUE)","v":true},0,{"$f":"+spaziIntermedi(OL421,25)-ON421","v":0},false,0,null,0,0,null,null,null,0,0,0,0,0,null,null,0,0,{"$f":"IF((IF(restoZero(PE421,25),(spaziIntermedi(PE421,25))+1,spaziIntermedi(PE421,25)))=(spaziIntermedi(PF421,25)),FALSE,TRUE)","v":true},0,{"$f":"+spaziIntermedi(PF421,25)-PH421","v":0},false,0,null,0,0,null,null,null,0,0,0,null,null,0,0,{"$f":"IF((IF(restoZero(PW421,25),(spaziIntermedi(PW421,25))+1,spaziIntermedi(PW421,25)))=(spaziIntermedi(PX421,25)),FALSE,TRUE)","v":true},0,{"$f":"+spaziIntermedi(PX421,25)-PZ421","v":0},false,0,null,0,0,null,null,null,0,0,0,0,0,null,null,0,0,{"$f":"IF((IF(restoZero(QQ421,25),(spaziIntermedi(QQ421,25))+1,spaziIntermedi(QQ421,25)))=(spaziIntermedi(QR421,25)),FALSE,TRUE)","v":true},0,{"$f":"+spaziIntermedi(QR421,25)-QT421","v":0},false,0,null,0,0,null,null,null,0,0,0,null,null,0,0,{"$f":"IF((IF(restoZero(RI421,25),(spaziIntermedi(RI421,25))+1,spaziIntermedi(RI421,25)))=(spaziIntermedi(RJ421,25)),FALSE,TRUE)","v":true},0,{"$f":"+spaziIntermedi(RJ421,25)-RL421","v":0},false,0,null,0,0,null,null,null,0,0,0,0,0,null,null,0,0,{"$f":"IF((IF(restoZero(SC421,25),(spaziIntermedi(SC421,25))+1,spaziIntermedi(SC421,25)))=(spaziIntermedi(SD421,25)),FALSE,TRUE)","v":true},0,{"$f":"+spaziIntermedi(SD421,25)-SF421","v":0},false,0,null,0,0,null,null,null,0,0,0,null,null,0,0,{"$f":"IF((IF(restoZero(SU421,25),(spaziIntermedi(SU421,25))+1,spaziIntermedi(SU421,25)))=(spaziIntermedi(SV421,25)),FALSE,TRUE)","v":true},0,{"$f":"+spaziIntermedi(SV421,25)-SX421","v":0},false,0,null,0,0,null,null,null,0,0,0,0,0]
[null,null,0,0,{"$f":"IF((IF(restoZero(C427,25),(spaziIntermedi(C427,25))+1,spaziIntermedi(C427,25)))=(spaziIntermedi(D427,25)),FALSE,TRUE)","v":true},0,{"$f":"+spaziIntermedi(D427,25)-F427","v":0},false,0,null,0,0,null,null,null,0,0,0,null,null,0,0,{"$f":"IF((IF(restoZero(U427,25),(spaziIntermedi(U427,25))+1,spaziIntermedi(U427,25)))=(spaziIntermedi(V427,25)),FALSE,TRUE)","v":true},0,{"$f":"+spaziIntermedi(V427,25)-X427","v":0},false,0,null,0,0,null,null,null,0,0,0,0,0,null,null,0,0,{"$f":"IF((IF(restoZero(AO427,25),(spaziIntermedi(AO427,25))+1,spaziIntermedi(AO427,25)))=(spaziIntermedi(AP427,25)),FALSE,TRUE)","v":true},0,{"$f":"+spaziIntermedi(AP427,25)-AR427","v":0},false,0,null,0,0,null,null,null,0,0,0,null,null,0,0,{"$f":"IF((IF(restoZero(BG427,25),(spaziIntermedi(BG427,25))+1,spaziIntermedi(BG427,25)))=(spaziIntermedi(BH427,25)),FALSE,TRUE)","v":true},0,{"$f":"+spaziIntermedi(BH427,25)-BJ427","v":0},false,0,null,0,0,null,null,null,0,0,0,0,0,null,null,0,0,{"$f":"IF((IF(restoZero(CA427,25),(spaziIntermedi(CA427,25))+1,spaziIntermedi(CA427,25)))=(spaziIntermedi(CB427,25)),FALSE,TRUE)","v":true},0,{"$f":"+spaziIntermedi(CB427,25)-CD427","v":0},false,0,null,0,0,null,null,null,0,0,0,null,null,0,0,{"$f":"IF((IF(restoZero(CS427,25),(spaziIntermedi(CS427,25))+1,spaziIntermedi(CS427,25)))=(spaziIntermedi(CT427,25)),FALSE,TRUE)","v":true},0,{"$f":"+spaziIntermedi(CT427,25)-CV427","v":0},false,0,null,0,0,null,null,null,0,0,0,0,0,null,null,0,0,{"$f":"IF((IF(restoZero(DM427,25),(spaziIntermedi(DM427,25))+1,spaziIntermedi(DM427,25)))=(spaziIntermedi(DN427,25)),FALSE,TRUE)","v":true},0,{"$f":"+spaziIntermedi(DN427,25)-DP427","v":0},false,0,null,0,0,null,null,null,0,0,0,null,null,0,0,{"$f":"IF((IF(restoZero(EE427,25),(spaziIntermedi(EE427,25))+1,spaziIntermedi(EE427,25)))=(spaziIntermedi(EF427,25)),FALSE,TRUE)","v":true},0,{"$f":"+spaziIntermedi(EF427,25)-EH427","v":0},false,0,null,0,0,null,null,null,0,0,0,0,0,null,null,0,0,{"$f":"IF((IF(restoZero(EY427,25),(spaziIntermedi(EY427,25))+1,spaziIntermedi(EY427,25)))=(spaziIntermedi(EZ427,25)),FALSE,TRUE)","v":true},0,{"$f":"+spaziIntermedi(EZ427,25)-FB427","v":0},false,0,null,0,0,null,null,null,0,0,0,null,null,0,0,{"$f":"IF((IF(restoZero(FQ427,25),(spaziIntermedi(FQ427,25))+1,spaziIntermedi(FQ427,25)))=(spaziIntermedi(FR427,25)),FALSE,TRUE)","v":true},0,{"$f":"+spaziIntermedi(FR427,25)-FT427","v":0},false,0,null,0,0,null,null,null,0,0,0,0,0,null,null,0,0,{"$f":"IF((IF(restoZero(GK427,25),(spaziIntermedi(GK427,25))+1,spaziIntermedi(GK427,25)))=(spaziIntermedi(GL427,25)),FALSE,TRUE)","v":true},0,{"$f":"+spaziIntermedi(GL427,25)-GN427","v":0},false,0,null,0,0,null,null,null,0,0,0,null,null,0,0,{"$f":"IF((IF(restoZero(HC427,25),(spaziIntermedi(HC427,25))+1,spaziIntermedi(HC427,25)))=(spaziIntermedi(HD427,25)),FALSE,TRUE)","v":true},0,{"$f":"+spaziIntermedi(HD427,25)-HF427","v":0},false,0,null,0,0,null,null,null,0,0,0,0,0,null,null,0,0,{"$f":"IF((IF(restoZero(HW427,25),(spaziIntermedi(HW427,25))+1,spaziIntermedi(HW427,25)))=(spaziIntermedi(HX427,25)),FALSE,TRUE)","v":true},0,{"$f":"+spaziIntermedi(HX427,25)-HZ427","v":0},false,0,null,0,0,null,null,null,0,0,0,null,null,0,0,{"$f":"IF((IF(restoZero(IO427,25),(spaziIntermedi(IO427,25))+1,spaziIntermedi(IO427,25)))=(spaziIntermedi(IP427,25)),FALSE,TRUE)","v":true},0,{"$f":"+spaziIntermedi(IP427,25)-IR427","v":0},false,0,null,0,0,null,null,null,0,0,0,0,0,null,null,0,0,{"$f":"IF((IF(restoZero(JI427,25),(spaziIntermedi(JI427,25))+1,spaziIntermedi(JI427,25)))=(spaziIntermedi(JJ427,25)),FALSE,TRUE)","v":true},0,{"$f":"+spaziIntermedi(JJ427,25)-JL427","v":0},false,0,null,0,0,null,null,null,0,0,0,null,null,0,0,{"$f":"IF((IF(restoZero(KA427,25),(spaziIntermedi(KA427,25))+1,spaziIntermedi(KA427,25)))=(spaziIntermedi(KB427,25)),FALSE,TRUE)","v":true},0,{"$f":"+spaziIntermedi(KB427,25)-KD427","v":0},false,0,null,0,0,null,null,null,0,0,0,0,0,null,null,0,0,{"$f":"IF((IF(restoZero(KU427,25),(spaziIntermedi(KU427,25))+1,spaziIntermedi(KU427,25)))=(spaziIntermedi(KV427,25)),FALSE,TRUE)","v":true},0,{"$f":"+spaziIntermedi(KV427,25)-KX427","v":0},false,0,null,0,0,null,null,null,0,0,0,null,null,0,0,{"$f":"IF((IF(restoZero(LM427,25),(spaziIntermedi(LM427,25))+1,spaziIntermedi(LM427,25)))=(spaziIntermedi(LN427,25)),FALSE,TRUE)","v":true},0,{"$f":"+spaziIntermedi(LN427,25)-LP427","v":0},false,0,null,0,0,null,null,null,0,0,0,0,0,null,null,0,0,{"$f":"IF((IF(restoZero(MG427,25),(spaziIntermedi(MG427,25))+1,spaziIntermedi(MG427,25)))=(spaziIntermedi(MH427,25)),FALSE,TRUE)","v":true},0,{"$f":"+spaziIntermedi(MH427,25)-MJ427","v":0},false,0,null,0,0,null,null,null,0,0,0,null,null,0,0,{"$f":"IF((IF(restoZero(MY427,25),(spaziIntermedi(MY427,25))+1,spaziIntermedi(MY427,25)))=(spaziIntermedi(MZ427,25)),FALSE,TRUE)","v":true},0,{"$f":"+spaziIntermedi(MZ427,25)-NB427","v":0},false,0,null,0,0,null,null,null,0,0,0,0,0,null,null,0,0,{"$f":"IF((IF(restoZero(NS427,25),(spaziIntermedi(NS427,25))+1,spaziIntermedi(NS427,25)))=(spaziIntermedi(NT427,25)),FALSE,TRUE)","v":true},0,{"$f":"+spaziIntermedi(NT427,25)-NV427","v":0},false,0,null,0,0,null,null,null,0,0,0,null,null,0,0,{"$f":"IF((IF(restoZero(OK427,25),(spaziIntermedi(OK427,25))+1,spaziIntermedi(OK427,25)))=(spaziIntermedi(OL427,25)),FALSE,TRUE)","v":true},0,{"$f":"+spaziIntermedi(OL427,25)-ON427","v":0},false,0,null,0,0,null,null,null,0,0,0,0,0,null,null,0,0,{"$f":"IF((IF(restoZero(PE427,25),(spaziIntermedi(PE427,25))+1,spaziIntermedi(PE427,25)))=(spaziIntermedi(PF427,25)),FALSE,TRUE)","v":true},0,{"$f":"+spaziIntermedi(PF427,25)-PH427","v":0},false,0,null,0,0,null,null,null,0,0,0,null,null,0,0,{"$f":"IF((IF(restoZero(PW427,25),(spaziIntermedi(PW427,25))+1,spaziIntermedi(PW427,25)))=(spaziIntermedi(PX427,25)),FALSE,TRUE)","v":true},0,{"$f":"+spaziIntermedi(PX427,25)-PZ427","v":0},false,0,null,0,0,null,null,null,0,0,0,0,0,null,null,0,0,{"$f":"IF((IF(restoZero(QQ427,25),(spaziIntermedi(QQ427,25))+1,spaziIntermedi(QQ427,25)))=(spaziIntermedi(QR427,25)),FALSE,TRUE)","v":true},0,{"$f":"+spaziIntermedi(QR427,25)-QT427","v":0},false,0,null,0,0,null,null,null,0,0,0,null,null,0,0,{"$f":"IF((IF(restoZero(RI427,25),(spaziIntermedi(RI427,25))+1,spaziIntermedi(RI427,25)))=(spaziIntermedi(RJ427,25)),FALSE,TRUE)","v":true},0,{"$f":"+spaziIntermedi(RJ427,25)-RL427","v":0},false,0,null,0,0,null,null,null,0,0,0,0,0,null,null,0,0,{"$f":"IF((IF(restoZero(SC427,25),(spaziIntermedi(SC427,25))+1,spaziIntermedi(SC427,25)))=(spaziIntermedi(SD427,25)),FALSE,TRUE)","v":true},0,{"$f":"+spaziIntermedi(SD427,25)-SF427","v":0},false,0,null,0,0,null,null,null,0,0,0,null,null,0,0,{"$f":"IF((IF(restoZero(SU427,25),(spaziIntermedi(SU427,25))+1,spaziIntermedi(SU427,25)))=(spaziIntermedi(SV427,25)),FALSE,TRUE)","v":true},0,{"$f":"+spaziIntermedi(SV427,25)-SX427","v":0},false,0,null,0,0,null,null,null,0,0,0,0,0]
[null,null,0,0,{"$f":"IF((IF(restoZero(C458,25),(spaziIntermedi(C458,25))+1,spaziIntermedi(C458,25)))=(spaziIntermedi(D458,25)),FALSE,TRUE)","v":true},0,{"$f":"+spaziIntermedi(D458,25)-F458","v":0},false,0,null,0,0,null,null,null,0,0,0,null,null,0,0,{"$f":"IF((IF(restoZero(U458,25),(spaziIntermedi(U458,25))+1,spaziIntermedi(U458,25)))=(spaziIntermedi(V458,25)),FALSE,TRUE)","v":true},0,{"$f":"+spaziIntermedi(V458,25)-X458","v":0},false,0,null,0,0,null,null,null,0,0,0,0,0,null,null,0,0,{"$f":"IF((IF(restoZero(AO458,25),(spaziIntermedi(AO458,25))+1,spaziIntermedi(AO458,25)))=(spaziIntermedi(AP458,25)),FALSE,TRUE)","v":true},0,{"$f":"+spaziIntermedi(AP458,25)-AR458","v":0},false,0,null,0,0,null,null,null,0,0,0,null,null,0,0,{"$f":"IF((IF(restoZero(BG458,25),(spaziIntermedi(BG458,25))+1,spaziIntermedi(BG458,25)))=(spaziIntermedi(BH458,25)),FALSE,TRUE)","v":true},0,{"$f":"+spaziIntermedi(BH458,25)-BJ458","v":0},false,0,null,0,0,null,null,null,0,0,0,0,0,null,null,0,0,{"$f":"IF((IF(restoZero(CA458,25),(spaziIntermedi(CA458,25))+1,spaziIntermedi(CA458,25)))=(spaziIntermedi(CB458,25)),FALSE,TRUE)","v":true},0,{"$f":"+spaziIntermedi(CB458,25)-CD458","v":0},false,0,null,0,0,null,null,null,0,0,0,null,null,0,0,{"$f":"IF((IF(restoZero(CS458,25),(spaziIntermedi(CS458,25))+1,spaziIntermedi(CS458,25)))=(spaziIntermedi(CT458,25)),FALSE,TRUE)","v":true},0,{"$f":"+spaziIntermedi(CT458,25)-CV458","v":0},false,0,null,0,0,null,null,null,0,0,0,0,0,null,null,0,0,{"$f":"IF((IF(restoZero(DM458,25),(spaziIntermedi(DM458,25))+1,spaziIntermedi(DM458,25)))=(spaziIntermedi(DN458,25)),FALSE,TRUE)","v":true},0,{"$f":"+spaziIntermedi(DN458,25)-DP458","v":0},false,0,null,0,0,null,null,null,0,0,0,null,null,0,0,{"$f":"IF((IF(restoZero(EE458,25),(spaziIntermedi(EE458,25))+1,spaziIntermedi(EE458,25)))=(spaziIntermedi(EF458,25)),FALSE,TRUE)","v":true},0,{"$f":"+spaziIntermedi(EF458,25)-EH458","v":0},false,0,null,0,0,null,null,null,0,0,0,0,0,null,null,0,0,{"$f":"IF((IF(restoZero(EY458,25),(spaziIntermedi(EY458,25))+1,spaziIntermedi(EY458,25)))=(spaziIntermedi(EZ458,25)),FALSE,TRUE)","v":true},0,{"$f":"+spaziIntermedi(EZ458,25)-FB458","v":0},false,0,null,0,0,null,null,null,0,0,0,null,null,0,0,{"$f":"IF((IF(restoZero(FQ458,25),(spaziIntermedi(FQ458,25))+1,spaziIntermedi(FQ458,25)))=(spaziIntermedi(FR458,25)),FALSE,TRUE)","v":true},0,{"$f":"+spaziIntermedi(FR458,25)-FT458","v":0},false,0,null,0,0,null,null,null,0,0,0,0,0,null,null,0,0,{"$f":"IF((IF(restoZero(GK458,25),(spaziIntermedi(GK458,25))+1,spaziIntermedi(GK458,25)))=(spaziIntermedi(GL458,25)),FALSE,TRUE)","v":true},0,{"$f":"+spaziIntermedi(GL458,25)-GN458","v":0},false,0,null,0,0,null,null,null,0,0,0,null,null,0,0,{"$f":"IF((IF(restoZero(HC458,25),(spaziIntermedi(HC458,25))+1,spaziIntermedi(HC458,25)))=(spaziIntermedi(HD458,25)),FALSE,TRUE)","v":true},0,{"$f":"+spaziIntermedi(HD458,25)-HF458","v":0},false,0,null,0,0,null,null,null,0,0,0,0,0,null,null,0,0,{"$f":"IF((IF(restoZero(HW458,25),(spaziIntermedi(HW458,25))+1,spaziIntermedi(HW458,25)))=(spaziIntermedi(HX458,25)),FALSE,TRUE)","v":true},0,{"$f":"+spaziIntermedi(HX458,25)-HZ458","v":0},false,0,null,0,0,null,null,null,0,0,0,null,null,0,0,{"$f":"IF((IF(restoZero(IO458,25),(spaziIntermedi(IO458,25))+1,spaziIntermedi(IO458,25)))=(spaziIntermedi(IP458,25)),FALSE,TRUE)","v":true},0,{"$f":"+spaziIntermedi(IP458,25)-IR458","v":0},false,0,null,0,0,null,null,null,0,0,0,0,0,null,null,0,0,{"$f":"IF((IF(restoZero(JI458,25),(spaziIntermedi(JI458,25))+1,spaziIntermedi(JI458,25)))=(spaziIntermedi(JJ458,25)),FALSE,TRUE)","v":true},0,{"$f":"+spaziIntermedi(JJ458,25)-JL458","v":0},false,0,null,0,0,null,null,null,0,0,0,null,null,0,0,{"$f":"IF((IF(restoZero(KA458,25),(spaziIntermedi(KA458,25))+1,spaziIntermedi(KA458,25)))=(spaziIntermedi(KB458,25)),FALSE,TRUE)","v":true},0,{"$f":"+spaziIntermedi(KB458,25)-KD458","v":0},false,0,null,0,0,null,null,null,0,0,0,0,0,null,null,0,0,{"$f":"IF((IF(restoZero(KU458,25),(spaziIntermedi(KU458,25))+1,spaziIntermedi(KU458,25)))=(spaziIntermedi(KV458,25)),FALSE,TRUE)","v":true},0,{"$f":"+spaziIntermedi(KV458,25)-KX458","v":0},false,0,null,0,0,null,null,null,0,0,0,null,null,0,0,{"$f":"IF((IF(restoZero(LM458,25),(spaziIntermedi(LM458,25))+1,spaziIntermedi(LM458,25)))=(spaziIntermedi(LN458,25)),FALSE,TRUE)","v":true},0,{"$f":"+spaziIntermedi(LN458,25)-LP458","v":0},false,0,null,0,0,null,null,null,0,0,0,0,0,null,null,0,0,{"$f":"IF((IF(restoZero(MG458,25),(spaziIntermedi(MG458,25))+1,spaziIntermedi(MG458,25)))=(spaziIntermedi(MH458,25)),FALSE,TRUE)","v":true},0,{"$f":"+spaziIntermedi(MH458,25)-MJ458","v":0},false,0,null,0,0,null,null,null,0,0,0,null,null,0,0,{"$f":"IF((IF(restoZero(MY458,25),(spaziIntermedi(MY458,25))+1,spaziIntermedi(MY458,25)))=(spaziIntermedi(MZ458,25)),FALSE,TRUE)","v":true},0,{"$f":"+spaziIntermedi(MZ458,25)-NB458","v":0},false,0,null,0,0,null,null,null,0,0,0,0,0,null,null,0,0,{"$f":"IF((IF(restoZero(NS458,25),(spaziIntermedi(NS458,25))+1,spaziIntermedi(NS458,25)))=(spaziIntermedi(NT458,25)),FALSE,TRUE)","v":true},0,{"$f":"+spaziIntermedi(NT458,25)-NV458","v":0},false,0,null,0,0,null,null,null,0,0,0,null,null,0,0,{"$f":"IF((IF(restoZero(OK458,25),(spaziIntermedi(OK458,25))+1,spaziIntermedi(OK458,25)))=(spaziIntermedi(OL458,25)),FALSE,TRUE)","v":true},0,{"$f":"+spaziIntermedi(OL458,25)-ON458","v":0},false,0,null,0,0,null,null,null,0,0,0,0,0,null,null,0,0,{"$f":"IF((IF(restoZero(PE458,25),(spaziIntermedi(PE458,25))+1,spaziIntermedi(PE458,25)))=(spaziIntermedi(PF458,25)),FALSE,TRUE)","v":true},0,{"$f":"+spaziIntermedi(PF458,25)-PH458","v":0},false,0,null,0,0,null,null,null,0,0,0,null,null,0,0,{"$f":"IF((IF(restoZero(PW458,25),(spaziIntermedi(PW458,25))+1,spaziIntermedi(PW458,25)))=(spaziIntermedi(PX458,25)),FALSE,TRUE)","v":true},0,{"$f":"+spaziIntermedi(PX458,25)-PZ458","v":0},false,0,null,0,0,null,null,null,0,0,0,0,0,null,null,0,0,{"$f":"IF((IF(restoZero(QQ458,25),(spaziIntermedi(QQ458,25))+1,spaziIntermedi(QQ458,25)))=(spaziIntermedi(QR458,25)),FALSE,TRUE)","v":true},0,{"$f":"+spaziIntermedi(QR458,25)-QT458","v":0},false,0,null,0,0,null,null,null,0,0,0,null,null,0,0,{"$f":"IF((IF(restoZero(RI458,25),(spaziIntermedi(RI458,25))+1,spaziIntermedi(RI458,25)))=(spaziIntermedi(RJ458,25)),FALSE,TRUE)","v":true},0,{"$f":"+spaziIntermedi(RJ458,25)-RL458","v":0},false,0,null,0,0,null,null,null,0,0,0,0,0,null,null,0,0,{"$f":"IF((IF(restoZero(SC458,25),(spaziIntermedi(SC458,25))+1,spaziIntermedi(SC458,25)))=(spaziIntermedi(SD458,25)),FALSE,TRUE)","v":true},0,{"$f":"+spaziIntermedi(SD458,25)-SF458","v":0},false,0,null,0,0,null,null,null,0,0,0,null,null,0,0,{"$f":"IF((IF(restoZero(SU458,25),(spaziIntermedi(SU458,25))+1,spaziIntermedi(SU458,25)))=(spaziIntermedi(SV458,25)),FALSE,TRUE)","v":true},0,{"$f":"+spaziIntermedi(SV458,25)-SX458","v":0},false,0,null,0,0,null,null,null,0,0,0,0,0]
[null,null,0,0,{"$f":"IF((IF(restoZero(C470,25),(spaziIntermedi(C470,25))+1,spaziIntermedi(C470,25)))=(spaziIntermedi(D470,25)),FALSE,TRUE)","v":true},0,{"$f":"+spaziIntermedi(D470,25)-F470","v":0},false,0,null,0,0,null,null,null,0,0,0,null,null,0,0,{"$f":"IF((IF(restoZero(U470,25),(spaziIntermedi(U470,25))+1,spaziIntermedi(U470,25)))=(spaziIntermedi(V470,25)),FALSE,TRUE)","v":true},0,{"$f":"+spaziIntermedi(V470,25)-X470","v":0},false,0,null,0,0,null,null,null,0,0,0,0,0,null,null,0,0,{"$f":"IF((IF(restoZero(AO470,25),(spaziIntermedi(AO470,25))+1,spaziIntermedi(AO470,25)))=(spaziIntermedi(AP470,25)),FALSE,TRUE)","v":true},0,{"$f":"+spaziIntermedi(AP470,25)-AR470","v":0},false,0,null,0,0,null,null,null,0,0,0,null,null,0,0,{"$f":"IF((IF(restoZero(BG470,25),(spaziIntermedi(BG470,25))+1,spaziIntermedi(BG470,25)))=(spaziIntermedi(BH470,25)),FALSE,TRUE)","v":true},0,{"$f":"+spaziIntermedi(BH470,25)-BJ470","v":0},false,0,null,0,0,null,null,null,0,0,0,0,0,null,null,0,0,{"$f":"IF((IF(restoZero(CA470,25),(spaziIntermedi(CA470,25))+1,spaziIntermedi(CA470,25)))=(spaziIntermedi(CB470,25)),FALSE,TRUE)","v":true},0,{"$f":"+spaziIntermedi(CB470,25)-CD470","v":0},false,0,null,0,0,null,null,null,0,0,0,null,null,0,0,{"$f":"IF((IF(restoZero(CS470,25),(spaziIntermedi(CS470,25))+1,spaziIntermedi(CS470,25)))=(spaziIntermedi(CT470,25)),FALSE,TRUE)","v":true},0,{"$f":"+spaziIntermedi(CT470,25)-CV470","v":0},false,0,null,0,0,null,null,null,0,0,0,0,0,null,null,0,0,{"$f":"IF((IF(restoZero(DM470,25),(spaziIntermedi(DM470,25))+1,spaziIntermedi(DM470,25)))=(spaziIntermedi(DN470,25)),FALSE,TRUE)","v":true},0,{"$f":"+spaziIntermedi(DN470,25)-DP470","v":0},false,0,null,0,0,null,null,null,0,0,0,null,null,0,0,{"$f":"IF((IF(restoZero(EE470,25),(spaziIntermedi(EE470,25))+1,spaziIntermedi(EE470,25)))=(spaziIntermedi(EF470,25)),FALSE,TRUE)","v":true},0,{"$f":"+spaziIntermedi(EF470,25)-EH470","v":0},false,0,null,0,0,null,null,null,0,0,0,0,0,null,null,0,0,{"$f":"IF((IF(restoZero(EY470,25),(spaziIntermedi(EY470,25))+1,spaziIntermedi(EY470,25)))=(spaziIntermedi(EZ470,25)),FALSE,TRUE)","v":true},0,{"$f":"+spaziIntermedi(EZ470,25)-FB470","v":0},false,0,null,0,0,null,null,null,0,0,0,null,null,0,0,{"$f":"IF((IF(restoZero(FQ470,25),(spaziIntermedi(FQ470,25))+1,spaziIntermedi(FQ470,25)))=(spaziIntermedi(FR470,25)),FALSE,TRUE)","v":true},0,{"$f":"+spaziIntermedi(FR470,25)-FT470","v":0},false,0,null,0,0,null,null,null,0,0,0,0,0,null,null,0,0,{"$f":"IF((IF(restoZero(GK470,25),(spaziIntermedi(GK470,25))+1,spaziIntermedi(GK470,25)))=(spaziIntermedi(GL470,25)),FALSE,TRUE)","v":true},0,{"$f":"+spaziIntermedi(GL470,25)-GN470","v":0},false,0,null,0,0,null,null,null,0,0,0,null,null,0,0,{"$f":"IF((IF(restoZero(HC470,25),(spaziIntermedi(HC470,25))+1,spaziIntermedi(HC470,25)))=(spaziIntermedi(HD470,25)),FALSE,TRUE)","v":true},0,{"$f":"+spaziIntermedi(HD470,25)-HF470","v":0},false,0,null,0,0,null,null,null,0,0,0,0,0,null,null,0,0,{"$f":"IF((IF(restoZero(HW470,25),(spaziIntermedi(HW470,25))+1,spaziIntermedi(HW470,25)))=(spaziIntermedi(HX470,25)),FALSE,TRUE)","v":true},0,{"$f":"+spaziIntermedi(HX470,25)-HZ470","v":0},false,0,null,0,0,null,null,null,0,0,0,null,null,0,0,{"$f":"IF((IF(restoZero(IO470,25),(spaziIntermedi(IO470,25))+1,spaziIntermedi(IO470,25)))=(spaziIntermedi(IP470,25)),FALSE,TRUE)","v":true},0,{"$f":"+spaziIntermedi(IP470,25)-IR470","v":0},false,0,null,0,0,null,null,null,0,0,0,0,0,null,null,0,0,{"$f":"IF((IF(restoZero(JI470,25),(spaziIntermedi(JI470,25))+1,spaziIntermedi(JI470,25)))=(spaziIntermedi(JJ470,25)),FALSE,TRUE)","v":true},0,{"$f":"+spaziIntermedi(JJ470,25)-JL470","v":0},false,0,null,0,0,null,null,null,0,0,0,null,null,0,0,{"$f":"IF((IF(restoZero(KA470,25),(spaziIntermedi(KA470,25))+1,spaziIntermedi(KA470,25)))=(spaziIntermedi(KB470,25)),FALSE,TRUE)","v":true},0,{"$f":"+spaziIntermedi(KB470,25)-KD470","v":0},false,0,null,0,0,null,null,null,0,0,0,0,0,null,null,0,0,{"$f":"IF((IF(restoZero(KU470,25),(spaziIntermedi(KU470,25))+1,spaziIntermedi(KU470,25)))=(spaziIntermedi(KV470,25)),FALSE,TRUE)","v":true},0,{"$f":"+spaziIntermedi(KV470,25)-KX470","v":0},false,0,null,0,0,null,null,null,0,0,0,null,null,0,0,{"$f":"IF((IF(restoZero(LM470,25),(spaziIntermedi(LM470,25))+1,spaziIntermedi(LM470,25)))=(spaziIntermedi(LN470,25)),FALSE,TRUE)","v":true},0,{"$f":"+spaziIntermedi(LN470,25)-LP470","v":0},false,0,null,0,0,null,null,null,0,0,0,0,0,null,null,0,0,{"$f":"IF((IF(restoZero(MG470,25),(spaziIntermedi(MG470,25))+1,spaziIntermedi(MG470,25)))=(spaziIntermedi(MH470,25)),FALSE,TRUE)","v":true},0,{"$f":"+spaziIntermedi(MH470,25)-MJ470","v":0},false,0,null,0,0,null,null,null,0,0,0,null,null,0,0,{"$f":"IF((IF(restoZero(MY470,25),(spaziIntermedi(MY470,25))+1,spaziIntermedi(MY470,25)))=(spaziIntermedi(MZ470,25)),FALSE,TRUE)","v":true},0,{"$f":"+spaziIntermedi(MZ470,25)-NB470","v":0},false,0,null,0,0,null,null,null,0,0,0,0,0,null,null,0,0,{"$f":"IF((IF(restoZero(NS470,25),(spaziIntermedi(NS470,25))+1,spaziIntermedi(NS470,25)))=(spaziIntermedi(NT470,25)),FALSE,TRUE)","v":true},0,{"$f":"+spaziIntermedi(NT470,25)-NV470","v":0},false,0,null,0,0,null,null,null,0,0,0,null,null,0,0,{"$f":"IF((IF(restoZero(OK470,25),(spaziIntermedi(OK470,25))+1,spaziIntermedi(OK470,25)))=(spaziIntermedi(OL470,25)),FALSE,TRUE)","v":true},0,{"$f":"+spaziIntermedi(OL470,25)-ON470","v":0},false,0,null,0,0,null,null,null,0,0,0,0,0,null,null,0,0,{"$f":"IF((IF(restoZero(PE470,25),(spaziIntermedi(PE470,25))+1,spaziIntermedi(PE470,25)))=(spaziIntermedi(PF470,25)),FALSE,TRUE)","v":true},0,{"$f":"+spaziIntermedi(PF470,25)-PH470","v":0},false,0,null,0,0,null,null,null,0,0,0,null,null,0,0,{"$f":"IF((IF(restoZero(PW470,25),(spaziIntermedi(PW470,25))+1,spaziIntermedi(PW470,25)))=(spaziIntermedi(PX470,25)),FALSE,TRUE)","v":true},0,{"$f":"+spaziIntermedi(PX470,25)-PZ470","v":0},false,0,null,0,0,null,null,null,0,0,0,0,0,null,null,0,0,{"$f":"IF((IF(restoZero(QQ470,25),(spaziIntermedi(QQ470,25))+1,spaziIntermedi(QQ470,25)))=(spaziIntermedi(QR470,25)),FALSE,TRUE)","v":true},0,{"$f":"+spaziIntermedi(QR470,25)-QT470","v":0},false,0,null,0,0,null,null,null,0,0,0,null,null,0,0,{"$f":"IF((IF(restoZero(RI470,25),(spaziIntermedi(RI470,25))+1,spaziIntermedi(RI470,25)))=(spaziIntermedi(RJ470,25)),FALSE,TRUE)","v":true},0,{"$f":"+spaziIntermedi(RJ470,25)-RL470","v":0},false,0,null,0,0,null,null,null,0,0,0,0,0,null,null,0,0,{"$f":"IF((IF(restoZero(SC470,25),(spaziIntermedi(SC470,25))+1,spaziIntermedi(SC470,25)))=(spaziIntermedi(SD470,25)),FALSE,TRUE)","v":true},0,{"$f":"+spaziIntermedi(SD470,25)-SF470","v":0},false,0,null,0,0,null,null,null,0,0,0,null,null,0,0,{"$f":"IF((IF(restoZero(SU470,25),(spaziIntermedi(SU470,25))+1,spaziIntermedi(SU470,25)))=(spaziIntermedi(SV470,25)),FALSE,TRUE)","v":true},0,{"$f":"+spaziIntermedi(SV470,25)-SX470","v":0},false,0,null,0,0,null,null,null,0,0,0,0,0]
[null,null,0,0,{"$f":"IF((IF(restoZero(C489,25),(spaziIntermedi(C489,25))+1,spaziIntermedi(C489,25)))=(spaziIntermedi(D489,25)),FALSE,TRUE)","v":true},0,{"$f":"+spaziIntermedi(D489,25)-F489","v":0},false,0,null,0,0,null,null,null,0,0,0,null,null,0,0,{"$f":"IF((IF(restoZero(U489,25),(spaziIntermedi(U489,25))+1,spaziIntermedi(U489,25)))=(spaziIntermedi(V489,25)),FALSE,TRUE)","v":true},0,{"$f":"+spaziIntermedi(V489,25)-X489","v":0},false,0,null,0,0,null,null,null,0,0,0,0,0,null,null,0,0,{"$f":"IF((IF(restoZero(AO489,25),(spaziIntermedi(AO489,25))+1,spaziIntermedi(AO489,25)))=(spaziIntermedi(AP489,25)),FALSE,TRUE)","v":true},0,{"$f":"+spaziIntermedi(AP489,25)-AR489","v":0},false,0,null,0,0,null,null,null,0,0,0,null,null,0,0,{"$f":"IF((IF(restoZero(BG489,25),(spaziIntermedi(BG489,25))+1,spaziIntermedi(BG489,25)))=(spaziIntermedi(BH489,25)),FALSE,TRUE)","v":true},0,{"$f":"+spaziIntermedi(BH489,25)-BJ489","v":0},false,0,null,0,0,null,null,null,0,0,0,0,0,null,null,0,0,{"$f":"IF((IF(restoZero(CA489,25),(spaziIntermedi(CA489,25))+1,spaziIntermedi(CA489,25)))=(spaziIntermedi(CB489,25)),FALSE,TRUE)","v":true},0,{"$f":"+spaziIntermedi(CB489,25)-CD489","v":0},false,0,null,0,0,null,null,null,0,0,0,null,null,0,0,{"$f":"IF((IF(restoZero(CS489,25),(spaziIntermedi(CS489,25))+1,spaziIntermedi(CS489,25)))=(spaziIntermedi(CT489,25)),FALSE,TRUE)","v":true},0,{"$f":"+spaziIntermedi(CT489,25)-CV489","v":0},false,0,null,0,0,null,null,null,0,0,0,0,0,null,null,0,0,{"$f":"IF((IF(restoZero(DM489,25),(spaziIntermedi(DM489,25))+1,spaziIntermedi(DM489,25)))=(spaziIntermedi(DN489,25)),FALSE,TRUE)","v":true},0,{"$f":"+spaziIntermedi(DN489,25)-DP489","v":0},false,0,null,0,0,null,null,null,0,0,0,null,null,0,0,{"$f":"IF((IF(restoZero(EE489,25),(spaziIntermedi(EE489,25))+1,spaziIntermedi(EE489,25)))=(spaziIntermedi(EF489,25)),FALSE,TRUE)","v":true},0,{"$f":"+spaziIntermedi(EF489,25)-EH489","v":0},false,0,null,0,0,null,null,null,0,0,0,0,0,null,null,0,0,{"$f":"IF((IF(restoZero(EY489,25),(spaziIntermedi(EY489,25))+1,spaziIntermedi(EY489,25)))=(spaziIntermedi(EZ489,25)),FALSE,TRUE)","v":true},0,{"$f":"+spaziIntermedi(EZ489,25)-FB489","v":0},false,0,null,0,0,null,null,null,0,0,0,null,null,0,0,{"$f":"IF((IF(restoZero(FQ489,25),(spaziIntermedi(FQ489,25))+1,spaziIntermedi(FQ489,25)))=(spaziIntermedi(FR489,25)),FALSE,TRUE)","v":true},0,{"$f":"+spaziIntermedi(FR489,25)-FT489","v":0},false,0,null,0,0,null,null,null,0,0,0,0,0,null,null,0,0,{"$f":"IF((IF(restoZero(GK489,25),(spaziIntermedi(GK489,25))+1,spaziIntermedi(GK489,25)))=(spaziIntermedi(GL489,25)),FALSE,TRUE)","v":true},0,{"$f":"+spaziIntermedi(GL489,25)-GN489","v":0},false,0,null,0,0,null,null,null,0,0,0,null,null,0,0,{"$f":"IF((IF(restoZero(HC489,25),(spaziIntermedi(HC489,25))+1,spaziIntermedi(HC489,25)))=(spaziIntermedi(HD489,25)),FALSE,TRUE)","v":true},0,{"$f":"+spaziIntermedi(HD489,25)-HF489","v":0},false,0,null,0,0,null,null,null,0,0,0,0,0,null,null,0,0,{"$f":"IF((IF(restoZero(HW489,25),(spaziIntermedi(HW489,25))+1,spaziIntermedi(HW489,25)))=(spaziIntermedi(HX489,25)),FALSE,TRUE)","v":true},0,{"$f":"+spaziIntermedi(HX489,25)-HZ489","v":0},false,0,null,0,0,null,null,null,0,0,0,null,null,0,0,{"$f":"IF((IF(restoZero(IO489,25),(spaziIntermedi(IO489,25))+1,spaziIntermedi(IO489,25)))=(spaziIntermedi(IP489,25)),FALSE,TRUE)","v":true},0,{"$f":"+spaziIntermedi(IP489,25)-IR489","v":0},false,0,null,0,0,null,null,null,0,0,0,0,0,null,null,0,0,{"$f":"IF((IF(restoZero(JI489,25),(spaziIntermedi(JI489,25))+1,spaziIntermedi(JI489,25)))=(spaziIntermedi(JJ489,25)),FALSE,TRUE)","v":true},0,{"$f":"+spaziIntermedi(JJ489,25)-JL489","v":0},false,0,null,0,0,null,null,null,0,0,0,null,null,0,0,{"$f":"IF((IF(restoZero(KA489,25),(spaziIntermedi(KA489,25))+1,spaziIntermedi(KA489,25)))=(spaziIntermedi(KB489,25)),FALSE,TRUE)","v":true},0,{"$f":"+spaziIntermedi(KB489,25)-KD489","v":0},false,0,null,0,0,null,null,null,0,0,0,0,0,null,null,0,0,{"$f":"IF((IF(restoZero(KU489,25),(spaziIntermedi(KU489,25))+1,spaziIntermedi(KU489,25)))=(spaziIntermedi(KV489,25)),FALSE,TRUE)","v":true},0,{"$f":"+spaziIntermedi(KV489,25)-KX489","v":0},false,0,null,0,0,null,null,null,0,0,0,null,null,0,0,{"$f":"IF((IF(restoZero(LM489,25),(spaziIntermedi(LM489,25))+1,spaziIntermedi(LM489,25)))=(spaziIntermedi(LN489,25)),FALSE,TRUE)","v":true},0,{"$f":"+spaziIntermedi(LN489,25)-LP489","v":0},false,0,null,0,0,null,null,null,0,0,0,0,0,null,null,0,0,{"$f":"IF((IF(restoZero(MG489,25),(spaziIntermedi(MG489,25))+1,spaziIntermedi(MG489,25)))=(spaziIntermedi(MH489,25)),FALSE,TRUE)","v":true},0,{"$f":"+spaziIntermedi(MH489,25)-MJ489","v":0},false,0,null,0,0,null,null,null,0,0,0,null,null,0,0,{"$f":"IF((IF(restoZero(MY489,25),(spaziIntermedi(MY489,25))+1,spaziIntermedi(MY489,25)))=(spaziIntermedi(MZ489,25)),FALSE,TRUE)","v":true},0,{"$f":"+spaziIntermedi(MZ489,25)-NB489","v":0},false,0,null,0,0,null,null,null,0,0,0,0,0,null,null,0,0,{"$f":"IF((IF(restoZero(NS489,25),(spaziIntermedi(NS489,25))+1,spaziIntermedi(NS489,25)))=(spaziIntermedi(NT489,25)),FALSE,TRUE)","v":true},0,{"$f":"+spaziIntermedi(NT489,25)-NV489","v":0},false,0,null,0,0,null,null,null,0,0,0,null,null,0,0,{"$f":"IF((IF(restoZero(OK489,25),(spaziIntermedi(OK489,25))+1,spaziIntermedi(OK489,25)))=(spaziIntermedi(OL489,25)),FALSE,TRUE)","v":true},0,{"$f":"+spaziIntermedi(OL489,25)-ON489","v":0},false,0,null,0,0,null,null,null,0,0,0,0,0,null,null,0,0,{"$f":"IF((IF(restoZero(PE489,25),(spaziIntermedi(PE489,25))+1,spaziIntermedi(PE489,25)))=(spaziIntermedi(PF489,25)),FALSE,TRUE)","v":true},0,{"$f":"+spaziIntermedi(PF489,25)-PH489","v":0},false,0,null,0,0,null,null,null,0,0,0,null,null,0,0,{"$f":"IF((IF(restoZero(PW489,25),(spaziIntermedi(PW489,25))+1,spaziIntermedi(PW489,25)))=(spaziIntermedi(PX489,25)),FALSE,TRUE)","v":true},0,{"$f":"+spaziIntermedi(PX489,25)-PZ489","v":0},false,0,null,0,0,null,null,null,0,0,0,0,0,null,null,0,0,{"$f":"IF((IF(restoZero(QQ489,25),(spaziIntermedi(QQ489,25))+1,spaziIntermedi(QQ489,25)))=(spaziIntermedi(QR489,25)),FALSE,TRUE)","v":true},0,{"$f":"+spaziIntermedi(QR489,25)-QT489","v":0},false,0,null,0,0,null,null,null,0,0,0,null,null,0,0,{"$f":"IF((IF(restoZero(RI489,25),(spaziIntermedi(RI489,25))+1,spaziIntermedi(RI489,25)))=(spaziIntermedi(RJ489,25)),FALSE,TRUE)","v":true},0,{"$f":"+spaziIntermedi(RJ489,25)-RL489","v":0},false,0,null,0,0,null,null,null,0,0,0,0,0,null,null,0,0,{"$f":"IF((IF(restoZero(SC489,25),(spaziIntermedi(SC489,25))+1,spaziIntermedi(SC489,25)))=(spaziIntermedi(SD489,25)),FALSE,TRUE)","v":true},0,{"$f":"+spaziIntermedi(SD489,25)-SF489","v":0},false,0,null,0,0,null,null,null,0,0,0,null,null,0,0,{"$f":"IF((IF(restoZero(SU489,25),(spaziIntermedi(SU489,25))+1,spaziIntermedi(SU489,25)))=(spaziIntermedi(SV489,25)),FALSE,TRUE)","v":true},0,{"$f":"+spaziIntermedi(SV489,25)-SX489","v":0},false,0,null,0,0,null,null,null,0,0,0,0,0]
[null,null,0,0,{"$f":"IF((IF(restoZero(C508,25),(spaziIntermedi(C508,25))+1,spaziIntermedi(C508,25)))=(spaziIntermedi(D508,25)),FALSE,TRUE)","v":true},0,{"$f":"+spaziIntermedi(D508,25)-F508","v":0},false,0,null,0,0,null,null,null,0,0,0,null,null,0,0,{"$f":"IF((IF(restoZero(U508,25),(spaziIntermedi(U508,25))+1,spaziIntermedi(U508,25)))=(spaziIntermedi(V508,25)),FALSE,TRUE)","v":true},0,{"$f":"+spaziIntermedi(V508,25)-X508","v":0},false,0,null,0,0,null,null,null,0,0,0,0,0,null,null,0,0,{"$f":"IF((IF(restoZero(AO508,25),(spaziIntermedi(AO508,25))+1,spaziIntermedi(AO508,25)))=(spaziIntermedi(AP508,25)),FALSE,TRUE)","v":true},0,{"$f":"+spaziIntermedi(AP508,25)-AR508","v":0},false,0,null,0,0,null,null,null,0,0,0,null,null,0,0,{"$f":"IF((IF(restoZero(BG508,25),(spaziIntermedi(BG508,25))+1,spaziIntermedi(BG508,25)))=(spaziIntermedi(BH508,25)),FALSE,TRUE)","v":true},0,{"$f":"+spaziIntermedi(BH508,25)-BJ508","v":0},false,0,null,0,0,null,null,null,0,0,0,0,0,null,null,0,0,{"$f":"IF((IF(restoZero(CA508,25),(spaziIntermedi(CA508,25))+1,spaziIntermedi(CA508,25)))=(spaziIntermedi(CB508,25)),FALSE,TRUE)","v":true},0,{"$f":"+spaziIntermedi(CB508,25)-CD508","v":0},false,0,null,0,0,null,null,null,0,0,0,null,null,0,0,{"$f":"IF((IF(restoZero(CS508,25),(spaziIntermedi(CS508,25))+1,spaziIntermedi(CS508,25)))=(spaziIntermedi(CT508,25)),FALSE,TRUE)","v":true},0,{"$f":"+spaziIntermedi(CT508,25)-CV508","v":0},false,0,null,0,0,null,null,null,0,0,0,0,0,null,null,0,0,{"$f":"IF((IF(restoZero(DM508,25),(spaziIntermedi(DM508,25))+1,spaziIntermedi(DM508,25)))=(spaziIntermedi(DN508,25)),FALSE,TRUE)","v":true},0,{"$f":"+spaziIntermedi(DN508,25)-DP508","v":0},false,0,null,0,0,null,null,null,0,0,0,null,null,0,0,{"$f":"IF((IF(restoZero(EE508,25),(spaziIntermedi(EE508,25))+1,spaziIntermedi(EE508,25)))=(spaziIntermedi(EF508,25)),FALSE,TRUE)","v":true},0,{"$f":"+spaziIntermedi(EF508,25)-EH508","v":0},false,0,null,0,0,null,null,null,0,0,0,0,0,null,null,0,0,{"$f":"IF((IF(restoZero(EY508,25),(spaziIntermedi(EY508,25))+1,spaziIntermedi(EY508,25)))=(spaziIntermedi(EZ508,25)),FALSE,TRUE)","v":true},0,{"$f":"+spaziIntermedi(EZ508,25)-FB508","v":0},false,0,null,0,0,null,null,null,0,0,0,null,null,0,0,{"$f":"IF((IF(restoZero(FQ508,25),(spaziIntermedi(FQ508,25))+1,spaziIntermedi(FQ508,25)))=(spaziIntermedi(FR508,25)),FALSE,TRUE)","v":true},0,{"$f":"+spaziIntermedi(FR508,25)-FT508","v":0},false,0,null,0,0,null,null,null,0,0,0,0,0,null,null,0,0,{"$f":"IF((IF(restoZero(GK508,25),(spaziIntermedi(GK508,25))+1,spaziIntermedi(GK508,25)))=(spaziIntermedi(GL508,25)),FALSE,TRUE)","v":true},0,{"$f":"+spaziIntermedi(GL508,25)-GN508","v":0},false,0,null,0,0,null,null,null,0,0,0,null,null,0,0,{"$f":"IF((IF(restoZero(HC508,25),(spaziIntermedi(HC508,25))+1,spaziIntermedi(HC508,25)))=(spaziIntermedi(HD508,25)),FALSE,TRUE)","v":true},0,{"$f":"+spaziIntermedi(HD508,25)-HF508","v":0},false,0,null,0,0,null,null,null,0,0,0,0,0,null,null,0,0,{"$f":"IF((IF(restoZero(HW508,25),(spaziIntermedi(HW508,25))+1,spaziIntermedi(HW508,25)))=(spaziIntermedi(HX508,25)),FALSE,TRUE)","v":true},0,{"$f":"+spaziIntermedi(HX508,25)-HZ508","v":0},false,0,null,0,0,null,null,null,0,0,0,null,null,0,0,{"$f":"IF((IF(restoZero(IO508,25),(spaziIntermedi(IO508,25))+1,spaziIntermedi(IO508,25)))=(spaziIntermedi(IP508,25)),FALSE,TRUE)","v":true},0,{"$f":"+spaziIntermedi(IP508,25)-IR508","v":0},false,0,null,0,0,null,null,null,0,0,0,0,0,null,null,0,0,{"$f":"IF((IF(restoZero(JI508,25),(spaziIntermedi(JI508,25))+1,spaziIntermedi(JI508,25)))=(spaziIntermedi(JJ508,25)),FALSE,TRUE)","v":true},0,{"$f":"+spaziIntermedi(JJ508,25)-JL508","v":0},false,0,null,0,0,null,null,null,0,0,0,null,null,0,0,{"$f":"IF((IF(restoZero(KA508,25),(spaziIntermedi(KA508,25))+1,spaziIntermedi(KA508,25)))=(spaziIntermedi(KB508,25)),FALSE,TRUE)","v":true},0,{"$f":"+spaziIntermedi(KB508,25)-KD508","v":0},false,0,null,0,0,null,null,null,0,0,0,0,0,null,null,0,0,{"$f":"IF((IF(restoZero(KU508,25),(spaziIntermedi(KU508,25))+1,spaziIntermedi(KU508,25)))=(spaziIntermedi(KV508,25)),FALSE,TRUE)","v":true},0,{"$f":"+spaziIntermedi(KV508,25)-KX508","v":0},false,0,null,0,0,null,null,null,0,0,0,null,null,0,0,{"$f":"IF((IF(restoZero(LM508,25),(spaziIntermedi(LM508,25))+1,spaziIntermedi(LM508,25)))=(spaziIntermedi(LN508,25)),FALSE,TRUE)","v":true},0,{"$f":"+spaziIntermedi(LN508,25)-LP508","v":0},false,0,null,0,0,null,null,null,0,0,0,0,0,null,null,0,0,{"$f":"IF((IF(restoZero(MG508,25),(spaziIntermedi(MG508,25))+1,spaziIntermedi(MG508,25)))=(spaziIntermedi(MH508,25)),FALSE,TRUE)","v":true},0,{"$f":"+spaziIntermedi(MH508,25)-MJ508","v":0},false,0,null,0,0,null,null,null,0,0,0,null,null,0,0,{"$f":"IF((IF(restoZero(MY508,25),(spaziIntermedi(MY508,25))+1,spaziIntermedi(MY508,25)))=(spaziIntermedi(MZ508,25)),FALSE,TRUE)","v":true},0,{"$f":"+spaziIntermedi(MZ508,25)-NB508","v":0},false,0,null,0,0,null,null,null,0,0,0,0,0,null,null,0,0,{"$f":"IF((IF(restoZero(NS508,25),(spaziIntermedi(NS508,25))+1,spaziIntermedi(NS508,25)))=(spaziIntermedi(NT508,25)),FALSE,TRUE)","v":true},0,{"$f":"+spaziIntermedi(NT508,25)-NV508","v":0},false,0,null,0,0,null,null,null,0,0,0,null,null,0,0,{"$f":"IF((IF(restoZero(OK508,25),(spaziIntermedi(OK508,25))+1,spaziIntermedi(OK508,25)))=(spaziIntermedi(OL508,25)),FALSE,TRUE)","v":true},0,{"$f":"+spaziIntermedi(OL508,25)-ON508","v":0},false,0,null,0,0,null,null,null,0,0,0,0,0,null,null,0,0,{"$f":"IF((IF(restoZero(PE508,25),(spaziIntermedi(PE508,25))+1,spaziIntermedi(PE508,25)))=(spaziIntermedi(PF508,25)),FALSE,TRUE)","v":true},0,{"$f":"+spaziIntermedi(PF508,25)-PH508","v":0},false,0,null,0,0,null,null,null,0,0,0,null,null,0,0,{"$f":"IF((IF(restoZero(PW508,25),(spaziIntermedi(PW508,25))+1,spaziIntermedi(PW508,25)))=(spaziIntermedi(PX508,25)),FALSE,TRUE)","v":true},0,{"$f":"+spaziIntermedi(PX508,25)-PZ508","v":0},false,0,null,0,0,null,null,null,0,0,0,0,0,null,null,0,0,{"$f":"IF((IF(restoZero(QQ508,25),(spaziIntermedi(QQ508,25))+1,spaziIntermedi(QQ508,25)))=(spaziIntermedi(QR508,25)),FALSE,TRUE)","v":true},0,{"$f":"+spaziIntermedi(QR508,25)-QT508","v":0},false,0,null,0,0,null,null,null,0,0,0,null,null,0,0,{"$f":"IF((IF(restoZero(RI508,25),(spaziIntermedi(RI508,25))+1,spaziIntermedi(RI508,25)))=(spaziIntermedi(RJ508,25)),FALSE,TRUE)","v":true},0,{"$f":"+spaziIntermedi(RJ508,25)-RL508","v":0},false,0,null,0,0,null,null,null,0,0,0,0,0,null,null,0,0,{"$f":"IF((IF(restoZero(SC508,25),(spaziIntermedi(SC508,25))+1,spaziIntermedi(SC508,25)))=(spaziIntermedi(SD508,25)),FALSE,TRUE)","v":true},0,{"$f":"+spaziIntermedi(SD508,25)-SF508","v":0},false,0,null,0,0,null,null,null,0,0,0,null,null,0,0,{"$f":"IF((IF(restoZero(SU508,25),(spaziIntermedi(SU508,25))+1,spaziIntermedi(SU508,25)))=(spaziIntermedi(SV508,25)),FALSE,TRUE)","v":true},0,{"$f":"+spaziIntermedi(SV508,25)-SX508","v":0},false,0,null,0,0,null,null,null,0,0,0,0,0]
[null,null,0,{"$f":"IF(B533=\"\",0,D532+B533+L532+K532+J533)","v":0},{"$f":"IF((IF(restoZero(C533,25),(spaziIntermedi(C533,25))+1,spaziIntermedi(C533,25)))=(spaziIntermedi(D533,25)),FALSE,TRUE)","v":true},0,{"$f":"+spaziIntermedi(D533,25)-F533","v":0},false,0,null,0,0,null,null,null,0,0,0,null,null,{"$f":"IFERROR(V532+AC532+AD532,0)","v":0},{"$f":"IF(T533=\"\",0,V532+T533+AD532+AC532)","v":0},{"$f":"IF((IF(restoZero(U533,25),(spaziIntermedi(U533,25))+1,spaziIntermedi(U533,25)))=(spaziIntermedi(V533,25)),FALSE,TRUE)","v":true},{"$f":"+V533/constLungRot","v":0},{"$f":"+spaziIntermedi(V533,25)-X533","v":0},false,{"$f":"+Y533*constLungRot","v":0},null,{"$f":"+IF(Z533=FALSE,AA533,0)","v":0},0,null,null,null,0,0,0,0,0,null,null,{"$f":"IFERROR(AP532+AW532+AX532,0)","v":0},{"$f":"IF(AN533=\"\",0,AP532+AN533+AX532+AW532+AV533)","v":0},{"$f":"IF((IF(restoZero(AO533,25),(spaziIntermedi(AO533,25))+1,spaziIntermedi(AO533,25)))=(spaziIntermedi(AP533,25)),FALSE,TRUE)","v":true},0,{"$f":"+spaziIntermedi(AP533,25)-AR533","v":0},false,0,null,0,0,null,null,null,0,0,0,null,null,{"$f":"IFERROR(BH532+BO532+BP532,0)","v":0},{"$f":"IF(BF533=\"\",0,BH532+BF533+BP532+BO532)","v":0},{"$f":"IF((IF(restoZero(BG533,25),(spaziIntermedi(BG533,25))+1,spaziIntermedi(BG533,25)))=(spaziIntermedi(BH533,25)),FALSE,TRUE)","v":true},0,{"$f":"+spaziIntermedi(BH533,25)-BJ533","v":0},false,0,null,0,0,null,null,null,0,0,0,0,0,null,null,{"$f":"IFERROR(CB532+CI532+CJ532,0)","v":0},{"$f":"IF(BZ533=\"\",0,CB532+BZ533+CJ532+CI532+CH533)","v":0},{"$f":"IF((IF(restoZero(CA533,25),(spaziIntermedi(CA533,25))+1,spaziIntermedi(CA533,25)))=(spaziIntermedi(CB533,25)),FALSE,TRUE)","v":true},0,{"$f":"+spaziIntermedi(CB533,25)-CD533","v":0},false,0,null,0,0,null,null,null,0,0,0,null,null,{"$f":"IFERROR(CT532+DA532+DB532,0)","v":0},{"$f":"IF(CR533=\"\",0,CT532+CR533+DB532+DA532)","v":0},{"$f":"IF((IF(restoZero(CS533,25),(spaziIntermedi(CS533,25))+1,spaziIntermedi(CS533,25)))=(spaziIntermedi(CT533,25)),FALSE,TRUE)","v":true},0,{"$f":"+spaziIntermedi(CT533,25)-CV533","v":0},false,0,null,0,0,null,null,null,0,0,0,0,0,null,null,{"$f":"IFERROR(DN532+DU532+DV532,0)","v":0},{"$f":"IF(DL533=\"\",0,DN532+DL533+DV532+DU532+DT533)","v":0},{"$f":"IF((IF(restoZero(DM533,25),(spaziIntermedi(DM533,25))+1,spaziIntermedi(DM533,25)))=(spaziIntermedi(DN533,25)),FALSE,TRUE)","v":true},0,{"$f":"+spaziIntermedi(DN533,25)-DP533","v":0},false,0,null,0,0,null,null,null,0,0,0,null,null,{"$f":"IFERROR(EF532+EM532+EN532,0)","v":0},{"$f":"IF(ED533=\"\",0,EF532+ED533+EN532+EM532)","v":0},{"$f":"IF((IF(restoZero(EE533,25),(spaziIntermedi(EE533,25))+1,spaziIntermedi(EE533,25)))=(spaziIntermedi(EF533,25)),FALSE,TRUE)","v":true},0,{"$f":"+spaziIntermedi(EF533,25)-EH533","v":0},false,0,null,0,0,null,null,null,0,0,0,0,0,null,null,{"$f":"IFERROR(EZ532+FG532+FH532,0)","v":0},{"$f":"IF(EX533=\"\",0,EZ532+EX533+FH532+FG532+FF533)","v":0},{"$f":"IF((IF(restoZero(EY533,25),(spaziIntermedi(EY533,25))+1,spaziIntermedi(EY533,25)))=(spaziIntermedi(EZ533,25)),FALSE,TRUE)","v":true},0,{"$f":"+spaziIntermedi(EZ533,25)-FB533","v":0},false,0,null,0,0,null,null,null,0,0,0,null,null,{"$f":"IFERROR(FR532+FY532+FZ532,0)","v":0},{"$f":"IF(FP533=\"\",0,FR532+FP533+FZ532+FY532)","v":0},{"$f":"IF((IF(restoZero(FQ533,25),(spaziIntermedi(FQ533,25))+1,spaziIntermedi(FQ533,25)))=(spaziIntermedi(FR533,25)),FALSE,TRUE)","v":true},0,{"$f":"+spaziIntermedi(FR533,25)-FT533","v":0},false,0,null,0,0,null,null,null,0,0,0,0,0,null,null,{"$f":"IFERROR(GL532+GS532+GT532,0)","v":0},{"$f":"IF(GJ533=\"\",0,GL532+GJ533+GT532+GS532+GR533)","v":0},{"$f":"IF((IF(restoZero(GK533,25),(spaziIntermedi(GK533,25))+1,spaziIntermedi(GK533,25)))=(spaziIntermedi(GL533,25)),FALSE,TRUE)","v":true},0,{"$f":"+spaziIntermedi(GL533,25)-GN533","v":0},false,0,null,0,0,null,null,null,0,0,0,null,null,{"$f":"IFERROR(HD532+HK532+HL532,0)","v":0},{"$f":"IF(HB533=\"\",0,HD532+HB533+HL532+HK532)","v":0},{"$f":"IF((IF(restoZero(HC533,25),(spaziIntermedi(HC533,25))+1,spaziIntermedi(HC533,25)))=(spaziIntermedi(HD533,25)),FALSE,TRUE)","v":true},0,{"$f":"+spaziIntermedi(HD533,25)-HF533","v":0},false,0,null,0,0,null,null,null,0,0,0,0,0,null,null,{"$f":"IFERROR(HX532+IE532+IF532,0)","v":0},{"$f":"IF(HV533=\"\",0,HX532+HV533+IF532+IE532+ID533)","v":0},{"$f":"IF((IF(restoZero(HW533,25),(spaziIntermedi(HW533,25))+1,spaziIntermedi(HW533,25)))=(spaziIntermedi(HX533,25)),FALSE,TRUE)","v":true},0,{"$f":"+spaziIntermedi(HX533,25)-HZ533","v":0},false,0,null,0,0,null,null,null,0,0,0,null,null,{"$f":"IFERROR(IP532+IW532+IX532,0)","v":0},{"$f":"IF(IN533=\"\",0,IP532+IN533+IX532+IW532)","v":0},{"$f":"IF((IF(restoZero(IO533,25),(spaziIntermedi(IO533,25))+1,spaziIntermedi(IO533,25)))=(spaziIntermedi(IP533,25)),FALSE,TRUE)","v":true},0,{"$f":"+spaziIntermedi(IP533,25)-IR533","v":0},false,0,null,0,0,null,null,null,0,0,0,0,0,null,null,{"$f":"IFERROR(JJ532+JQ532+JR532,0)","v":0},{"$f":"IF(JH533=\"\",0,JJ532+JH533+JR532+JQ532+JP533)","v":0},{"$f":"IF((IF(restoZero(JI533,25),(spaziIntermedi(JI533,25))+1,spaziIntermedi(JI533,25)))=(spaziIntermedi(JJ533,25)),FALSE,TRUE)","v":true},0,{"$f":"+spaziIntermedi(JJ533,25)-JL533","v":0},false,0,null,0,0,null,null,null,0,0,0,null,null,{"$f":"IFERROR(KB532+KI532+KJ532,0)","v":0},{"$f":"IF(JZ533=\"\",0,KB532+JZ533+KJ532+KI532)","v":0},{"$f":"IF((IF(restoZero(KA533,25),(spaziIntermedi(KA533,25))+1,spaziIntermedi(KA533,25)))=(spaziIntermedi(KB533,25)),FALSE,TRUE)","v":true},0,{"$f":"+spaziIntermedi(KB533,25)-KD533","v":0},false,0,null,0,0,null,null,null,0,0,0,0,0,null,null,{"$f":"IFERROR(KV532+LC532+LD532,0)","v":0},{"$f":"IF(KT533=\"\",0,KV532+KT533+LD532+LC532+LB533)","v":0},{"$f":"IF((IF(restoZero(KU533,25),(spaziIntermedi(KU533,25))+1,spaziIntermedi(KU533,25)))=(spaziIntermedi(KV533,25)),FALSE,TRUE)","v":true},0,{"$f":"+spaziIntermedi(KV533,25)-KX533","v":0},false,0,null,0,0,null,null,null,0,0,0,null,null,{"$f":"IFERROR(LN532+LU532+LV532,0)","v":0},{"$f":"IF(LL533=\"\",0,LN532+LL533+LV532+LU532)","v":0},{"$f":"IF((IF(restoZero(LM533,25),(spaziIntermedi(LM533,25))+1,spaziIntermedi(LM533,25)))=(spaziIntermedi(LN533,25)),FALSE,TRUE)","v":true},0,{"$f":"+spaziIntermedi(LN533,25)-LP533","v":0},false,0,null,0,0,null,null,null,0,0,0,0,0,null,null,{"$f":"IFERROR(MH532+MO532+MP532,0)","v":0},{"$f":"IF(MF533=\"\",0,MH532+MF533+MP532+MO532+MN533)","v":0},{"$f":"IF((IF(restoZero(MG533,25),(spaziIntermedi(MG533,25))+1,spaziIntermedi(MG533,25)))=(spaziIntermedi(MH533,25)),FALSE,TRUE)","v":true},0,{"$f":"+spaziIntermedi(MH533,25)-MJ533","v":0},false,0,null,0,0,null,null,null,0,0,0,null,null,{"$f":"IFERROR(MZ532+NG532+NH532,0)","v":0},{"$f":"IF(MX533=\"\",0,MZ532+MX533+NH532+NG532)","v":0},{"$f":"IF((IF(restoZero(MY533,25),(spaziIntermedi(MY533,25))+1,spaziIntermedi(MY533,25)))=(spaziIntermedi(MZ533,25)),FALSE,TRUE)","v":true},0,{"$f":"+spaziIntermedi(MZ533,25)-NB533","v":0},false,0,null,0,0,null,null,null,0,0,0,0,0,null,null,{"$f":"IFERROR(NT532+OA532+OB532,0)","v":0},{"$f":"IF(NR533=\"\",0,NT532+NR533+OB532+OA532+NZ533)","v":0},{"$f":"IF((IF(restoZero(NS533,25),(spaziIntermedi(NS533,25))+1,spaziIntermedi(NS533,25)))=(spaziIntermedi(NT533,25)),FALSE,TRUE)","v":true},0,{"$f":"+spaziIntermedi(NT533,25)-NV533","v":0},false,0,null,0,0,null,null,null,0,0,0,null,null,{"$f":"IFERROR(OL532+OS532+OT532,0)","v":0},{"$f":"IF(OJ533=\"\",0,OL532+OJ533+OT532+OS532)","v":0},{"$f":"IF((IF(restoZero(OK533,25),(spaziIntermedi(OK533,25))+1,spaziIntermedi(OK533,25)))=(spaziIntermedi(OL533,25)),FALSE,TRUE)","v":true},0,{"$f":"+spaziIntermedi(OL533,25)-ON533","v":0},false,0,null,0,0,null,null,null,0,0,0,0,0,null,null,{"$f":"IFERROR(PF532+PM532+PN532,0)","v":0},{"$f":"IF(PD533=\"\",0,PF532+PD533+PN532+PM532+PL533)","v":0},{"$f":"IF((IF(restoZero(PE533,25),(spaziIntermedi(PE533,25))+1,spaziIntermedi(PE533,25)))=(spaziIntermedi(PF533,25)),FALSE,TRUE)","v":true},0,{"$f":"+spaziIntermedi(PF533,25)-PH533","v":0},false,0,null,0,0,null,null,null,0,0,0,null,null,{"$f":"IFERROR(PX532+QE532+QF532,0)","v":0},{"$f":"IF(PV533=\"\",0,PX532+PV533+QF532+QE532)","v":0},{"$f":"IF((IF(restoZero(PW533,25),(spaziIntermedi(PW533,25))+1,spaziIntermedi(PW533,25)))=(spaziIntermedi(PX533,25)),FALSE,TRUE)","v":true},0,{"$f":"+spaziIntermedi(PX533,25)-PZ533","v":0},false,0,null,0,0,null,null,null,0,0,0,0,0,null,null,{"$f":"IFERROR(QR532+QY532+QZ532,0)","v":0},{"$f":"IF(QP533=\"\",0,QR532+QP533+QZ532+QY532+QX533)","v":0},{"$f":"IF((IF(restoZero(QQ533,25),(spaziIntermedi(QQ533,25))+1,spaziIntermedi(QQ533,25)))=(spaziIntermedi(QR533,25)),FALSE,TRUE)","v":true},0,{"$f":"+spaziIntermedi(QR533,25)-QT533","v":0},false,0,null,0,0,null,null,null,0,0,0,null,null,{"$f":"IFERROR(RJ532+RQ532+RR532,0)","v":0},{"$f":"IF(RH533=\"\",0,RJ532+RH533+RR532+RQ532)","v":0},{"$f":"IF((IF(restoZero(RI533,25),(spaziIntermedi(RI533,25))+1,spaziIntermedi(RI533,25)))=(spaziIntermedi(RJ533,25)),FALSE,TRUE)","v":true},0,{"$f":"+spaziIntermedi(RJ533,25)-RL533","v":0},false,0,null,0,0,null,null,null,0,0,0,0,0,null,null,{"$f":"IFERROR(SD532+SK532+SL532,0)","v":0},{"$f":"IF(SB533=\"\",0,SD532+SB533+SL532+SK532+SJ533)","v":0},{"$f":"IF((IF(restoZero(SC533,25),(spaziIntermedi(SC533,25))+1,spaziIntermedi(SC533,25)))=(spaziIntermedi(SD533,25)),FALSE,TRUE)","v":true},0,{"$f":"+spaziIntermedi(SD533,25)-SF533","v":0},false,0,null,0,0,null,null,null,0,0,0,null,null,{"$f":"IFERROR(SV532+TC532+TD532,0)","v":0},{"$f":"IF(ST533=\"\",0,SV532+ST533+TD532+TC532)","v":0},{"$f":"IF((IF(restoZero(SU533,25),(spaziIntermedi(SU533,25))+1,spaziIntermedi(SU533,25)))=(spaziIntermedi(SV533,25)),FALSE,TRUE)","v":true},0,{"$f":"+spaziIntermedi(SV533,25)-SX533","v":0},false,0,null,0,0,null,null,null,0,0,0,0,0]
[null,null,0,0,{"$f":"IF((IF(restoZero(C552,25),(spaziIntermedi(C552,25))+1,spaziIntermedi(C552,25)))=(spaziIntermedi(D552,25)),FALSE,TRUE)","v":true},0,{"$f":"+spaziIntermedi(D552,25)-F552","v":0},false,0,null,0,0,null,null,null,0,0,0,null,null,0,0,{"$f":"IF((IF(restoZero(U552,25),(spaziIntermedi(U552,25))+1,spaziIntermedi(U552,25)))=(spaziIntermedi(V552,25)),FALSE,TRUE)","v":true},0,{"$f":"+spaziIntermedi(V552,25)-X552","v":0},false,0,null,0,0,null,null,null,0,0,0,0,0,null,null,0,0,{"$f":"IF((IF(restoZero(AO552,25),(spaziIntermedi(AO552,25))+1,spaziIntermedi(AO552,25)))=(spaziIntermedi(AP552,25)),FALSE,TRUE)","v":true},0,{"$f":"+spaziIntermedi(AP552,25)-AR552","v":0},false,0,null,0,0,null,null,null,0,0,0,null,null,0,0,{"$f":"IF((IF(restoZero(BG552,25),(spaziIntermedi(BG552,25))+1,spaziIntermedi(BG552,25)))=(spaziIntermedi(BH552,25)),FALSE,TRUE)","v":true},0,{"$f":"+spaziIntermedi(BH552,25)-BJ552","v":0},false,0,null,0,0,null,null,null,0,0,0,0,0,null,null,0,0,{"$f":"IF((IF(restoZero(CA552,25),(spaziIntermedi(CA552,25))+1,spaziIntermedi(CA552,25)))=(spaziIntermedi(CB552,25)),FALSE,TRUE)","v":true},0,{"$f":"+spaziIntermedi(CB552,25)-CD552","v":0},false,0,null,0,0,null,null,null,0,0,0,null,null,0,0,{"$f":"IF((IF(restoZero(CS552,25),(spaziIntermedi(CS552,25))+1,spaziIntermedi(CS552,25)))=(spaziIntermedi(CT552,25)),FALSE,TRUE)","v":true},0,{"$f":"+spaziIntermedi(CT552,25)-CV552","v":0},false,0,null,0,0,null,null,null,0,0,0,0,0,null,null,0,0,{"$f":"IF((IF(restoZero(DM552,25),(spaziIntermedi(DM552,25))+1,spaziIntermedi(DM552,25)))=(spaziIntermedi(DN552,25)),FALSE,TRUE)","v":true},0,{"$f":"+spaziIntermedi(DN552,25)-DP552","v":0},false,0,null,0,0,null,null,null,0,0,0,null,null,0,0,{"$f":"IF((IF(restoZero(EE552,25),(spaziIntermedi(EE552,25))+1,spaziIntermedi(EE552,25)))=(spaziIntermedi(EF552,25)),FALSE,TRUE)","v":true},0,{"$f":"+spaziIntermedi(EF552,25)-EH552","v":0},false,0,null,0,0,null,null,null,0,0,0,0,0,null,null,0,0,{"$f":"IF((IF(restoZero(EY552,25),(spaziIntermedi(EY552,25))+1,spaziIntermedi(EY552,25)))=(spaziIntermedi(EZ552,25)),FALSE,TRUE)","v":true},0,{"$f":"+spaziIntermedi(EZ552,25)-FB552","v":0},false,0,null,0,0,null,null,null,0,0,0,null,null,0,0,{"$f":"IF((IF(restoZero(FQ552,25),(spaziIntermedi(FQ552,25))+1,spaziIntermedi(FQ552,25)))=(spaziIntermedi(FR552,25)),FALSE,TRUE)","v":true},0,{"$f":"+spaziIntermedi(FR552,25)-FT552","v":0},false,0,null,0,0,null,null,null,0,0,0,0,0,null,null,0,0,{"$f":"IF((IF(restoZero(GK552,25),(spaziIntermedi(GK552,25))+1,spaziIntermedi(GK552,25)))=(spaziIntermedi(GL552,25)),FALSE,TRUE)","v":true},0,{"$f":"+spaziIntermedi(GL552,25)-GN552","v":0},false,0,null,0,0,null,null,null,0,0,0,null,null,0,0,{"$f":"IF((IF(restoZero(HC552,25),(spaziIntermedi(HC552,25))+1,spaziIntermedi(HC552,25)))=(spaziIntermedi(HD552,25)),FALSE,TRUE)","v":true},0,{"$f":"+spaziIntermedi(HD552,25)-HF552","v":0},false,0,null,0,0,null,null,null,0,0,0,0,0,null,null,0,0,{"$f":"IF((IF(restoZero(HW552,25),(spaziIntermedi(HW552,25))+1,spaziIntermedi(HW552,25)))=(spaziIntermedi(HX552,25)),FALSE,TRUE)","v":true},0,{"$f":"+spaziIntermedi(HX552,25)-HZ552","v":0},false,0,null,0,0,null,null,null,0,0,0,null,null,0,0,{"$f":"IF((IF(restoZero(IO552,25),(spaziIntermedi(IO552,25))+1,spaziIntermedi(IO552,25)))=(spaziIntermedi(IP552,25)),FALSE,TRUE)","v":true},0,{"$f":"+spaziIntermedi(IP552,25)-IR552","v":0},false,0,null,0,0,null,null,null,0,0,0,0,0,null,null,0,0,{"$f":"IF((IF(restoZero(JI552,25),(spaziIntermedi(JI552,25))+1,spaziIntermedi(JI552,25)))=(spaziIntermedi(JJ552,25)),FALSE,TRUE)","v":true},0,{"$f":"+spaziIntermedi(JJ552,25)-JL552","v":0},false,0,null,0,0,null,null,null,0,0,0,null,null,0,0,{"$f":"IF((IF(restoZero(KA552,25),(spaziIntermedi(KA552,25))+1,spaziIntermedi(KA552,25)))=(spaziIntermedi(KB552,25)),FALSE,TRUE)","v":true},0,{"$f":"+spaziIntermedi(KB552,25)-KD552","v":0},false,0,null,0,0,null,null,null,0,0,0,0,0,null,null,0,0,{"$f":"IF((IF(restoZero(KU552,25),(spaziIntermedi(KU552,25))+1,spaziIntermedi(KU552,25)))=(spaziIntermedi(KV552,25)),FALSE,TRUE)","v":true},0,{"$f":"+spaziIntermedi(KV552,25)-KX552","v":0},false,0,null,0,0,null,null,null,0,0,0,null,null,0,0,{"$f":"IF((IF(restoZero(LM552,25),(spaziIntermedi(LM552,25))+1,spaziIntermedi(LM552,25)))=(spaziIntermedi(LN552,25)),FALSE,TRUE)","v":true},0,{"$f":"+spaziIntermedi(LN552,25)-LP552","v":0},false,0,null,0,0,null,null,null,0,0,0,0,0,null,null,0,0,{"$f":"IF((IF(restoZero(MG552,25),(spaziIntermedi(MG552,25))+1,spaziIntermedi(MG552,25)))=(spaziIntermedi(MH552,25)),FALSE,TRUE)","v":true},0,{"$f":"+spaziIntermedi(MH552,25)-MJ552","v":0},false,0,null,0,0,null,null,null,0,0,0,null,null,0,0,{"$f":"IF((IF(restoZero(MY552,25),(spaziIntermedi(MY552,25))+1,spaziIntermedi(MY552,25)))=(spaziIntermedi(MZ552,25)),FALSE,TRUE)","v":true},0,{"$f":"+spaziIntermedi(MZ552,25)-NB552","v":0},false,0,null,0,0,null,null,null,0,0,0,0,0,null,null,0,0,{"$f":"IF((IF(restoZero(NS552,25),(spaziIntermedi(NS552,25))+1,spaziIntermedi(NS552,25)))=(spaziIntermedi(NT552,25)),FALSE,TRUE)","v":true},0,{"$f":"+spaziIntermedi(NT552,25)-NV552","v":0},false,0,null,0,0,null,null,null,0,0,0,null,null,0,0,{"$f":"IF((IF(restoZero(OK552,25),(spaziIntermedi(OK552,25))+1,spaziIntermedi(OK552,25)))=(spaziIntermedi(OL552,25)),FALSE,TRUE)","v":true},0,{"$f":"+spaziIntermedi(OL552,25)-ON552","v":0},false,0,null,0,0,null,null,null,0,0,0,0,0,null,null,0,0,{"$f":"IF((IF(restoZero(PE552,25),(spaziIntermedi(PE552,25))+1,spaziIntermedi(PE552,25)))=(spaziIntermedi(PF552,25)),FALSE,TRUE)","v":true},0,{"$f":"+spaziIntermedi(PF552,25)-PH552","v":0},false,0,null,0,0,null,null,null,0,0,0,null,null,0,0,{"$f":"IF((IF(restoZero(PW552,25),(spaziIntermedi(PW552,25))+1,spaziIntermedi(PW552,25)))=(spaziIntermedi(PX552,25)),FALSE,TRUE)","v":true},0,{"$f":"+spaziIntermedi(PX552,25)-PZ552","v":0},false,0,null,0,0,null,null,null,0,0,0,0,0,null,null,0,0,{"$f":"IF((IF(restoZero(QQ552,25),(spaziIntermedi(QQ552,25))+1,spaziIntermedi(QQ552,25)))=(spaziIntermedi(QR552,25)),FALSE,TRUE)","v":true},0,{"$f":"+spaziIntermedi(QR552,25)-QT552","v":0},false,0,null,0,0,null,null,null,0,0,0,null,null,0,0,{"$f":"IF((IF(restoZero(RI552,25),(spaziIntermedi(RI552,25))+1,spaziIntermedi(RI552,25)))=(spaziIntermedi(RJ552,25)),FALSE,TRUE)","v":true},0,{"$f":"+spaziIntermedi(RJ552,25)-RL552","v":0},false,0,null,0,0,null,null,null,0,0,0,0,0,null,null,0,0,{"$f":"IF((IF(restoZero(SC552,25),(spaziIntermedi(SC552,25))+1,spaziIntermedi(SC552,25)))=(spaziIntermedi(SD552,25)),FALSE,TRUE)","v":true},0,{"$f":"+spaziIntermedi(SD552,25)-SF552","v":0},false,0,null,0,0,null,null,null,0,0,0,null,null,0,0,{"$f":"IF((IF(restoZero(SU552,25),(spaziIntermedi(SU552,25))+1,spaziIntermedi(SU552,25)))=(spaziIntermedi(SV552,25)),FALSE,TRUE)","v":true},0,{"$f":"+spaziIntermedi(SV552,25)-SX552","v":0},false,0,null,0,0,null,null,null,0,0,0,0,0]
[null,null,0,0,{"$f":"IF((IF(restoZero(C571,25),(spaziIntermedi(C571,25))+1,spaziIntermedi(C571,25)))=(spaziIntermedi(D571,25)),FALSE,TRUE)","v":true},0,{"$f":"+spaziIntermedi(D571,25)-F571","v":0},false,0,null,0,0,null,null,null,0,0,0,null,null,0,0,{"$f":"IF((IF(restoZero(U571,25),(spaziIntermedi(U571,25))+1,spaziIntermedi(U571,25)))=(spaziIntermedi(V571,25)),FALSE,TRUE)","v":true},0,{"$f":"+spaziIntermedi(V571,25)-X571","v":0},false,0,null,0,0,null,null,null,0,0,0,0,0,null,null,0,0,{"$f":"IF((IF(restoZero(AO571,25),(spaziIntermedi(AO571,25))+1,spaziIntermedi(AO571,25)))=(spaziIntermedi(AP571,25)),FALSE,TRUE)","v":true},0,{"$f":"+spaziIntermedi(AP571,25)-AR571","v":0},false,0,null,0,0,null,null,null,0,0,0,null,null,0,0,{"$f":"IF((IF(restoZero(BG571,25),(spaziIntermedi(BG571,25))+1,spaziIntermedi(BG571,25)))=(spaziIntermedi(BH571,25)),FALSE,TRUE)","v":true},0,{"$f":"+spaziIntermedi(BH571,25)-BJ571","v":0},false,0,null,0,0,null,null,null,0,0,0,0,0,null,null,0,0,{"$f":"IF((IF(restoZero(CA571,25),(spaziIntermedi(CA571,25))+1,spaziIntermedi(CA571,25)))=(spaziIntermedi(CB571,25)),FALSE,TRUE)","v":true},0,{"$f":"+spaziIntermedi(CB571,25)-CD571","v":0},false,0,null,0,0,null,null,null,0,0,0,null,null,0,0,{"$f":"IF((IF(restoZero(CS571,25),(spaziIntermedi(CS571,25))+1,spaziIntermedi(CS571,25)))=(spaziIntermedi(CT571,25)),FALSE,TRUE)","v":true},0,{"$f":"+spaziIntermedi(CT571,25)-CV571","v":0},false,0,null,0,0,null,null,null,0,0,0,0,0,null,null,0,0,{"$f":"IF((IF(restoZero(DM571,25),(spaziIntermedi(DM571,25))+1,spaziIntermedi(DM571,25)))=(spaziIntermedi(DN571,25)),FALSE,TRUE)","v":true},0,{"$f":"+spaziIntermedi(DN571,25)-DP571","v":0},false,0,null,0,0,null,null,null,0,0,0,null,null,0,0,{"$f":"IF((IF(restoZero(EE571,25),(spaziIntermedi(EE571,25))+1,spaziIntermedi(EE571,25)))=(spaziIntermedi(EF571,25)),FALSE,TRUE)","v":true},0,{"$f":"+spaziIntermedi(EF571,25)-EH571","v":0},false,0,null,0,0,null,null,null,0,0,0,0,0,null,null,0,0,{"$f":"IF((IF(restoZero(EY571,25),(spaziIntermedi(EY571,25))+1,spaziIntermedi(EY571,25)))=(spaziIntermedi(EZ571,25)),FALSE,TRUE)","v":true},0,{"$f":"+spaziIntermedi(EZ571,25)-FB571","v":0},false,0,null,0,0,null,null,null,0,0,0,null,null,0,0,{"$f":"IF((IF(restoZero(FQ571,25),(spaziIntermedi(FQ571,25))+1,spaziIntermedi(FQ571,25)))=(spaziIntermedi(FR571,25)),FALSE,TRUE)","v":true},0,{"$f":"+spaziIntermedi(FR571,25)-FT571","v":0},false,0,null,0,0,null,null,null,0,0,0,0,0,null,null,0,0,{"$f":"IF((IF(restoZero(GK571,25),(spaziIntermedi(GK571,25))+1,spaziIntermedi(GK571,25)))=(spaziIntermedi(GL571,25)),FALSE,TRUE)","v":true},0,{"$f":"+spaziIntermedi(GL571,25)-GN571","v":0},false,0,null,0,0,null,null,null,0,0,0,null,null,0,0,{"$f":"IF((IF(restoZero(HC571,25),(spaziIntermedi(HC571,25))+1,spaziIntermedi(HC571,25)))=(spaziIntermedi(HD571,25)),FALSE,TRUE)","v":true},0,{"$f":"+spaziIntermedi(HD571,25)-HF571","v":0},false,0,null,0,0,null,null,null,0,0,0,0,0,null,null,0,0,{"$f":"IF((IF(restoZero(HW571,25),(spaziIntermedi(HW571,25))+1,spaziIntermedi(HW571,25)))=(spaziIntermedi(HX571,25)),FALSE,TRUE)","v":true},0,{"$f":"+spaziIntermedi(HX571,25)-HZ571","v":0},false,0,null,0,0,null,null,null,0,0,0,null,null,0,0,{"$f":"IF((IF(restoZero(IO571,25),(spaziIntermedi(IO571,25))+1,spaziIntermedi(IO571,25)))=(spaziIntermedi(IP571,25)),FALSE,TRUE)","v":true},0,{"$f":"+spaziIntermedi(IP571,25)-IR571","v":0},false,0,null,0,0,null,null,null,0,0,0,0,0,null,null,0,0,{"$f":"IF((IF(restoZero(JI571,25),(spaziIntermedi(JI571,25))+1,spaziIntermedi(JI571,25)))=(spaziIntermedi(JJ571,25)),FALSE,TRUE)","v":true},0,{"$f":"+spaziIntermedi(JJ571,25)-JL571","v":0},false,0,null,0,0,null,null,null,0,0,0,null,null,0,0,{"$f":"IF((IF(restoZero(KA571,25),(spaziIntermedi(KA571,25))+1,spaziIntermedi(KA571,25)))=(spaziIntermedi(KB571,25)),FALSE,TRUE)","v":true},0,{"$f":"+spaziIntermedi(KB571,25)-KD571","v":0},false,0,null,0,0,null,null,null,0,0,0,0,0,null,null,0,0,{"$f":"IF((IF(restoZero(KU571,25),(spaziIntermedi(KU571,25))+1,spaziIntermedi(KU571,25)))=(spaziIntermedi(KV571,25)),FALSE,TRUE)","v":true},0,{"$f":"+spaziIntermedi(KV571,25)-KX571","v":0},false,0,null,0,0,null,null,null,0,0,0,null,null,0,0,{"$f":"IF((IF(restoZero(LM571,25),(spaziIntermedi(LM571,25))+1,spaziIntermedi(LM571,25)))=(spaziIntermedi(LN571,25)),FALSE,TRUE)","v":true},0,{"$f":"+spaziIntermedi(LN571,25)-LP571","v":0},false,0,null,0,0,null,null,null,0,0,0,0,0,null,null,0,0,{"$f":"IF((IF(restoZero(MG571,25),(spaziIntermedi(MG571,25))+1,spaziIntermedi(MG571,25)))=(spaziIntermedi(MH571,25)),FALSE,TRUE)","v":true},0,{"$f":"+spaziIntermedi(MH571,25)-MJ571","v":0},false,0,null,0,0,null,null,null,0,0,0,null,null,0,0,{"$f":"IF((IF(restoZero(MY571,25),(spaziIntermedi(MY571,25))+1,spaziIntermedi(MY571,25)))=(spaziIntermedi(MZ571,25)),FALSE,TRUE)","v":true},0,{"$f":"+spaziIntermedi(MZ571,25)-NB571","v":0},false,0,null,0,0,null,null,null,0,0,0,0,0,null,null,0,0,{"$f":"IF((IF(restoZero(NS571,25),(spaziIntermedi(NS571,25))+1,spaziIntermedi(NS571,25)))=(spaziIntermedi(NT571,25)),FALSE,TRUE)","v":true},0,{"$f":"+spaziIntermedi(NT571,25)-NV571","v":0},false,0,null,0,0,null,null,null,0,0,0,null,null,0,0,{"$f":"IF((IF(restoZero(OK571,25),(spaziIntermedi(OK571,25))+1,spaziIntermedi(OK571,25)))=(spaziIntermedi(OL571,25)),FALSE,TRUE)","v":true},0,{"$f":"+spaziIntermedi(OL571,25)-ON571","v":0},false,0,null,0,0,null,null,null,0,0,0,0,0,null,null,0,0,{"$f":"IF((IF(restoZero(PE571,25),(spaziIntermedi(PE571,25))+1,spaziIntermedi(PE571,25)))=(spaziIntermedi(PF571,25)),FALSE,TRUE)","v":true},0,{"$f":"+spaziIntermedi(PF571,25)-PH571","v":0},false,0,null,0,0,null,null,null,0,0,0,null,null,0,0,{"$f":"IF((IF(restoZero(PW571,25),(spaziIntermedi(PW571,25))+1,spaziIntermedi(PW571,25)))=(spaziIntermedi(PX571,25)),FALSE,TRUE)","v":true},0,{"$f":"+spaziIntermedi(PX571,25)-PZ571","v":0},false,0,null,0,0,null,null,null,0,0,0,0,0,null,null,0,0,{"$f":"IF((IF(restoZero(QQ571,25),(spaziIntermedi(QQ571,25))+1,spaziIntermedi(QQ571,25)))=(spaziIntermedi(QR571,25)),FALSE,TRUE)","v":true},0,{"$f":"+spaziIntermedi(QR571,25)-QT571","v":0},false,0,null,0,0,null,null,null,0,0,0,null,null,0,0,{"$f":"IF((IF(restoZero(RI571,25),(spaziIntermedi(RI571,25))+1,spaziIntermedi(RI571,25)))=(spaziIntermedi(RJ571,25)),FALSE,TRUE)","v":true},0,{"$f":"+spaziIntermedi(RJ571,25)-RL571","v":0},false,0,null,0,0,null,null,null,0,0,0,0,0,null,null,0,0,{"$f":"IF((IF(restoZero(SC571,25),(spaziIntermedi(SC571,25))+1,spaziIntermedi(SC571,25)))=(spaziIntermedi(SD571,25)),FALSE,TRUE)","v":true},0,{"$f":"+spaziIntermedi(SD571,25)-SF571","v":0},false,0,null,0,0,null,null,null,0,0,0,null,null,0,0,{"$f":"IF((IF(restoZero(SU571,25),(spaziIntermedi(SU571,25))+1,spaziIntermedi(SU571,25)))=(spaziIntermedi(SV571,25)),FALSE,TRUE)","v":true},0,{"$f":"+spaziIntermedi(SV571,25)-SX571","v":0},false,0,null,0,0,null,null,null,0,0,0,0,0]
[null,null,0,0,{"$f":"IF((IF(restoZero(C577,25),(spaziIntermedi(C577,25))+1,spaziIntermedi(C577,25)))=(spaziIntermedi(D577,25)),FALSE,TRUE)","v":true},0,{"$f":"+spaziIntermedi(D577,25)-F577","v":0},false,0,null,0,0,null,null,null,0,0,0,null,null,0,0,{"$f":"IF((IF(restoZero(U577,25),(spaziIntermedi(U577,25))+1,spaziIntermedi(U577,25)))=(spaziIntermedi(V577,25)),FALSE,TRUE)","v":true},0,{"$f":"+spaziIntermedi(V577,25)-X577","v":0},false,0,null,0,0,null,null,null,0,0,0,0,0,null,null,0,0,{"$f":"IF((IF(restoZero(AO577,25),(spaziIntermedi(AO577,25))+1,spaziIntermedi(AO577,25)))=(spaziIntermedi(AP577,25)),FALSE,TRUE)","v":true},0,{"$f":"+spaziIntermedi(AP577,25)-AR577","v":0},false,0,null,0,0,null,null,null,0,0,0,null,null,0,0,{"$f":"IF((IF(restoZero(BG577,25),(spaziIntermedi(BG577,25))+1,spaziIntermedi(BG577,25)))=(spaziIntermedi(BH577,25)),FALSE,TRUE)","v":true},0,{"$f":"+spaziIntermedi(BH577,25)-BJ577","v":0},false,0,null,0,0,null,null,null,0,0,0,0,0,null,null,0,0,{"$f":"IF((IF(restoZero(CA577,25),(spaziIntermedi(CA577,25))+1,spaziIntermedi(CA577,25)))=(spaziIntermedi(CB577,25)),FALSE,TRUE)","v":true},0,{"$f":"+spaziIntermedi(CB577,25)-CD577","v":0},false,0,null,0,0,null,null,null,0,0,0,null,null,0,0,{"$f":"IF((IF(restoZero(CS577,25),(spaziIntermedi(CS577,25))+1,spaziIntermedi(CS577,25)))=(spaziIntermedi(CT577,25)),FALSE,TRUE)","v":true},0,{"$f":"+spaziIntermedi(CT577,25)-CV577","v":0},false,0,null,0,0,null,null,null,0,0,0,0,0,null,null,0,0,{"$f":"IF((IF(restoZero(DM577,25),(spaziIntermedi(DM577,25))+1,spaziIntermedi(DM577,25)))=(spaziIntermedi(DN577,25)),FALSE,TRUE)","v":true},0,{"$f":"+spaziIntermedi(DN577,25)-DP577","v":0},false,0,null,0,0,null,null,null,0,0,0,null,null,0,0,{"$f":"IF((IF(restoZero(EE577,25),(spaziIntermedi(EE577,25))+1,spaziIntermedi(EE577,25)))=(spaziIntermedi(EF577,25)),FALSE,TRUE)","v":true},0,{"$f":"+spaziIntermedi(EF577,25)-EH577","v":0},false,0,null,0,0,null,null,null,0,0,0,0,0,null,null,0,0,{"$f":"IF((IF(restoZero(EY577,25),(spaziIntermedi(EY577,25))+1,spaziIntermedi(EY577,25)))=(spaziIntermedi(EZ577,25)),FALSE,TRUE)","v":true},0,{"$f":"+spaziIntermedi(EZ577,25)-FB577","v":0},false,0,null,0,0,null,null,null,0,0,0,null,null,0,0,{"$f":"IF((IF(restoZero(FQ577,25),(spaziIntermedi(FQ577,25))+1,spaziIntermedi(FQ577,25)))=(spaziIntermedi(FR577,25)),FALSE,TRUE)","v":true},0,{"$f":"+spaziIntermedi(FR577,25)-FT577","v":0},false,0,null,0,0,null,null,null,0,0,0,0,0,null,null,0,0,{"$f":"IF((IF(restoZero(GK577,25),(spaziIntermedi(GK577,25))+1,spaziIntermedi(GK577,25)))=(spaziIntermedi(GL577,25)),FALSE,TRUE)","v":true},0,{"$f":"+spaziIntermedi(GL577,25)-GN577","v":0},false,0,null,0,0,null,null,null,0,0,0,null,null,0,0,{"$f":"IF((IF(restoZero(HC577,25),(spaziIntermedi(HC577,25))+1,spaziIntermedi(HC577,25)))=(spaziIntermedi(HD577,25)),FALSE,TRUE)","v":true},0,{"$f":"+spaziIntermedi(HD577,25)-HF577","v":0},false,0,null,0,0,null,null,null,0,0,0,0,0,null,null,0,0,{"$f":"IF((IF(restoZero(HW577,25),(spaziIntermedi(HW577,25))+1,spaziIntermedi(HW577,25)))=(spaziIntermedi(HX577,25)),FALSE,TRUE)","v":true},0,{"$f":"+spaziIntermedi(HX577,25)-HZ577","v":0},false,0,null,0,0,null,null,null,0,0,0,null,null,0,0,{"$f":"IF((IF(restoZero(IO577,25),(spaziIntermedi(IO577,25))+1,spaziIntermedi(IO577,25)))=(spaziIntermedi(IP577,25)),FALSE,TRUE)","v":true},0,{"$f":"+spaziIntermedi(IP577,25)-IR577","v":0},false,0,null,0,0,null,null,null,0,0,0,0,0,null,null,0,0,{"$f":"IF((IF(restoZero(JI577,25),(spaziIntermedi(JI577,25))+1,spaziIntermedi(JI577,25)))=(spaziIntermedi(JJ577,25)),FALSE,TRUE)","v":true},0,{"$f":"+spaziIntermedi(JJ577,25)-JL577","v":0},false,0,null,0,0,null,null,null,0,0,0,null,null,0,0,{"$f":"IF((IF(restoZero(KA577,25),(spaziIntermedi(KA577,25))+1,spaziIntermedi(KA577,25)))=(spaziIntermedi(KB577,25)),FALSE,TRUE)","v":true},0,{"$f":"+spaziIntermedi(KB577,25)-KD577","v":0},false,0,null,0,0,null,null,null,0,0,0,0,0,null,null,0,0,{"$f":"IF((IF(restoZero(KU577,25),(spaziIntermedi(KU577,25))+1,spaziIntermedi(KU577,25)))=(spaziIntermedi(KV577,25)),FALSE,TRUE)","v":true},0,{"$f":"+spaziIntermedi(KV577,25)-KX577","v":0},false,0,null,0,0,null,null,null,0,0,0,null,null,0,0,{"$f":"IF((IF(restoZero(LM577,25),(spaziIntermedi(LM577,25))+1,spaziIntermedi(LM577,25)))=(spaziIntermedi(LN577,25)),FALSE,TRUE)","v":true},0,{"$f":"+spaziIntermedi(LN577,25)-LP577","v":0},false,0,null,0,0,null,null,null,0,0,0,0,0,null,null,0,0,{"$f":"IF((IF(restoZero(MG577,25),(spaziIntermedi(MG577,25))+1,spaziIntermedi(MG577,25)))=(spaziIntermedi(MH577,25)),FALSE,TRUE)","v":true},0,{"$f":"+spaziIntermedi(MH577,25)-MJ577","v":0},false,0,null,0,0,null,null,null,0,0,0,null,null,0,0,{"$f":"IF((IF(restoZero(MY577,25),(spaziIntermedi(MY577,25))+1,spaziIntermedi(MY577,25)))=(spaziIntermedi(MZ577,25)),FALSE,TRUE)","v":true},0,{"$f":"+spaziIntermedi(MZ577,25)-NB577","v":0},false,0,null,0,0,null,null,null,0,0,0,0,0,null,null,0,0,{"$f":"IF((IF(restoZero(NS577,25),(spaziIntermedi(NS577,25))+1,spaziIntermedi(NS577,25)))=(spaziIntermedi(NT577,25)),FALSE,TRUE)","v":true},0,{"$f":"+spaziIntermedi(NT577,25)-NV577","v":0},false,0,null,0,0,null,null,null,0,0,0,null,null,0,0,{"$f":"IF((IF(restoZero(OK577,25),(spaziIntermedi(OK577,25))+1,spaziIntermedi(OK577,25)))=(spaziIntermedi(OL577,25)),FALSE,TRUE)","v":true},0,{"$f":"+spaziIntermedi(OL577,25)-ON577","v":0},false,0,null,0,0,null,null,null,0,0,0,0,0,null,null,0,0,{"$f":"IF((IF(restoZero(PE577,25),(spaziIntermedi(PE577,25))+1,spaziIntermedi(PE577,25)))=(spaziIntermedi(PF577,25)),FALSE,TRUE)","v":true},0,{"$f":"+spaziIntermedi(PF577,25)-PH577","v":0},false,0,null,0,0,null,null,null,0,0,0,null,null,0,0,{"$f":"IF((IF(restoZero(PW577,25),(spaziIntermedi(PW577,25))+1,spaziIntermedi(PW577,25)))=(spaziIntermedi(PX577,25)),FALSE,TRUE)","v":true},0,{"$f":"+spaziIntermedi(PX577,25)-PZ577","v":0},false,0,null,0,0,null,null,null,0,0,0,0,0,null,null,0,0,{"$f":"IF((IF(restoZero(QQ577,25),(spaziIntermedi(QQ577,25))+1,spaziIntermedi(QQ577,25)))=(spaziIntermedi(QR577,25)),FALSE,TRUE)","v":true},0,{"$f":"+spaziIntermedi(QR577,25)-QT577","v":0},false,0,null,0,0,null,null,null,0,0,0,null,null,0,0,{"$f":"IF((IF(restoZero(RI577,25),(spaziIntermedi(RI577,25))+1,spaziIntermedi(RI577,25)))=(spaziIntermedi(RJ577,25)),FALSE,TRUE)","v":true},0,{"$f":"+spaziIntermedi(RJ577,25)-RL577","v":0},false,0,null,0,0,null,null,null,0,0,0,0,0,null,null,0,0,{"$f":"IF((IF(restoZero(SC577,25),(spaziIntermedi(SC577,25))+1,spaziIntermedi(SC577,25)))=(spaziIntermedi(SD577,25)),FALSE,TRUE)","v":true},0,{"$f":"+spaziIntermedi(SD577,25)-SF577","v":0},false,0,null,0,0,null,null,null,0,0,0,null,null,0,0,{"$f":"IF((IF(restoZero(SU577,25),(spaziIntermedi(SU577,25))+1,spaziIntermedi(SU577,25)))=(spaziIntermedi(SV577,25)),FALSE,TRUE)","v":true},0,{"$f":"+spaziIntermedi(SV577,25)-SX577","v":0},false,0,null,0,0,null,null,null,0,0,0,0,0]
[null,null,0,0,{"$f":"IF((IF(restoZero(C596,25),(spaziIntermedi(C596,25))+1,spaziIntermedi(C596,25)))=(spaziIntermedi(D596,25)),FALSE,TRUE)","v":true},0,{"$f":"+spaziIntermedi(D596,25)-F596","v":0},false,0,null,0,0,null,null,null,0,{"$f":"IF(N596=0,0,B596*2)","v":0},{"$f":"IF(OR(B596=\"\"),0,IF(O596=\"PIASTRA\",P596*2,_xlfn.CEILING.MATH(SUM(12,(B596/M596),((L596*C$2)/M596))*2,1)))","v":0},null,null,0,0,{"$f":"IF((IF(restoZero(U596,25),(spaziIntermedi(U596,25))+1,spaziIntermedi(U596,25)))=(spaziIntermedi(V596,25)),FALSE,TRUE)","v":true},0,{"$f":"+spaziIntermedi(V596,25)-X596","v":0},false,0,null,0,0,null,null,null,{"$f":"_xlfn.CEILING.MATH(IF(AG596<>\"PIASTRA\",0,IFERROR(IF(MOD(T596,AE596)=0,(((_xlfn.CEILING.MATH(T596/AE596)-1))+(T596/AE596))*2,((_xlfn.CEILING.MATH(T596/AE596)+(AD596/AE596))*2)),0)),1)","v":0},{"$f":"IF(AF596=0,0,T596*2)","v":0},{"$f":"IF(OR(T596=\"\"),0,IF(AG596=\"PIASTRA\",AH596*2,_xlfn.CEILING.MATH(SUM(12,(T596/AE596),((AD596*U$2)/AE596))*2,1)))","v":0},0,0,null,null,0,0,{"$f":"IF((IF(restoZero(AO596,25),(spaziIntermedi(AO596,25))+1,spaziIntermedi(AO596,25)))=(spaziIntermedi(AP596,25)),FALSE,TRUE)","v":true},0,{"$f":"+spaziIntermedi(AP596,25)-AR596","v":0},false,0,null,{"$f":"+IF(AT596=FALSE,AU596,0)","v":0},0,null,null,null,{"$f":"_xlfn.CEILING.MATH(IF(BA596<>\"PIASTRA\",0,IFERROR(IF(MOD(AN596,AY596)=0,(((_xlfn.CEILING.MATH(AN596/AY596)-1))+(AN596/AY596))*2,((_xlfn.CEILING.MATH(AN596/AY596)+(AX596/AY596))*2)),0)),1)","v":0},{"$f":"IF(AZ596=0,0,AN596*2)","v":0},{"$f":"IF(OR(AN596=\"\"),0,IF(BA596=\"PIASTRA\",BB596*2,_xlfn.CEILING.MATH(SUM(12,(AN596/AY596),((AX596*AO$2)/AY596))*2,1)))","v":0},null,null,0,0,{"$f":"IF((IF(restoZero(BG596,25),(spaziIntermedi(BG596,25))+1,spaziIntermedi(BG596,25)))=(spaziIntermedi(BH596,25)),FALSE,TRUE)","v":true},0,{"$f":"+spaziIntermedi(BH596,25)-BJ596","v":0},false,0,null,{"$f":"+IF(BL596=FALSE,BM596,0)","v":0},0,null,null,null,{"$f":"_xlfn.CEILING.MATH(IF(BS596<>\"PIASTRA\",0,IFERROR(IF(MOD(BF596,BQ596)=0,(((_xlfn.CEILING.MATH(BF596/BQ596)-1))+(BF596/BQ596))*2,((_xlfn.CEILING.MATH(BF596/BQ596)+(BP596/BQ596))*2)),0)),1)","v":0},{"$f":"IF(BR596=0,0,BF596*2)","v":0},{"$f":"IF(OR(BF596=\"\"),0,IF(BS596=\"PIASTRA\",BT596*2,_xlfn.CEILING.MATH(SUM(12,(BF596/BQ596),((BP596*BG$2)/BQ596))*2,1)))","v":0},0,0,null,null,0,0,{"$f":"IF((IF(restoZero(CA596,25),(spaziIntermedi(CA596,25))+1,spaziIntermedi(CA596,25)))=(spaziIntermedi(CB596,25)),FALSE,TRUE)","v":true},0,{"$f":"+spaziIntermedi(CB596,25)-CD596","v":0},false,0,null,{"$f":"+IF(CF596=FALSE,CG596,0)","v":0},0,null,null,null,{"$f":"_xlfn.CEILING.MATH(IF(CM596<>\"PIASTRA\",0,IFERROR(IF(MOD(BZ596,CK596)=0,(((_xlfn.CEILING.MATH(BZ596/CK596)-1))+(BZ596/CK596))*2,((_xlfn.CEILING.MATH(BZ596/CK596)+(CJ596/CK596))*2)),0)),1)","v":0},{"$f":"IF(CL596=0,0,BZ596*2)","v":0},{"$f":"IF(OR(BZ596=\"\"),0,IF(CM596=\"PIASTRA\",CN596*2,_xlfn.CEILING.MATH(SUM(12,(BZ596/CK596),((CJ596*CA$2)/CK596))*2,1)))","v":0},null,null,0,0,{"$f":"IF((IF(restoZero(CS596,25),(spaziIntermedi(CS596,25))+1,spaziIntermedi(CS596,25)))=(spaziIntermedi(CT596,25)),FALSE,TRUE)","v":true},0,{"$f":"+spaziIntermedi(CT596,25)-CV596","v":0},false,0,null,{"$f":"+IF(CX596=FALSE,CY596,0)","v":0},0,null,null,null,{"$f":"_xlfn.CEILING.MATH(IF(DE596<>\"PIASTRA\",0,IFERROR(IF(MOD(CR596,DC596)=0,(((_xlfn.CEILING.MATH(CR596/DC596)-1))+(CR596/DC596))*2,((_xlfn.CEILING.MATH(CR596/DC596)+(DB596/DC596))*2)),0)),1)","v":0},{"$f":"IF(DD596=0,0,CR596*2)","v":0},{"$f":"IF(OR(CR596=\"\"),0,IF(DE596=\"PIASTRA\",DF596*2,_xlfn.CEILING.MATH(SUM(12,(CR596/DC596),((DB596*$C$2)/DC596))*2,1)))","v":0},0,0,null,null,0,0,{"$f":"IF((IF(restoZero(DM596,25),(spaziIntermedi(DM596,25))+1,spaziIntermedi(DM596,25)))=(spaziIntermedi(DN596,25)),FALSE,TRUE)","v":true},0,{"$f":"+spaziIntermedi(DN596,25)-DP596","v":0},false,0,null,{"$f":"+IF(DR596=FALSE,DS596,0)","v":0},0,null,null,null,{"$f":"_xlfn.CEILING.MATH(IF(DY596<>\"PIASTRA\",0,IFERROR(IF(MOD(DL596,DW596)=0,(((_xlfn.CEILING.MATH(DL596/DW596)-1))+(DL596/DW596))*2,((_xlfn.CEILING.MATH(DL596/DW596)+(DV596/DW596))*2)),0)),1)","v":0},{"$f":"IF(DX596=0,0,DL596*2)","v":0},{"$f":"IF(OR(DL596=\"\"),0,IF(DY596=\"PIASTRA\",DZ596*2,_xlfn.CEILING.MATH(SUM(12,(DL596/DW596),((DV596*DM$2)/DW596))*2,1)))","v":0},null,null,0,0,{"$f":"IF((IF(restoZero(EE596,25),(spaziIntermedi(EE596,25))+1,spaziIntermedi(EE596,25)))=(spaziIntermedi(EF596,25)),FALSE,TRUE)","v":true},0,{"$f":"+spaziIntermedi(EF596,25)-EH596","v":0},false,0,null,{"$f":"+IF(EJ596=FALSE,EK596,0)","v":0},0,null,null,null,{"$f":"_xlfn.CEILING.MATH(IF(EQ596<>\"PIASTRA\",0,IFERROR(IF(MOD(ED596,EO596)=0,(((_xlfn.CEILING.MATH(ED596/EO596)-1))+(ED596/EO596))*2,((_xlfn.CEILING.MATH(ED596/EO596)+(EN596/EO596))*2)),0)),1)","v":0},{"$f":"IF(EP596=0,0,ED596*2)","v":0},{"$f":"IF(OR(ED596=\"\"),0,IF(EQ596=\"PIASTRA\",ER596*2,_xlfn.CEILING.MATH(SUM(12,(ED596/EO596),((EN596*EE$2)/EO596))*2,1)))","v":0},0,0,null,null,0,0,{"$f":"IF((IF(restoZero(EY596,25),(spaziIntermedi(EY596,25))+1,spaziIntermedi(EY596,25)))=(spaziIntermedi(EZ596,25)),FALSE,TRUE)","v":true},0,{"$f":"+spaziIntermedi(EZ596,25)-FB596","v":0},false,0,null,{"$f":"+IF(FD596=FALSE,FE596,0)","v":0},0,null,null,null,{"$f":"_xlfn.CEILING.MATH(IF(FK596<>\"PIASTRA\",0,IFERROR(IF(MOD(EX596,FI596)=0,(((_xlfn.CEILING.MATH(EX596/FI596)-1))+(EX596/FI596))*2,((_xlfn.CEILING.MATH(EX596/FI596)+(FH596/FI596))*2)),0)),1)","v":0},{"$f":"IF(FJ596=0,0,EX596*2)","v":0},{"$f":"IF(OR(EX596=\"\"),0,IF(FK596=\"PIASTRA\",FL596*2,_xlfn.CEILING.MATH(SUM(12,(EX596/FI596),((FH596*EY$2)/FI596))*2,1)))","v":0},null,null,0,0,{"$f":"IF((IF(restoZero(FQ596,25),(spaziIntermedi(FQ596,25))+1,spaziIntermedi(FQ596,25)))=(spaziIntermedi(FR596,25)),FALSE,TRUE)","v":true},0,{"$f":"+spaziIntermedi(FR596,25)-FT596","v":0},false,0,null,{"$f":"+IF(FV596=FALSE,FW596,0)","v":0},0,null,null,null,{"$f":"_xlfn.CEILING.MATH(IF(GC596<>\"PIASTRA\",0,IFERROR(IF(MOD(FP596,GA596)=0,(((_xlfn.CEILING.MATH(FP596/GA596)-1))+(FP596/GA596))*2,((_xlfn.CEILING.MATH(FP596/GA596)+(FZ596/GA596))*2)),0)),1)","v":0},{"$f":"IF(GB596=0,0,FP596*2)","v":0},{"$f":"IF(OR(FP596=\"\"),0,IF(GC596=\"PIASTRA\",GD596*2,_xlfn.CEILING.MATH(SUM(12,(FP596/GA596),((FZ596*FQ$2)/GA596))*2,1)))","v":0},0,0,null,null,0,0,{"$f":"IF((IF(restoZero(GK596,25),(spaziIntermedi(GK596,25))+1,spaziIntermedi(GK596,25)))=(spaziIntermedi(GL596,25)),FALSE,TRUE)","v":true},0,{"$f":"+spaziIntermedi(GL596,25)-GN596","v":0},false,0,null,{"$f":"+IF(GP596=FALSE,GQ596,0)","v":0},0,null,null,null,{"$f":"_xlfn.CEILING.MATH(IF(GW596<>\"PIASTRA\",0,IFERROR(IF(MOD(GJ596,GU596)=0,(((_xlfn.CEILING.MATH(GJ596/GU596)-1))+(GJ596/GU596))*2,((_xlfn.CEILING.MATH(GJ596/GU596)+(GT596/GU596))*2)),0)),1)","v":0},{"$f":"IF(GV596=0,0,GJ596*2)","v":0},{"$f":"IF(OR(GJ596=\"\"),0,IF(GW596=\"PIASTRA\",GX596*2,_xlfn.CEILING.MATH(SUM(12,(GJ596/GU596),((GT596*GK$2)/GU596))*2,1)))","v":0},null,null,0,0,{"$f":"IF((IF(restoZero(HC596,25),(spaziIntermedi(HC596,25))+1,spaziIntermedi(HC596,25)))=(spaziIntermedi(HD596,25)),FALSE,TRUE)","v":true},0,{"$f":"+spaziIntermedi(HD596,25)-HF596","v":0},false,0,null,{"$f":"+IF(HH596=FALSE,HI596,0)","v":0},0,null,null,null,{"$f":"_xlfn.CEILING.MATH(IF(HO596<>\"PIASTRA\",0,IFERROR(IF(MOD(HB596,HM596)=0,(((_xlfn.CEILING.MATH(HB596/HM596)-1))+(HB596/HM596))*2,((_xlfn.CEILING.MATH(HB596/HM596)+(HL596/HM596))*2)),0)),1)","v":0},{"$f":"IF(HN596=0,0,HB596*2)","v":0},{"$f":"IF(OR(HB596=\"\"),0,IF(HO596=\"PIASTRA\",HP596*2,_xlfn.CEILING.MATH(SUM(12,(HB596/HM596),((HL596*HC$2)/HM596))*2,1)))","v":0},0,0,null,null,0,0,{"$f":"IF((IF(restoZero(HW596,25),(spaziIntermedi(HW596,25))+1,spaziIntermedi(HW596,25)))=(spaziIntermedi(HX596,25)),FALSE,TRUE)","v":true},0,{"$f":"+spaziIntermedi(HX596,25)-HZ596","v":0},false,0,null,{"$f":"+IF(IB596=FALSE,IC596,0)","v":0},0,null,null,null,{"$f":"_xlfn.CEILING.MATH(IF(II596<>\"PIASTRA\",0,IFERROR(IF(MOD(HV596,IG596)=0,(((_xlfn.CEILING.MATH(HV596/IG596)-1))+(HV596/IG596))*2,((_xlfn.CEILING.MATH(HV596/IG596)+(IF596/IG596))*2)),0)),1)","v":0},{"$f":"IF(IH596=0,0,HV596*2)","v":0},{"$f":"IF(OR(HV596=\"\"),0,IF(II596=\"PIASTRA\",IJ596*2,_xlfn.CEILING.MATH(SUM(12,(HV596/IG596),((IF596*HW$2)/IG596))*2,1)))","v":0},null,null,0,0,{"$f":"IF((IF(restoZero(IO596,25),(spaziIntermedi(IO596,25))+1,spaziIntermedi(IO596,25)))=(spaziIntermedi(IP596,25)),FALSE,TRUE)","v":true},0,{"$f":"+spaziIntermedi(IP596,25)-IR596","v":0},false,0,null,{"$f":"+IF(IT596=FALSE,IU596,0)","v":0},0,null,null,null,{"$f":"_xlfn.CEILING.MATH(IF(JA596<>\"PIASTRA\",0,IFERROR(IF(MOD(IN596,IY596)=0,(((_xlfn.CEILING.MATH(IN596/IY596)-1))+(IN596/IY596))*2,((_xlfn.CEILING.MATH(IN596/IY596)+(IX596/IY596))*2)),0)),1)","v":0},{"$f":"IF(IZ596=0,0,IN596*2)","v":0},{"$f":"IF(OR(IN596=\"\"),0,IF(JA596=\"PIASTRA\",JB596*2,_xlfn.CEILING.MATH(SUM(12,(IN596/IY596),((IX596*IO$2)/IY596))*2,1)))","v":0},0,0,null,null,0,0,{"$f":"IF((IF(restoZero(JI596,25),(spaziIntermedi(JI596,25))+1,spaziIntermedi(JI596,25)))=(spaziIntermedi(JJ596,25)),FALSE,TRUE)","v":true},0,{"$f":"+spaziIntermedi(JJ596,25)-JL596","v":0},false,0,null,{"$f":"+IF(JN596=FALSE,JO596,0)","v":0},0,null,null,null,{"$f":"_xlfn.CEILING.MATH(IF(JU596<>\"PIASTRA\",0,IFERROR(IF(MOD(JH596,JS596)=0,(((_xlfn.CEILING.MATH(JH596/JS596)-1))+(JH596/JS596))*2,((_xlfn.CEILING.MATH(JH596/JS596)+(JR596/JS596))*2)),0)),1)","v":0},{"$f":"IF(JT596=0,0,JH596*2)","v":0},{"$f":"IF(OR(JH596=\"\"),0,IF(JU596=\"PIASTRA\",JV596*2,_xlfn.CEILING.MATH(SUM(12,(JH596/JS596),((JR596*JI$2)/JS596))*2,1)))","v":0},null,null,0,0,{"$f":"IF((IF(restoZero(KA596,25),(spaziIntermedi(KA596,25))+1,spaziIntermedi(KA596,25)))=(spaziIntermedi(KB596,25)),FALSE,TRUE)","v":true},0,{"$f":"+spaziIntermedi(KB596,25)-KD596","v":0},false,0,null,{"$f":"+IF(KF596=FALSE,KG596,0)","v":0},0,null,null,null,{"$f":"_xlfn.CEILING.MATH(IF(KM596<>\"PIASTRA\",0,IFERROR(IF(MOD(JZ596,KK596)=0,(((_xlfn.CEILING.MATH(JZ596/KK596)-1))+(JZ596/KK596))*2,((_xlfn.CEILING.MATH(JZ596/KK596)+(KJ596/KK596))*2)),0)),1)","v":0},{"$f":"IF(KL596=0,0,JZ596*2)","v":0},{"$f":"IF(OR(JZ596=\"\"),0,IF(KM596=\"PIASTRA\",KN596*2,_xlfn.CEILING.MATH(SUM(12,(JZ596/KK596),((KJ596*KA$2)/KK596))*2,1)))","v":0},0,0,null,null,0,0,{"$f":"IF((IF(restoZero(KU596,25),(spaziIntermedi(KU596,25))+1,spaziIntermedi(KU596,25)))=(spaziIntermedi(KV596,25)),FALSE,TRUE)","v":true},0,{"$f":"+spaziIntermedi(KV596,25)-KX596","v":0},false,0,null,{"$f":"+IF(KZ596=FALSE,LA596,0)","v":0},0,null,null,null,{"$f":"_xlfn.CEILING.MATH(IF(LG596<>\"PIASTRA\",0,IFERROR(IF(MOD(KT596,LE596)=0,(((_xlfn.CEILING.MATH(KT596/LE596)-1))+(KT596/LE596))*2,((_xlfn.CEILING.MATH(KT596/LE596)+(LD596/LE596))*2)),0)),1)","v":0},{"$f":"IF(LF596=0,0,KT596*2)","v":0},{"$f":"IF(OR(KT596=\"\"),0,IF(LG596=\"PIASTRA\",LH596*2,_xlfn.CEILING.MATH(SUM(12,(KT596/LE596),((LD596*KU$2)/LE596))*2,1)))","v":0},null,null,0,0,{"$f":"IF((IF(restoZero(LM596,25),(spaziIntermedi(LM596,25))+1,spaziIntermedi(LM596,25)))=(spaziIntermedi(LN596,25)),FALSE,TRUE)","v":true},0,{"$f":"+spaziIntermedi(LN596,25)-LP596","v":0},false,0,null,{"$f":"+IF(LR596=FALSE,LS596,0)","v":0},0,null,null,null,{"$f":"_xlfn.CEILING.MATH(IF(LY596<>\"PIASTRA\",0,IFERROR(IF(MOD(LL596,LW596)=0,(((_xlfn.CEILING.MATH(LL596/LW596)-1))+(LL596/LW596))*2,((_xlfn.CEILING.MATH(LL596/LW596)+(LV596/LW596))*2)),0)),1)","v":0},{"$f":"IF(LX596=0,0,LL596*2)","v":0},{"$f":"IF(OR(LL596=\"\"),0,IF(LY596=\"PIASTRA\",LZ596*2,_xlfn.CEILING.MATH(SUM(12,(LL596/LW596),((LV596*LM$2)/LW596))*2,1)))","v":0},0,0,null,null,0,0,{"$f":"IF((IF(restoZero(MG596,25),(spaziIntermedi(MG596,25))+1,spaziIntermedi(MG596,25)))=(spaziIntermedi(MH596,25)),FALSE,TRUE)","v":true},0,{"$f":"+spaziIntermedi(MH596,25)-MJ596","v":0},false,0,null,{"$f":"+IF(ML596=FALSE,MM596,0)","v":0},0,null,null,null,{"$f":"_xlfn.CEILING.MATH(IF(MS596<>\"PIASTRA\",0,IFERROR(IF(MOD(MF596,MQ596)=0,(((_xlfn.CEILING.MATH(MF596/MQ596)-1))+(MF596/MQ596))*2,((_xlfn.CEILING.MATH(MF596/MQ596)+(MP596/MQ596))*2)),0)),1)","v":0},{"$f":"IF(MR596=0,0,MF596*2)","v":0},{"$f":"IF(OR(MF596=\"\"),0,IF(MS596=\"PIASTRA\",MT596*2,_xlfn.CEILING.MATH(SUM(12,(MF596/MQ596),((MP596*MG$2)/MQ596))*2,1)))","v":0},null,null,0,0,{"$f":"IF((IF(restoZero(MY596,25),(spaziIntermedi(MY596,25))+1,spaziIntermedi(MY596,25)))=(spaziIntermedi(MZ596,25)),FALSE,TRUE)","v":true},0,{"$f":"+spaziIntermedi(MZ596,25)-NB596","v":0},false,0,null,{"$f":"+IF(ND596=FALSE,NE596,0)","v":0},0,null,null,null,{"$f":"_xlfn.CEILING.MATH(IF(NK596<>\"PIASTRA\",0,IFERROR(IF(MOD(MX596,NI596)=0,(((_xlfn.CEILING.MATH(MX596/NI596)-1))+(MX596/NI596))*2,((_xlfn.CEILING.MATH(MX596/NI596)+(NH596/NI596))*2)),0)),1)","v":0},{"$f":"IF(NJ596=0,0,MX596*2)","v":0},{"$f":"IF(OR(MX596=\"\"),0,IF(NK596=\"PIASTRA\",NL596*2,_xlfn.CEILING.MATH(SUM(12,(MX596/NI596),((NH596*MY$2)/NI596))*2,1)))","v":0},0,0,null,null,0,0,{"$f":"IF((IF(restoZero(NS596,25),(spaziIntermedi(NS596,25))+1,spaziIntermedi(NS596,25)))=(spaziIntermedi(NT596,25)),FALSE,TRUE)","v":true},0,{"$f":"+spaziIntermedi(NT596,25)-NV596","v":0},false,0,null,{"$f":"+IF(NX596=FALSE,NY596,0)","v":0},0,null,null,null,{"$f":"_xlfn.CEILING.MATH(IF(OE596<>\"PIASTRA\",0,IFERROR(IF(MOD(NR596,OC596)=0,(((_xlfn.CEILING.MATH(NR596/OC596)-1))+(NR596/OC596))*2,((_xlfn.CEILING.MATH(NR596/OC596)+(OB596/OC596))*2)),0)),1)","v":0},{"$f":"IF(OD596=0,0,NR596*2)","v":0},{"$f":"IF(OR(NR596=\"\"),0,IF(OE596=\"PIASTRA\",OF596*2,_xlfn.CEILING.MATH(SUM(12,(NR596/OC596),((OB596*NS$2)/OC596))*2,1)))","v":0},null,null,0,0,{"$f":"IF((IF(restoZero(OK596,25),(spaziIntermedi(OK596,25))+1,spaziIntermedi(OK596,25)))=(spaziIntermedi(OL596,25)),FALSE,TRUE)","v":true},0,{"$f":"+spaziIntermedi(OL596,25)-ON596","v":0},false,0,null,{"$f":"+IF(OP596=FALSE,OQ596,0)","v":0},0,null,null,null,{"$f":"_xlfn.CEILING.MATH(IF(OW596<>\"PIASTRA\",0,IFERROR(IF(MOD(OJ596,OU596)=0,(((_xlfn.CEILING.MATH(OJ596/OU596)-1))+(OJ596/OU596))*2,((_xlfn.CEILING.MATH(OJ596/OU596)+(OT596/OU596))*2)),0)),1)","v":0},{"$f":"IF(OV596=0,0,OJ596*2)","v":0},{"$f":"IF(OR(OJ596=\"\"),0,IF(OW596=\"PIASTRA\",OX596*2,_xlfn.CEILING.MATH(SUM(12,(OJ596/OU596),((OT596*OK$2)/OU596))*2,1)))","v":0},0,0,null,null,0,0,{"$f":"IF((IF(restoZero(PE596,25),(spaziIntermedi(PE596,25))+1,spaziIntermedi(PE596,25)))=(spaziIntermedi(PF596,25)),FALSE,TRUE)","v":true},0,{"$f":"+spaziIntermedi(PF596,25)-PH596","v":0},false,0,null,{"$f":"+IF(PJ596=FALSE,PK596,0)","v":0},0,null,null,null,{"$f":"_xlfn.CEILING.MATH(IF(PQ596<>\"PIASTRA\",0,IFERROR(IF(MOD(PD596,PO596)=0,(((_xlfn.CEILING.MATH(PD596/PO596)-1))+(PD596/PO596))*2,((_xlfn.CEILING.MATH(PD596/PO596)+(PN596/PO596))*2)),0)),1)","v":0},{"$f":"IF(PP596=0,0,PD596*2)","v":0},{"$f":"IF(OR(PD596=\"\"),0,IF(PQ596=\"PIASTRA\",PR596*2,_xlfn.CEILING.MATH(SUM(12,(PD596/PO596),((PN596*PE$2)/PO596))*2,1)))","v":0},null,null,0,0,{"$f":"IF((IF(restoZero(PW596,25),(spaziIntermedi(PW596,25))+1,spaziIntermedi(PW596,25)))=(spaziIntermedi(PX596,25)),FALSE,TRUE)","v":true},0,{"$f":"+spaziIntermedi(PX596,25)-PZ596","v":0},false,0,null,{"$f":"+IF(QB596=FALSE,QC596,0)","v":0},0,null,null,null,{"$f":"_xlfn.CEILING.MATH(IF(QI596<>\"PIASTRA\",0,IFERROR(IF(MOD(PV596,QG596)=0,(((_xlfn.CEILING.MATH(PV596/QG596)-1))+(PV596/QG596))*2,((_xlfn.CEILING.MATH(PV596/QG596)+(QF596/QG596))*2)),0)),1)","v":0},{"$f":"IF(QH596=0,0,PV596*2)","v":0},{"$f":"IF(OR(PV596=\"\"),0,IF(QI596=\"PIASTRA\",QJ596*2,_xlfn.CEILING.MATH(SUM(12,(PV596/QG596),((QF596*PW$2)/QG596))*2,1)))","v":0},0,0,null,null,0,0,{"$f":"IF((IF(restoZero(QQ596,25),(spaziIntermedi(QQ596,25))+1,spaziIntermedi(QQ596,25)))=(spaziIntermedi(QR596,25)),FALSE,TRUE)","v":true},0,{"$f":"+spaziIntermedi(QR596,25)-QT596","v":0},false,0,null,{"$f":"+IF(QV596=FALSE,QW596,0)","v":0},0,null,null,null,{"$f":"_xlfn.CEILING.MATH(IF(RC596<>\"PIASTRA\",0,IFERROR(IF(MOD(QP596,RA596)=0,(((_xlfn.CEILING.MATH(QP596/RA596)-1))+(QP596/RA596))*2,((_xlfn.CEILING.MATH(QP596/RA596)+(QZ596/RA596))*2)),0)),1)","v":0},{"$f":"IF(RB596=0,0,QP596*2)","v":0},{"$f":"IF(OR(QP596=\"\"),0,IF(RC596=\"PIASTRA\",RD596*2,_xlfn.CEILING.MATH(SUM(12,(QP596/RA596),((QZ596*QQ$2)/RA596))*2,1)))","v":0},null,null,0,0,{"$f":"IF((IF(restoZero(RI596,25),(spaziIntermedi(RI596,25))+1,spaziIntermedi(RI596,25)))=(spaziIntermedi(RJ596,25)),FALSE,TRUE)","v":true},0,{"$f":"+spaziIntermedi(RJ596,25)-RL596","v":0},false,0,null,{"$f":"+IF(RN596=FALSE,RO596,0)","v":0},0,null,null,null,{"$f":"_xlfn.CEILING.MATH(IF(RU596<>\"PIASTRA\",0,IFERROR(IF(MOD(RH596,RS596)=0,(((_xlfn.CEILING.MATH(RH596/RS596)-1))+(RH596/RS596))*2,((_xlfn.CEILING.MATH(RH596/RS596)+(RR596/RS596))*2)),0)),1)","v":0},{"$f":"IF(RT596=0,0,RH596*2)","v":0},{"$f":"IF(OR(RH596=\"\"),0,IF(RU596=\"PIASTRA\",RV596*2,_xlfn.CEILING.MATH(SUM(12,(RH596/RS596),((RR596*RI$2)/RS596))*2,1)))","v":0},0,0,null,null,0,0,{"$f":"IF((IF(restoZero(SC596,25),(spaziIntermedi(SC596,25))+1,spaziIntermedi(SC596,25)))=(spaziIntermedi(SD596,25)),FALSE,TRUE)","v":true},0,{"$f":"+spaziIntermedi(SD596,25)-SF596","v":0},false,0,null,{"$f":"+IF(SH596=FALSE,SI596,0)","v":0},0,null,null,null,{"$f":"_xlfn.CEILING.MATH(IF(SO596<>\"PIASTRA\",0,IFERROR(IF(MOD(SB596,SM596)=0,(((_xlfn.CEILING.MATH(SB596/SM596)-1))+(SB596/SM596))*2,((_xlfn.CEILING.MATH(SB596/SM596)+(SL596/SM596))*2)),0)),1)","v":0},{"$f":"IF(SN596=0,0,SB596*2)","v":0},{"$f":"IF(OR(SB596=\"\"),0,IF(SO596=\"PIASTRA\",SP596*2,_xlfn.CEILING.MATH(SUM(12,(SB596/SM596),((SL596*SC$2)/SM596))*2,1)))","v":0},null,null,0,0,{"$f":"IF((IF(restoZero(SU596,25),(spaziIntermedi(SU596,25))+1,spaziIntermedi(SU596,25)))=(spaziIntermedi(SV596,25)),FALSE,TRUE)","v":true},0,{"$f":"+spaziIntermedi(SV596,25)-SX596","v":0},false,0,null,{"$f":"+IF(SZ596=FALSE,TA596,0)","v":0},0,null,null,null,{"$f":"_xlfn.CEILING.MATH(IF(TG596<>\"PIASTRA\",0,IFERROR(IF(MOD(ST596,TE596)=0,(((_xlfn.CEILING.MATH(ST596/TE596)-1))+(ST596/TE596))*2,((_xlfn.CEILING.MATH(ST596/TE596)+(TD596/TE596))*2)),0)),1)","v":0},{"$f":"IF(TF596=0,0,ST596*2)","v":0},{"$f":"IF(OR(ST596=\"\"),0,IF(TG596=\"PIASTRA\",TH596*2,_xlfn.CEILING.MATH(SUM(12,(ST596/TE596),((TD596*SU$2)/TE596))*2,1)))","v":0},0,0]
[null,null,{"$f":"IFERROR(D620+K620+L620,0)","v":0},0,{"$f":"IF((IF(restoZero(C621,25),(spaziIntermedi(C621,25))+1,spaziIntermedi(C621,25)))=(spaziIntermedi(D621,25)),FALSE,TRUE)","v":true},0,{"$f":"+spaziIntermedi(D621,25)-F621","v":0},false,0,null,{"$f":"+IF(H621=FALSE,I621,0)","v":0},0,null,null,null,0,0,0,null,null,0,0,{"$f":"IF((IF(restoZero(U621,25),(spaziIntermedi(U621,25))+1,spaziIntermedi(U621,25)))=(spaziIntermedi(V621,25)),FALSE,TRUE)","v":true},0,{"$f":"+spaziIntermedi(V621,25)-X621","v":0},false,0,null,0,0,null,null,null,0,0,0,0,0,null,null,0,0,{"$f":"IF((IF(restoZero(AO621,25),(spaziIntermedi(AO621,25))+1,spaziIntermedi(AO621,25)))=(spaziIntermedi(AP621,25)),FALSE,TRUE)","v":true},0,{"$f":"+spaziIntermedi(AP621,25)-AR621","v":0},false,0,null,0,0,null,null,null,0,0,0,null,null,0,0,{"$f":"IF((IF(restoZero(BG621,25),(spaziIntermedi(BG621,25))+1,spaziIntermedi(BG621,25)))=(spaziIntermedi(BH621,25)),FALSE,TRUE)","v":true},0,{"$f":"+spaziIntermedi(BH621,25)-BJ621","v":0},false,0,null,0,0,null,null,null,0,0,0,0,0,null,null,0,0,{"$f":"IF((IF(restoZero(CA621,25),(spaziIntermedi(CA621,25))+1,spaziIntermedi(CA621,25)))=(spaziIntermedi(CB621,25)),FALSE,TRUE)","v":true},0,{"$f":"+spaziIntermedi(CB621,25)-CD621","v":0},false,0,null,0,0,null,null,null,0,0,0,null,null,0,0,{"$f":"IF((IF(restoZero(CS621,25),(spaziIntermedi(CS621,25))+1,spaziIntermedi(CS621,25)))=(spaziIntermedi(CT621,25)),FALSE,TRUE)","v":true},0,{"$f":"+spaziIntermedi(CT621,25)-CV621","v":0},false,0,null,0,0,null,null,null,0,0,0,0,0,null,null,0,0,{"$f":"IF((IF(restoZero(DM621,25),(spaziIntermedi(DM621,25))+1,spaziIntermedi(DM621,25)))=(spaziIntermedi(DN621,25)),FALSE,TRUE)","v":true},0,{"$f":"+spaziIntermedi(DN621,25)-DP621","v":0},false,0,null,0,0,null,null,null,0,0,0,null,null,0,0,{"$f":"IF((IF(restoZero(EE621,25),(spaziIntermedi(EE621,25))+1,spaziIntermedi(EE621,25)))=(spaziIntermedi(EF621,25)),FALSE,TRUE)","v":true},0,{"$f":"+spaziIntermedi(EF621,25)-EH621","v":0},false,0,null,0,0,null,null,null,0,0,0,0,0,null,null,0,0,{"$f":"IF((IF(restoZero(EY621,25),(spaziIntermedi(EY621,25))+1,spaziIntermedi(EY621,25)))=(spaziIntermedi(EZ621,25)),FALSE,TRUE)","v":true},0,{"$f":"+spaziIntermedi(EZ621,25)-FB621","v":0},false,0,null,0,0,null,null,null,0,0,0,null,null,0,0,{"$f":"IF((IF(restoZero(FQ621,25),(spaziIntermedi(FQ621,25))+1,spaziIntermedi(FQ621,25)))=(spaziIntermedi(FR621,25)),FALSE,TRUE)","v":true},0,{"$f":"+spaziIntermedi(FR621,25)-FT621","v":0},false,0,null,0,0,null,null,null,0,0,0,0,0,null,null,0,0,{"$f":"IF((IF(restoZero(GK621,25),(spaziIntermedi(GK621,25))+1,spaziIntermedi(GK621,25)))=(spaziIntermedi(GL621,25)),FALSE,TRUE)","v":true},0,{"$f":"+spaziIntermedi(GL621,25)-GN621","v":0},false,0,null,0,0,null,null,null,0,0,0,null,null,0,0,{"$f":"IF((IF(restoZero(HC621,25),(spaziIntermedi(HC621,25))+1,spaziIntermedi(HC621,25)))=(spaziIntermedi(HD621,25)),FALSE,TRUE)","v":true},0,{"$f":"+spaziIntermedi(HD621,25)-HF621","v":0},false,0,null,0,0,null,null,null,0,0,0,0,0,null,null,0,0,{"$f":"IF((IF(restoZero(HW621,25),(spaziIntermedi(HW621,25))+1,spaziIntermedi(HW621,25)))=(spaziIntermedi(HX621,25)),FALSE,TRUE)","v":true},0,{"$f":"+spaziIntermedi(HX621,25)-HZ621","v":0},false,0,null,0,0,null,null,null,0,0,0,null,null,0,0,{"$f":"IF((IF(restoZero(IO621,25),(spaziIntermedi(IO621,25))+1,spaziIntermedi(IO621,25)))=(spaziIntermedi(IP621,25)),FALSE,TRUE)","v":true},0,{"$f":"+spaziIntermedi(IP621,25)-IR621","v":0},false,0,null,0,0,null,null,null,0,0,0,0,0,null,null,0,0,{"$f":"IF((IF(restoZero(JI621,25),(spaziIntermedi(JI621,25))+1,spaziIntermedi(JI621,25)))=(spaziIntermedi(JJ621,25)),FALSE,TRUE)","v":true},0,{"$f":"+spaziIntermedi(JJ621,25)-JL621","v":0},false,0,null,0,0,null,null,null,0,0,0,null,null,0,0,{"$f":"IF((IF(restoZero(KA621,25),(spaziIntermedi(KA621,25))+1,spaziIntermedi(KA621,25)))=(spaziIntermedi(KB621,25)),FALSE,TRUE)","v":true},0,{"$f":"+spaziIntermedi(KB621,25)-KD621","v":0},false,0,null,0,0,null,null,null,0,0,0,0,0,null,null,0,0,{"$f":"IF((IF(restoZero(KU621,25),(spaziIntermedi(KU621,25))+1,spaziIntermedi(KU621,25)))=(spaziIntermedi(KV621,25)),FALSE,TRUE)","v":true},0,{"$f":"+spaziIntermedi(KV621,25)-KX621","v":0},false,0,null,0,0,null,null,null,0,0,0,null,null,0,0,{"$f":"IF((IF(restoZero(LM621,25),(spaziIntermedi(LM621,25))+1,spaziIntermedi(LM621,25)))=(spaziIntermedi(LN621,25)),FALSE,TRUE)","v":true},0,{"$f":"+spaziIntermedi(LN621,25)-LP621","v":0},false,0,null,0,0,null,null,null,0,0,0,0,0,null,null,0,0,{"$f":"IF((IF(restoZero(MG621,25),(spaziIntermedi(MG621,25))+1,spaziIntermedi(MG621,25)))=(spaziIntermedi(MH621,25)),FALSE,TRUE)","v":true},0,{"$f":"+spaziIntermedi(MH621,25)-MJ621","v":0},false,0,null,0,0,null,null,null,0,0,0,null,null,0,0,{"$f":"IF((IF(restoZero(MY621,25),(spaziIntermedi(MY621,25))+1,spaziIntermedi(MY621,25)))=(spaziIntermedi(MZ621,25)),FALSE,TRUE)","v":true},0,{"$f":"+spaziIntermedi(MZ621,25)-NB621","v":0},false,0,null,0,0,null,null,null,0,0,0,0,0,null,null,0,0,{"$f":"IF((IF(restoZero(NS621,25),(spaziIntermedi(NS621,25))+1,spaziIntermedi(NS621,25)))=(spaziIntermedi(NT621,25)),FALSE,TRUE)","v":true},0,{"$f":"+spaziIntermedi(NT621,25)-NV621","v":0},false,0,null,0,0,null,null,null,0,0,0,null,null,0,0,{"$f":"IF((IF(restoZero(OK621,25),(spaziIntermedi(OK621,25))+1,spaziIntermedi(OK621,25)))=(spaziIntermedi(OL621,25)),FALSE,TRUE)","v":true},0,{"$f":"+spaziIntermedi(OL621,25)-ON621","v":0},false,0,null,0,0,null,null,null,0,0,0,0,0,null,null,0,0,{"$f":"IF((IF(restoZero(PE621,25),(spaziIntermedi(PE621,25))+1,spaziIntermedi(PE621,25)))=(spaziIntermedi(PF621,25)),FALSE,TRUE)","v":true},0,{"$f":"+spaziIntermedi(PF621,25)-PH621","v":0},false,0,null,0,0,null,null,null,0,0,0,null,null,0,0,{"$f":"IF((IF(restoZero(PW621,25),(spaziIntermedi(PW621,25))+1,spaziIntermedi(PW621,25)))=(spaziIntermedi(PX621,25)),FALSE,TRUE)","v":true},0,{"$f":"+spaziIntermedi(PX621,25)-PZ621","v":0},false,0,null,0,0,null,null,null,0,0,0,0,0,null,null,0,0,{"$f":"IF((IF(restoZero(QQ621,25),(spaziIntermedi(QQ621,25))+1,spaziIntermedi(QQ621,25)))=(spaziIntermedi(QR621,25)),FALSE,TRUE)","v":true},0,{"$f":"+spaziIntermedi(QR621,25)-QT621","v":0},false,0,null,0,0,null,null,null,0,0,0,null,null,0,0,{"$f":"IF((IF(restoZero(RI621,25),(spaziIntermedi(RI621,25))+1,spaziIntermedi(RI621,25)))=(spaziIntermedi(RJ621,25)),FALSE,TRUE)","v":true},0,{"$f":"+spaziIntermedi(RJ621,25)-RL621","v":0},false,0,null,0,0,null,null,null,0,0,0,0,0,null,null,0,0,{"$f":"IF((IF(restoZero(SC621,25),(spaziIntermedi(SC621,25))+1,spaziIntermedi(SC621,25)))=(spaziIntermedi(SD621,25)),FALSE,TRUE)","v":true},0,{"$f":"+spaziIntermedi(SD621,25)-SF621","v":0},false,0,null,0,0,null,null,null,0,0,0,null,null,0,0,{"$f":"IF((IF(restoZero(SU621,25),(spaziIntermedi(SU621,25))+1,spaziIntermedi(SU621,25)))=(spaziIntermedi(SV621,25)),FALSE,TRUE)","v":true},0,{"$f":"+spaziIntermedi(SV621,25)-SX621","v":0},false,0,null,0,0,null,null,null,0,0,0,0,0]
[null,null,0,0,{"$f":"IF((IF(restoZero(C640,25),(spaziIntermedi(C640,25))+1,spaziIntermedi(C640,25)))=(spaziIntermedi(D640,25)),FALSE,TRUE)","v":true},0,{"$f":"+spaziIntermedi(D640,25)-F640","v":0},false,0,null,0,0,null,null,null,0,0,0,null,null,0,0,{"$f":"IF((IF(restoZero(U640,25),(spaziIntermedi(U640,25))+1,spaziIntermedi(U640,25)))=(spaziIntermedi(V640,25)),FALSE,TRUE)","v":true},0,{"$f":"+spaziIntermedi(V640,25)-X640","v":0},false,0,null,0,0,null,null,null,0,0,0,0,0,null,null,0,0,{"$f":"IF((IF(restoZero(AO640,25),(spaziIntermedi(AO640,25))+1,spaziIntermedi(AO640,25)))=(spaziIntermedi(AP640,25)),FALSE,TRUE)","v":true},0,{"$f":"+spaziIntermedi(AP640,25)-AR640","v":0},false,0,null,0,0,null,null,null,0,0,0,null,null,0,0,{"$f":"IF((IF(restoZero(BG640,25),(spaziIntermedi(BG640,25))+1,spaziIntermedi(BG640,25)))=(spaziIntermedi(BH640,25)),FALSE,TRUE)","v":true},0,{"$f":"+spaziIntermedi(BH640,25)-BJ640","v":0},false,0,null,0,0,null,null,null,0,0,0,0,0,null,null,0,0,{"$f":"IF((IF(restoZero(CA640,25),(spaziIntermedi(CA640,25))+1,spaziIntermedi(CA640,25)))=(spaziIntermedi(CB640,25)),FALSE,TRUE)","v":true},0,{"$f":"+spaziIntermedi(CB640,25)-CD640","v":0},false,0,null,0,0,null,null,null,0,0,0,null,null,0,0,{"$f":"IF((IF(restoZero(CS640,25),(spaziIntermedi(CS640,25))+1,spaziIntermedi(CS640,25)))=(spaziIntermedi(CT640,25)),FALSE,TRUE)","v":true},0,{"$f":"+spaziIntermedi(CT640,25)-CV640","v":0},false,0,null,0,0,null,null,null,0,0,0,0,0,null,null,0,0,{"$f":"IF((IF(restoZero(DM640,25),(spaziIntermedi(DM640,25))+1,spaziIntermedi(DM640,25)))=(spaziIntermedi(DN640,25)),FALSE,TRUE)","v":true},0,{"$f":"+spaziIntermedi(DN640,25)-DP640","v":0},false,0,null,0,0,null,null,null,0,0,0,null,null,0,0,{"$f":"IF((IF(restoZero(EE640,25),(spaziIntermedi(EE640,25))+1,spaziIntermedi(EE640,25)))=(spaziIntermedi(EF640,25)),FALSE,TRUE)","v":true},0,{"$f":"+spaziIntermedi(EF640,25)-EH640","v":0},false,0,null,0,0,null,null,null,0,0,0,0,0,null,null,0,0,{"$f":"IF((IF(restoZero(EY640,25),(spaziIntermedi(EY640,25))+1,spaziIntermedi(EY640,25)))=(spaziIntermedi(EZ640,25)),FALSE,TRUE)","v":true},0,{"$f":"+spaziIntermedi(EZ640,25)-FB640","v":0},false,0,null,0,0,null,null,null,0,0,0,null,null,0,0,{"$f":"IF((IF(restoZero(FQ640,25),(spaziIntermedi(FQ640,25))+1,spaziIntermedi(FQ640,25)))=(spaziIntermedi(FR640,25)),FALSE,TRUE)","v":true},0,{"$f":"+spaziIntermedi(FR640,25)-FT640","v":0},false,0,null,0,0,null,null,null,0,0,0,0,0,null,null,0,0,{"$f":"IF((IF(restoZero(GK640,25),(spaziIntermedi(GK640,25))+1,spaziIntermedi(GK640,25)))=(spaziIntermedi(GL640,25)),FALSE,TRUE)","v":true},0,{"$f":"+spaziIntermedi(GL640,25)-GN640","v":0},false,0,null,0,0,null,null,null,0,0,0,null,null,0,0,{"$f":"IF((IF(restoZero(HC640,25),(spaziIntermedi(HC640,25))+1,spaziIntermedi(HC640,25)))=(spaziIntermedi(HD640,25)),FALSE,TRUE)","v":true},0,{"$f":"+spaziIntermedi(HD640,25)-HF640","v":0},false,0,null,0,0,null,null,null,0,0,0,0,0,null,null,0,0,{"$f":"IF((IF(restoZero(HW640,25),(spaziIntermedi(HW640,25))+1,spaziIntermedi(HW640,25)))=(spaziIntermedi(HX640,25)),FALSE,TRUE)","v":true},0,{"$f":"+spaziIntermedi(HX640,25)-HZ640","v":0},false,0,null,0,0,null,null,null,0,0,0,null,null,0,0,{"$f":"IF((IF(restoZero(IO640,25),(spaziIntermedi(IO640,25))+1,spaziIntermedi(IO640,25)))=(spaziIntermedi(IP640,25)),FALSE,TRUE)","v":true},0,{"$f":"+spaziIntermedi(IP640,25)-IR640","v":0},false,0,null,0,0,null,null,null,0,0,0,0,0,null,null,0,0,{"$f":"IF((IF(restoZero(JI640,25),(spaziIntermedi(JI640,25))+1,spaziIntermedi(JI640,25)))=(spaziIntermedi(JJ640,25)),FALSE,TRUE)","v":true},0,{"$f":"+spaziIntermedi(JJ640,25)-JL640","v":0},false,0,null,0,0,null,null,null,0,0,0,null,null,0,0,{"$f":"IF((IF(restoZero(KA640,25),(spaziIntermedi(KA640,25))+1,spaziIntermedi(KA640,25)))=(spaziIntermedi(KB640,25)),FALSE,TRUE)","v":true},0,{"$f":"+spaziIntermedi(KB640,25)-KD640","v":0},false,0,null,0,0,null,null,null,0,0,0,0,0,null,null,0,0,{"$f":"IF((IF(restoZero(KU640,25),(spaziIntermedi(KU640,25))+1,spaziIntermedi(KU640,25)))=(spaziIntermedi(KV640,25)),FALSE,TRUE)","v":true},0,{"$f":"+spaziIntermedi(KV640,25)-KX640","v":0},false,0,null,0,0,null,null,null,0,0,0,null,null,0,0,{"$f":"IF((IF(restoZero(LM640,25),(spaziIntermedi(LM640,25))+1,spaziIntermedi(LM640,25)))=(spaziIntermedi(LN640,25)),FALSE,TRUE)","v":true},0,{"$f":"+spaziIntermedi(LN640,25)-LP640","v":0},false,0,null,0,0,null,null,null,0,0,0,0,0,null,null,0,0,{"$f":"IF((IF(restoZero(MG640,25),(spaziIntermedi(MG640,25))+1,spaziIntermedi(MG640,25)))=(spaziIntermedi(MH640,25)),FALSE,TRUE)","v":true},0,{"$f":"+spaziIntermedi(MH640,25)-MJ640","v":0},false,0,null,0,0,null,null,null,0,0,0,null,null,0,0,{"$f":"IF((IF(restoZero(MY640,25),(spaziIntermedi(MY640,25))+1,spaziIntermedi(MY640,25)))=(spaziIntermedi(MZ640,25)),FALSE,TRUE)","v":true},0,{"$f":"+spaziIntermedi(MZ640,25)-NB640","v":0},false,0,null,0,0,null,null,null,0,0,0,0,0,null,null,0,0,{"$f":"IF((IF(restoZero(NS640,25),(spaziIntermedi(NS640,25))+1,spaziIntermedi(NS640,25)))=(spaziIntermedi(NT640,25)),FALSE,TRUE)","v":true},0,{"$f":"+spaziIntermedi(NT640,25)-NV640","v":0},false,0,null,0,0,null,null,null,0,0,0,null,null,0,0,{"$f":"IF((IF(restoZero(OK640,25),(spaziIntermedi(OK640,25))+1,spaziIntermedi(OK640,25)))=(spaziIntermedi(OL640,25)),FALSE,TRUE)","v":true},0,{"$f":"+spaziIntermedi(OL640,25)-ON640","v":0},false,0,null,0,0,null,null,null,0,0,0,0,0,null,null,0,0,{"$f":"IF((IF(restoZero(PE640,25),(spaziIntermedi(PE640,25))+1,spaziIntermedi(PE640,25)))=(spaziIntermedi(PF640,25)),FALSE,TRUE)","v":true},0,{"$f":"+spaziIntermedi(PF640,25)-PH640","v":0},false,0,null,0,0,null,null,null,0,0,0,null,null,0,0,{"$f":"IF((IF(restoZero(PW640,25),(spaziIntermedi(PW640,25))+1,spaziIntermedi(PW640,25)))=(spaziIntermedi(PX640,25)),FALSE,TRUE)","v":true},0,{"$f":"+spaziIntermedi(PX640,25)-PZ640","v":0},false,0,null,0,0,null,null,null,0,0,0,0,0,null,null,0,0,{"$f":"IF((IF(restoZero(QQ640,25),(spaziIntermedi(QQ640,25))+1,spaziIntermedi(QQ640,25)))=(spaziIntermedi(QR640,25)),FALSE,TRUE)","v":true},0,{"$f":"+spaziIntermedi(QR640,25)-QT640","v":0},false,0,null,0,0,null,null,null,0,0,0,null,null,0,0,{"$f":"IF((IF(restoZero(RI640,25),(spaziIntermedi(RI640,25))+1,spaziIntermedi(RI640,25)))=(spaziIntermedi(RJ640,25)),FALSE,TRUE)","v":true},0,{"$f":"+spaziIntermedi(RJ640,25)-RL640","v":0},false,0,null,0,0,null,null,null,0,0,0,0,0,null,null,0,0,{"$f":"IF((IF(restoZero(SC640,25),(spaziIntermedi(SC640,25))+1,spaziIntermedi(SC640,25)))=(spaziIntermedi(SD640,25)),FALSE,TRUE)","v":true},0,{"$f":"+spaziIntermedi(SD640,25)-SF640","v":0},false,0,null,0,0,null,null,null,0,0,0,null,null,0,0,{"$f":"IF((IF(restoZero(SU640,25),(spaziIntermedi(SU640,25))+1,spaziIntermedi(SU640,25)))=(spaziIntermedi(SV640,25)),FALSE,TRUE)","v":true},0,{"$f":"+spaziIntermedi(SV640,25)-SX640","v":0},false,0,null,0,0,null,null,null,0,0,0,0,0]
[null,null,0,{"$f":"IF(B661=\"\",0,D660+B661+L660+K660+J661)","v":0},{"$f":"IF((IF(restoZero(C661,25),(spaziIntermedi(C661,25))+1,spaziIntermedi(C661,25)))=(spaziIntermedi(D661,25)),FALSE,TRUE)","v":true},0,{"$f":"+spaziIntermedi(D661,25)-F661","v":0},false,0,null,0,0,null,null,null,0,0,0,null,null,{"$f":"IFERROR(V660+AC660+AD660,0)","v":0},{"$f":"IF(T661=\"\",0,V660+T661+AD660+AC660)","v":0},{"$f":"IF((IF(restoZero(U661,25),(spaziIntermedi(U661,25))+1,spaziIntermedi(U661,25)))=(spaziIntermedi(V661,25)),FALSE,TRUE)","v":true},{"$f":"+V661/constLungRot","v":0},{"$f":"+spaziIntermedi(V661,25)-X661","v":0},false,{"$f":"+Y661*constLungRot","v":0},null,{"$f":"+IF(Z661=FALSE,AA661,0)","v":0},0,null,null,null,0,0,0,0,0,null,null,{"$f":"IFERROR(AP660+AW660+AX660,0)","v":0},{"$f":"IF(AN661=\"\",0,AP660+AN661+AX660+AW660+AV661)","v":0},{"$f":"IF((IF(restoZero(AO661,25),(spaziIntermedi(AO661,25))+1,spaziIntermedi(AO661,25)))=(spaziIntermedi(AP661,25)),FALSE,TRUE)","v":true},0,{"$f":"+spaziIntermedi(AP661,25)-AR661","v":0},false,0,null,0,0,null,null,null,0,0,0,null,null,{"$f":"IFERROR(BH660+BO660+BP660,0)","v":0},{"$f":"IF(BF661=\"\",0,BH660+BF661+BP660+BO660)","v":0},{"$f":"IF((IF(restoZero(BG661,25),(spaziIntermedi(BG661,25))+1,spaziIntermedi(BG661,25)))=(spaziIntermedi(BH661,25)),FALSE,TRUE)","v":true},0,{"$f":"+spaziIntermedi(BH661,25)-BJ661","v":0},false,0,null,0,0,null,null,null,0,0,0,0,0,null,null,{"$f":"IFERROR(CB660+CI660+CJ660,0)","v":0},{"$f":"IF(BZ661=\"\",0,CB660+BZ661+CJ660+CI660+CH661)","v":0},{"$f":"IF((IF(restoZero(CA661,25),(spaziIntermedi(CA661,25))+1,spaziIntermedi(CA661,25)))=(spaziIntermedi(CB661,25)),FALSE,TRUE)","v":true},0,{"$f":"+spaziIntermedi(CB661,25)-CD661","v":0},false,0,null,0,0,null,null,null,0,0,0,null,null,{"$f":"IFERROR(CT660+DA660+DB660,0)","v":0},{"$f":"IF(CR661=\"\",0,CT660+CR661+DB660+DA660)","v":0},{"$f":"IF((IF(restoZero(CS661,25),(spaziIntermedi(CS661,25))+1,spaziIntermedi(CS661,25)))=(spaziIntermedi(CT661,25)),FALSE,TRUE)","v":true},0,{"$f":"+spaziIntermedi(CT661,25)-CV661","v":0},false,0,null,0,0,null,null,null,0,0,0,0,0,null,null,{"$f":"IFERROR(DN660+DU660+DV660,0)","v":0},{"$f":"IF(DL661=\"\",0,DN660+DL661+DV660+DU660+DT661)","v":0},{"$f":"IF((IF(restoZero(DM661,25),(spaziIntermedi(DM661,25))+1,spaziIntermedi(DM661,25)))=(spaziIntermedi(DN661,25)),FALSE,TRUE)","v":true},0,{"$f":"+spaziIntermedi(DN661,25)-DP661","v":0},false,0,null,0,0,null,null,null,0,0,0,null,null,{"$f":"IFERROR(EF660+EM660+EN660,0)","v":0},{"$f":"IF(ED661=\"\",0,EF660+ED661+EN660+EM660)","v":0},{"$f":"IF((IF(restoZero(EE661,25),(spaziIntermedi(EE661,25))+1,spaziIntermedi(EE661,25)))=(spaziIntermedi(EF661,25)),FALSE,TRUE)","v":true},0,{"$f":"+spaziIntermedi(EF661,25)-EH661","v":0},false,0,null,0,0,null,null,null,0,0,0,0,0,null,null,{"$f":"IFERROR(EZ660+FG660+FH660,0)","v":0},{"$f":"IF(EX661=\"\",0,EZ660+EX661+FH660+FG660+FF661)","v":0},{"$f":"IF((IF(restoZero(EY661,25),(spaziIntermedi(EY661,25))+1,spaziIntermedi(EY661,25)))=(spaziIntermedi(EZ661,25)),FALSE,TRUE)","v":true},0,{"$f":"+spaziIntermedi(EZ661,25)-FB661","v":0},false,0,null,0,0,null,null,null,0,0,0,null,null,{"$f":"IFERROR(FR660+FY660+FZ660,0)","v":0},{"$f":"IF(FP661=\"\",0,FR660+FP661+FZ660+FY660)","v":0},{"$f":"IF((IF(restoZero(FQ661,25),(spaziIntermedi(FQ661,25))+1,spaziIntermedi(FQ661,25)))=(spaziIntermedi(FR661,25)),FALSE,TRUE)","v":true},0,{"$f":"+spaziIntermedi(FR661,25)-FT661","v":0},false,0,null,0,0,null,null,null,0,0,0,0,0,null,null,{"$f":"IFERROR(GL660+GS660+GT660,0)","v":0},{"$f":"IF(GJ661=\"\",0,GL660+GJ661+GT660+GS660+GR661)","v":0},{"$f":"IF((IF(restoZero(GK661,25),(spaziIntermedi(GK661,25))+1,spaziIntermedi(GK661,25)))=(spaziIntermedi(GL661,25)),FALSE,TRUE)","v":true},0,{"$f":"+spaziIntermedi(GL661,25)-GN661","v":0},false,0,null,0,0,null,null,null,0,0,0,null,null,{"$f":"IFERROR(HD660+HK660+HL660,0)","v":0},{"$f":"IF(HB661=\"\",0,HD660+HB661+HL660+HK660)","v":0},{"$f":"IF((IF(restoZero(HC661,25),(spaziIntermedi(HC661,25))+1,spaziIntermedi(HC661,25)))=(spaziIntermedi(HD661,25)),FALSE,TRUE)","v":true},0,{"$f":"+spaziIntermedi(HD661,25)-HF661","v":0},false,0,null,0,0,null,null,null,0,0,0,0,0,null,null,{"$f":"IFERROR(HX660+IE660+IF660,0)","v":0},{"$f":"IF(HV661=\"\",0,HX660+HV661+IF660+IE660+ID661)","v":0},{"$f":"IF((IF(restoZero(HW661,25),(spaziIntermedi(HW661,25))+1,spaziIntermedi(HW661,25)))=(spaziIntermedi(HX661,25)),FALSE,TRUE)","v":true},0,{"$f":"+spaziIntermedi(HX661,25)-HZ661","v":0},false,0,null,0,0,null,null,null,0,0,0,null,null,{"$f":"IFERROR(IP660+IW660+IX660,0)","v":0},{"$f":"IF(IN661=\"\",0,IP660+IN661+IX660+IW660)","v":0},{"$f":"IF((IF(restoZero(IO661,25),(spaziIntermedi(IO661,25))+1,spaziIntermedi(IO661,25)))=(spaziIntermedi(IP661,25)),FALSE,TRUE)","v":true},0,{"$f":"+spaziIntermedi(IP661,25)-IR661","v":0},false,0,null,0,0,null,null,null,0,0,0,0,0,null,null,{"$f":"IFERROR(JJ660+JQ660+JR660,0)","v":0},{"$f":"IF(JH661=\"\",0,JJ660+JH661+JR660+JQ660+JP661)","v":0},{"$f":"IF((IF(restoZero(JI661,25),(spaziIntermedi(JI661,25))+1,spaziIntermedi(JI661,25)))=(spaziIntermedi(JJ661,25)),FALSE,TRUE)","v":true},0,{"$f":"+spaziIntermedi(JJ661,25)-JL661","v":0},false,0,null,0,0,null,null,null,0,0,0,null,null,{"$f":"IFERROR(KB660+KI660+KJ660,0)","v":0},{"$f":"IF(JZ661=\"\",0,KB660+JZ661+KJ660+KI660)","v":0},{"$f":"IF((IF(restoZero(KA661,25),(spaziIntermedi(KA661,25))+1,spaziIntermedi(KA661,25)))=(spaziIntermedi(KB661,25)),FALSE,TRUE)","v":true},0,{"$f":"+spaziIntermedi(KB661,25)-KD661","v":0},false,0,null,0,0,null,null,null,0,0,0,0,0,null,null,{"$f":"IFERROR(KV660+LC660+LD660,0)","v":0},{"$f":"IF(KT661=\"\",0,KV660+KT661+LD660+LC660+LB661)","v":0},{"$f":"IF((IF(restoZero(KU661,25),(spaziIntermedi(KU661,25))+1,spaziIntermedi(KU661,25)))=(spaziIntermedi(KV661,25)),FALSE,TRUE)","v":true},0,{"$f":"+spaziIntermedi(KV661,25)-KX661","v":0},false,0,null,0,0,null,null,null,0,0,0,null,null,{"$f":"IFERROR(LN660+LU660+LV660,0)","v":0},{"$f":"IF(LL661=\"\",0,LN660+LL661+LV660+LU660)","v":0},{"$f":"IF((IF(restoZero(LM661,25),(spaziIntermedi(LM661,25))+1,spaziIntermedi(LM661,25)))=(spaziIntermedi(LN661,25)),FALSE,TRUE)","v":true},0,{"$f":"+spaziIntermedi(LN661,25)-LP661","v":0},false,0,null,0,0,null,null,null,0,0,0,0,0,null,null,{"$f":"IFERROR(MH660+MO660+MP660,0)","v":0},{"$f":"IF(MF661=\"\",0,MH660+MF661+MP660+MO660+MN661)","v":0},{"$f":"IF((IF(restoZero(MG661,25),(spaziIntermedi(MG661,25))+1,spaziIntermedi(MG661,25)))=(spaziIntermedi(MH661,25)),FALSE,TRUE)","v":true},0,{"$f":"+spaziIntermedi(MH661,25)-MJ661","v":0},false,0,null,0,0,null,null,null,0,0,0,null,null,{"$f":"IFERROR(MZ660+NG660+NH660,0)","v":0},{"$f":"IF(MX661=\"\",0,MZ660+MX661+NH660+NG660)","v":0},{"$f":"IF((IF(restoZero(MY661,25),(spaziIntermedi(MY661,25))+1,spaziIntermedi(MY661,25)))=(spaziIntermedi(MZ661,25)),FALSE,TRUE)","v":true},0,{"$f":"+spaziIntermedi(MZ661,25)-NB661","v":0},false,0,null,0,0,null,null,null,0,0,0,0,0,null,null,{"$f":"IFERROR(NT660+OA660+OB660,0)","v":0},{"$f":"IF(NR661=\"\",0,NT660+NR661+OB660+OA660+NZ661)","v":0},{"$f":"IF((IF(restoZero(NS661,25),(spaziIntermedi(NS661,25))+1,spaziIntermedi(NS661,25)))=(spaziIntermedi(NT661,25)),FALSE,TRUE)","v":true},0,{"$f":"+spaziIntermedi(NT661,25)-NV661","v":0},false,0,null,0,0,null,null,null,0,0,0,null,null,{"$f":"IFERROR(OL660+OS660+OT660,0)","v":0},{"$f":"IF(OJ661=\"\",0,OL660+OJ661+OT660+OS660)","v":0},{"$f":"IF((IF(restoZero(OK661,25),(spaziIntermedi(OK661,25))+1,spaziIntermedi(OK661,25)))=(spaziIntermedi(OL661,25)),FALSE,TRUE)","v":true},0,{"$f":"+spaziIntermedi(OL661,25)-ON661","v":0},false,0,null,0,0,null,null,null,0,0,0,0,0,null,null,{"$f":"IFERROR(PF660+PM660+PN660,0)","v":0},{"$f":"IF(PD661=\"\",0,PF660+PD661+PN660+PM660+PL661)","v":0},{"$f":"IF((IF(restoZero(PE661,25),(spaziIntermedi(PE661,25))+1,spaziIntermedi(PE661,25)))=(spaziIntermedi(PF661,25)),FALSE,TRUE)","v":true},0,{"$f":"+spaziIntermedi(PF661,25)-PH661","v":0},false,0,null,0,0,null,null,null,0,0,0,null,null,{"$f":"IFERROR(PX660+QE660+QF660,0)","v":0},{"$f":"IF(PV661=\"\",0,PX660+PV661+QF660+QE660)","v":0},{"$f":"IF((IF(restoZero(PW661,25),(spaziIntermedi(PW661,25))+1,spaziIntermedi(PW661,25)))=(spaziIntermedi(PX661,25)),FALSE,TRUE)","v":true},0,{"$f":"+spaziIntermedi(PX661,25)-PZ661","v":0},false,0,null,0,0,null,null,null,0,0,0,0,0,null,null,{"$f":"IFERROR(QR660+QY660+QZ660,0)","v":0},{"$f":"IF(QP661=\"\",0,QR660+QP661+QZ660+QY660+QX661)","v":0},{"$f":"IF((IF(restoZero(QQ661,25),(spaziIntermedi(QQ661,25))+1,spaziIntermedi(QQ661,25)))=(spaziIntermedi(QR661,25)),FALSE,TRUE)","v":true},0,{"$f":"+spaziIntermedi(QR661,25)-QT661","v":0},false,0,null,0,0,null,null,null,0,0,0,null,null,{"$f":"IFERROR(RJ660+RQ660+RR660,0)","v":0},{"$f":"IF(RH661=\"\",0,RJ660+RH661+RR660+RQ660)","v":0},{"$f":"IF((IF(restoZero(RI661,25),(spaziIntermedi(RI661,25))+1,spaziIntermedi(RI661,25)))=(spaziIntermedi(RJ661,25)),FALSE,TRUE)","v":true},0,{"$f":"+spaziIntermedi(RJ661,25)-RL661","v":0},false,0,null,0,0,null,null,null,0,0,0,0,0,null,null,{"$f":"IFERROR(SD660+SK660+SL660,0)","v":0},{"$f":"IF(SB661=\"\",0,SD660+SB661+SL660+SK660+SJ661)","v":0},{"$f":"IF((IF(restoZero(SC661,25),(spaziIntermedi(SC661,25))+1,spaziIntermedi(SC661,25)))=(spaziIntermedi(SD661,25)),FALSE,TRUE)","v":true},0,{"$f":"+spaziIntermedi(SD661,25)-SF661","v":0},false,0,null,0,0,null,null,null,0,0,0,null,null,{"$f":"IFERROR(SV660+TC660+TD660,0)","v":0},{"$f":"IF(ST661=\"\",0,SV660+ST661+TD660+TC660)","v":0},{"$f":"IF((IF(restoZero(SU661,25),(spaziIntermedi(SU661,25))+1,spaziIntermedi(SU661,25)))=(spaziIntermedi(SV661,25)),FALSE,TRUE)","v":true},0,{"$f":"+spaziIntermedi(SV661,25)-SX661","v":0},false,0,null,0,0,null,null,null,0,0,0,0,0]
[null,null,0,0,{"$f":"IF((IF(restoZero(C683,25),(spaziIntermedi(C683,25))+1,spaziIntermedi(C683,25)))=(spaziIntermedi(D683,25)),FALSE,TRUE)","v":true},0,{"$f":"+spaziIntermedi(D683,25)-F683","v":0},false,0,null,0,0,null,null,null,0,0,0,null,null,0,0,{"$f":"IF((IF(restoZero(U683,25),(spaziIntermedi(U683,25))+1,spaziIntermedi(U683,25)))=(spaziIntermedi(V683,25)),FALSE,TRUE)","v":true},0,{"$f":"+spaziIntermedi(V683,25)-X683","v":0},false,0,null,0,0,null,null,null,0,0,0,0,0,null,null,0,0,{"$f":"IF((IF(restoZero(AO683,25),(spaziIntermedi(AO683,25))+1,spaziIntermedi(AO683,25)))=(spaziIntermedi(AP683,25)),FALSE,TRUE)","v":true},0,{"$f":"+spaziIntermedi(AP683,25)-AR683","v":0},false,0,null,0,0,null,null,null,0,0,0,null,null,0,0,{"$f":"IF((IF(restoZero(BG683,25),(spaziIntermedi(BG683,25))+1,spaziIntermedi(BG683,25)))=(spaziIntermedi(BH683,25)),FALSE,TRUE)","v":true},0,{"$f":"+spaziIntermedi(BH683,25)-BJ683","v":0},false,0,null,0,0,null,null,null,0,0,0,0,0,null,null,0,0,{"$f":"IF((IF(restoZero(CA683,25),(spaziIntermedi(CA683,25))+1,spaziIntermedi(CA683,25)))=(spaziIntermedi(CB683,25)),FALSE,TRUE)","v":true},0,{"$f":"+spaziIntermedi(CB683,25)-CD683","v":0},false,0,null,0,0,null,null,null,0,0,0,null,null,0,0,{"$f":"IF((IF(restoZero(CS683,25),(spaziIntermedi(CS683,25))+1,spaziIntermedi(CS683,25)))=(spaziIntermedi(CT683,25)),FALSE,TRUE)","v":true},0,{"$f":"+spaziIntermedi(CT683,25)-CV683","v":0},false,0,null,0,0,null,null,null,0,0,0,0,0,null,null,0,0,{"$f":"IF((IF(restoZero(DM683,25),(spaziIntermedi(DM683,25))+1,spaziIntermedi(DM683,25)))=(spaziIntermedi(DN683,25)),FALSE,TRUE)","v":true},0,{"$f":"+spaziIntermedi(DN683,25)-DP683","v":0},false,0,null,0,0,null,null,null,0,0,0,null,null,0,0,{"$f":"IF((IF(restoZero(EE683,25),(spaziIntermedi(EE683,25))+1,spaziIntermedi(EE683,25)))=(spaziIntermedi(EF683,25)),FALSE,TRUE)","v":true},0,{"$f":"+spaziIntermedi(EF683,25)-EH683","v":0},false,0,null,0,0,null,null,null,0,0,0,0,0,null,null,0,0,{"$f":"IF((IF(restoZero(EY683,25),(spaziIntermedi(EY683,25))+1,spaziIntermedi(EY683,25)))=(spaziIntermedi(EZ683,25)),FALSE,TRUE)","v":true},0,{"$f":"+spaziIntermedi(EZ683,25)-FB683","v":0},false,0,null,0,0,null,null,null,0,0,0,null,null,0,0,{"$f":"IF((IF(restoZero(FQ683,25),(spaziIntermedi(FQ683,25))+1,spaziIntermedi(FQ683,25)))=(spaziIntermedi(FR683,25)),FALSE,TRUE)","v":true},0,{"$f":"+spaziIntermedi(FR683,25)-FT683","v":0},false,0,null,0,0,null,null,null,0,0,0,0,0,null,null,0,0,{"$f":"IF((IF(restoZero(GK683,25),(spaziIntermedi(GK683,25))+1,spaziIntermedi(GK683,25)))=(spaziIntermedi(GL683,25)),FALSE,TRUE)","v":true},0,{"$f":"+spaziIntermedi(GL683,25)-GN683","v":0},false,0,null,0,0,null,null,null,0,0,0,null,null,0,0,{"$f":"IF((IF(restoZero(HC683,25),(spaziIntermedi(HC683,25))+1,spaziIntermedi(HC683,25)))=(spaziIntermedi(HD683,25)),FALSE,TRUE)","v":true},0,{"$f":"+spaziIntermedi(HD683,25)-HF683","v":0},false,0,null,0,0,null,null,null,0,0,0,0,0,null,null,0,0,{"$f":"IF((IF(restoZero(HW683,25),(spaziIntermedi(HW683,25))+1,spaziIntermedi(HW683,25)))=(spaziIntermedi(HX683,25)),FALSE,TRUE)","v":true},0,{"$f":"+spaziIntermedi(HX683,25)-HZ683","v":0},false,0,null,0,0,null,null,null,0,0,0,null,null,0,0,{"$f":"IF((IF(restoZero(IO683,25),(spaziIntermedi(IO683,25))+1,spaziIntermedi(IO683,25)))=(spaziIntermedi(IP683,25)),FALSE,TRUE)","v":true},0,{"$f":"+spaziIntermedi(IP683,25)-IR683","v":0},false,0,null,0,0,null,null,null,0,0,0,0,0,null,null,0,0,{"$f":"IF((IF(restoZero(JI683,25),(spaziIntermedi(JI683,25))+1,spaziIntermedi(JI683,25)))=(spaziIntermedi(JJ683,25)),FALSE,TRUE)","v":true},0,{"$f":"+spaziIntermedi(JJ683,25)-JL683","v":0},false,0,null,0,0,null,null,null,0,0,0,null,null,0,0,{"$f":"IF((IF(restoZero(KA683,25),(spaziIntermedi(KA683,25))+1,spaziIntermedi(KA683,25)))=(spaziIntermedi(KB683,25)),FALSE,TRUE)","v":true},0,{"$f":"+spaziIntermedi(KB683,25)-KD683","v":0},false,0,null,0,0,null,null,null,0,0,0,0,0,null,null,0,0,{"$f":"IF((IF(restoZero(KU683,25),(spaziIntermedi(KU683,25))+1,spaziIntermedi(KU683,25)))=(spaziIntermedi(KV683,25)),FALSE,TRUE)","v":true},0,{"$f":"+spaziIntermedi(KV683,25)-KX683","v":0},false,0,null,0,0,null,null,null,0,0,0,null,null,0,0,{"$f":"IF((IF(restoZero(LM683,25),(spaziIntermedi(LM683,25))+1,spaziIntermedi(LM683,25)))=(spaziIntermedi(LN683,25)),FALSE,TRUE)","v":true},0,{"$f":"+spaziIntermedi(LN683,25)-LP683","v":0},false,0,null,0,0,null,null,null,0,0,0,0,0,null,null,0,0,{"$f":"IF((IF(restoZero(MG683,25),(spaziIntermedi(MG683,25))+1,spaziIntermedi(MG683,25)))=(spaziIntermedi(MH683,25)),FALSE,TRUE)","v":true},0,{"$f":"+spaziIntermedi(MH683,25)-MJ683","v":0},false,0,null,0,0,null,null,null,0,0,0,null,null,0,0,{"$f":"IF((IF(restoZero(MY683,25),(spaziIntermedi(MY683,25))+1,spaziIntermedi(MY683,25)))=(spaziIntermedi(MZ683,25)),FALSE,TRUE)","v":true},0,{"$f":"+spaziIntermedi(MZ683,25)-NB683","v":0},false,0,null,0,0,null,null,null,0,0,0,0,0,null,null,0,0,{"$f":"IF((IF(restoZero(NS683,25),(spaziIntermedi(NS683,25))+1,spaziIntermedi(NS683,25)))=(spaziIntermedi(NT683,25)),FALSE,TRUE)","v":true},0,{"$f":"+spaziIntermedi(NT683,25)-NV683","v":0},false,0,null,0,0,null,null,null,0,0,0,null,null,0,0,{"$f":"IF((IF(restoZero(OK683,25),(spaziIntermedi(OK683,25))+1,spaziIntermedi(OK683,25)))=(spaziIntermedi(OL683,25)),FALSE,TRUE)","v":true},0,{"$f":"+spaziIntermedi(OL683,25)-ON683","v":0},false,0,null,0,0,null,null,null,0,0,0,0,0,null,null,0,0,{"$f":"IF((IF(restoZero(PE683,25),(spaziIntermedi(PE683,25))+1,spaziIntermedi(PE683,25)))=(spaziIntermedi(PF683,25)),FALSE,TRUE)","v":true},0,{"$f":"+spaziIntermedi(PF683,25)-PH683","v":0},false,0,null,0,0,null,null,null,0,0,0,null,null,0,0,{"$f":"IF((IF(restoZero(PW683,25),(spaziIntermedi(PW683,25))+1,spaziIntermedi(PW683,25)))=(spaziIntermedi(PX683,25)),FALSE,TRUE)","v":true},0,{"$f":"+spaziIntermedi(PX683,25)-PZ683","v":0},false,0,null,0,0,null,null,null,0,0,0,0,0,null,null,0,0,{"$f":"IF((IF(restoZero(QQ683,25),(spaziIntermedi(QQ683,25))+1,spaziIntermedi(QQ683,25)))=(spaziIntermedi(QR683,25)),FALSE,TRUE)","v":true},0,{"$f":"+spaziIntermedi(QR683,25)-QT683","v":0},false,0,null,0,0,null,null,null,0,0,0,null,null,0,0,{"$f":"IF((IF(restoZero(RI683,25),(spaziIntermedi(RI683,25))+1,spaziIntermedi(RI683,25)))=(spaziIntermedi(RJ683,25)),FALSE,TRUE)","v":true},0,{"$f":"+spaziIntermedi(RJ683,25)-RL683","v":0},false,0,null,0,0,null,null,null,0,0,0,0,0,null,null,0,0,{"$f":"IF((IF(restoZero(SC683,25),(spaziIntermedi(SC683,25))+1,spaziIntermedi(SC683,25)))=(spaziIntermedi(SD683,25)),FALSE,TRUE)","v":true},0,{"$f":"+spaziIntermedi(SD683,25)-SF683","v":0},false,0,null,0,0,null,null,null,0,0,0,null,null,0,0,{"$f":"IF((IF(restoZero(SU683,25),(spaziIntermedi(SU683,25))+1,spaziIntermedi(SU683,25)))=(spaziIntermedi(SV683,25)),FALSE,TRUE)","v":true},0,{"$f":"+spaziIntermedi(SV683,25)-SX683","v":0},false,0,null,0,0,null,null,null,0,0,0,0,0]
[null,null,0,0,{"$f":"IF((IF(restoZero(C702,25),(spaziIntermedi(C702,25))+1,spaziIntermedi(C702,25)))=(spaziIntermedi(D702,25)),FALSE,TRUE)","v":true},0,{"$f":"+spaziIntermedi(D702,25)-F702","v":0},false,0,null,0,0,null,null,null,0,0,0,null,null,0,0,{"$f":"IF((IF(restoZero(U702,25),(spaziIntermedi(U702,25))+1,spaziIntermedi(U702,25)))=(spaziIntermedi(V702,25)),FALSE,TRUE)","v":true},0,{"$f":"+spaziIntermedi(V702,25)-X702","v":0},false,0,null,0,0,null,null,null,0,0,0,0,0,null,null,0,0,{"$f":"IF((IF(restoZero(AO702,25),(spaziIntermedi(AO702,25))+1,spaziIntermedi(AO702,25)))=(spaziIntermedi(AP702,25)),FALSE,TRUE)","v":true},0,{"$f":"+spaziIntermedi(AP702,25)-AR702","v":0},false,0,null,0,0,null,null,null,0,0,0,null,null,0,0,{"$f":"IF((IF(restoZero(BG702,25),(spaziIntermedi(BG702,25))+1,spaziIntermedi(BG702,25)))=(spaziIntermedi(BH702,25)),FALSE,TRUE)","v":true},0,{"$f":"+spaziIntermedi(BH702,25)-BJ702","v":0},false,0,null,0,0,null,null,null,0,0,0,0,0,null,null,0,0,{"$f":"IF((IF(restoZero(CA702,25),(spaziIntermedi(CA702,25))+1,spaziIntermedi(CA702,25)))=(spaziIntermedi(CB702,25)),FALSE,TRUE)","v":true},0,{"$f":"+spaziIntermedi(CB702,25)-CD702","v":0},false,0,null,0,0,null,null,null,0,0,0,null,null,0,0,{"$f":"IF((IF(restoZero(CS702,25),(spaziIntermedi(CS702,25))+1,spaziIntermedi(CS702,25)))=(spaziIntermedi(CT702,25)),FALSE,TRUE)","v":true},0,{"$f":"+spaziIntermedi(CT702,25)-CV702","v":0},false,0,null,0,0,null,null,null,0,0,0,0,0,null,null,0,0,{"$f":"IF((IF(restoZero(DM702,25),(spaziIntermedi(DM702,25))+1,spaziIntermedi(DM702,25)))=(spaziIntermedi(DN702,25)),FALSE,TRUE)","v":true},0,{"$f":"+spaziIntermedi(DN702,25)-DP702","v":0},false,0,null,0,0,null,null,null,0,0,0,null,null,0,0,{"$f":"IF((IF(restoZero(EE702,25),(spaziIntermedi(EE702,25))+1,spaziIntermedi(EE702,25)))=(spaziIntermedi(EF702,25)),FALSE,TRUE)","v":true},0,{"$f":"+spaziIntermedi(EF702,25)-EH702","v":0},false,0,null,0,0,null,null,null,0,0,0,0,0,null,null,0,0,{"$f":"IF((IF(restoZero(EY702,25),(spaziIntermedi(EY702,25))+1,spaziIntermedi(EY702,25)))=(spaziIntermedi(EZ702,25)),FALSE,TRUE)","v":true},0,{"$f":"+spaziIntermedi(EZ702,25)-FB702","v":0},false,0,null,0,0,null,null,null,0,0,0,null,null,0,0,{"$f":"IF((IF(restoZero(FQ702,25),(spaziIntermedi(FQ702,25))+1,spaziIntermedi(FQ702,25)))=(spaziIntermedi(FR702,25)),FALSE,TRUE)","v":true},0,{"$f":"+spaziIntermedi(FR702,25)-FT702","v":0},false,0,null,0,0,null,null,null,0,0,0,0,0,null,null,0,0,{"$f":"IF((IF(restoZero(GK702,25),(spaziIntermedi(GK702,25))+1,spaziIntermedi(GK702,25)))=(spaziIntermedi(GL702,25)),FALSE,TRUE)","v":true},0,{"$f":"+spaziIntermedi(GL702,25)-GN702","v":0},false,0,null,0,0,null,null,null,0,0,0,null,null,0,0,{"$f":"IF((IF(restoZero(HC702,25),(spaziIntermedi(HC702,25))+1,spaziIntermedi(HC702,25)))=(spaziIntermedi(HD702,25)),FALSE,TRUE)","v":true},0,{"$f":"+spaziIntermedi(HD702,25)-HF702","v":0},false,0,null,0,0,null,null,null,0,0,0,0,0,null,null,0,0,{"$f":"IF((IF(restoZero(HW702,25),(spaziIntermedi(HW702,25))+1,spaziIntermedi(HW702,25)))=(spaziIntermedi(HX702,25)),FALSE,TRUE)","v":true},0,{"$f":"+spaziIntermedi(HX702,25)-HZ702","v":0},false,0,null,0,0,null,null,null,0,0,0,null,null,0,0,{"$f":"IF((IF(restoZero(IO702,25),(spaziIntermedi(IO702,25))+1,spaziIntermedi(IO702,25)))=(spaziIntermedi(IP702,25)),FALSE,TRUE)","v":true},0,{"$f":"+spaziIntermedi(IP702,25)-IR702","v":0},false,0,null,0,0,null,null,null,0,0,0,0,0,null,null,0,0,{"$f":"IF((IF(restoZero(JI702,25),(spaziIntermedi(JI702,25))+1,spaziIntermedi(JI702,25)))=(spaziIntermedi(JJ702,25)),FALSE,TRUE)","v":true},0,{"$f":"+spaziIntermedi(JJ702,25)-JL702","v":0},false,0,null,0,0,null,null,null,0,0,0,null,null,0,0,{"$f":"IF((IF(restoZero(KA702,25),(spaziIntermedi(KA702,25))+1,spaziIntermedi(KA702,25)))=(spaziIntermedi(KB702,25)),FALSE,TRUE)","v":true},0,{"$f":"+spaziIntermedi(KB702,25)-KD702","v":0},false,0,null,0,0,null,null,null,0,0,0,0,0,null,null,0,0,{"$f":"IF((IF(restoZero(KU702,25),(spaziIntermedi(KU702,25))+1,spaziIntermedi(KU702,25)))=(spaziIntermedi(KV702,25)),FALSE,TRUE)","v":true},0,{"$f":"+spaziIntermedi(KV702,25)-KX702","v":0},false,0,null,0,0,null,null,null,0,0,0,null,null,0,0,{"$f":"IF((IF(restoZero(LM702,25),(spaziIntermedi(LM702,25))+1,spaziIntermedi(LM702,25)))=(spaziIntermedi(LN702,25)),FALSE,TRUE)","v":true},0,{"$f":"+spaziIntermedi(LN702,25)-LP702","v":0},false,0,null,0,0,null,null,null,0,0,0,0,0,null,null,0,0,{"$f":"IF((IF(restoZero(MG702,25),(spaziIntermedi(MG702,25))+1,spaziIntermedi(MG702,25)))=(spaziIntermedi(MH702,25)),FALSE,TRUE)","v":true},0,{"$f":"+spaziIntermedi(MH702,25)-MJ702","v":0},false,0,null,0,0,null,null,null,0,0,0,null,null,0,0,{"$f":"IF((IF(restoZero(MY702,25),(spaziIntermedi(MY702,25))+1,spaziIntermedi(MY702,25)))=(spaziIntermedi(MZ702,25)),FALSE,TRUE)","v":true},0,{"$f":"+spaziIntermedi(MZ702,25)-NB702","v":0},false,0,null,0,0,null,null,null,0,0,0,0,0,null,null,0,0,{"$f":"IF((IF(restoZero(NS702,25),(spaziIntermedi(NS702,25))+1,spaziIntermedi(NS702,25)))=(spaziIntermedi(NT702,25)),FALSE,TRUE)","v":true},0,{"$f":"+spaziIntermedi(NT702,25)-NV702","v":0},false,0,null,0,0,null,null,null,0,0,0,null,null,0,0,{"$f":"IF((IF(restoZero(OK702,25),(spaziIntermedi(OK702,25))+1,spaziIntermedi(OK702,25)))=(spaziIntermedi(OL702,25)),FALSE,TRUE)","v":true},0,{"$f":"+spaziIntermedi(OL702,25)-ON702","v":0},false,0,null,0,0,null,null,null,0,0,0,0,0,null,null,0,0,{"$f":"IF((IF(restoZero(PE702,25),(spaziIntermedi(PE702,25))+1,spaziIntermedi(PE702,25)))=(spaziIntermedi(PF702,25)),FALSE,TRUE)","v":true},0,{"$f":"+spaziIntermedi(PF702,25)-PH702","v":0},false,0,null,0,0,null,null,null,0,0,0,null,null,0,0,{"$f":"IF((IF(restoZero(PW702,25),(spaziIntermedi(PW702,25))+1,spaziIntermedi(PW702,25)))=(spaziIntermedi(PX702,25)),FALSE,TRUE)","v":true},0,{"$f":"+spaziIntermedi(PX702,25)-PZ702","v":0},false,0,null,0,0,null,null,null,0,0,0,0,0,null,null,0,0,{"$f":"IF((IF(restoZero(QQ702,25),(spaziIntermedi(QQ702,25))+1,spaziIntermedi(QQ702,25)))=(spaziIntermedi(QR702,25)),FALSE,TRUE)","v":true},0,{"$f":"+spaziIntermedi(QR702,25)-QT702","v":0},false,0,null,0,0,null,null,null,0,0,0,null,null,0,0,{"$f":"IF((IF(restoZero(RI702,25),(spaziIntermedi(RI702,25))+1,spaziIntermedi(RI702,25)))=(spaziIntermedi(RJ702,25)),FALSE,TRUE)","v":true},0,{"$f":"+spaziIntermedi(RJ702,25)-RL702","v":0},false,0,null,0,0,null,null,null,0,0,0,0,0,null,null,0,0,{"$f":"IF((IF(restoZero(SC702,25),(spaziIntermedi(SC702,25))+1,spaziIntermedi(SC702,25)))=(spaziIntermedi(SD702,25)),FALSE,TRUE)","v":true},0,{"$f":"+spaziIntermedi(SD702,25)-SF702","v":0},false,0,null,0,0,null,null,null,0,0,0,null,null,0,0,{"$f":"IF((IF(restoZero(SU702,25),(spaziIntermedi(SU702,25))+1,spaziIntermedi(SU702,25)))=(spaziIntermedi(SV702,25)),FALSE,TRUE)","v":true},0,{"$f":"+spaziIntermedi(SV702,25)-SX702","v":0},false,0,null,0,0,null,null,null,0,0,0,0,0]
[null,null,0,0,{"$f":"IF((IF(restoZero(C721,25),(spaziIntermedi(C721,25))+1,spaziIntermedi(C721,25)))=(spaziIntermedi(D721,25)),FALSE,TRUE)","v":true},0,{"$f":"+spaziIntermedi(D721,25)-F721","v":0},false,0,null,0,0,null,null,null,0,0,0,null,null,0,0,{"$f":"IF((IF(restoZero(U721,25),(spaziIntermedi(U721,25))+1,spaziIntermedi(U721,25)))=(spaziIntermedi(V721,25)),FALSE,TRUE)","v":true},0,{"$f":"+spaziIntermedi(V721,25)-X721","v":0},false,0,null,0,0,null,null,null,0,0,0,0,0,null,null,0,0,{"$f":"IF((IF(restoZero(AO721,25),(spaziIntermedi(AO721,25))+1,spaziIntermedi(AO721,25)))=(spaziIntermedi(AP721,25)),FALSE,TRUE)","v":true},0,{"$f":"+spaziIntermedi(AP721,25)-AR721","v":0},false,0,null,0,0,null,null,null,0,0,0,null,null,0,0,{"$f":"IF((IF(restoZero(BG721,25),(spaziIntermedi(BG721,25))+1,spaziIntermedi(BG721,25)))=(spaziIntermedi(BH721,25)),FALSE,TRUE)","v":true},0,{"$f":"+spaziIntermedi(BH721,25)-BJ721","v":0},false,0,null,0,0,null,null,null,0,0,0,0,0,null,null,0,0,{"$f":"IF((IF(restoZero(CA721,25),(spaziIntermedi(CA721,25))+1,spaziIntermedi(CA721,25)))=(spaziIntermedi(CB721,25)),FALSE,TRUE)","v":true},0,{"$f":"+spaziIntermedi(CB721,25)-CD721","v":0},false,0,null,0,0,null,null,null,0,0,0,null,null,0,0,{"$f":"IF((IF(restoZero(CS721,25),(spaziIntermedi(CS721,25))+1,spaziIntermedi(CS721,25)))=(spaziIntermedi(CT721,25)),FALSE,TRUE)","v":true},0,{"$f":"+spaziIntermedi(CT721,25)-CV721","v":0},false,0,null,0,0,null,null,null,0,0,0,0,0,null,null,0,0,{"$f":"IF((IF(restoZero(DM721,25),(spaziIntermedi(DM721,25))+1,spaziIntermedi(DM721,25)))=(spaziIntermedi(DN721,25)),FALSE,TRUE)","v":true},0,{"$f":"+spaziIntermedi(DN721,25)-DP721","v":0},false,0,null,0,0,null,null,null,0,0,0,null,null,0,0,{"$f":"IF((IF(restoZero(EE721,25),(spaziIntermedi(EE721,25))+1,spaziIntermedi(EE721,25)))=(spaziIntermedi(EF721,25)),FALSE,TRUE)","v":true},0,{"$f":"+spaziIntermedi(EF721,25)-EH721","v":0},false,0,null,0,0,null,null,null,0,0,0,0,0,null,null,0,0,{"$f":"IF((IF(restoZero(EY721,25),(spaziIntermedi(EY721,25))+1,spaziIntermedi(EY721,25)))=(spaziIntermedi(EZ721,25)),FALSE,TRUE)","v":true},0,{"$f":"+spaziIntermedi(EZ721,25)-FB721","v":0},false,0,null,0,0,null,null,null,0,0,0,null,null,0,0,{"$f":"IF((IF(restoZero(FQ721,25),(spaziIntermedi(FQ721,25))+1,spaziIntermedi(FQ721,25)))=(spaziIntermedi(FR721,25)),FALSE,TRUE)","v":true},0,{"$f":"+spaziIntermedi(FR721,25)-FT721","v":0},false,0,null,0,0,null,null,null,0,0,0,0,0,null,null,0,0,{"$f":"IF((IF(restoZero(GK721,25),(spaziIntermedi(GK721,25))+1,spaziIntermedi(GK721,25)))=(spaziIntermedi(GL721,25)),FALSE,TRUE)","v":true},0,{"$f":"+spaziIntermedi(GL721,25)-GN721","v":0},false,0,null,0,0,null,null,null,0,0,0,null,null,0,0,{"$f":"IF((IF(restoZero(HC721,25),(spaziIntermedi(HC721,25))+1,spaziIntermedi(HC721,25)))=(spaziIntermedi(HD721,25)),FALSE,TRUE)","v":true},0,{"$f":"+spaziIntermedi(HD721,25)-HF721","v":0},false,0,null,0,0,null,null,null,0,0,0,0,0,null,null,0,0,{"$f":"IF((IF(restoZero(HW721,25),(spaziIntermedi(HW721,25))+1,spaziIntermedi(HW721,25)))=(spaziIntermedi(HX721,25)),FALSE,TRUE)","v":true},0,{"$f":"+spaziIntermedi(HX721,25)-HZ721","v":0},false,0,null,0,0,null,null,null,0,0,0,null,null,0,0,{"$f":"IF((IF(restoZero(IO721,25),(spaziIntermedi(IO721,25))+1,spaziIntermedi(IO721,25)))=(spaziIntermedi(IP721,25)),FALSE,TRUE)","v":true},0,{"$f":"+spaziIntermedi(IP721,25)-IR721","v":0},false,0,null,0,0,null,null,null,0,0,0,0,0,null,null,0,0,{"$f":"IF((IF(restoZero(JI721,25),(spaziIntermedi(JI721,25))+1,spaziIntermedi(JI721,25)))=(spaziIntermedi(JJ721,25)),FALSE,TRUE)","v":true},0,{"$f":"+spaziIntermedi(JJ721,25)-JL721","v":0},false,0,null,0,0,null,null,null,0,0,0,null,null,0,0,{"$f":"IF((IF(restoZero(KA721,25),(spaziIntermedi(KA721,25))+1,spaziIntermedi(KA721,25)))=(spaziIntermedi(KB721,25)),FALSE,TRUE)","v":true},0,{"$f":"+spaziIntermedi(KB721,25)-KD721","v":0},false,0,null,0,0,null,null,null,0,0,0,0,0,null,null,0,0,{"$f":"IF((IF(restoZero(KU721,25),(spaziIntermedi(KU721,25))+1,spaziIntermedi(KU721,25)))=(spaziIntermedi(KV721,25)),FALSE,TRUE)","v":true},0,{"$f":"+spaziIntermedi(KV721,25)-KX721","v":0},false,0,null,0,0,null,null,null,0,0,0,null,null,0,0,{"$f":"IF((IF(restoZero(LM721,25),(spaziIntermedi(LM721,25))+1,spaziIntermedi(LM721,25)))=(spaziIntermedi(LN721,25)),FALSE,TRUE)","v":true},0,{"$f":"+spaziIntermedi(LN721,25)-LP721","v":0},false,0,null,0,0,null,null,null,0,0,0,0,0,null,null,0,0,{"$f":"IF((IF(restoZero(MG721,25),(spaziIntermedi(MG721,25))+1,spaziIntermedi(MG721,25)))=(spaziIntermedi(MH721,25)),FALSE,TRUE)","v":true},0,{"$f":"+spaziIntermedi(MH721,25)-MJ721","v":0},false,0,null,0,0,null,null,null,0,0,0,null,null,0,0,{"$f":"IF((IF(restoZero(MY721,25),(spaziIntermedi(MY721,25))+1,spaziIntermedi(MY721,25)))=(spaziIntermedi(MZ721,25)),FALSE,TRUE)","v":true},0,{"$f":"+spaziIntermedi(MZ721,25)-NB721","v":0},false,0,null,0,0,null,null,null,0,0,0,0,0,null,null,0,0,{"$f":"IF((IF(restoZero(NS721,25),(spaziIntermedi(NS721,25))+1,spaziIntermedi(NS721,25)))=(spaziIntermedi(NT721,25)),FALSE,TRUE)","v":true},0,{"$f":"+spaziIntermedi(NT721,25)-NV721","v":0},false,0,null,0,0,null,null,null,0,0,0,null,null,0,0,{"$f":"IF((IF(restoZero(OK721,25),(spaziIntermedi(OK721,25))+1,spaziIntermedi(OK721,25)))=(spaziIntermedi(OL721,25)),FALSE,TRUE)","v":true},0,{"$f":"+spaziIntermedi(OL721,25)-ON721","v":0},false,0,null,0,0,null,null,null,0,0,0,0,0,null,null,0,0,{"$f":"IF((IF(restoZero(PE721,25),(spaziIntermedi(PE721,25))+1,spaziIntermedi(PE721,25)))=(spaziIntermedi(PF721,25)),FALSE,TRUE)","v":true},0,{"$f":"+spaziIntermedi(PF721,25)-PH721","v":0},false,0,null,0,0,null,null,null,0,0,0,null,null,0,0,{"$f":"IF((IF(restoZero(PW721,25),(spaziIntermedi(PW721,25))+1,spaziIntermedi(PW721,25)))=(spaziIntermedi(PX721,25)),FALSE,TRUE)","v":true},0,{"$f":"+spaziIntermedi(PX721,25)-PZ721","v":0},false,0,null,0,0,null,null,null,0,0,0,0,0,null,null,0,0,{"$f":"IF((IF(restoZero(QQ721,25),(spaziIntermedi(QQ721,25))+1,spaziIntermedi(QQ721,25)))=(spaziIntermedi(QR721,25)),FALSE,TRUE)","v":true},0,{"$f":"+spaziIntermedi(QR721,25)-QT721","v":0},false,0,null,0,0,null,null,null,0,0,0,null,null,0,0,{"$f":"IF((IF(restoZero(RI721,25),(spaziIntermedi(RI721,25))+1,spaziIntermedi(RI721,25)))=(spaziIntermedi(RJ721,25)),FALSE,TRUE)","v":true},0,{"$f":"+spaziIntermedi(RJ721,25)-RL721","v":0},false,0,null,0,0,null,null,null,0,0,0,0,0,null,null,0,0,{"$f":"IF((IF(restoZero(SC721,25),(spaziIntermedi(SC721,25))+1,spaziIntermedi(SC721,25)))=(spaziIntermedi(SD721,25)),FALSE,TRUE)","v":true},0,{"$f":"+spaziIntermedi(SD721,25)-SF721","v":0},false,0,null,0,0,null,null,null,0,0,0,null,null,0,0,{"$f":"IF((IF(restoZero(SU721,25),(spaziIntermedi(SU721,25))+1,spaziIntermedi(SU721,25)))=(spaziIntermedi(SV721,25)),FALSE,TRUE)","v":true},0,{"$f":"+spaziIntermedi(SV721,25)-SX721","v":0},false,0,null,0,0,null,null,null,0,0,0,0,0]
[null,null,0,0,{"$f":"IF((IF(restoZero(C727,25),(spaziIntermedi(C727,25))+1,spaziIntermedi(C727,25)))=(spaziIntermedi(D727,25)),FALSE,TRUE)","v":true},0,{"$f":"+spaziIntermedi(D727,25)-F727","v":0},false,0,null,0,0,null,null,null,0,0,0,null,null,0,0,{"$f":"IF((IF(restoZero(U727,25),(spaziIntermedi(U727,25))+1,spaziIntermedi(U727,25)))=(spaziIntermedi(V727,25)),FALSE,TRUE)","v":true},0,{"$f":"+spaziIntermedi(V727,25)-X727","v":0},false,0,null,0,0,null,null,null,0,0,0,0,0,null,null,0,0,{"$f":"IF((IF(restoZero(AO727,25),(spaziIntermedi(AO727,25))+1,spaziIntermedi(AO727,25)))=(spaziIntermedi(AP727,25)),FALSE,TRUE)","v":true},0,{"$f":"+spaziIntermedi(AP727,25)-AR727","v":0},false,0,null,0,0,null,null,null,0,0,0,null,null,0,0,{"$f":"IF((IF(restoZero(BG727,25),(spaziIntermedi(BG727,25))+1,spaziIntermedi(BG727,25)))=(spaziIntermedi(BH727,25)),FALSE,TRUE)","v":true},0,{"$f":"+spaziIntermedi(BH727,25)-BJ727","v":0},false,0,null,0,0,null,null,null,0,0,0,0,0,null,null,0,0,{"$f":"IF((IF(restoZero(CA727,25),(spaziIntermedi(CA727,25))+1,spaziIntermedi(CA727,25)))=(spaziIntermedi(CB727,25)),FALSE,TRUE)","v":true},0,{"$f":"+spaziIntermedi(CB727,25)-CD727","v":0},false,0,null,0,0,null,null,null,0,0,0,null,null,0,0,{"$f":"IF((IF(restoZero(CS727,25),(spaziIntermedi(CS727,25))+1,spaziIntermedi(CS727,25)))=(spaziIntermedi(CT727,25)),FALSE,TRUE)","v":true},0,{"$f":"+spaziIntermedi(CT727,25)-CV727","v":0},false,0,null,0,0,null,null,null,0,0,0,0,0,null,null,0,0,{"$f":"IF((IF(restoZero(DM727,25),(spaziIntermedi(DM727,25))+1,spaziIntermedi(DM727,25)))=(spaziIntermedi(DN727,25)),FALSE,TRUE)","v":true},0,{"$f":"+spaziIntermedi(DN727,25)-DP727","v":0},false,0,null,0,0,null,null,null,0,0,0,null,null,0,0,{"$f":"IF((IF(restoZero(EE727,25),(spaziIntermedi(EE727,25))+1,spaziIntermedi(EE727,25)))=(spaziIntermedi(EF727,25)),FALSE,TRUE)","v":true},0,{"$f":"+spaziIntermedi(EF727,25)-EH727","v":0},false,0,null,0,0,null,null,null,0,0,0,0,0,null,null,0,0,{"$f":"IF((IF(restoZero(EY727,25),(spaziIntermedi(EY727,25))+1,spaziIntermedi(EY727,25)))=(spaziIntermedi(EZ727,25)),FALSE,TRUE)","v":true},0,{"$f":"+spaziIntermedi(EZ727,25)-FB727","v":0},false,0,null,0,0,null,null,null,0,0,0,null,null,0,0,{"$f":"IF((IF(restoZero(FQ727,25),(spaziIntermedi(FQ727,25))+1,spaziIntermedi(FQ727,25)))=(spaziIntermedi(FR727,25)),FALSE,TRUE)","v":true},0,{"$f":"+spaziIntermedi(FR727,25)-FT727","v":0},false,0,null,0,0,null,null,null,0,0,0,0,0,null,null,0,0,{"$f":"IF((IF(restoZero(GK727,25),(spaziIntermedi(GK727,25))+1,spaziIntermedi(GK727,25)))=(spaziIntermedi(GL727,25)),FALSE,TRUE)","v":true},0,{"$f":"+spaziIntermedi(GL727,25)-GN727","v":0},false,0,null,0,0,null,null,null,0,0,0,null,null,0,0,{"$f":"IF((IF(restoZero(HC727,25),(spaziIntermedi(HC727,25))+1,spaziIntermedi(HC727,25)))=(spaziIntermedi(HD727,25)),FALSE,TRUE)","v":true},0,{"$f":"+spaziIntermedi(HD727,25)-HF727","v":0},false,0,null,0,0,null,null,null,0,0,0,0,0,null,null,0,0,{"$f":"IF((IF(restoZero(HW727,25),(spaziIntermedi(HW727,25))+1,spaziIntermedi(HW727,25)))=(spaziIntermedi(HX727,25)),FALSE,TRUE)","v":true},0,{"$f":"+spaziIntermedi(HX727,25)-HZ727","v":0},false,0,null,0,0,null,null,null,0,0,0,null,null,0,0,{"$f":"IF((IF(restoZero(IO727,25),(spaziIntermedi(IO727,25))+1,spaziIntermedi(IO727,25)))=(spaziIntermedi(IP727,25)),FALSE,TRUE)","v":true},0,{"$f":"+spaziIntermedi(IP727,25)-IR727","v":0},false,0,null,0,0,null,null,null,0,0,0,0,0,null,null,0,0,{"$f":"IF((IF(restoZero(JI727,25),(spaziIntermedi(JI727,25))+1,spaziIntermedi(JI727,25)))=(spaziIntermedi(JJ727,25)),FALSE,TRUE)","v":true},0,{"$f":"+spaziIntermedi(JJ727,25)-JL727","v":0},false,0,null,0,0,null,null,null,0,0,0,null,null,0,0,{"$f":"IF((IF(restoZero(KA727,25),(spaziIntermedi(KA727,25))+1,spaziIntermedi(KA727,25)))=(spaziIntermedi(KB727,25)),FALSE,TRUE)","v":true},0,{"$f":"+spaziIntermedi(KB727,25)-KD727","v":0},false,0,null,0,0,null,null,null,0,0,0,0,0,null,null,0,0,{"$f":"IF((IF(restoZero(KU727,25),(spaziIntermedi(KU727,25))+1,spaziIntermedi(KU727,25)))=(spaziIntermedi(KV727,25)),FALSE,TRUE)","v":true},0,{"$f":"+spaziIntermedi(KV727,25)-KX727","v":0},false,0,null,0,0,null,null,null,0,0,0,null,null,0,0,{"$f":"IF((IF(restoZero(LM727,25),(spaziIntermedi(LM727,25))+1,spaziIntermedi(LM727,25)))=(spaziIntermedi(LN727,25)),FALSE,TRUE)","v":true},0,{"$f":"+spaziIntermedi(LN727,25)-LP727","v":0},false,0,null,0,0,null,null,null,0,0,0,0,0,null,null,0,0,{"$f":"IF((IF(restoZero(MG727,25),(spaziIntermedi(MG727,25))+1,spaziIntermedi(MG727,25)))=(spaziIntermedi(MH727,25)),FALSE,TRUE)","v":true},0,{"$f":"+spaziIntermedi(MH727,25)-MJ727","v":0},false,0,null,0,0,null,null,null,0,0,0,null,null,0,0,{"$f":"IF((IF(restoZero(MY727,25),(spaziIntermedi(MY727,25))+1,spaziIntermedi(MY727,25)))=(spaziIntermedi(MZ727,25)),FALSE,TRUE)","v":true},0,{"$f":"+spaziIntermedi(MZ727,25)-NB727","v":0},false,0,null,0,0,null,null,null,0,0,0,0,0,null,null,0,0,{"$f":"IF((IF(restoZero(NS727,25),(spaziIntermedi(NS727,25))+1,spaziIntermedi(NS727,25)))=(spaziIntermedi(NT727,25)),FALSE,TRUE)","v":true},0,{"$f":"+spaziIntermedi(NT727,25)-NV727","v":0},false,0,null,0,0,null,null,null,0,0,0,null,null,0,0,{"$f":"IF((IF(restoZero(OK727,25),(spaziIntermedi(OK727,25))+1,spaziIntermedi(OK727,25)))=(spaziIntermedi(OL727,25)),FALSE,TRUE)","v":true},0,{"$f":"+spaziIntermedi(OL727,25)-ON727","v":0},false,0,null,0,0,null,null,null,0,0,0,0,0,null,null,0,0,{"$f":"IF((IF(restoZero(PE727,25),(spaziIntermedi(PE727,25))+1,spaziIntermedi(PE727,25)))=(spaziIntermedi(PF727,25)),FALSE,TRUE)","v":true},0,{"$f":"+spaziIntermedi(PF727,25)-PH727","v":0},false,0,null,0,0,null,null,null,0,0,0,null,null,0,0,{"$f":"IF((IF(restoZero(PW727,25),(spaziIntermedi(PW727,25))+1,spaziIntermedi(PW727,25)))=(spaziIntermedi(PX727,25)),FALSE,TRUE)","v":true},0,{"$f":"+spaziIntermedi(PX727,25)-PZ727","v":0},false,0,null,0,0,null,null,null,0,0,0,0,0,null,null,0,0,{"$f":"IF((IF(restoZero(QQ727,25),(spaziIntermedi(QQ727,25))+1,spaziIntermedi(QQ727,25)))=(spaziIntermedi(QR727,25)),FALSE,TRUE)","v":true},0,{"$f":"+spaziIntermedi(QR727,25)-QT727","v":0},false,0,null,0,0,null,null,null,0,0,0,null,null,0,0,{"$f":"IF((IF(restoZero(RI727,25),(spaziIntermedi(RI727,25))+1,spaziIntermedi(RI727,25)))=(spaziIntermedi(RJ727,25)),FALSE,TRUE)","v":true},0,{"$f":"+spaziIntermedi(RJ727,25)-RL727","v":0},false,0,null,0,0,null,null,null,0,0,0,0,0,null,null,0,0,{"$f":"IF((IF(restoZero(SC727,25),(spaziIntermedi(SC727,25))+1,spaziIntermedi(SC727,25)))=(spaziIntermedi(SD727,25)),FALSE,TRUE)","v":true},0,{"$f":"+spaziIntermedi(SD727,25)-SF727","v":0},false,0,null,0,0,null,null,null,0,0,0,null,null,0,0,{"$f":"IF((IF(restoZero(SU727,25),(spaziIntermedi(SU727,25))+1,spaziIntermedi(SU727,25)))=(spaziIntermedi(SV727,25)),FALSE,TRUE)","v":true},0,{"$f":"+spaziIntermedi(SV727,25)-SX727","v":0},false,0,null,0,0,null,null,null,0,0,0,0,0]
[null,null,0,0,{"$f":"IF((IF(restoZero(C746,25),(spaziIntermedi(C746,25))+1,spaziIntermedi(C746,25)))=(spaziIntermedi(D746,25)),FALSE,TRUE)","v":true},0,{"$f":"+spaziIntermedi(D746,25)-F746","v":0},false,0,null,0,0,null,null,null,0,0,0,null,null,0,0,{"$f":"IF((IF(restoZero(U746,25),(spaziIntermedi(U746,25))+1,spaziIntermedi(U746,25)))=(spaziIntermedi(V746,25)),FALSE,TRUE)","v":true},0,{"$f":"+spaziIntermedi(V746,25)-X746","v":0},false,0,null,0,0,null,null,null,0,0,0,0,0,null,null,0,0,{"$f":"IF((IF(restoZero(AO746,25),(spaziIntermedi(AO746,25))+1,spaziIntermedi(AO746,25)))=(spaziIntermedi(AP746,25)),FALSE,TRUE)","v":true},0,{"$f":"+spaziIntermedi(AP746,25)-AR746","v":0},false,0,null,0,0,null,null,null,0,0,0,null,null,0,0,{"$f":"IF((IF(restoZero(BG746,25),(spaziIntermedi(BG746,25))+1,spaziIntermedi(BG746,25)))=(spaziIntermedi(BH746,25)),FALSE,TRUE)","v":true},0,{"$f":"+spaziIntermedi(BH746,25)-BJ746","v":0},false,0,null,0,0,null,null,null,0,0,0,0,0,null,null,0,0,{"$f":"IF((IF(restoZero(CA746,25),(spaziIntermedi(CA746,25))+1,spaziIntermedi(CA746,25)))=(spaziIntermedi(CB746,25)),FALSE,TRUE)","v":true},0,{"$f":"+spaziIntermedi(CB746,25)-CD746","v":0},false,0,null,0,0,null,null,null,0,0,0,null,null,0,0,{"$f":"IF((IF(restoZero(CS746,25),(spaziIntermedi(CS746,25))+1,spaziIntermedi(CS746,25)))=(spaziIntermedi(CT746,25)),FALSE,TRUE)","v":true},0,{"$f":"+spaziIntermedi(CT746,25)-CV746","v":0},false,0,null,0,0,null,null,null,0,0,0,0,0,null,null,0,0,{"$f":"IF((IF(restoZero(DM746,25),(spaziIntermedi(DM746,25))+1,spaziIntermedi(DM746,25)))=(spaziIntermedi(DN746,25)),FALSE,TRUE)","v":true},0,{"$f":"+spaziIntermedi(DN746,25)-DP746","v":0},false,0,null,0,0,null,null,null,0,0,0,null,null,0,0,{"$f":"IF((IF(restoZero(EE746,25),(spaziIntermedi(EE746,25))+1,spaziIntermedi(EE746,25)))=(spaziIntermedi(EF746,25)),FALSE,TRUE)","v":true},0,{"$f":"+spaziIntermedi(EF746,25)-EH746","v":0},false,0,null,0,0,null,null,null,0,0,0,0,0,null,null,0,0,{"$f":"IF((IF(restoZero(EY746,25),(spaziIntermedi(EY746,25))+1,spaziIntermedi(EY746,25)))=(spaziIntermedi(EZ746,25)),FALSE,TRUE)","v":true},0,{"$f":"+spaziIntermedi(EZ746,25)-FB746","v":0},false,0,null,0,0,null,null,null,0,0,0,null,null,0,0,{"$f":"IF((IF(restoZero(FQ746,25),(spaziIntermedi(FQ746,25))+1,spaziIntermedi(FQ746,25)))=(spaziIntermedi(FR746,25)),FALSE,TRUE)","v":true},0,{"$f":"+spaziIntermedi(FR746,25)-FT746","v":0},false,0,null,0,0,null,null,null,0,0,0,0,0,null,null,0,0,{"$f":"IF((IF(restoZero(GK746,25),(spaziIntermedi(GK746,25))+1,spaziIntermedi(GK746,25)))=(spaziIntermedi(GL746,25)),FALSE,TRUE)","v":true},0,{"$f":"+spaziIntermedi(GL746,25)-GN746","v":0},false,0,null,0,0,null,null,null,0,0,0,null,null,0,0,{"$f":"IF((IF(restoZero(HC746,25),(spaziIntermedi(HC746,25))+1,spaziIntermedi(HC746,25)))=(spaziIntermedi(HD746,25)),FALSE,TRUE)","v":true},0,{"$f":"+spaziIntermedi(HD746,25)-HF746","v":0},false,0,null,0,0,null,null,null,0,0,0,0,0,null,null,0,0,{"$f":"IF((IF(restoZero(HW746,25),(spaziIntermedi(HW746,25))+1,spaziIntermedi(HW746,25)))=(spaziIntermedi(HX746,25)),FALSE,TRUE)","v":true},0,{"$f":"+spaziIntermedi(HX746,25)-HZ746","v":0},false,0,null,0,0,null,null,null,0,0,0,null,null,0,0,{"$f":"IF((IF(restoZero(IO746,25),(spaziIntermedi(IO746,25))+1,spaziIntermedi(IO746,25)))=(spaziIntermedi(IP746,25)),FALSE,TRUE)","v":true},0,{"$f":"+spaziIntermedi(IP746,25)-IR746","v":0},false,0,null,0,0,null,null,null,0,0,0,0,0,null,null,0,0,{"$f":"IF((IF(restoZero(JI746,25),(spaziIntermedi(JI746,25))+1,spaziIntermedi(JI746,25)))=(spaziIntermedi(JJ746,25)),FALSE,TRUE)","v":true},0,{"$f":"+spaziIntermedi(JJ746,25)-JL746","v":0},false,0,null,0,0,null,null,null,0,0,0,null,null,0,0,{"$f":"IF((IF(restoZero(KA746,25),(spaziIntermedi(KA746,25))+1,spaziIntermedi(KA746,25)))=(spaziIntermedi(KB746,25)),FALSE,TRUE)","v":true},0,{"$f":"+spaziIntermedi(KB746,25)-KD746","v":0},false,0,null,0,0,null,null,null,0,0,0,0,0,null,null,0,0,{"$f":"IF((IF(restoZero(KU746,25),(spaziIntermedi(KU746,25))+1,spaziIntermedi(KU746,25)))=(spaziIntermedi(KV746,25)),FALSE,TRUE)","v":true},0,{"$f":"+spaziIntermedi(KV746,25)-KX746","v":0},false,0,null,0,0,null,null,null,0,0,0,null,null,0,0,{"$f":"IF((IF(restoZero(LM746,25),(spaziIntermedi(LM746,25))+1,spaziIntermedi(LM746,25)))=(spaziIntermedi(LN746,25)),FALSE,TRUE)","v":true},0,{"$f":"+spaziIntermedi(LN746,25)-LP746","v":0},false,0,null,0,0,null,null,null,0,0,0,0,0,null,null,0,0,{"$f":"IF((IF(restoZero(MG746,25),(spaziIntermedi(MG746,25))+1,spaziIntermedi(MG746,25)))=(spaziIntermedi(MH746,25)),FALSE,TRUE)","v":true},0,{"$f":"+spaziIntermedi(MH746,25)-MJ746","v":0},false,0,null,0,0,null,null,null,0,0,0,null,null,0,0,{"$f":"IF((IF(restoZero(MY746,25),(spaziIntermedi(MY746,25))+1,spaziIntermedi(MY746,25)))=(spaziIntermedi(MZ746,25)),FALSE,TRUE)","v":true},0,{"$f":"+spaziIntermedi(MZ746,25)-NB746","v":0},false,0,null,0,0,null,null,null,0,0,0,0,0,null,null,0,0,{"$f":"IF((IF(restoZero(NS746,25),(spaziIntermedi(NS746,25))+1,spaziIntermedi(NS746,25)))=(spaziIntermedi(NT746,25)),FALSE,TRUE)","v":true},0,{"$f":"+spaziIntermedi(NT746,25)-NV746","v":0},false,0,null,0,0,null,null,null,0,0,0,null,null,0,0,{"$f":"IF((IF(restoZero(OK746,25),(spaziIntermedi(OK746,25))+1,spaziIntermedi(OK746,25)))=(spaziIntermedi(OL746,25)),FALSE,TRUE)","v":true},0,{"$f":"+spaziIntermedi(OL746,25)-ON746","v":0},false,0,null,0,0,null,null,null,0,0,0,0,0,null,null,0,0,{"$f":"IF((IF(restoZero(PE746,25),(spaziIntermedi(PE746,25))+1,spaziIntermedi(PE746,25)))=(spaziIntermedi(PF746,25)),FALSE,TRUE)","v":true},0,{"$f":"+spaziIntermedi(PF746,25)-PH746","v":0},false,0,null,0,0,null,null,null,0,0,0,null,null,0,0,{"$f":"IF((IF(restoZero(PW746,25),(spaziIntermedi(PW746,25))+1,spaziIntermedi(PW746,25)))=(spaziIntermedi(PX746,25)),FALSE,TRUE)","v":true},0,{"$f":"+spaziIntermedi(PX746,25)-PZ746","v":0},false,0,null,0,0,null,null,null,0,0,0,0,0,null,null,0,0,{"$f":"IF((IF(restoZero(QQ746,25),(spaziIntermedi(QQ746,25))+1,spaziIntermedi(QQ746,25)))=(spaziIntermedi(QR746,25)),FALSE,TRUE)","v":true},0,{"$f":"+spaziIntermedi(QR746,25)-QT746","v":0},false,0,null,0,0,null,null,null,0,0,0,null,null,0,0,{"$f":"IF((IF(restoZero(RI746,25),(spaziIntermedi(RI746,25))+1,spaziIntermedi(RI746,25)))=(spaziIntermedi(RJ746,25)),FALSE,TRUE)","v":true},0,{"$f":"+spaziIntermedi(RJ746,25)-RL746","v":0},false,0,null,0,0,null,null,null,0,0,0,0,0,null,null,0,0,{"$f":"IF((IF(restoZero(SC746,25),(spaziIntermedi(SC746,25))+1,spaziIntermedi(SC746,25)))=(spaziIntermedi(SD746,25)),FALSE,TRUE)","v":true},0,{"$f":"+spaziIntermedi(SD746,25)-SF746","v":0},false,0,null,0,0,null,null,null,0,0,0,null,null,0,0,{"$f":"IF((IF(restoZero(SU746,25),(spaziIntermedi(SU746,25))+1,spaziIntermedi(SU746,25)))=(spaziIntermedi(SV746,25)),FALSE,TRUE)","v":true},0,{"$f":"+spaziIntermedi(SV746,25)-SX746","v":0},false,0,null,0,0,null,null,null,0,0,0,0,0]
[null,null,0,0,{"$f":"IF((IF(restoZero(C771,25),(spaziIntermedi(C771,25))+1,spaziIntermedi(C771,25)))=(spaziIntermedi(D771,25)),FALSE,TRUE)","v":true},0,{"$f":"+spaziIntermedi(D771,25)-F771","v":0},false,0,null,0,0,null,null,null,0,0,0,null,null,0,0,{"$f":"IF((IF(restoZero(U771,25),(spaziIntermedi(U771,25))+1,spaziIntermedi(U771,25)))=(spaziIntermedi(V771,25)),FALSE,TRUE)","v":true},0,{"$f":"+spaziIntermedi(V771,25)-X771","v":0},false,0,null,0,0,null,null,null,0,0,0,0,0,null,null,0,0,{"$f":"IF((IF(restoZero(AO771,25),(spaziIntermedi(AO771,25))+1,spaziIntermedi(AO771,25)))=(spaziIntermedi(AP771,25)),FALSE,TRUE)","v":true},0,{"$f":"+spaziIntermedi(AP771,25)-AR771","v":0},false,0,null,0,0,null,null,null,0,0,0,null,null,0,0,{"$f":"IF((IF(restoZero(BG771,25),(spaziIntermedi(BG771,25))+1,spaziIntermedi(BG771,25)))=(spaziIntermedi(BH771,25)),FALSE,TRUE)","v":true},0,{"$f":"+spaziIntermedi(BH771,25)-BJ771","v":0},false,0,null,0,0,null,null,null,0,0,0,0,0,null,null,0,0,{"$f":"IF((IF(restoZero(CA771,25),(spaziIntermedi(CA771,25))+1,spaziIntermedi(CA771,25)))=(spaziIntermedi(CB771,25)),FALSE,TRUE)","v":true},0,{"$f":"+spaziIntermedi(CB771,25)-CD771","v":0},false,0,null,0,0,null,null,null,0,0,0,null,null,0,0,{"$f":"IF((IF(restoZero(CS771,25),(spaziIntermedi(CS771,25))+1,spaziIntermedi(CS771,25)))=(spaziIntermedi(CT771,25)),FALSE,TRUE)","v":true},0,{"$f":"+spaziIntermedi(CT771,25)-CV771","v":0},false,0,null,0,0,null,null,null,0,0,0,0,0,null,null,0,0,{"$f":"IF((IF(restoZero(DM771,25),(spaziIntermedi(DM771,25))+1,spaziIntermedi(DM771,25)))=(spaziIntermedi(DN771,25)),FALSE,TRUE)","v":true},0,{"$f":"+spaziIntermedi(DN771,25)-DP771","v":0},false,0,null,0,0,null,null,null,0,0,0,null,null,0,0,{"$f":"IF((IF(restoZero(EE771,25),(spaziIntermedi(EE771,25))+1,spaziIntermedi(EE771,25)))=(spaziIntermedi(EF771,25)),FALSE,TRUE)","v":true},0,{"$f":"+spaziIntermedi(EF771,25)-EH771","v":0},false,0,null,0,0,null,null,null,0,0,0,0,0,null,null,0,0,{"$f":"IF((IF(restoZero(EY771,25),(spaziIntermedi(EY771,25))+1,spaziIntermedi(EY771,25)))=(spaziIntermedi(EZ771,25)),FALSE,TRUE)","v":true},0,{"$f":"+spaziIntermedi(EZ771,25)-FB771","v":0},false,0,null,0,0,null,null,null,0,0,0,null,null,0,0,{"$f":"IF((IF(restoZero(FQ771,25),(spaziIntermedi(FQ771,25))+1,spaziIntermedi(FQ771,25)))=(spaziIntermedi(FR771,25)),FALSE,TRUE)","v":true},0,{"$f":"+spaziIntermedi(FR771,25)-FT771","v":0},false,0,null,0,0,null,null,null,0,0,0,0,0,null,null,0,0,{"$f":"IF((IF(restoZero(GK771,25),(spaziIntermedi(GK771,25))+1,spaziIntermedi(GK771,25)))=(spaziIntermedi(GL771,25)),FALSE,TRUE)","v":true},0,{"$f":"+spaziIntermedi(GL771,25)-GN771","v":0},false,0,null,0,0,null,null,null,0,0,0,null,null,0,0,{"$f":"IF((IF(restoZero(HC771,25),(spaziIntermedi(HC771,25))+1,spaziIntermedi(HC771,25)))=(spaziIntermedi(HD771,25)),FALSE,TRUE)","v":true},0,{"$f":"+spaziIntermedi(HD771,25)-HF771","v":0},false,0,null,0,0,null,null,null,0,0,0,0,0,null,null,0,0,{"$f":"IF((IF(restoZero(HW771,25),(spaziIntermedi(HW771,25))+1,spaziIntermedi(HW771,25)))=(spaziIntermedi(HX771,25)),FALSE,TRUE)","v":true},0,{"$f":"+spaziIntermedi(HX771,25)-HZ771","v":0},false,0,null,0,0,null,null,null,0,0,0,null,null,0,0,{"$f":"IF((IF(restoZero(IO771,25),(spaziIntermedi(IO771,25))+1,spaziIntermedi(IO771,25)))=(spaziIntermedi(IP771,25)),FALSE,TRUE)","v":true},0,{"$f":"+spaziIntermedi(IP771,25)-IR771","v":0},false,0,null,0,0,null,null,null,0,0,0,0,0,null,null,0,0,{"$f":"IF((IF(restoZero(JI771,25),(spaziIntermedi(JI771,25))+1,spaziIntermedi(JI771,25)))=(spaziIntermedi(JJ771,25)),FALSE,TRUE)","v":true},0,{"$f":"+spaziIntermedi(JJ771,25)-JL771","v":0},false,0,null,0,0,null,null,null,0,0,0,null,null,0,0,{"$f":"IF((IF(restoZero(KA771,25),(spaziIntermedi(KA771,25))+1,spaziIntermedi(KA771,25)))=(spaziIntermedi(KB771,25)),FALSE,TRUE)","v":true},0,{"$f":"+spaziIntermedi(KB771,25)-KD771","v":0},false,0,null,0,0,null,null,null,0,0,0,0,0,null,null,0,0,{"$f":"IF((IF(restoZero(KU771,25),(spaziIntermedi(KU771,25))+1,spaziIntermedi(KU771,25)))=(spaziIntermedi(KV771,25)),FALSE,TRUE)","v":true},0,{"$f":"+spaziIntermedi(KV771,25)-KX771","v":0},false,0,null,0,0,null,null,null,0,0,0,null,null,0,0,{"$f":"IF((IF(restoZero(LM771,25),(spaziIntermedi(LM771,25))+1,spaziIntermedi(LM771,25)))=(spaziIntermedi(LN771,25)),FALSE,TRUE)","v":true},0,{"$f":"+spaziIntermedi(LN771,25)-LP771","v":0},false,0,null,0,0,null,null,null,0,0,0,0,0,null,null,0,0,{"$f":"IF((IF(restoZero(MG771,25),(spaziIntermedi(MG771,25))+1,spaziIntermedi(MG771,25)))=(spaziIntermedi(MH771,25)),FALSE,TRUE)","v":true},0,{"$f":"+spaziIntermedi(MH771,25)-MJ771","v":0},false,0,null,0,0,null,null,null,0,0,0,null,null,0,0,{"$f":"IF((IF(restoZero(MY771,25),(spaziIntermedi(MY771,25))+1,spaziIntermedi(MY771,25)))=(spaziIntermedi(MZ771,25)),FALSE,TRUE)","v":true},0,{"$f":"+spaziIntermedi(MZ771,25)-NB771","v":0},false,0,null,0,0,null,null,null,0,0,0,0,0,null,null,0,0,{"$f":"IF((IF(restoZero(NS771,25),(spaziIntermedi(NS771,25))+1,spaziIntermedi(NS771,25)))=(spaziIntermedi(NT771,25)),FALSE,TRUE)","v":true},0,{"$f":"+spaziIntermedi(NT771,25)-NV771","v":0},false,0,null,0,0,null,null,null,0,0,0,null,null,0,0,{"$f":"IF((IF(restoZero(OK771,25),(spaziIntermedi(OK771,25))+1,spaziIntermedi(OK771,25)))=(spaziIntermedi(OL771,25)),FALSE,TRUE)","v":true},0,{"$f":"+spaziIntermedi(OL771,25)-ON771","v":0},false,0,null,0,0,null,null,null,0,0,0,0,0,null,null,0,0,{"$f":"IF((IF(restoZero(PE771,25),(spaziIntermedi(PE771,25))+1,spaziIntermedi(PE771,25)))=(spaziIntermedi(PF771,25)),FALSE,TRUE)","v":true},0,{"$f":"+spaziIntermedi(PF771,25)-PH771","v":0},false,0,null,0,0,null,null,null,0,0,0,null,null,0,0,{"$f":"IF((IF(restoZero(PW771,25),(spaziIntermedi(PW771,25))+1,spaziIntermedi(PW771,25)))=(spaziIntermedi(PX771,25)),FALSE,TRUE)","v":true},0,{"$f":"+spaziIntermedi(PX771,25)-PZ771","v":0},false,0,null,0,0,null,null,null,0,0,0,0,0,null,null,0,0,{"$f":"IF((IF(restoZero(QQ771,25),(spaziIntermedi(QQ771,25))+1,spaziIntermedi(QQ771,25)))=(spaziIntermedi(QR771,25)),FALSE,TRUE)","v":true},0,{"$f":"+spaziIntermedi(QR771,25)-QT771","v":0},false,0,null,0,0,null,null,null,0,0,0,null,null,0,0,{"$f":"IF((IF(restoZero(RI771,25),(spaziIntermedi(RI771,25))+1,spaziIntermedi(RI771,25)))=(spaziIntermedi(RJ771,25)),FALSE,TRUE)","v":true},0,{"$f":"+spaziIntermedi(RJ771,25)-RL771","v":0},false,0,null,0,0,null,null,null,0,0,0,0,0,null,null,0,0,{"$f":"IF((IF(restoZero(SC771,25),(spaziIntermedi(SC771,25))+1,spaziIntermedi(SC771,25)))=(spaziIntermedi(SD771,25)),FALSE,TRUE)","v":true},0,{"$f":"+spaziIntermedi(SD771,25)-SF771","v":0},false,0,null,0,0,null,null,null,0,0,0,null,null,0,0,{"$f":"IF((IF(restoZero(SU771,25),(spaziIntermedi(SU771,25))+1,spaziIntermedi(SU771,25)))=(spaziIntermedi(SV771,25)),FALSE,TRUE)","v":true},0,{"$f":"+spaziIntermedi(SV771,25)-SX771","v":0},false,0,null,0,0,null,null,null,0,0,0,0,0]
[null,null,0,0,{"$f":"IF((IF(restoZero(C790,25),(spaziIntermedi(C790,25))+1,spaziIntermedi(C790,25)))=(spaziIntermedi(D790,25)),FALSE,TRUE)","v":true},0,{"$f":"+spaziIntermedi(D790,25)-F790","v":0},false,0,null,0,0,null,null,null,0,0,0,null,null,0,0,{"$f":"IF((IF(restoZero(U790,25),(spaziIntermedi(U790,25))+1,spaziIntermedi(U790,25)))=(spaziIntermedi(V790,25)),FALSE,TRUE)","v":true},0,{"$f":"+spaziIntermedi(V790,25)-X790","v":0},false,0,null,0,0,null,null,null,0,0,0,0,0,null,null,0,0,{"$f":"IF((IF(restoZero(AO790,25),(spaziIntermedi(AO790,25))+1,spaziIntermedi(AO790,25)))=(spaziIntermedi(AP790,25)),FALSE,TRUE)","v":true},0,{"$f":"+spaziIntermedi(AP790,25)-AR790","v":0},false,0,null,0,0,null,null,null,0,0,0,null,null,0,0,{"$f":"IF((IF(restoZero(BG790,25),(spaziIntermedi(BG790,25))+1,spaziIntermedi(BG790,25)))=(spaziIntermedi(BH790,25)),FALSE,TRUE)","v":true},0,{"$f":"+spaziIntermedi(BH790,25)-BJ790","v":0},false,0,null,0,0,null,null,null,0,0,0,0,0,null,null,0,0,{"$f":"IF((IF(restoZero(CA790,25),(spaziIntermedi(CA790,25))+1,spaziIntermedi(CA790,25)))=(spaziIntermedi(CB790,25)),FALSE,TRUE)","v":true},0,{"$f":"+spaziIntermedi(CB790,25)-CD790","v":0},false,0,null,0,0,null,null,null,0,0,0,null,null,0,0,{"$f":"IF((IF(restoZero(CS790,25),(spaziIntermedi(CS790,25))+1,spaziIntermedi(CS790,25)))=(spaziIntermedi(CT790,25)),FALSE,TRUE)","v":true},0,{"$f":"+spaziIntermedi(CT790,25)-CV790","v":0},false,0,null,0,0,null,null,null,0,0,0,0,0,null,null,0,0,{"$f":"IF((IF(restoZero(DM790,25),(spaziIntermedi(DM790,25))+1,spaziIntermedi(DM790,25)))=(spaziIntermedi(DN790,25)),FALSE,TRUE)","v":true},0,{"$f":"+spaziIntermedi(DN790,25)-DP790","v":0},false,0,null,0,0,null,null,null,0,0,0,null,null,0,0,{"$f":"IF((IF(restoZero(EE790,25),(spaziIntermedi(EE790,25))+1,spaziIntermedi(EE790,25)))=(spaziIntermedi(EF790,25)),FALSE,TRUE)","v":true},0,{"$f":"+spaziIntermedi(EF790,25)-EH790","v":0},false,0,null,0,0,null,null,null,0,0,0,0,0,null,null,0,0,{"$f":"IF((IF(restoZero(EY790,25),(spaziIntermedi(EY790,25))+1,spaziIntermedi(EY790,25)))=(spaziIntermedi(EZ790,25)),FALSE,TRUE)","v":true},0,{"$f":"+spaziIntermedi(EZ790,25)-FB790","v":0},false,0,null,0,0,null,null,null,0,0,0,null,null,0,0,{"$f":"IF((IF(restoZero(FQ790,25),(spaziIntermedi(FQ790,25))+1,spaziIntermedi(FQ790,25)))=(spaziIntermedi(FR790,25)),FALSE,TRUE)","v":true},0,{"$f":"+spaziIntermedi(FR790,25)-FT790","v":0},false,0,null,0,0,null,null,null,0,0,0,0,0,null,null,0,0,{"$f":"IF((IF(restoZero(GK790,25),(spaziIntermedi(GK790,25))+1,spaziIntermedi(GK790,25)))=(spaziIntermedi(GL790,25)),FALSE,TRUE)","v":true},0,{"$f":"+spaziIntermedi(GL790,25)-GN790","v":0},false,0,null,0,0,null,null,null,0,0,0,null,null,0,0,{"$f":"IF((IF(restoZero(HC790,25),(spaziIntermedi(HC790,25))+1,spaziIntermedi(HC790,25)))=(spaziIntermedi(HD790,25)),FALSE,TRUE)","v":true},0,{"$f":"+spaziIntermedi(HD790,25)-HF790","v":0},false,0,null,0,0,null,null,null,0,0,0,0,0,null,null,0,0,{"$f":"IF((IF(restoZero(HW790,25),(spaziIntermedi(HW790,25))+1,spaziIntermedi(HW790,25)))=(spaziIntermedi(HX790,25)),FALSE,TRUE)","v":true},0,{"$f":"+spaziIntermedi(HX790,25)-HZ790","v":0},false,0,null,0,0,null,null,null,0,0,0,null,null,0,0,{"$f":"IF((IF(restoZero(IO790,25),(spaziIntermedi(IO790,25))+1,spaziIntermedi(IO790,25)))=(spaziIntermedi(IP790,25)),FALSE,TRUE)","v":true},0,{"$f":"+spaziIntermedi(IP790,25)-IR790","v":0},false,0,null,0,0,null,null,null,0,0,0,0,0,null,null,0,0,{"$f":"IF((IF(restoZero(JI790,25),(spaziIntermedi(JI790,25))+1,spaziIntermedi(JI790,25)))=(spaziIntermedi(JJ790,25)),FALSE,TRUE)","v":true},0,{"$f":"+spaziIntermedi(JJ790,25)-JL790","v":0},false,0,null,0,0,null,null,null,0,0,0,null,null,0,0,{"$f":"IF((IF(restoZero(KA790,25),(spaziIntermedi(KA790,25))+1,spaziIntermedi(KA790,25)))=(spaziIntermedi(KB790,25)),FALSE,TRUE)","v":true},0,{"$f":"+spaziIntermedi(KB790,25)-KD790","v":0},false,0,null,0,0,null,null,null,0,0,0,0,0,null,null,0,0,{"$f":"IF((IF(restoZero(KU790,25),(spaziIntermedi(KU790,25))+1,spaziIntermedi(KU790,25)))=(spaziIntermedi(KV790,25)),FALSE,TRUE)","v":true},0,{"$f":"+spaziIntermedi(KV790,25)-KX790","v":0},false,0,null,0,0,null,null,null,0,0,0,null,null,0,0,{"$f":"IF((IF(restoZero(LM790,25),(spaziIntermedi(LM790,25))+1,spaziIntermedi(LM790,25)))=(spaziIntermedi(LN790,25)),FALSE,TRUE)","v":true},0,{"$f":"+spaziIntermedi(LN790,25)-LP790","v":0},false,0,null,0,0,null,null,null,0,0,0,0,0,null,null,0,0,{"$f":"IF((IF(restoZero(MG790,25),(spaziIntermedi(MG790,25))+1,spaziIntermedi(MG790,25)))=(spaziIntermedi(MH790,25)),FALSE,TRUE)","v":true},0,{"$f":"+spaziIntermedi(MH790,25)-MJ790","v":0},false,0,null,0,0,null,null,null,0,0,0,null,null,0,0,{"$f":"IF((IF(restoZero(MY790,25),(spaziIntermedi(MY790,25))+1,spaziIntermedi(MY790,25)))=(spaziIntermedi(MZ790,25)),FALSE,TRUE)","v":true},0,{"$f":"+spaziIntermedi(MZ790,25)-NB790","v":0},false,0,null,0,0,null,null,null,0,0,0,0,0,null,null,0,0,{"$f":"IF((IF(restoZero(NS790,25),(spaziIntermedi(NS790,25))+1,spaziIntermedi(NS790,25)))=(spaziIntermedi(NT790,25)),FALSE,TRUE)","v":true},0,{"$f":"+spaziIntermedi(NT790,25)-NV790","v":0},false,0,null,0,0,null,null,null,0,0,0,null,null,0,0,{"$f":"IF((IF(restoZero(OK790,25),(spaziIntermedi(OK790,25))+1,spaziIntermedi(OK790,25)))=(spaziIntermedi(OL790,25)),FALSE,TRUE)","v":true},0,{"$f":"+spaziIntermedi(OL790,25)-ON790","v":0},false,0,null,0,0,null,null,null,0,0,0,0,0,null,null,0,0,{"$f":"IF((IF(restoZero(PE790,25),(spaziIntermedi(PE790,25))+1,spaziIntermedi(PE790,25)))=(spaziIntermedi(PF790,25)),FALSE,TRUE)","v":true},0,{"$f":"+spaziIntermedi(PF790,25)-PH790","v":0},false,0,null,0,0,null,null,null,0,0,0,null,null,0,0,{"$f":"IF((IF(restoZero(PW790,25),(spaziIntermedi(PW790,25))+1,spaziIntermedi(PW790,25)))=(spaziIntermedi(PX790,25)),FALSE,TRUE)","v":true},0,{"$f":"+spaziIntermedi(PX790,25)-PZ790","v":0},false,0,null,0,0,null,null,null,0,0,0,0,0,null,null,0,0,{"$f":"IF((IF(restoZero(QQ790,25),(spaziIntermedi(QQ790,25))+1,spaziIntermedi(QQ790,25)))=(spaziIntermedi(QR790,25)),FALSE,TRUE)","v":true},0,{"$f":"+spaziIntermedi(QR790,25)-QT790","v":0},false,0,null,0,0,null,null,null,0,0,0,null,null,0,0,{"$f":"IF((IF(restoZero(RI790,25),(spaziIntermedi(RI790,25))+1,spaziIntermedi(RI790,25)))=(spaziIntermedi(RJ790,25)),FALSE,TRUE)","v":true},0,{"$f":"+spaziIntermedi(RJ790,25)-RL790","v":0},false,0,null,0,0,null,null,null,0,0,0,0,0,null,null,0,0,{"$f":"IF((IF(restoZero(SC790,25),(spaziIntermedi(SC790,25))+1,spaziIntermedi(SC790,25)))=(spaziIntermedi(SD790,25)),FALSE,TRUE)","v":true},0,{"$f":"+spaziIntermedi(SD790,25)-SF790","v":0},false,0,null,0,0,null,null,null,0,0,0,null,null,0,0,{"$f":"IF((IF(restoZero(SU790,25),(spaziIntermedi(SU790,25))+1,spaziIntermedi(SU790,25)))=(spaziIntermedi(SV790,25)),FALSE,TRUE)","v":true},0,{"$f":"+spaziIntermedi(SV790,25)-SX790","v":0},false,0,null,0,0,null,null,null,0,0,0,0,0]
[null,null,0,0,{"$f":"IF((IF(restoZero(C809,25),(spaziIntermedi(C809,25))+1,spaziIntermedi(C809,25)))=(spaziIntermedi(D809,25)),FALSE,TRUE)","v":true},0,{"$f":"+spaziIntermedi(D809,25)-F809","v":0},false,0,null,0,0,null,null,null,0,0,0,null,null,0,0,{"$f":"IF((IF(restoZero(U809,25),(spaziIntermedi(U809,25))+1,spaziIntermedi(U809,25)))=(spaziIntermedi(V809,25)),FALSE,TRUE)","v":true},0,{"$f":"+spaziIntermedi(V809,25)-X809","v":0},false,0,null,0,0,null,null,null,0,0,0,0,0,null,null,0,0,{"$f":"IF((IF(restoZero(AO809,25),(spaziIntermedi(AO809,25))+1,spaziIntermedi(AO809,25)))=(spaziIntermedi(AP809,25)),FALSE,TRUE)","v":true},0,{"$f":"+spaziIntermedi(AP809,25)-AR809","v":0},false,0,null,0,0,null,null,null,0,0,0,null,null,0,0,{"$f":"IF((IF(restoZero(BG809,25),(spaziIntermedi(BG809,25))+1,spaziIntermedi(BG809,25)))=(spaziIntermedi(BH809,25)),FALSE,TRUE)","v":true},0,{"$f":"+spaziIntermedi(BH809,25)-BJ809","v":0},false,0,null,0,0,null,null,null,0,0,0,0,0,null,null,0,0,{"$f":"IF((IF(restoZero(CA809,25),(spaziIntermedi(CA809,25))+1,spaziIntermedi(CA809,25)))=(spaziIntermedi(CB809,25)),FALSE,TRUE)","v":true},0,{"$f":"+spaziIntermedi(CB809,25)-CD809","v":0},false,0,null,0,0,null,null,null,0,0,0,null,null,0,0,{"$f":"IF((IF(restoZero(CS809,25),(spaziIntermedi(CS809,25))+1,spaziIntermedi(CS809,25)))=(spaziIntermedi(CT809,25)),FALSE,TRUE)","v":true},0,{"$f":"+spaziIntermedi(CT809,25)-CV809","v":0},false,0,null,0,0,null,null,null,0,0,0,0,0,null,null,0,0,{"$f":"IF((IF(restoZero(DM809,25),(spaziIntermedi(DM809,25))+1,spaziIntermedi(DM809,25)))=(spaziIntermedi(DN809,25)),FALSE,TRUE)","v":true},0,{"$f":"+spaziIntermedi(DN809,25)-DP809","v":0},false,0,null,0,0,null,null,null,0,0,0,null,null,0,0,{"$f":"IF((IF(restoZero(EE809,25),(spaziIntermedi(EE809,25))+1,spaziIntermedi(EE809,25)))=(spaziIntermedi(EF809,25)),FALSE,TRUE)","v":true},0,{"$f":"+spaziIntermedi(EF809,25)-EH809","v":0},false,0,null,0,0,null,null,null,0,0,0,0,0,null,null,0,0,{"$f":"IF((IF(restoZero(EY809,25),(spaziIntermedi(EY809,25))+1,spaziIntermedi(EY809,25)))=(spaziIntermedi(EZ809,25)),FALSE,TRUE)","v":true},0,{"$f":"+spaziIntermedi(EZ809,25)-FB809","v":0},false,0,null,0,0,null,null,null,0,0,0,null,null,0,0,{"$f":"IF((IF(restoZero(FQ809,25),(spaziIntermedi(FQ809,25))+1,spaziIntermedi(FQ809,25)))=(spaziIntermedi(FR809,25)),FALSE,TRUE)","v":true},0,{"$f":"+spaziIntermedi(FR809,25)-FT809","v":0},false,0,null,0,0,null,null,null,0,0,0,0,0,null,null,0,0,{"$f":"IF((IF(restoZero(GK809,25),(spaziIntermedi(GK809,25))+1,spaziIntermedi(GK809,25)))=(spaziIntermedi(GL809,25)),FALSE,TRUE)","v":true},0,{"$f":"+spaziIntermedi(GL809,25)-GN809","v":0},false,0,null,0,0,null,null,null,0,0,0,null,null,0,0,{"$f":"IF((IF(restoZero(HC809,25),(spaziIntermedi(HC809,25))+1,spaziIntermedi(HC809,25)))=(spaziIntermedi(HD809,25)),FALSE,TRUE)","v":true},0,{"$f":"+spaziIntermedi(HD809,25)-HF809","v":0},false,0,null,0,0,null,null,null,0,0,0,0,0,null,null,0,0,{"$f":"IF((IF(restoZero(HW809,25),(spaziIntermedi(HW809,25))+1,spaziIntermedi(HW809,25)))=(spaziIntermedi(HX809,25)),FALSE,TRUE)","v":true},0,{"$f":"+spaziIntermedi(HX809,25)-HZ809","v":0},false,0,null,0,0,null,null,null,0,0,0,null,null,0,0,{"$f":"IF((IF(restoZero(IO809,25),(spaziIntermedi(IO809,25))+1,spaziIntermedi(IO809,25)))=(spaziIntermedi(IP809,25)),FALSE,TRUE)","v":true},0,{"$f":"+spaziIntermedi(IP809,25)-IR809","v":0},false,0,null,0,0,null,null,null,0,0,0,0,0,null,null,0,0,{"$f":"IF((IF(restoZero(JI809,25),(spaziIntermedi(JI809,25))+1,spaziIntermedi(JI809,25)))=(spaziIntermedi(JJ809,25)),FALSE,TRUE)","v":true},0,{"$f":"+spaziIntermedi(JJ809,25)-JL809","v":0},false,0,null,0,0,null,null,null,0,0,0,null,null,0,0,{"$f":"IF((IF(restoZero(KA809,25),(spaziIntermedi(KA809,25))+1,spaziIntermedi(KA809,25)))=(spaziIntermedi(KB809,25)),FALSE,TRUE)","v":true},0,{"$f":"+spaziIntermedi(KB809,25)-KD809","v":0},false,0,null,0,0,null,null,null,0,0,0,0,0,null,null,0,0,{"$f":"IF((IF(restoZero(KU809,25),(spaziIntermedi(KU809,25))+1,spaziIntermedi(KU809,25)))=(spaziIntermedi(KV809,25)),FALSE,TRUE)","v":true},0,{"$f":"+spaziIntermedi(KV809,25)-KX809","v":0},false,0,null,0,0,null,null,null,0,0,0,null,null,0,0,{"$f":"IF((IF(restoZero(LM809,25),(spaziIntermedi(LM809,25))+1,spaziIntermedi(LM809,25)))=(spaziIntermedi(LN809,25)),FALSE,TRUE)","v":true},0,{"$f":"+spaziIntermedi(LN809,25)-LP809","v":0},false,0,null,0,0,null,null,null,0,0,0,0,0,null,null,0,0,{"$f":"IF((IF(restoZero(MG809,25),(spaziIntermedi(MG809,25))+1,spaziIntermedi(MG809,25)))=(spaziIntermedi(MH809,25)),FALSE,TRUE)","v":true},0,{"$f":"+spaziIntermedi(MH809,25)-MJ809","v":0},false,0,null,0,0,null,null,null,0,0,0,null,null,0,0,{"$f":"IF((IF(restoZero(MY809,25),(spaziIntermedi(MY809,25))+1,spaziIntermedi(MY809,25)))=(spaziIntermedi(MZ809,25)),FALSE,TRUE)","v":true},0,{"$f":"+spaziIntermedi(MZ809,25)-NB809","v":0},false,0,null,0,0,null,null,null,0,0,0,0,0,null,null,0,0,{"$f":"IF((IF(restoZero(NS809,25),(spaziIntermedi(NS809,25))+1,spaziIntermedi(NS809,25)))=(spaziIntermedi(NT809,25)),FALSE,TRUE)","v":true},0,{"$f":"+spaziIntermedi(NT809,25)-NV809","v":0},false,0,null,0,0,null,null,null,0,0,0,null,null,0,0,{"$f":"IF((IF(restoZero(OK809,25),(spaziIntermedi(OK809,25))+1,spaziIntermedi(OK809,25)))=(spaziIntermedi(OL809,25)),FALSE,TRUE)","v":true},0,{"$f":"+spaziIntermedi(OL809,25)-ON809","v":0},false,0,null,0,0,null,null,null,0,0,0,0,0,null,null,0,0,{"$f":"IF((IF(restoZero(PE809,25),(spaziIntermedi(PE809,25))+1,spaziIntermedi(PE809,25)))=(spaziIntermedi(PF809,25)),FALSE,TRUE)","v":true},0,{"$f":"+spaziIntermedi(PF809,25)-PH809","v":0},false,0,null,0,0,null,null,null,0,0,0,null,null,0,0,{"$f":"IF((IF(restoZero(PW809,25),(spaziIntermedi(PW809,25))+1,spaziIntermedi(PW809,25)))=(spaziIntermedi(PX809,25)),FALSE,TRUE)","v":true},0,{"$f":"+spaziIntermedi(PX809,25)-PZ809","v":0},false,0,null,0,0,null,null,null,0,0,0,0,0,null,null,0,0,{"$f":"IF((IF(restoZero(QQ809,25),(spaziIntermedi(QQ809,25))+1,spaziIntermedi(QQ809,25)))=(spaziIntermedi(QR809,25)),FALSE,TRUE)","v":true},0,{"$f":"+spaziIntermedi(QR809,25)-QT809","v":0},false,0,null,0,0,null,null,null,0,0,0,null,null,0,0,{"$f":"IF((IF(restoZero(RI809,25),(spaziIntermedi(RI809,25))+1,spaziIntermedi(RI809,25)))=(spaziIntermedi(RJ809,25)),FALSE,TRUE)","v":true},0,{"$f":"+spaziIntermedi(RJ809,25)-RL809","v":0},false,0,null,0,0,null,null,null,0,0,0,0,0,null,null,0,0,{"$f":"IF((IF(restoZero(SC809,25),(spaziIntermedi(SC809,25))+1,spaziIntermedi(SC809,25)))=(spaziIntermedi(SD809,25)),FALSE,TRUE)","v":true},0,{"$f":"+spaziIntermedi(SD809,25)-SF809","v":0},false,0,null,0,0,null,null,null,0,0,0,null,null,0,0,{"$f":"IF((IF(restoZero(SU809,25),(spaziIntermedi(SU809,25))+1,spaziIntermedi(SU809,25)))=(spaziIntermedi(SV809,25)),FALSE,TRUE)","v":true},0,{"$f":"+spaziIntermedi(SV809,25)-SX809","v":0},false,0,null,0,0,null,null,null,0,0,0,0,0]
[null,null,0,0,{"$f":"IF((IF(restoZero(C834,25),(spaziIntermedi(C834,25))+1,spaziIntermedi(C834,25)))=(spaziIntermedi(D834,25)),FALSE,TRUE)","v":true},0,{"$f":"+spaziIntermedi(D834,25)-F834","v":0},false,0,null,0,0,null,null,null,0,0,0,null,null,0,0,{"$f":"IF((IF(restoZero(U834,25),(spaziIntermedi(U834,25))+1,spaziIntermedi(U834,25)))=(spaziIntermedi(V834,25)),FALSE,TRUE)","v":true},0,{"$f":"+spaziIntermedi(V834,25)-X834","v":0},false,0,null,0,0,null,null,null,0,0,0,0,0,null,null,0,0,{"$f":"IF((IF(restoZero(AO834,25),(spaziIntermedi(AO834,25))+1,spaziIntermedi(AO834,25)))=(spaziIntermedi(AP834,25)),FALSE,TRUE)","v":true},0,{"$f":"+spaziIntermedi(AP834,25)-AR834","v":0},false,0,null,0,0,null,null,null,0,0,0,null,null,0,0,{"$f":"IF((IF(restoZero(BG834,25),(spaziIntermedi(BG834,25))+1,spaziIntermedi(BG834,25)))=(spaziIntermedi(BH834,25)),FALSE,TRUE)","v":true},0,{"$f":"+spaziIntermedi(BH834,25)-BJ834","v":0},false,0,null,0,0,null,null,null,0,0,0,0,0,null,null,0,0,{"$f":"IF((IF(restoZero(CA834,25),(spaziIntermedi(CA834,25))+1,spaziIntermedi(CA834,25)))=(spaziIntermedi(CB834,25)),FALSE,TRUE)","v":true},0,{"$f":"+spaziIntermedi(CB834,25)-CD834","v":0},false,0,null,0,0,null,null,null,0,0,0,null,null,0,0,{"$f":"IF((IF(restoZero(CS834,25),(spaziIntermedi(CS834,25))+1,spaziIntermedi(CS834,25)))=(spaziIntermedi(CT834,25)),FALSE,TRUE)","v":true},0,{"$f":"+spaziIntermedi(CT834,25)-CV834","v":0},false,0,null,0,0,null,null,null,0,0,0,0,0,null,null,0,0,{"$f":"IF((IF(restoZero(DM834,25),(spaziIntermedi(DM834,25))+1,spaziIntermedi(DM834,25)))=(spaziIntermedi(DN834,25)),FALSE,TRUE)","v":true},0,{"$f":"+spaziIntermedi(DN834,25)-DP834","v":0},false,0,null,0,0,null,null,null,0,0,0,null,null,0,0,{"$f":"IF((IF(restoZero(EE834,25),(spaziIntermedi(EE834,25))+1,spaziIntermedi(EE834,25)))=(spaziIntermedi(EF834,25)),FALSE,TRUE)","v":true},0,{"$f":"+spaziIntermedi(EF834,25)-EH834","v":0},false,0,null,0,0,null,null,null,0,0,0,0,0,null,null,0,0,{"$f":"IF((IF(restoZero(EY834,25),(spaziIntermedi(EY834,25))+1,spaziIntermedi(EY834,25)))=(spaziIntermedi(EZ834,25)),FALSE,TRUE)","v":true},0,{"$f":"+spaziIntermedi(EZ834,25)-FB834","v":0},false,0,null,0,0,null,null,null,0,0,0,null,null,0,0,{"$f":"IF((IF(restoZero(FQ834,25),(spaziIntermedi(FQ834,25))+1,spaziIntermedi(FQ834,25)))=(spaziIntermedi(FR834,25)),FALSE,TRUE)","v":true},0,{"$f":"+spaziIntermedi(FR834,25)-FT834","v":0},false,0,null,0,0,null,null,null,0,0,0,0,0,null,null,0,0,{"$f":"IF((IF(restoZero(GK834,25),(spaziIntermedi(GK834,25))+1,spaziIntermedi(GK834,25)))=(spaziIntermedi(GL834,25)),FALSE,TRUE)","v":true},0,{"$f":"+spaziIntermedi(GL834,25)-GN834","v":0},false,0,null,0,0,null,null,null,0,0,0,null,null,0,0,{"$f":"IF((IF(restoZero(HC834,25),(spaziIntermedi(HC834,25))+1,spaziIntermedi(HC834,25)))=(spaziIntermedi(HD834,25)),FALSE,TRUE)","v":true},0,{"$f":"+spaziIntermedi(HD834,25)-HF834","v":0},false,0,null,0,0,null,null,null,0,0,0,0,0,null,null,0,0,{"$f":"IF((IF(restoZero(HW834,25),(spaziIntermedi(HW834,25))+1,spaziIntermedi(HW834,25)))=(spaziIntermedi(HX834,25)),FALSE,TRUE)","v":true},0,{"$f":"+spaziIntermedi(HX834,25)-HZ834","v":0},false,0,null,0,0,null,null,null,0,0,0,null,null,0,0,{"$f":"IF((IF(restoZero(IO834,25),(spaziIntermedi(IO834,25))+1,spaziIntermedi(IO834,25)))=(spaziIntermedi(IP834,25)),FALSE,TRUE)","v":true},0,{"$f":"+spaziIntermedi(IP834,25)-IR834","v":0},false,0,null,0,0,null,null,null,0,0,0,0,0,null,null,0,0,{"$f":"IF((IF(restoZero(JI834,25),(spaziIntermedi(JI834,25))+1,spaziIntermedi(JI834,25)))=(spaziIntermedi(JJ834,25)),FALSE,TRUE)","v":true},0,{"$f":"+spaziIntermedi(JJ834,25)-JL834","v":0},false,0,null,0,0,null,null,null,0,0,0,null,null,0,0,{"$f":"IF((IF(restoZero(KA834,25),(spaziIntermedi(KA834,25))+1,spaziIntermedi(KA834,25)))=(spaziIntermedi(KB834,25)),FALSE,TRUE)","v":true},0,{"$f":"+spaziIntermedi(KB834,25)-KD834","v":0},false,0,null,0,0,null,null,null,0,0,0,0,0,null,null,0,0,{"$f":"IF((IF(restoZero(KU834,25),(spaziIntermedi(KU834,25))+1,spaziIntermedi(KU834,25)))=(spaziIntermedi(KV834,25)),FALSE,TRUE)","v":true},0,{"$f":"+spaziIntermedi(KV834,25)-KX834","v":0},false,0,null,0,0,null,null,null,0,0,0,null,null,0,0,{"$f":"IF((IF(restoZero(LM834,25),(spaziIntermedi(LM834,25))+1,spaziIntermedi(LM834,25)))=(spaziIntermedi(LN834,25)),FALSE,TRUE)","v":true},0,{"$f":"+spaziIntermedi(LN834,25)-LP834","v":0},false,0,null,0,0,null,null,null,0,0,0,0,0,null,null,0,0,{"$f":"IF((IF(restoZero(MG834,25),(spaziIntermedi(MG834,25))+1,spaziIntermedi(MG834,25)))=(spaziIntermedi(MH834,25)),FALSE,TRUE)","v":true},0,{"$f":"+spaziIntermedi(MH834,25)-MJ834","v":0},false,0,null,0,0,null,null,null,0,0,0,null,null,0,0,{"$f":"IF((IF(restoZero(MY834,25),(spaziIntermedi(MY834,25))+1,spaziIntermedi(MY834,25)))=(spaziIntermedi(MZ834,25)),FALSE,TRUE)","v":true},0,{"$f":"+spaziIntermedi(MZ834,25)-NB834","v":0},false,0,null,0,0,null,null,null,0,0,0,0,0,null,null,0,0,{"$f":"IF((IF(restoZero(NS834,25),(spaziIntermedi(NS834,25))+1,spaziIntermedi(NS834,25)))=(spaziIntermedi(NT834,25)),FALSE,TRUE)","v":true},0,{"$f":"+spaziIntermedi(NT834,25)-NV834","v":0},false,0,null,0,0,null,null,null,0,0,0,null,null,0,0,{"$f":"IF((IF(restoZero(OK834,25),(spaziIntermedi(OK834,25))+1,spaziIntermedi(OK834,25)))=(spaziIntermedi(OL834,25)),FALSE,TRUE)","v":true},0,{"$f":"+spaziIntermedi(OL834,25)-ON834","v":0},false,0,null,0,0,null,null,null,0,0,0,0,0,null,null,0,0,{"$f":"IF((IF(restoZero(PE834,25),(spaziIntermedi(PE834,25))+1,spaziIntermedi(PE834,25)))=(spaziIntermedi(PF834,25)),FALSE,TRUE)","v":true},0,{"$f":"+spaziIntermedi(PF834,25)-PH834","v":0},false,0,null,0,0,null,null,null,0,0,0,null,null,0,0,{"$f":"IF((IF(restoZero(PW834,25),(spaziIntermedi(PW834,25))+1,spaziIntermedi(PW834,25)))=(spaziIntermedi(PX834,25)),FALSE,TRUE)","v":true},0,{"$f":"+spaziIntermedi(PX834,25)-PZ834","v":0},false,0,null,0,0,null,null,null,0,0,0,0,0,null,null,0,0,{"$f":"IF((IF(restoZero(QQ834,25),(spaziIntermedi(QQ834,25))+1,spaziIntermedi(QQ834,25)))=(spaziIntermedi(QR834,25)),FALSE,TRUE)","v":true},0,{"$f":"+spaziIntermedi(QR834,25)-QT834","v":0},false,0,null,0,0,null,null,null,0,0,0,null,null,0,0,{"$f":"IF((IF(restoZero(RI834,25),(spaziIntermedi(RI834,25))+1,spaziIntermedi(RI834,25)))=(spaziIntermedi(RJ834,25)),FALSE,TRUE)","v":true},0,{"$f":"+spaziIntermedi(RJ834,25)-RL834","v":0},false,0,null,0,0,null,null,null,0,0,0,0,0,null,null,0,0,{"$f":"IF((IF(restoZero(SC834,25),(spaziIntermedi(SC834,25))+1,spaziIntermedi(SC834,25)))=(spaziIntermedi(SD834,25)),FALSE,TRUE)","v":true},0,{"$f":"+spaziIntermedi(SD834,25)-SF834","v":0},false,0,null,0,0,null,null,null,0,0,0,null,null,0,0,{"$f":"IF((IF(restoZero(SU834,25),(spaziIntermedi(SU834,25))+1,spaziIntermedi(SU834,25)))=(spaziIntermedi(SV834,25)),FALSE,TRUE)","v":true},0,{"$f":"+spaziIntermedi(SV834,25)-SX834","v":0},false,0,null,0,0,null,null,null,0,0,0,0,0]
[null,null,0,0,{"$f":"IF((IF(restoZero(C842,25),(spaziIntermedi(C842,25))+1,spaziIntermedi(C842,25)))=(spaziIntermedi(D842,25)),FALSE,TRUE)","v":true},0,{"$f":"+spaziIntermedi(D842,25)-F842","v":0},false,0,null,0,0,null,null,null,0,0,0,null,null,0,0,{"$f":"IF((IF(restoZero(U842,25),(spaziIntermedi(U842,25))+1,spaziIntermedi(U842,25)))=(spaziIntermedi(V842,25)),FALSE,TRUE)","v":true},0,{"$f":"+spaziIntermedi(V842,25)-X842","v":0},false,0,null,0,0,null,null,null,0,0,0,0,0,null,null,0,0,{"$f":"IF((IF(restoZero(AO842,25),(spaziIntermedi(AO842,25))+1,spaziIntermedi(AO842,25)))=(spaziIntermedi(AP842,25)),FALSE,TRUE)","v":true},0,{"$f":"+spaziIntermedi(AP842,25)-AR842","v":0},false,0,null,0,0,null,null,null,0,0,0,null,null,0,0,{"$f":"IF((IF(restoZero(BG842,25),(spaziIntermedi(BG842,25))+1,spaziIntermedi(BG842,25)))=(spaziIntermedi(BH842,25)),FALSE,TRUE)","v":true},0,{"$f":"+spaziIntermedi(BH842,25)-BJ842","v":0},false,0,null,0,0,null,null,null,0,0,0,0,0,null,null,0,0,{"$f":"IF((IF(restoZero(CA842,25),(spaziIntermedi(CA842,25))+1,spaziIntermedi(CA842,25)))=(spaziIntermedi(CB842,25)),FALSE,TRUE)","v":true},0,{"$f":"+spaziIntermedi(CB842,25)-CD842","v":0},false,0,null,0,0,null,null,null,0,0,0,null,null,0,0,{"$f":"IF((IF(restoZero(CS842,25),(spaziIntermedi(CS842,25))+1,spaziIntermedi(CS842,25)))=(spaziIntermedi(CT842,25)),FALSE,TRUE)","v":true},0,{"$f":"+spaziIntermedi(CT842,25)-CV842","v":0},false,0,null,0,0,null,null,null,0,0,0,0,0,null,null,0,0,{"$f":"IF((IF(restoZero(DM842,25),(spaziIntermedi(DM842,25))+1,spaziIntermedi(DM842,25)))=(spaziIntermedi(DN842,25)),FALSE,TRUE)","v":true},0,{"$f":"+spaziIntermedi(DN842,25)-DP842","v":0},false,0,null,0,0,null,null,null,0,0,0,null,null,0,0,{"$f":"IF((IF(restoZero(EE842,25),(spaziIntermedi(EE842,25))+1,spaziIntermedi(EE842,25)))=(spaziIntermedi(EF842,25)),FALSE,TRUE)","v":true},0,{"$f":"+spaziIntermedi(EF842,25)-EH842","v":0},false,0,null,0,0,null,null,null,0,0,0,0,0,null,null,0,0,{"$f":"IF((IF(restoZero(EY842,25),(spaziIntermedi(EY842,25))+1,spaziIntermedi(EY842,25)))=(spaziIntermedi(EZ842,25)),FALSE,TRUE)","v":true},0,{"$f":"+spaziIntermedi(EZ842,25)-FB842","v":0},false,0,null,0,0,null,null,null,0,0,0,null,null,0,0,{"$f":"IF((IF(restoZero(FQ842,25),(spaziIntermedi(FQ842,25))+1,spaziIntermedi(FQ842,25)))=(spaziIntermedi(FR842,25)),FALSE,TRUE)","v":true},0,{"$f":"+spaziIntermedi(FR842,25)-FT842","v":0},false,0,null,0,0,null,null,null,0,0,0,0,0,null,null,0,0,{"$f":"IF((IF(restoZero(GK842,25),(spaziIntermedi(GK842,25))+1,spaziIntermedi(GK842,25)))=(spaziIntermedi(GL842,25)),FALSE,TRUE)","v":true},0,{"$f":"+spaziIntermedi(GL842,25)-GN842","v":0},false,0,null,0,0,null,null,null,0,0,0,null,null,0,0,{"$f":"IF((IF(restoZero(HC842,25),(spaziIntermedi(HC842,25))+1,spaziIntermedi(HC842,25)))=(spaziIntermedi(HD842,25)),FALSE,TRUE)","v":true},0,{"$f":"+spaziIntermedi(HD842,25)-HF842","v":0},false,0,null,0,0,null,null,null,0,0,0,0,0,null,null,0,0,{"$f":"IF((IF(restoZero(HW842,25),(spaziIntermedi(HW842,25))+1,spaziIntermedi(HW842,25)))=(spaziIntermedi(HX842,25)),FALSE,TRUE)","v":true},0,{"$f":"+spaziIntermedi(HX842,25)-HZ842","v":0},false,0,null,0,0,null,null,null,0,0,0,null,null,0,0,{"$f":"IF((IF(restoZero(IO842,25),(spaziIntermedi(IO842,25))+1,spaziIntermedi(IO842,25)))=(spaziIntermedi(IP842,25)),FALSE,TRUE)","v":true},0,{"$f":"+spaziIntermedi(IP842,25)-IR842","v":0},false,0,null,0,0,null,null,null,0,0,0,0,0,null,null,0,0,{"$f":"IF((IF(restoZero(JI842,25),(spaziIntermedi(JI842,25))+1,spaziIntermedi(JI842,25)))=(spaziIntermedi(JJ842,25)),FALSE,TRUE)","v":true},0,{"$f":"+spaziIntermedi(JJ842,25)-JL842","v":0},false,0,null,0,0,null,null,null,0,0,0,null,null,0,0,{"$f":"IF((IF(restoZero(KA842,25),(spaziIntermedi(KA842,25))+1,spaziIntermedi(KA842,25)))=(spaziIntermedi(KB842,25)),FALSE,TRUE)","v":true},0,{"$f":"+spaziIntermedi(KB842,25)-KD842","v":0},false,0,null,0,0,null,null,null,0,0,0,0,0,null,null,0,0,{"$f":"IF((IF(restoZero(KU842,25),(spaziIntermedi(KU842,25))+1,spaziIntermedi(KU842,25)))=(spaziIntermedi(KV842,25)),FALSE,TRUE)","v":true},0,{"$f":"+spaziIntermedi(KV842,25)-KX842","v":0},false,0,null,0,0,null,null,null,0,0,0,null,null,0,0,{"$f":"IF((IF(restoZero(LM842,25),(spaziIntermedi(LM842,25))+1,spaziIntermedi(LM842,25)))=(spaziIntermedi(LN842,25)),FALSE,TRUE)","v":true},0,{"$f":"+spaziIntermedi(LN842,25)-LP842","v":0},false,0,null,0,0,null,null,null,0,0,0,0,0,null,null,0,0,{"$f":"IF((IF(restoZero(MG842,25),(spaziIntermedi(MG842,25))+1,spaziIntermedi(MG842,25)))=(spaziIntermedi(MH842,25)),FALSE,TRUE)","v":true},0,{"$f":"+spaziIntermedi(MH842,25)-MJ842","v":0},false,0,null,0,0,null,null,null,0,0,0,null,null,0,0,{"$f":"IF((IF(restoZero(MY842,25),(spaziIntermedi(MY842,25))+1,spaziIntermedi(MY842,25)))=(spaziIntermedi(MZ842,25)),FALSE,TRUE)","v":true},0,{"$f":"+spaziIntermedi(MZ842,25)-NB842","v":0},false,0,null,0,0,null,null,null,0,0,0,0,0,null,null,0,0,{"$f":"IF((IF(restoZero(NS842,25),(spaziIntermedi(NS842,25))+1,spaziIntermedi(NS842,25)))=(spaziIntermedi(NT842,25)),FALSE,TRUE)","v":true},0,{"$f":"+spaziIntermedi(NT842,25)-NV842","v":0},false,0,null,0,0,null,null,null,0,0,0,null,null,0,0,{"$f":"IF((IF(restoZero(OK842,25),(spaziIntermedi(OK842,25))+1,spaziIntermedi(OK842,25)))=(spaziIntermedi(OL842,25)),FALSE,TRUE)","v":true},0,{"$f":"+spaziIntermedi(OL842,25)-ON842","v":0},false,0,null,0,0,null,null,null,0,0,0,0,0,null,null,0,0,{"$f":"IF((IF(restoZero(PE842,25),(spaziIntermedi(PE842,25))+1,spaziIntermedi(PE842,25)))=(spaziIntermedi(PF842,25)),FALSE,TRUE)","v":true},0,{"$f":"+spaziIntermedi(PF842,25)-PH842","v":0},false,0,null,0,0,null,null,null,0,0,0,null,null,0,0,{"$f":"IF((IF(restoZero(PW842,25),(spaziIntermedi(PW842,25))+1,spaziIntermedi(PW842,25)))=(spaziIntermedi(PX842,25)),FALSE,TRUE)","v":true},0,{"$f":"+spaziIntermedi(PX842,25)-PZ842","v":0},false,0,null,0,0,null,null,null,0,0,0,0,0,null,null,0,0,{"$f":"IF((IF(restoZero(QQ842,25),(spaziIntermedi(QQ842,25))+1,spaziIntermedi(QQ842,25)))=(spaziIntermedi(QR842,25)),FALSE,TRUE)","v":true},0,{"$f":"+spaziIntermedi(QR842,25)-QT842","v":0},false,0,null,0,0,null,null,null,0,0,0,null,null,0,0,{"$f":"IF((IF(restoZero(RI842,25),(spaziIntermedi(RI842,25))+1,spaziIntermedi(RI842,25)))=(spaziIntermedi(RJ842,25)),FALSE,TRUE)","v":true},0,{"$f":"+spaziIntermedi(RJ842,25)-RL842","v":0},false,0,null,0,0,null,null,null,0,0,0,0,0,null,null,0,0,{"$f":"IF((IF(restoZero(SC842,25),(spaziIntermedi(SC842,25))+1,spaziIntermedi(SC842,25)))=(spaziIntermedi(SD842,25)),FALSE,TRUE)","v":true},0,{"$f":"+spaziIntermedi(SD842,25)-SF842","v":0},false,0,null,0,0,null,null,null,0,0,0,null,null,0,0,{"$f":"IF((IF(restoZero(SU842,25),(spaziIntermedi(SU842,25))+1,spaziIntermedi(SU842,25)))=(spaziIntermedi(SV842,25)),FALSE,TRUE)","v":true},0,{"$f":"+spaziIntermedi(SV842,25)-SX842","v":0},false,0,null,0,0,null,null,null,0,0,0,0,0]
[null,null,0,0,{"$f":"IF((IF(restoZero(C858,25),(spaziIntermedi(C858,25))+1,spaziIntermedi(C858,25)))=(spaziIntermedi(D858,25)),FALSE,TRUE)","v":true},0,{"$f":"+spaziIntermedi(D858,25)-F858","v":0},false,0,null,0,0,null,null,null,0,0,0,null,null,0,0,{"$f":"IF((IF(restoZero(U858,25),(spaziIntermedi(U858,25))+1,spaziIntermedi(U858,25)))=(spaziIntermedi(V858,25)),FALSE,TRUE)","v":true},0,{"$f":"+spaziIntermedi(V858,25)-X858","v":0},false,0,null,0,0,null,null,null,0,0,0,0,0,null,null,0,0,{"$f":"IF((IF(restoZero(AO858,25),(spaziIntermedi(AO858,25))+1,spaziIntermedi(AO858,25)))=(spaziIntermedi(AP858,25)),FALSE,TRUE)","v":true},0,{"$f":"+spaziIntermedi(AP858,25)-AR858","v":0},false,0,null,0,0,null,null,null,0,0,0,null,null,0,0,{"$f":"IF((IF(restoZero(BG858,25),(spaziIntermedi(BG858,25))+1,spaziIntermedi(BG858,25)))=(spaziIntermedi(BH858,25)),FALSE,TRUE)","v":true},0,{"$f":"+spaziIntermedi(BH858,25)-BJ858","v":0},false,0,null,0,0,null,null,null,0,0,0,0,0,null,null,0,0,{"$f":"IF((IF(restoZero(CA858,25),(spaziIntermedi(CA858,25))+1,spaziIntermedi(CA858,25)))=(spaziIntermedi(CB858,25)),FALSE,TRUE)","v":true},0,{"$f":"+spaziIntermedi(CB858,25)-CD858","v":0},false,0,null,0,0,null,null,null,0,0,0,null,null,0,0,{"$f":"IF((IF(restoZero(CS858,25),(spaziIntermedi(CS858,25))+1,spaziIntermedi(CS858,25)))=(spaziIntermedi(CT858,25)),FALSE,TRUE)","v":true},0,{"$f":"+spaziIntermedi(CT858,25)-CV858","v":0},false,0,null,0,0,null,null,null,0,0,0,0,0,null,null,0,0,{"$f":"IF((IF(restoZero(DM858,25),(spaziIntermedi(DM858,25))+1,spaziIntermedi(DM858,25)))=(spaziIntermedi(DN858,25)),FALSE,TRUE)","v":true},0,{"$f":"+spaziIntermedi(DN858,25)-DP858","v":0},false,0,null,0,0,null,null,null,0,0,0,null,null,0,0,{"$f":"IF((IF(restoZero(EE858,25),(spaziIntermedi(EE858,25))+1,spaziIntermedi(EE858,25)))=(spaziIntermedi(EF858,25)),FALSE,TRUE)","v":true},0,{"$f":"+spaziIntermedi(EF858,25)-EH858","v":0},false,0,null,0,0,null,null,null,0,0,0,0,0,null,null,0,0,{"$f":"IF((IF(restoZero(EY858,25),(spaziIntermedi(EY858,25))+1,spaziIntermedi(EY858,25)))=(spaziIntermedi(EZ858,25)),FALSE,TRUE)","v":true},0,{"$f":"+spaziIntermedi(EZ858,25)-FB858","v":0},false,0,null,0,0,null,null,null,0,0,0,null,null,0,0,{"$f":"IF((IF(restoZero(FQ858,25),(spaziIntermedi(FQ858,25))+1,spaziIntermedi(FQ858,25)))=(spaziIntermedi(FR858,25)),FALSE,TRUE)","v":true},0,{"$f":"+spaziIntermedi(FR858,25)-FT858","v":0},false,0,null,0,0,null,null,null,0,0,0,0,0,null,null,0,0,{"$f":"IF((IF(restoZero(GK858,25),(spaziIntermedi(GK858,25))+1,spaziIntermedi(GK858,25)))=(spaziIntermedi(GL858,25)),FALSE,TRUE)","v":true},0,{"$f":"+spaziIntermedi(GL858,25)-GN858","v":0},false,0,null,0,0,null,null,null,0,0,0,null,null,0,0,{"$f":"IF((IF(restoZero(HC858,25),(spaziIntermedi(HC858,25))+1,spaziIntermedi(HC858,25)))=(spaziIntermedi(HD858,25)),FALSE,TRUE)","v":true},0,{"$f":"+spaziIntermedi(HD858,25)-HF858","v":0},false,0,null,0,0,null,null,null,0,0,0,0,0,null,null,0,0,{"$f":"IF((IF(restoZero(HW858,25),(spaziIntermedi(HW858,25))+1,spaziIntermedi(HW858,25)))=(spaziIntermedi(HX858,25)),FALSE,TRUE)","v":true},0,{"$f":"+spaziIntermedi(HX858,25)-HZ858","v":0},false,0,null,0,0,null,null,null,0,0,0,null,null,0,0,{"$f":"IF((IF(restoZero(IO858,25),(spaziIntermedi(IO858,25))+1,spaziIntermedi(IO858,25)))=(spaziIntermedi(IP858,25)),FALSE,TRUE)","v":true},0,{"$f":"+spaziIntermedi(IP858,25)-IR858","v":0},false,0,null,0,0,null,null,null,0,0,0,0,0,null,null,0,0,{"$f":"IF((IF(restoZero(JI858,25),(spaziIntermedi(JI858,25))+1,spaziIntermedi(JI858,25)))=(spaziIntermedi(JJ858,25)),FALSE,TRUE)","v":true},0,{"$f":"+spaziIntermedi(JJ858,25)-JL858","v":0},false,0,null,0,0,null,null,null,0,0,0,null,null,0,0,{"$f":"IF((IF(restoZero(KA858,25),(spaziIntermedi(KA858,25))+1,spaziIntermedi(KA858,25)))=(spaziIntermedi(KB858,25)),FALSE,TRUE)","v":true},0,{"$f":"+spaziIntermedi(KB858,25)-KD858","v":0},false,0,null,0,0,null,null,null,0,0,0,0,0,null,null,0,0,{"$f":"IF((IF(restoZero(KU858,25),(spaziIntermedi(KU858,25))+1,spaziIntermedi(KU858,25)))=(spaziIntermedi(KV858,25)),FALSE,TRUE)","v":true},0,{"$f":"+spaziIntermedi(KV858,25)-KX858","v":0},false,0,null,0,0,null,null,null,0,0,0,null,null,0,0,{"$f":"IF((IF(restoZero(LM858,25),(spaziIntermedi(LM858,25))+1,spaziIntermedi(LM858,25)))=(spaziIntermedi(LN858,25)),FALSE,TRUE)","v":true},0,{"$f":"+spaziIntermedi(LN858,25)-LP858","v":0},false,0,null,0,0,null,null,null,0,0,0,0,0,null,null,0,0,{"$f":"IF((IF(restoZero(MG858,25),(spaziIntermedi(MG858,25))+1,spaziIntermedi(MG858,25)))=(spaziIntermedi(MH858,25)),FALSE,TRUE)","v":true},0,{"$f":"+spaziIntermedi(MH858,25)-MJ858","v":0},false,0,null,0,0,null,null,null,0,0,0,null,null,0,0,{"$f":"IF((IF(restoZero(MY858,25),(spaziIntermedi(MY858,25))+1,spaziIntermedi(MY858,25)))=(spaziIntermedi(MZ858,25)),FALSE,TRUE)","v":true},0,{"$f":"+spaziIntermedi(MZ858,25)-NB858","v":0},false,0,null,0,0,null,null,null,0,0,0,0,0,null,null,0,0,{"$f":"IF((IF(restoZero(NS858,25),(spaziIntermedi(NS858,25))+1,spaziIntermedi(NS858,25)))=(spaziIntermedi(NT858,25)),FALSE,TRUE)","v":true},0,{"$f":"+spaziIntermedi(NT858,25)-NV858","v":0},false,0,null,0,0,null,null,null,0,0,0,null,null,0,0,{"$f":"IF((IF(restoZero(OK858,25),(spaziIntermedi(OK858,25))+1,spaziIntermedi(OK858,25)))=(spaziIntermedi(OL858,25)),FALSE,TRUE)","v":true},0,{"$f":"+spaziIntermedi(OL858,25)-ON858","v":0},false,0,null,0,0,null,null,null,0,0,0,0,0,null,null,0,0,{"$f":"IF((IF(restoZero(PE858,25),(spaziIntermedi(PE858,25))+1,spaziIntermedi(PE858,25)))=(spaziIntermedi(PF858,25)),FALSE,TRUE)","v":true},0,{"$f":"+spaziIntermedi(PF858,25)-PH858","v":0},false,0,null,0,0,null,null,null,0,0,0,null,null,0,0,{"$f":"IF((IF(restoZero(PW858,25),(spaziIntermedi(PW858,25))+1,spaziIntermedi(PW858,25)))=(spaziIntermedi(PX858,25)),FALSE,TRUE)","v":true},0,{"$f":"+spaziIntermedi(PX858,25)-PZ858","v":0},false,0,null,0,0,null,null,null,0,0,0,0,0,null,null,0,0,{"$f":"IF((IF(restoZero(QQ858,25),(spaziIntermedi(QQ858,25))+1,spaziIntermedi(QQ858,25)))=(spaziIntermedi(QR858,25)),FALSE,TRUE)","v":true},0,{"$f":"+spaziIntermedi(QR858,25)-QT858","v":0},false,0,null,0,0,null,null,null,0,0,0,null,null,0,0,{"$f":"IF((IF(restoZero(RI858,25),(spaziIntermedi(RI858,25))+1,spaziIntermedi(RI858,25)))=(spaziIntermedi(RJ858,25)),FALSE,TRUE)","v":true},0,{"$f":"+spaziIntermedi(RJ858,25)-RL858","v":0},false,0,null,0,0,null,null,null,0,0,0,0,0,null,null,0,0,{"$f":"IF((IF(restoZero(SC858,25),(spaziIntermedi(SC858,25))+1,spaziIntermedi(SC858,25)))=(spaziIntermedi(SD858,25)),FALSE,TRUE)","v":true},0,{"$f":"+spaziIntermedi(SD858,25)-SF858","v":0},false,0,null,0,0,null,null,null,0,0,0,null,null,0,0,{"$f":"IF((IF(restoZero(SU858,25),(spaziIntermedi(SU858,25))+1,spaziIntermedi(SU858,25)))=(spaziIntermedi(SV858,25)),FALSE,TRUE)","v":true},0,{"$f":"+spaziIntermedi(SV858,25)-SX858","v":0},false,0,null,0,0,null,null,null,0,0,0,0,0]
[null,null,{"$f":"IFERROR(D876+K876+L876,0)","v":0},0,{"$f":"IF((IF(restoZero(C877,25),(spaziIntermedi(C877,25))+1,spaziIntermedi(C877,25)))=(spaziIntermedi(D877,25)),FALSE,TRUE)","v":true},0,{"$f":"+spaziIntermedi(D877,25)-F877","v":0},false,0,null,{"$f":"+IF(H877=FALSE,I877,0)","v":0},0,null,null,null,0,0,0,null,null,0,0,{"$f":"IF((IF(restoZero(U877,25),(spaziIntermedi(U877,25))+1,spaziIntermedi(U877,25)))=(spaziIntermedi(V877,25)),FALSE,TRUE)","v":true},0,{"$f":"+spaziIntermedi(V877,25)-X877","v":0},false,0,null,0,0,null,null,null,0,0,0,0,0,null,null,0,0,{"$f":"IF((IF(restoZero(AO877,25),(spaziIntermedi(AO877,25))+1,spaziIntermedi(AO877,25)))=(spaziIntermedi(AP877,25)),FALSE,TRUE)","v":true},0,{"$f":"+spaziIntermedi(AP877,25)-AR877","v":0},false,0,null,0,0,null,null,null,0,0,0,null,null,0,0,{"$f":"IF((IF(restoZero(BG877,25),(spaziIntermedi(BG877,25))+1,spaziIntermedi(BG877,25)))=(spaziIntermedi(BH877,25)),FALSE,TRUE)","v":true},0,{"$f":"+spaziIntermedi(BH877,25)-BJ877","v":0},false,0,null,0,0,null,null,null,0,0,0,0,0,null,null,0,0,{"$f":"IF((IF(restoZero(CA877,25),(spaziIntermedi(CA877,25))+1,spaziIntermedi(CA877,25)))=(spaziIntermedi(CB877,25)),FALSE,TRUE)","v":true},0,{"$f":"+spaziIntermedi(CB877,25)-CD877","v":0},false,0,null,0,0,null,null,null,0,0,0,null,null,0,0,{"$f":"IF((IF(restoZero(CS877,25),(spaziIntermedi(CS877,25))+1,spaziIntermedi(CS877,25)))=(spaziIntermedi(CT877,25)),FALSE,TRUE)","v":true},0,{"$f":"+spaziIntermedi(CT877,25)-CV877","v":0},false,0,null,0,0,null,null,null,0,0,0,0,0,null,null,0,0,{"$f":"IF((IF(restoZero(DM877,25),(spaziIntermedi(DM877,25))+1,spaziIntermedi(DM877,25)))=(spaziIntermedi(DN877,25)),FALSE,TRUE)","v":true},0,{"$f":"+spaziIntermedi(DN877,25)-DP877","v":0},false,0,null,0,0,null,null,null,0,0,0,null,null,0,0,{"$f":"IF((IF(restoZero(EE877,25),(spaziIntermedi(EE877,25))+1,spaziIntermedi(EE877,25)))=(spaziIntermedi(EF877,25)),FALSE,TRUE)","v":true},0,{"$f":"+spaziIntermedi(EF877,25)-EH877","v":0},false,0,null,0,0,null,null,null,0,0,0,0,0,null,null,0,0,{"$f":"IF((IF(restoZero(EY877,25),(spaziIntermedi(EY877,25))+1,spaziIntermedi(EY877,25)))=(spaziIntermedi(EZ877,25)),FALSE,TRUE)","v":true},0,{"$f":"+spaziIntermedi(EZ877,25)-FB877","v":0},false,0,null,0,0,null,null,null,0,0,0,null,null,0,0,{"$f":"IF((IF(restoZero(FQ877,25),(spaziIntermedi(FQ877,25))+1,spaziIntermedi(FQ877,25)))=(spaziIntermedi(FR877,25)),FALSE,TRUE)","v":true},0,{"$f":"+spaziIntermedi(FR877,25)-FT877","v":0},false,0,null,0,0,null,null,null,0,0,0,0,0,null,null,0,0,{"$f":"IF((IF(restoZero(GK877,25),(spaziIntermedi(GK877,25))+1,spaziIntermedi(GK877,25)))=(spaziIntermedi(GL877,25)),FALSE,TRUE)","v":true},0,{"$f":"+spaziIntermedi(GL877,25)-GN877","v":0},false,0,null,0,0,null,null,null,0,0,0,null,null,0,0,{"$f":"IF((IF(restoZero(HC877,25),(spaziIntermedi(HC877,25))+1,spaziIntermedi(HC877,25)))=(spaziIntermedi(HD877,25)),FALSE,TRUE)","v":true},0,{"$f":"+spaziIntermedi(HD877,25)-HF877","v":0},false,0,null,0,0,null,null,null,0,0,0,0,0,null,null,0,0,{"$f":"IF((IF(restoZero(HW877,25),(spaziIntermedi(HW877,25))+1,spaziIntermedi(HW877,25)))=(spaziIntermedi(HX877,25)),FALSE,TRUE)","v":true},0,{"$f":"+spaziIntermedi(HX877,25)-HZ877","v":0},false,0,null,0,0,null,null,null,0,0,0,null,null,0,0,{"$f":"IF((IF(restoZero(IO877,25),(spaziIntermedi(IO877,25))+1,spaziIntermedi(IO877,25)))=(spaziIntermedi(IP877,25)),FALSE,TRUE)","v":true},0,{"$f":"+spaziIntermedi(IP877,25)-IR877","v":0},false,0,null,0,0,null,null,null,0,0,0,0,0,null,null,0,0,{"$f":"IF((IF(restoZero(JI877,25),(spaziIntermedi(JI877,25))+1,spaziIntermedi(JI877,25)))=(spaziIntermedi(JJ877,25)),FALSE,TRUE)","v":true},0,{"$f":"+spaziIntermedi(JJ877,25)-JL877","v":0},false,0,null,0,0,null,null,null,0,0,0,null,null,0,0,{"$f":"IF((IF(restoZero(KA877,25),(spaziIntermedi(KA877,25))+1,spaziIntermedi(KA877,25)))=(spaziIntermedi(KB877,25)),FALSE,TRUE)","v":true},0,{"$f":"+spaziIntermedi(KB877,25)-KD877","v":0},false,0,null,0,0,null,null,null,0,0,0,0,0,null,null,0,0,{"$f":"IF((IF(restoZero(KU877,25),(spaziIntermedi(KU877,25))+1,spaziIntermedi(KU877,25)))=(spaziIntermedi(KV877,25)),FALSE,TRUE)","v":true},0,{"$f":"+spaziIntermedi(KV877,25)-KX877","v":0},false,0,null,0,0,null,null,null,0,0,0,null,null,0,0,{"$f":"IF((IF(restoZero(LM877,25),(spaziIntermedi(LM877,25))+1,spaziIntermedi(LM877,25)))=(spaziIntermedi(LN877,25)),FALSE,TRUE)","v":true},0,{"$f":"+spaziIntermedi(LN877,25)-LP877","v":0},false,0,null,0,0,null,null,null,0,0,0,0,0,null,null,0,0,{"$f":"IF((IF(restoZero(MG877,25),(spaziIntermedi(MG877,25))+1,spaziIntermedi(MG877,25)))=(spaziIntermedi(MH877,25)),FALSE,TRUE)","v":true},0,{"$f":"+spaziIntermedi(MH877,25)-MJ877","v":0},false,0,null,0,0,null,null,null,0,0,0,null,null,0,0,{"$f":"IF((IF(restoZero(MY877,25),(spaziIntermedi(MY877,25))+1,spaziIntermedi(MY877,25)))=(spaziIntermedi(MZ877,25)),FALSE,TRUE)","v":true},0,{"$f":"+spaziIntermedi(MZ877,25)-NB877","v":0},false,0,null,0,0,null,null,null,0,0,0,0,0,null,null,0,0,{"$f":"IF((IF(restoZero(NS877,25),(spaziIntermedi(NS877,25))+1,spaziIntermedi(NS877,25)))=(spaziIntermedi(NT877,25)),FALSE,TRUE)","v":true},0,{"$f":"+spaziIntermedi(NT877,25)-NV877","v":0},false,0,null,0,0,null,null,null,0,0,0,null,null,0,0,{"$f":"IF((IF(restoZero(OK877,25),(spaziIntermedi(OK877,25))+1,spaziIntermedi(OK877,25)))=(spaziIntermedi(OL877,25)),FALSE,TRUE)","v":true},0,{"$f":"+spaziIntermedi(OL877,25)-ON877","v":0},false,0,null,0,0,null,null,null,0,0,0,0,0,null,null,0,0,{"$f":"IF((IF(restoZero(PE877,25),(spaziIntermedi(PE877,25))+1,spaziIntermedi(PE877,25)))=(spaziIntermedi(PF877,25)),FALSE,TRUE)","v":true},0,{"$f":"+spaziIntermedi(PF877,25)-PH877","v":0},false,0,null,0,0,null,null,null,0,0,0,null,null,0,0,{"$f":"IF((IF(restoZero(PW877,25),(spaziIntermedi(PW877,25))+1,spaziIntermedi(PW877,25)))=(spaziIntermedi(PX877,25)),FALSE,TRUE)","v":true},0,{"$f":"+spaziIntermedi(PX877,25)-PZ877","v":0},false,0,null,0,0,null,null,null,0,0,0,0,0,null,null,0,0,{"$f":"IF((IF(restoZero(QQ877,25),(spaziIntermedi(QQ877,25))+1,spaziIntermedi(QQ877,25)))=(spaziIntermedi(QR877,25)),FALSE,TRUE)","v":true},0,{"$f":"+spaziIntermedi(QR877,25)-QT877","v":0},false,0,null,0,0,null,null,null,0,0,0,null,null,0,0,{"$f":"IF((IF(restoZero(RI877,25),(spaziIntermedi(RI877,25))+1,spaziIntermedi(RI877,25)))=(spaziIntermedi(RJ877,25)),FALSE,TRUE)","v":true},0,{"$f":"+spaziIntermedi(RJ877,25)-RL877","v":0},false,0,null,0,0,null,null,null,0,0,0,0,0,null,null,0,0,{"$f":"IF((IF(restoZero(SC877,25),(spaziIntermedi(SC877,25))+1,spaziIntermedi(SC877,25)))=(spaziIntermedi(SD877,25)),FALSE,TRUE)","v":true},0,{"$f":"+spaziIntermedi(SD877,25)-SF877","v":0},false,0,null,0,0,null,null,null,0,0,0,null,null,0,0,{"$f":"IF((IF(restoZero(SU877,25),(spaziIntermedi(SU877,25))+1,spaziIntermedi(SU877,25)))=(spaziIntermedi(SV877,25)),FALSE,TRUE)","v":true},0,{"$f":"+spaziIntermedi(SV877,25)-SX877","v":0},false,0,null,0,0,null,null,null,0,0,0,0,0]
[null,null,0,0,{"$f":"IF((IF(restoZero(C896,25),(spaziIntermedi(C896,25))+1,spaziIntermedi(C896,25)))=(spaziIntermedi(D896,25)),FALSE,TRUE)","v":true},0,{"$f":"+spaziIntermedi(D896,25)-F896","v":0},false,0,null,0,0,null,null,null,0,0,0,null,null,0,0,{"$f":"IF((IF(restoZero(U896,25),(spaziIntermedi(U896,25))+1,spaziIntermedi(U896,25)))=(spaziIntermedi(V896,25)),FALSE,TRUE)","v":true},0,{"$f":"+spaziIntermedi(V896,25)-X896","v":0},false,0,null,0,0,null,null,null,0,0,0,0,0,null,null,0,0,{"$f":"IF((IF(restoZero(AO896,25),(spaziIntermedi(AO896,25))+1,spaziIntermedi(AO896,25)))=(spaziIntermedi(AP896,25)),FALSE,TRUE)","v":true},0,{"$f":"+spaziIntermedi(AP896,25)-AR896","v":0},false,0,null,0,0,null,null,null,0,0,0,null,null,0,0,{"$f":"IF((IF(restoZero(BG896,25),(spaziIntermedi(BG896,25))+1,spaziIntermedi(BG896,25)))=(spaziIntermedi(BH896,25)),FALSE,TRUE)","v":true},0,{"$f":"+spaziIntermedi(BH896,25)-BJ896","v":0},false,0,null,0,0,null,null,null,0,0,0,0,0,null,null,0,0,{"$f":"IF((IF(restoZero(CA896,25),(spaziIntermedi(CA896,25))+1,spaziIntermedi(CA896,25)))=(spaziIntermedi(CB896,25)),FALSE,TRUE)","v":true},0,{"$f":"+spaziIntermedi(CB896,25)-CD896","v":0},false,0,null,0,0,null,null,null,0,0,0,null,null,0,0,{"$f":"IF((IF(restoZero(CS896,25),(spaziIntermedi(CS896,25))+1,spaziIntermedi(CS896,25)))=(spaziIntermedi(CT896,25)),FALSE,TRUE)","v":true},0,{"$f":"+spaziIntermedi(CT896,25)-CV896","v":0},false,0,null,0,0,null,null,null,0,0,0,0,0,null,null,0,0,{"$f":"IF((IF(restoZero(DM896,25),(spaziIntermedi(DM896,25))+1,spaziIntermedi(DM896,25)))=(spaziIntermedi(DN896,25)),FALSE,TRUE)","v":true},0,{"$f":"+spaziIntermedi(DN896,25)-DP896","v":0},false,0,null,0,0,null,null,null,0,0,0,null,null,0,0,{"$f":"IF((IF(restoZero(EE896,25),(spaziIntermedi(EE896,25))+1,spaziIntermedi(EE896,25)))=(spaziIntermedi(EF896,25)),FALSE,TRUE)","v":true},0,{"$f":"+spaziIntermedi(EF896,25)-EH896","v":0},false,0,null,0,0,null,null,null,0,0,0,0,0,null,null,0,0,{"$f":"IF((IF(restoZero(EY896,25),(spaziIntermedi(EY896,25))+1,spaziIntermedi(EY896,25)))=(spaziIntermedi(EZ896,25)),FALSE,TRUE)","v":true},0,{"$f":"+spaziIntermedi(EZ896,25)-FB896","v":0},false,0,null,0,0,null,null,null,0,0,0,null,null,0,0,{"$f":"IF((IF(restoZero(FQ896,25),(spaziIntermedi(FQ896,25))+1,spaziIntermedi(FQ896,25)))=(spaziIntermedi(FR896,25)),FALSE,TRUE)","v":true},0,{"$f":"+spaziIntermedi(FR896,25)-FT896","v":0},false,0,null,0,0,null,null,null,0,0,0,0,0,null,null,0,0,{"$f":"IF((IF(restoZero(GK896,25),(spaziIntermedi(GK896,25))+1,spaziIntermedi(GK896,25)))=(spaziIntermedi(GL896,25)),FALSE,TRUE)","v":true},0,{"$f":"+spaziIntermedi(GL896,25)-GN896","v":0},false,0,null,0,0,null,null,null,0,0,0,null,null,0,0,{"$f":"IF((IF(restoZero(HC896,25),(spaziIntermedi(HC896,25))+1,spaziIntermedi(HC896,25)))=(spaziIntermedi(HD896,25)),FALSE,TRUE)","v":true},0,{"$f":"+spaziIntermedi(HD896,25)-HF896","v":0},false,0,null,0,0,null,null,null,0,0,0,0,0,null,null,0,0,{"$f":"IF((IF(restoZero(HW896,25),(spaziIntermedi(HW896,25))+1,spaziIntermedi(HW896,25)))=(spaziIntermedi(HX896,25)),FALSE,TRUE)","v":true},0,{"$f":"+spaziIntermedi(HX896,25)-HZ896","v":0},false,0,null,0,0,null,null,null,0,0,0,null,null,0,0,{"$f":"IF((IF(restoZero(IO896,25),(spaziIntermedi(IO896,25))+1,spaziIntermedi(IO896,25)))=(spaziIntermedi(IP896,25)),FALSE,TRUE)","v":true},0,{"$f":"+spaziIntermedi(IP896,25)-IR896","v":0},false,0,null,0,0,null,null,null,0,0,0,0,0,null,null,0,0,{"$f":"IF((IF(restoZero(JI896,25),(spaziIntermedi(JI896,25))+1,spaziIntermedi(JI896,25)))=(spaziIntermedi(JJ896,25)),FALSE,TRUE)","v":true},0,{"$f":"+spaziIntermedi(JJ896,25)-JL896","v":0},false,0,null,0,0,null,null,null,0,0,0,null,null,0,0,{"$f":"IF((IF(restoZero(KA896,25),(spaziIntermedi(KA896,25))+1,spaziIntermedi(KA896,25)))=(spaziIntermedi(KB896,25)),FALSE,TRUE)","v":true},0,{"$f":"+spaziIntermedi(KB896,25)-KD896","v":0},false,0,null,0,0,null,null,null,0,0,0,0,0,null,null,0,0,{"$f":"IF((IF(restoZero(KU896,25),(spaziIntermedi(KU896,25))+1,spaziIntermedi(KU896,25)))=(spaziIntermedi(KV896,25)),FALSE,TRUE)","v":true},0,{"$f":"+spaziIntermedi(KV896,25)-KX896","v":0},false,0,null,0,0,null,null,null,0,0,0,null,null,0,0,{"$f":"IF((IF(restoZero(LM896,25),(spaziIntermedi(LM896,25))+1,spaziIntermedi(LM896,25)))=(spaziIntermedi(LN896,25)),FALSE,TRUE)","v":true},0,{"$f":"+spaziIntermedi(LN896,25)-LP896","v":0},false,0,null,0,0,null,null,null,0,0,0,0,0,null,null,0,0,{"$f":"IF((IF(restoZero(MG896,25),(spaziIntermedi(MG896,25))+1,spaziIntermedi(MG896,25)))=(spaziIntermedi(MH896,25)),FALSE,TRUE)","v":true},0,{"$f":"+spaziIntermedi(MH896,25)-MJ896","v":0},false,0,null,0,0,null,null,null,0,0,0,null,null,0,0,{"$f":"IF((IF(restoZero(MY896,25),(spaziIntermedi(MY896,25))+1,spaziIntermedi(MY896,25)))=(spaziIntermedi(MZ896,25)),FALSE,TRUE)","v":true},0,{"$f":"+spaziIntermedi(MZ896,25)-NB896","v":0},false,0,null,0,0,null,null,null,0,0,0,0,0,null,null,0,0,{"$f":"IF((IF(restoZero(NS896,25),(spaziIntermedi(NS896,25))+1,spaziIntermedi(NS896,25)))=(spaziIntermedi(NT896,25)),FALSE,TRUE)","v":true},0,{"$f":"+spaziIntermedi(NT896,25)-NV896","v":0},false,0,null,0,0,null,null,null,0,0,0,null,null,0,0,{"$f":"IF((IF(restoZero(OK896,25),(spaziIntermedi(OK896,25))+1,spaziIntermedi(OK896,25)))=(spaziIntermedi(OL896,25)),FALSE,TRUE)","v":true},0,{"$f":"+spaziIntermedi(OL896,25)-ON896","v":0},false,0,null,0,0,null,null,null,0,0,0,0,0,null,null,0,0,{"$f":"IF((IF(restoZero(PE896,25),(spaziIntermedi(PE896,25))+1,spaziIntermedi(PE896,25)))=(spaziIntermedi(PF896,25)),FALSE,TRUE)","v":true},0,{"$f":"+spaziIntermedi(PF896,25)-PH896","v":0},false,0,null,0,0,null,null,null,0,0,0,null,null,0,0,{"$f":"IF((IF(restoZero(PW896,25),(spaziIntermedi(PW896,25))+1,spaziIntermedi(PW896,25)))=(spaziIntermedi(PX896,25)),FALSE,TRUE)","v":true},0,{"$f":"+spaziIntermedi(PX896,25)-PZ896","v":0},false,0,null,0,0,null,null,null,0,0,0,0,0,null,null,0,0,{"$f":"IF((IF(restoZero(QQ896,25),(spaziIntermedi(QQ896,25))+1,spaziIntermedi(QQ896,25)))=(spaziIntermedi(QR896,25)),FALSE,TRUE)","v":true},0,{"$f":"+spaziIntermedi(QR896,25)-QT896","v":0},false,0,null,0,0,null,null,null,0,0,0,null,null,0,0,{"$f":"IF((IF(restoZero(RI896,25),(spaziIntermedi(RI896,25))+1,spaziIntermedi(RI896,25)))=(spaziIntermedi(RJ896,25)),FALSE,TRUE)","v":true},0,{"$f":"+spaziIntermedi(RJ896,25)-RL896","v":0},false,0,null,0,0,null,null,null,0,0,0,0,0,null,null,0,0,{"$f":"IF((IF(restoZero(SC896,25),(spaziIntermedi(SC896,25))+1,spaziIntermedi(SC896,25)))=(spaziIntermedi(SD896,25)),FALSE,TRUE)","v":true},0,{"$f":"+spaziIntermedi(SD896,25)-SF896","v":0},false,0,null,0,0,null,null,null,0,0,0,null,null,0,0,{"$f":"IF((IF(restoZero(SU896,25),(spaziIntermedi(SU896,25))+1,spaziIntermedi(SU896,25)))=(spaziIntermedi(SV896,25)),FALSE,TRUE)","v":true},0,{"$f":"+spaziIntermedi(SV896,25)-SX896","v":0},false,0,null,0,0,null,null,null,0,0,0,0,0]
[null,null,0,0,{"$f":"IF((IF(restoZero(C921,25),(spaziIntermedi(C921,25))+1,spaziIntermedi(C921,25)))=(spaziIntermedi(D921,25)),FALSE,TRUE)","v":true},0,{"$f":"+spaziIntermedi(D921,25)-F921","v":0},false,0,null,0,0,null,null,null,0,0,0,null,null,0,0,{"$f":"IF((IF(restoZero(U921,25),(spaziIntermedi(U921,25))+1,spaziIntermedi(U921,25)))=(spaziIntermedi(V921,25)),FALSE,TRUE)","v":true},0,{"$f":"+spaziIntermedi(V921,25)-X921","v":0},false,0,null,0,0,null,null,null,0,0,0,0,0,null,null,0,0,{"$f":"IF((IF(restoZero(AO921,25),(spaziIntermedi(AO921,25))+1,spaziIntermedi(AO921,25)))=(spaziIntermedi(AP921,25)),FALSE,TRUE)","v":true},0,{"$f":"+spaziIntermedi(AP921,25)-AR921","v":0},false,0,null,0,0,null,null,null,0,0,0,null,null,0,0,{"$f":"IF((IF(restoZero(BG921,25),(spaziIntermedi(BG921,25))+1,spaziIntermedi(BG921,25)))=(spaziIntermedi(BH921,25)),FALSE,TRUE)","v":true},0,{"$f":"+spaziIntermedi(BH921,25)-BJ921","v":0},false,0,null,0,0,null,null,null,0,0,0,0,0,null,null,0,0,{"$f":"IF((IF(restoZero(CA921,25),(spaziIntermedi(CA921,25))+1,spaziIntermedi(CA921,25)))=(spaziIntermedi(CB921,25)),FALSE,TRUE)","v":true},0,{"$f":"+spaziIntermedi(CB921,25)-CD921","v":0},false,0,null,0,0,null,null,null,0,0,0,null,null,0,0,{"$f":"IF((IF(restoZero(CS921,25),(spaziIntermedi(CS921,25))+1,spaziIntermedi(CS921,25)))=(spaziIntermedi(CT921,25)),FALSE,TRUE)","v":true},0,{"$f":"+spaziIntermedi(CT921,25)-CV921","v":0},false,0,null,0,0,null,null,null,0,0,0,0,0,null,null,0,0,{"$f":"IF((IF(restoZero(DM921,25),(spaziIntermedi(DM921,25))+1,spaziIntermedi(DM921,25)))=(spaziIntermedi(DN921,25)),FALSE,TRUE)","v":true},0,{"$f":"+spaziIntermedi(DN921,25)-DP921","v":0},false,0,null,0,0,null,null,null,0,0,0,null,null,0,0,{"$f":"IF((IF(restoZero(EE921,25),(spaziIntermedi(EE921,25))+1,spaziIntermedi(EE921,25)))=(spaziIntermedi(EF921,25)),FALSE,TRUE)","v":true},0,{"$f":"+spaziIntermedi(EF921,25)-EH921","v":0},false,0,null,0,0,null,null,null,0,0,0,0,0,null,null,0,0,{"$f":"IF((IF(restoZero(EY921,25),(spaziIntermedi(EY921,25))+1,spaziIntermedi(EY921,25)))=(spaziIntermedi(EZ921,25)),FALSE,TRUE)","v":true},0,{"$f":"+spaziIntermedi(EZ921,25)-FB921","v":0},false,0,null,0,0,null,null,null,0,0,0,null,null,0,0,{"$f":"IF((IF(restoZero(FQ921,25),(spaziIntermedi(FQ921,25))+1,spaziIntermedi(FQ921,25)))=(spaziIntermedi(FR921,25)),FALSE,TRUE)","v":true},0,{"$f":"+spaziIntermedi(FR921,25)-FT921","v":0},false,0,null,0,0,null,null,null,0,0,0,0,0,null,null,0,0,{"$f":"IF((IF(restoZero(GK921,25),(spaziIntermedi(GK921,25))+1,spaziIntermedi(GK921,25)))=(spaziIntermedi(GL921,25)),FALSE,TRUE)","v":true},0,{"$f":"+spaziIntermedi(GL921,25)-GN921","v":0},false,0,null,0,0,null,null,null,0,0,0,null,null,0,0,{"$f":"IF((IF(restoZero(HC921,25),(spaziIntermedi(HC921,25))+1,spaziIntermedi(HC921,25)))=(spaziIntermedi(HD921,25)),FALSE,TRUE)","v":true},0,{"$f":"+spaziIntermedi(HD921,25)-HF921","v":0},false,0,null,0,0,null,null,null,0,0,0,0,0,null,null,0,0,{"$f":"IF((IF(restoZero(HW921,25),(spaziIntermedi(HW921,25))+1,spaziIntermedi(HW921,25)))=(spaziIntermedi(HX921,25)),FALSE,TRUE)","v":true},0,{"$f":"+spaziIntermedi(HX921,25)-HZ921","v":0},false,0,null,0,0,null,null,null,0,0,0,null,null,0,0,{"$f":"IF((IF(restoZero(IO921,25),(spaziIntermedi(IO921,25))+1,spaziIntermedi(IO921,25)))=(spaziIntermedi(IP921,25)),FALSE,TRUE)","v":true},0,{"$f":"+spaziIntermedi(IP921,25)-IR921","v":0},false,0,null,0,0,null,null,null,0,0,0,0,0,null,null,0,0,{"$f":"IF((IF(restoZero(JI921,25),(spaziIntermedi(JI921,25))+1,spaziIntermedi(JI921,25)))=(spaziIntermedi(JJ921,25)),FALSE,TRUE)","v":true},0,{"$f":"+spaziIntermedi(JJ921,25)-JL921","v":0},false,0,null,0,0,null,null,null,0,0,0,null,null,0,0,{"$f":"IF((IF(restoZero(KA921,25),(spaziIntermedi(KA921,25))+1,spaziIntermedi(KA921,25)))=(spaziIntermedi(KB921,25)),FALSE,TRUE)","v":true},0,{"$f":"+spaziIntermedi(KB921,25)-KD921","v":0},false,0,null,0,0,null,null,null,0,0,0,0,0,null,null,0,0,{"$f":"IF((IF(restoZero(KU921,25),(spaziIntermedi(KU921,25))+1,spaziIntermedi(KU921,25)))=(spaziIntermedi(KV921,25)),FALSE,TRUE)","v":true},0,{"$f":"+spaziIntermedi(KV921,25)-KX921","v":0},false,0,null,0,0,null,null,null,0,0,0,null,null,0,0,{"$f":"IF((IF(restoZero(LM921,25),(spaziIntermedi(LM921,25))+1,spaziIntermedi(LM921,25)))=(spaziIntermedi(LN921,25)),FALSE,TRUE)","v":true},0,{"$f":"+spaziIntermedi(LN921,25)-LP921","v":0},false,0,null,0,0,null,null,null,0,0,0,0,0,null,null,0,0,{"$f":"IF((IF(restoZero(MG921,25),(spaziIntermedi(MG921,25))+1,spaziIntermedi(MG921,25)))=(spaziIntermedi(MH921,25)),FALSE,TRUE)","v":true},0,{"$f":"+spaziIntermedi(MH921,25)-MJ921","v":0},false,0,null,0,0,null,null,null,0,0,0,null,null,0,0,{"$f":"IF((IF(restoZero(MY921,25),(spaziIntermedi(MY921,25))+1,spaziIntermedi(MY921,25)))=(spaziIntermedi(MZ921,25)),FALSE,TRUE)","v":true},0,{"$f":"+spaziIntermedi(MZ921,25)-NB921","v":0},false,0,null,0,0,null,null,null,0,0,0,0,0,null,null,0,0,{"$f":"IF((IF(restoZero(NS921,25),(spaziIntermedi(NS921,25))+1,spaziIntermedi(NS921,25)))=(spaziIntermedi(NT921,25)),FALSE,TRUE)","v":true},0,{"$f":"+spaziIntermedi(NT921,25)-NV921","v":0},false,0,null,0,0,null,null,null,0,0,0,null,null,0,0,{"$f":"IF((IF(restoZero(OK921,25),(spaziIntermedi(OK921,25))+1,spaziIntermedi(OK921,25)))=(spaziIntermedi(OL921,25)),FALSE,TRUE)","v":true},0,{"$f":"+spaziIntermedi(OL921,25)-ON921","v":0},false,0,null,0,0,null,null,null,0,0,0,0,0,null,null,0,0,{"$f":"IF((IF(restoZero(PE921,25),(spaziIntermedi(PE921,25))+1,spaziIntermedi(PE921,25)))=(spaziIntermedi(PF921,25)),FALSE,TRUE)","v":true},0,{"$f":"+spaziIntermedi(PF921,25)-PH921","v":0},false,0,null,0,0,null,null,null,0,0,0,null,null,0,0,{"$f":"IF((IF(restoZero(PW921,25),(spaziIntermedi(PW921,25))+1,spaziIntermedi(PW921,25)))=(spaziIntermedi(PX921,25)),FALSE,TRUE)","v":true},0,{"$f":"+spaziIntermedi(PX921,25)-PZ921","v":0},false,0,null,0,0,null,null,null,0,0,0,0,0,null,null,0,0,{"$f":"IF((IF(restoZero(QQ921,25),(spaziIntermedi(QQ921,25))+1,spaziIntermedi(QQ921,25)))=(spaziIntermedi(QR921,25)),FALSE,TRUE)","v":true},0,{"$f":"+spaziIntermedi(QR921,25)-QT921","v":0},false,0,null,0,0,null,null,null,0,0,0,null,null,0,0,{"$f":"IF((IF(restoZero(RI921,25),(spaziIntermedi(RI921,25))+1,spaziIntermedi(RI921,25)))=(spaziIntermedi(RJ921,25)),FALSE,TRUE)","v":true},0,{"$f":"+spaziIntermedi(RJ921,25)-RL921","v":0},false,0,null,0,0,null,null,null,0,0,0,0,0,null,null,0,0,{"$f":"IF((IF(restoZero(SC921,25),(spaziIntermedi(SC921,25))+1,spaziIntermedi(SC921,25)))=(spaziIntermedi(SD921,25)),FALSE,TRUE)","v":true},0,{"$f":"+spaziIntermedi(SD921,25)-SF921","v":0},false,0,null,0,0,null,null,null,0,0,0,null,null,0,0,{"$f":"IF((IF(restoZero(SU921,25),(spaziIntermedi(SU921,25))+1,spaziIntermedi(SU921,25)))=(spaziIntermedi(SV921,25)),FALSE,TRUE)","v":true},0,{"$f":"+spaziIntermedi(SV921,25)-SX921","v":0},false,0,null,0,0,null,null,null,0,0,0,0,0]
[null,null,0,0,{"$f":"IF((IF(restoZero(C940,25),(spaziIntermedi(C940,25))+1,spaziIntermedi(C940,25)))=(spaziIntermedi(D940,25)),FALSE,TRUE)","v":true},0,{"$f":"+spaziIntermedi(D940,25)-F940","v":0},false,0,null,0,0,null,null,null,0,0,0,null,null,0,0,{"$f":"IF((IF(restoZero(U940,25),(spaziIntermedi(U940,25))+1,spaziIntermedi(U940,25)))=(spaziIntermedi(V940,25)),FALSE,TRUE)","v":true},0,{"$f":"+spaziIntermedi(V940,25)-X940","v":0},false,0,null,0,0,null,null,null,0,0,0,0,0,null,null,0,0,{"$f":"IF((IF(restoZero(AO940,25),(spaziIntermedi(AO940,25))+1,spaziIntermedi(AO940,25)))=(spaziIntermedi(AP940,25)),FALSE,TRUE)","v":true},0,{"$f":"+spaziIntermedi(AP940,25)-AR940","v":0},false,0,null,0,0,null,null,null,0,0,0,null,null,0,0,{"$f":"IF((IF(restoZero(BG940,25),(spaziIntermedi(BG940,25))+1,spaziIntermedi(BG940,25)))=(spaziIntermedi(BH940,25)),FALSE,TRUE)","v":true},0,{"$f":"+spaziIntermedi(BH940,25)-BJ940","v":0},false,0,null,0,0,null,null,null,0,0,0,0,0,null,null,0,0,{"$f":"IF((IF(restoZero(CA940,25),(spaziIntermedi(CA940,25))+1,spaziIntermedi(CA940,25)))=(spaziIntermedi(CB940,25)),FALSE,TRUE)","v":true},0,{"$f":"+spaziIntermedi(CB940,25)-CD940","v":0},false,0,null,0,0,null,null,null,0,0,0,null,null,0,0,{"$f":"IF((IF(restoZero(CS940,25),(spaziIntermedi(CS940,25))+1,spaziIntermedi(CS940,25)))=(spaziIntermedi(CT940,25)),FALSE,TRUE)","v":true},0,{"$f":"+spaziIntermedi(CT940,25)-CV940","v":0},false,0,null,0,0,null,null,null,0,0,0,0,0,null,null,0,0,{"$f":"IF((IF(restoZero(DM940,25),(spaziIntermedi(DM940,25))+1,spaziIntermedi(DM940,25)))=(spaziIntermedi(DN940,25)),FALSE,TRUE)","v":true},0,{"$f":"+spaziIntermedi(DN940,25)-DP940","v":0},false,0,null,0,0,null,null,null,0,0,0,null,null,0,0,{"$f":"IF((IF(restoZero(EE940,25),(spaziIntermedi(EE940,25))+1,spaziIntermedi(EE940,25)))=(spaziIntermedi(EF940,25)),FALSE,TRUE)","v":true},0,{"$f":"+spaziIntermedi(EF940,25)-EH940","v":0},false,0,null,0,0,null,null,null,0,0,0,0,0,null,null,0,0,{"$f":"IF((IF(restoZero(EY940,25),(spaziIntermedi(EY940,25))+1,spaziIntermedi(EY940,25)))=(spaziIntermedi(EZ940,25)),FALSE,TRUE)","v":true},0,{"$f":"+spaziIntermedi(EZ940,25)-FB940","v":0},false,0,null,0,0,null,null,null,0,0,0,null,null,0,0,{"$f":"IF((IF(restoZero(FQ940,25),(spaziIntermedi(FQ940,25))+1,spaziIntermedi(FQ940,25)))=(spaziIntermedi(FR940,25)),FALSE,TRUE)","v":true},0,{"$f":"+spaziIntermedi(FR940,25)-FT940","v":0},false,0,null,0,0,null,null,null,0,0,0,0,0,null,null,0,0,{"$f":"IF((IF(restoZero(GK940,25),(spaziIntermedi(GK940,25))+1,spaziIntermedi(GK940,25)))=(spaziIntermedi(GL940,25)),FALSE,TRUE)","v":true},0,{"$f":"+spaziIntermedi(GL940,25)-GN940","v":0},false,0,null,0,0,null,null,null,0,0,0,null,null,0,0,{"$f":"IF((IF(restoZero(HC940,25),(spaziIntermedi(HC940,25))+1,spaziIntermedi(HC940,25)))=(spaziIntermedi(HD940,25)),FALSE,TRUE)","v":true},0,{"$f":"+spaziIntermedi(HD940,25)-HF940","v":0},false,0,null,0,0,null,null,null,0,0,0,0,0,null,null,0,0,{"$f":"IF((IF(restoZero(HW940,25),(spaziIntermedi(HW940,25))+1,spaziIntermedi(HW940,25)))=(spaziIntermedi(HX940,25)),FALSE,TRUE)","v":true},0,{"$f":"+spaziIntermedi(HX940,25)-HZ940","v":0},false,0,null,0,0,null,null,null,0,0,0,null,null,0,0,{"$f":"IF((IF(restoZero(IO940,25),(spaziIntermedi(IO940,25))+1,spaziIntermedi(IO940,25)))=(spaziIntermedi(IP940,25)),FALSE,TRUE)","v":true},0,{"$f":"+spaziIntermedi(IP940,25)-IR940","v":0},false,0,null,0,0,null,null,null,0,0,0,0,0,null,null,0,0,{"$f":"IF((IF(restoZero(JI940,25),(spaziIntermedi(JI940,25))+1,spaziIntermedi(JI940,25)))=(spaziIntermedi(JJ940,25)),FALSE,TRUE)","v":true},0,{"$f":"+spaziIntermedi(JJ940,25)-JL940","v":0},false,0,null,0,0,null,null,null,0,0,0,null,null,0,0,{"$f":"IF((IF(restoZero(KA940,25),(spaziIntermedi(KA940,25))+1,spaziIntermedi(KA940,25)))=(spaziIntermedi(KB940,25)),FALSE,TRUE)","v":true},0,{"$f":"+spaziIntermedi(KB940,25)-KD940","v":0},false,0,null,0,0,null,null,null,0,0,0,0,0,null,null,0,0,{"$f":"IF((IF(restoZero(KU940,25),(spaziIntermedi(KU940,25))+1,spaziIntermedi(KU940,25)))=(spaziIntermedi(KV940,25)),FALSE,TRUE)","v":true},0,{"$f":"+spaziIntermedi(KV940,25)-KX940","v":0},false,0,null,0,0,null,null,null,0,0,0,null,null,0,0,{"$f":"IF((IF(restoZero(LM940,25),(spaziIntermedi(LM940,25))+1,spaziIntermedi(LM940,25)))=(spaziIntermedi(LN940,25)),FALSE,TRUE)","v":true},0,{"$f":"+spaziIntermedi(LN940,25)-LP940","v":0},false,0,null,0,0,null,null,null,0,0,0,0,0,null,null,0,0,{"$f":"IF((IF(restoZero(MG940,25),(spaziIntermedi(MG940,25))+1,spaziIntermedi(MG940,25)))=(spaziIntermedi(MH940,25)),FALSE,TRUE)","v":true},0,{"$f":"+spaziIntermedi(MH940,25)-MJ940","v":0},false,0,null,0,0,null,null,null,0,0,0,null,null,0,0,{"$f":"IF((IF(restoZero(MY940,25),(spaziIntermedi(MY940,25))+1,spaziIntermedi(MY940,25)))=(spaziIntermedi(MZ940,25)),FALSE,TRUE)","v":true},0,{"$f":"+spaziIntermedi(MZ940,25)-NB940","v":0},false,0,null,0,0,null,null,null,0,0,0,0,0,null,null,0,0,{"$f":"IF((IF(restoZero(NS940,25),(spaziIntermedi(NS940,25))+1,spaziIntermedi(NS940,25)))=(spaziIntermedi(NT940,25)),FALSE,TRUE)","v":true},0,{"$f":"+spaziIntermedi(NT940,25)-NV940","v":0},false,0,null,0,0,null,null,null,0,0,0,null,null,0,0,{"$f":"IF((IF(restoZero(OK940,25),(spaziIntermedi(OK940,25))+1,spaziIntermedi(OK940,25)))=(spaziIntermedi(OL940,25)),FALSE,TRUE)","v":true},0,{"$f":"+spaziIntermedi(OL940,25)-ON940","v":0},false,0,null,0,0,null,null,null,0,0,0,0,0,null,null,0,0,{"$f":"IF((IF(restoZero(PE940,25),(spaziIntermedi(PE940,25))+1,spaziIntermedi(PE940,25)))=(spaziIntermedi(PF940,25)),FALSE,TRUE)","v":true},0,{"$f":"+spaziIntermedi(PF940,25)-PH940","v":0},false,0,null,0,0,null,null,null,0,0,0,null,null,0,0,{"$f":"IF((IF(restoZero(PW940,25),(spaziIntermedi(PW940,25))+1,spaziIntermedi(PW940,25)))=(spaziIntermedi(PX940,25)),FALSE,TRUE)","v":true},0,{"$f":"+spaziIntermedi(PX940,25)-PZ940","v":0},false,0,null,0,0,null,null,null,0,0,0,0,0,null,null,0,0,{"$f":"IF((IF(restoZero(QQ940,25),(spaziIntermedi(QQ940,25))+1,spaziIntermedi(QQ940,25)))=(spaziIntermedi(QR940,25)),FALSE,TRUE)","v":true},0,{"$f":"+spaziIntermedi(QR940,25)-QT940","v":0},false,0,null,0,0,null,null,null,0,0,0,null,null,0,0,{"$f":"IF((IF(restoZero(RI940,25),(spaziIntermedi(RI940,25))+1,spaziIntermedi(RI940,25)))=(spaziIntermedi(RJ940,25)),FALSE,TRUE)","v":true},0,{"$f":"+spaziIntermedi(RJ940,25)-RL940","v":0},false,0,null,0,0,null,null,null,0,0,0,0,0,null,null,0,0,{"$f":"IF((IF(restoZero(SC940,25),(spaziIntermedi(SC940,25))+1,spaziIntermedi(SC940,25)))=(spaziIntermedi(SD940,25)),FALSE,TRUE)","v":true},0,{"$f":"+spaziIntermedi(SD940,25)-SF940","v":0},false,0,null,0,0,null,null,null,0,0,0,null,null,0,0,{"$f":"IF((IF(restoZero(SU940,25),(spaziIntermedi(SU940,25))+1,spaziIntermedi(SU940,25)))=(spaziIntermedi(SV940,25)),FALSE,TRUE)","v":true},0,{"$f":"+spaziIntermedi(SV940,25)-SX940","v":0},false,0,null,0,0,null,null,null,0,0,0,0,0]
[null,null,0,0,{"$f":"IF((IF(restoZero(C959,25),(spaziIntermedi(C959,25))+1,spaziIntermedi(C959,25)))=(spaziIntermedi(D959,25)),FALSE,TRUE)","v":true},0,{"$f":"+spaziIntermedi(D959,25)-F959","v":0},false,0,null,0,0,null,null,null,0,0,0,null,null,0,0,{"$f":"IF((IF(restoZero(U959,25),(spaziIntermedi(U959,25))+1,spaziIntermedi(U959,25)))=(spaziIntermedi(V959,25)),FALSE,TRUE)","v":true},0,{"$f":"+spaziIntermedi(V959,25)-X959","v":0},false,0,null,0,0,null,null,null,0,0,0,0,0,null,null,0,0,{"$f":"IF((IF(restoZero(AO959,25),(spaziIntermedi(AO959,25))+1,spaziIntermedi(AO959,25)))=(spaziIntermedi(AP959,25)),FALSE,TRUE)","v":true},0,{"$f":"+spaziIntermedi(AP959,25)-AR959","v":0},false,0,null,0,0,null,null,null,0,0,0,null,null,0,0,{"$f":"IF((IF(restoZero(BG959,25),(spaziIntermedi(BG959,25))+1,spaziIntermedi(BG959,25)))=(spaziIntermedi(BH959,25)),FALSE,TRUE)","v":true},0,{"$f":"+spaziIntermedi(BH959,25)-BJ959","v":0},false,0,null,0,0,null,null,null,0,0,0,0,0,null,null,0,0,{"$f":"IF((IF(restoZero(CA959,25),(spaziIntermedi(CA959,25))+1,spaziIntermedi(CA959,25)))=(spaziIntermedi(CB959,25)),FALSE,TRUE)","v":true},0,{"$f":"+spaziIntermedi(CB959,25)-CD959","v":0},false,0,null,0,0,null,null,null,0,0,0,null,null,0,0,{"$f":"IF((IF(restoZero(CS959,25),(spaziIntermedi(CS959,25))+1,spaziIntermedi(CS959,25)))=(spaziIntermedi(CT959,25)),FALSE,TRUE)","v":true},0,{"$f":"+spaziIntermedi(CT959,25)-CV959","v":0},false,0,null,0,0,null,null,null,0,0,0,0,0,null,null,0,0,{"$f":"IF((IF(restoZero(DM959,25),(spaziIntermedi(DM959,25))+1,spaziIntermedi(DM959,25)))=(spaziIntermedi(DN959,25)),FALSE,TRUE)","v":true},0,{"$f":"+spaziIntermedi(DN959,25)-DP959","v":0},false,0,null,0,0,null,null,null,0,0,0,null,null,0,0,{"$f":"IF((IF(restoZero(EE959,25),(spaziIntermedi(EE959,25))+1,spaziIntermedi(EE959,25)))=(spaziIntermedi(EF959,25)),FALSE,TRUE)","v":true},0,{"$f":"+spaziIntermedi(EF959,25)-EH959","v":0},false,0,null,0,0,null,null,null,0,0,0,0,0,null,null,0,0,{"$f":"IF((IF(restoZero(EY959,25),(spaziIntermedi(EY959,25))+1,spaziIntermedi(EY959,25)))=(spaziIntermedi(EZ959,25)),FALSE,TRUE)","v":true},0,{"$f":"+spaziIntermedi(EZ959,25)-FB959","v":0},false,0,null,0,0,null,null,null,0,0,0,null,null,0,0,{"$f":"IF((IF(restoZero(FQ959,25),(spaziIntermedi(FQ959,25))+1,spaziIntermedi(FQ959,25)))=(spaziIntermedi(FR959,25)),FALSE,TRUE)","v":true},0,{"$f":"+spaziIntermedi(FR959,25)-FT959","v":0},false,0,null,0,0,null,null,null,0,0,0,0,0,null,null,0,0,{"$f":"IF((IF(restoZero(GK959,25),(spaziIntermedi(GK959,25))+1,spaziIntermedi(GK959,25)))=(spaziIntermedi(GL959,25)),FALSE,TRUE)","v":true},0,{"$f":"+spaziIntermedi(GL959,25)-GN959","v":0},false,0,null,0,0,null,null,null,0,0,0,null,null,0,0,{"$f":"IF((IF(restoZero(HC959,25),(spaziIntermedi(HC959,25))+1,spaziIntermedi(HC959,25)))=(spaziIntermedi(HD959,25)),FALSE,TRUE)","v":true},0,{"$f":"+spaziIntermedi(HD959,25)-HF959","v":0},false,0,null,0,0,null,null,null,0,0,0,0,0,null,null,0,0,{"$f":"IF((IF(restoZero(HW959,25),(spaziIntermedi(HW959,25))+1,spaziIntermedi(HW959,25)))=(spaziIntermedi(HX959,25)),FALSE,TRUE)","v":true},0,{"$f":"+spaziIntermedi(HX959,25)-HZ959","v":0},false,0,null,0,0,null,null,null,0,0,0,null,null,0,0,{"$f":"IF((IF(restoZero(IO959,25),(spaziIntermedi(IO959,25))+1,spaziIntermedi(IO959,25)))=(spaziIntermedi(IP959,25)),FALSE,TRUE)","v":true},0,{"$f":"+spaziIntermedi(IP959,25)-IR959","v":0},false,0,null,0,0,null,null,null,0,0,0,0,0,null,null,0,0,{"$f":"IF((IF(restoZero(JI959,25),(spaziIntermedi(JI959,25))+1,spaziIntermedi(JI959,25)))=(spaziIntermedi(JJ959,25)),FALSE,TRUE)","v":true},0,{"$f":"+spaziIntermedi(JJ959,25)-JL959","v":0},false,0,null,0,0,null,null,null,0,0,0,null,null,0,0,{"$f":"IF((IF(restoZero(KA959,25),(spaziIntermedi(KA959,25))+1,spaziIntermedi(KA959,25)))=(spaziIntermedi(KB959,25)),FALSE,TRUE)","v":true},0,{"$f":"+spaziIntermedi(KB959,25)-KD959","v":0},false,0,null,0,0,null,null,null,0,0,0,0,0,null,null,0,0,{"$f":"IF((IF(restoZero(KU959,25),(spaziIntermedi(KU959,25))+1,spaziIntermedi(KU959,25)))=(spaziIntermedi(KV959,25)),FALSE,TRUE)","v":true},0,{"$f":"+spaziIntermedi(KV959,25)-KX959","v":0},false,0,null,0,0,null,null,null,0,0,0,null,null,0,0,{"$f":"IF((IF(restoZero(LM959,25),(spaziIntermedi(LM959,25))+1,spaziIntermedi(LM959,25)))=(spaziIntermedi(LN959,25)),FALSE,TRUE)","v":true},0,{"$f":"+spaziIntermedi(LN959,25)-LP959","v":0},false,0,null,0,0,null,null,null,0,0,0,0,0,null,null,0,0,{"$f":"IF((IF(restoZero(MG959,25),(spaziIntermedi(MG959,25))+1,spaziIntermedi(MG959,25)))=(spaziIntermedi(MH959,25)),FALSE,TRUE)","v":true},0,{"$f":"+spaziIntermedi(MH959,25)-MJ959","v":0},false,0,null,0,0,null,null,null,0,0,0,null,null,0,0,{"$f":"IF((IF(restoZero(MY959,25),(spaziIntermedi(MY959,25))+1,spaziIntermedi(MY959,25)))=(spaziIntermedi(MZ959,25)),FALSE,TRUE)","v":true},0,{"$f":"+spaziIntermedi(MZ959,25)-NB959","v":0},false,0,null,0,0,null,null,null,0,0,0,0,0,null,null,0,0,{"$f":"IF((IF(restoZero(NS959,25),(spaziIntermedi(NS959,25))+1,spaziIntermedi(NS959,25)))=(spaziIntermedi(NT959,25)),FALSE,TRUE)","v":true},0,{"$f":"+spaziIntermedi(NT959,25)-NV959","v":0},false,0,null,0,0,null,null,null,0,0,0,null,null,0,0,{"$f":"IF((IF(restoZero(OK959,25),(spaziIntermedi(OK959,25))+1,spaziIntermedi(OK959,25)))=(spaziIntermedi(OL959,25)),FALSE,TRUE)","v":true},0,{"$f":"+spaziIntermedi(OL959,25)-ON959","v":0},false,0,null,0,0,null,null,null,0,0,0,0,0,null,null,0,0,{"$f":"IF((IF(restoZero(PE959,25),(spaziIntermedi(PE959,25))+1,spaziIntermedi(PE959,25)))=(spaziIntermedi(PF959,25)),FALSE,TRUE)","v":true},0,{"$f":"+spaziIntermedi(PF959,25)-PH959","v":0},false,0,null,0,0,null,null,null,0,0,0,null,null,0,0,{"$f":"IF((IF(restoZero(PW959,25),(spaziIntermedi(PW959,25))+1,spaziIntermedi(PW959,25)))=(spaziIntermedi(PX959,25)),FALSE,TRUE)","v":true},0,{"$f":"+spaziIntermedi(PX959,25)-PZ959","v":0},false,0,null,0,0,null,null,null,0,0,0,0,0,null,null,0,0,{"$f":"IF((IF(restoZero(QQ959,25),(spaziIntermedi(QQ959,25))+1,spaziIntermedi(QQ959,25)))=(spaziIntermedi(QR959,25)),FALSE,TRUE)","v":true},0,{"$f":"+spaziIntermedi(QR959,25)-QT959","v":0},false,0,null,0,0,null,null,null,0,0,0,null,null,0,0,{"$f":"IF((IF(restoZero(RI959,25),(spaziIntermedi(RI959,25))+1,spaziIntermedi(RI959,25)))=(spaziIntermedi(RJ959,25)),FALSE,TRUE)","v":true},0,{"$f":"+spaziIntermedi(RJ959,25)-RL959","v":0},false,0,null,0,0,null,null,null,0,0,0,0,0,null,null,0,0,{"$f":"IF((IF(restoZero(SC959,25),(spaziIntermedi(SC959,25))+1,spaziIntermedi(SC959,25)))=(spaziIntermedi(SD959,25)),FALSE,TRUE)","v":true},0,{"$f":"+spaziIntermedi(SD959,25)-SF959","v":0},false,0,null,0,0,null,null,null,0,0,0,null,null,0,0,{"$f":"IF((IF(restoZero(SU959,25),(spaziIntermedi(SU959,25))+1,spaziIntermedi(SU959,25)))=(spaziIntermedi(SV959,25)),FALSE,TRUE)","v":true},0,{"$f":"+spaziIntermedi(SV959,25)-SX959","v":0},false,0,null,0,0,null,null,null,0,0,0,0,0]
[null,null,0,0,{"$f":"IF((IF(restoZero(C984,25),(spaziIntermedi(C984,25))+1,spaziIntermedi(C984,25)))=(spaziIntermedi(D984,25)),FALSE,TRUE)","v":true},0,{"$f":"+spaziIntermedi(D984,25)-F984","v":0},false,0,null,0,0,null,null,null,0,0,0,null,null,0,0,{"$f":"IF((IF(restoZero(U984,25),(spaziIntermedi(U984,25))+1,spaziIntermedi(U984,25)))=(spaziIntermedi(V984,25)),FALSE,TRUE)","v":true},0,{"$f":"+spaziIntermedi(V984,25)-X984","v":0},false,0,null,0,0,null,null,null,0,0,0,0,0,null,null,0,0,{"$f":"IF((IF(restoZero(AO984,25),(spaziIntermedi(AO984,25))+1,spaziIntermedi(AO984,25)))=(spaziIntermedi(AP984,25)),FALSE,TRUE)","v":true},0,{"$f":"+spaziIntermedi(AP984,25)-AR984","v":0},false,0,null,0,0,null,null,null,0,0,0,null,null,0,0,{"$f":"IF((IF(restoZero(BG984,25),(spaziIntermedi(BG984,25))+1,spaziIntermedi(BG984,25)))=(spaziIntermedi(BH984,25)),FALSE,TRUE)","v":true},0,{"$f":"+spaziIntermedi(BH984,25)-BJ984","v":0},false,0,null,0,0,null,null,null,0,0,0,0,0,null,null,0,0,{"$f":"IF((IF(restoZero(CA984,25),(spaziIntermedi(CA984,25))+1,spaziIntermedi(CA984,25)))=(spaziIntermedi(CB984,25)),FALSE,TRUE)","v":true},0,{"$f":"+spaziIntermedi(CB984,25)-CD984","v":0},false,0,null,0,0,null,null,null,0,0,0,null,null,0,0,{"$f":"IF((IF(restoZero(CS984,25),(spaziIntermedi(CS984,25))+1,spaziIntermedi(CS984,25)))=(spaziIntermedi(CT984,25)),FALSE,TRUE)","v":true},0,{"$f":"+spaziIntermedi(CT984,25)-CV984","v":0},false,0,null,0,0,null,null,null,0,0,0,0,0,null,null,0,0,{"$f":"IF((IF(restoZero(DM984,25),(spaziIntermedi(DM984,25))+1,spaziIntermedi(DM984,25)))=(spaziIntermedi(DN984,25)),FALSE,TRUE)","v":true},0,{"$f":"+spaziIntermedi(DN984,25)-DP984","v":0},false,0,null,0,0,null,null,null,0,0,0,null,null,0,0,{"$f":"IF((IF(restoZero(EE984,25),(spaziIntermedi(EE984,25))+1,spaziIntermedi(EE984,25)))=(spaziIntermedi(EF984,25)),FALSE,TRUE)","v":true},0,{"$f":"+spaziIntermedi(EF984,25)-EH984","v":0},false,0,null,0,0,null,null,null,0,0,0,0,0,null,null,0,0,{"$f":"IF((IF(restoZero(EY984,25),(spaziIntermedi(EY984,25))+1,spaziIntermedi(EY984,25)))=(spaziIntermedi(EZ984,25)),FALSE,TRUE)","v":true},0,{"$f":"+spaziIntermedi(EZ984,25)-FB984","v":0},false,0,null,0,0,null,null,null,0,0,0,null,null,0,0,{"$f":"IF((IF(restoZero(FQ984,25),(spaziIntermedi(FQ984,25))+1,spaziIntermedi(FQ984,25)))=(spaziIntermedi(FR984,25)),FALSE,TRUE)","v":true},0,{"$f":"+spaziIntermedi(FR984,25)-FT984","v":0},false,0,null,0,0,null,null,null,0,0,0,0,0,null,null,0,0,{"$f":"IF((IF(restoZero(GK984,25),(spaziIntermedi(GK984,25))+1,spaziIntermedi(GK984,25)))=(spaziIntermedi(GL984,25)),FALSE,TRUE)","v":true},0,{"$f":"+spaziIntermedi(GL984,25)-GN984","v":0},false,0,null,0,0,null,null,null,0,0,0,null,null,0,0,{"$f":"IF((IF(restoZero(HC984,25),(spaziIntermedi(HC984,25))+1,spaziIntermedi(HC984,25)))=(spaziIntermedi(HD984,25)),FALSE,TRUE)","v":true},0,{"$f":"+spaziIntermedi(HD984,25)-HF984","v":0},false,0,null,0,0,null,null,null,0,0,0,0,0,null,null,0,0,{"$f":"IF((IF(restoZero(HW984,25),(spaziIntermedi(HW984,25))+1,spaziIntermedi(HW984,25)))=(spaziIntermedi(HX984,25)),FALSE,TRUE)","v":true},0,{"$f":"+spaziIntermedi(HX984,25)-HZ984","v":0},false,0,null,0,0,null,null,null,0,0,0,null,null,0,0,{"$f":"IF((IF(restoZero(IO984,25),(spaziIntermedi(IO984,25))+1,spaziIntermedi(IO984,25)))=(spaziIntermedi(IP984,25)),FALSE,TRUE)","v":true},0,{"$f":"+spaziIntermedi(IP984,25)-IR984","v":0},false,0,null,0,0,null,null,null,0,0,0,0,0,null,null,0,0,{"$f":"IF((IF(restoZero(JI984,25),(spaziIntermedi(JI984,25))+1,spaziIntermedi(JI984,25)))=(spaziIntermedi(JJ984,25)),FALSE,TRUE)","v":true},0,{"$f":"+spaziIntermedi(JJ984,25)-JL984","v":0},false,0,null,0,0,null,null,null,0,0,0,null,null,0,0,{"$f":"IF((IF(restoZero(KA984,25),(spaziIntermedi(KA984,25))+1,spaziIntermedi(KA984,25)))=(spaziIntermedi(KB984,25)),FALSE,TRUE)","v":true},0,{"$f":"+spaziIntermedi(KB984,25)-KD984","v":0},false,0,null,0,0,null,null,null,0,0,0,0,0,null,null,0,0,{"$f":"IF((IF(restoZero(KU984,25),(spaziIntermedi(KU984,25))+1,spaziIntermedi(KU984,25)))=(spaziIntermedi(KV984,25)),FALSE,TRUE)","v":true},0,{"$f":"+spaziIntermedi(KV984,25)-KX984","v":0},false,0,null,0,0,null,null,null,0,0,0,null,null,0,0,{"$f":"IF((IF(restoZero(LM984,25),(spaziIntermedi(LM984,25))+1,spaziIntermedi(LM984,25)))=(spaziIntermedi(LN984,25)),FALSE,TRUE)","v":true},0,{"$f":"+spaziIntermedi(LN984,25)-LP984","v":0},false,0,null,0,0,null,null,null,0,0,0,0,0,null,null,0,0,{"$f":"IF((IF(restoZero(MG984,25),(spaziIntermedi(MG984,25))+1,spaziIntermedi(MG984,25)))=(spaziIntermedi(MH984,25)),FALSE,TRUE)","v":true},0,{"$f":"+spaziIntermedi(MH984,25)-MJ984","v":0},false,0,null,0,0,null,null,null,0,0,0,null,null,0,0,{"$f":"IF((IF(restoZero(MY984,25),(spaziIntermedi(MY984,25))+1,spaziIntermedi(MY984,25)))=(spaziIntermedi(MZ984,25)),FALSE,TRUE)","v":true},0,{"$f":"+spaziIntermedi(MZ984,25)-NB984","v":0},false,0,null,0,0,null,null,null,0,0,0,0,0,null,null,0,0,{"$f":"IF((IF(restoZero(NS984,25),(spaziIntermedi(NS984,25))+1,spaziIntermedi(NS984,25)))=(spaziIntermedi(NT984,25)),FALSE,TRUE)","v":true},0,{"$f":"+spaziIntermedi(NT984,25)-NV984","v":0},false,0,null,0,0,null,null,null,0,0,0,null,null,0,0,{"$f":"IF((IF(restoZero(OK984,25),(spaziIntermedi(OK984,25))+1,spaziIntermedi(OK984,25)))=(spaziIntermedi(OL984,25)),FALSE,TRUE)","v":true},0,{"$f":"+spaziIntermedi(OL984,25)-ON984","v":0},false,0,null,0,0,null,null,null,0,0,0,0,0,null,null,0,0,{"$f":"IF((IF(restoZero(PE984,25),(spaziIntermedi(PE984,25))+1,spaziIntermedi(PE984,25)))=(spaziIntermedi(PF984,25)),FALSE,TRUE)","v":true},0,{"$f":"+spaziIntermedi(PF984,25)-PH984","v":0},false,0,null,0,0,null,null,null,0,0,0,null,null,0,0,{"$f":"IF((IF(restoZero(PW984,25),(spaziIntermedi(PW984,25))+1,spaziIntermedi(PW984,25)))=(spaziIntermedi(PX984,25)),FALSE,TRUE)","v":true},0,{"$f":"+spaziIntermedi(PX984,25)-PZ984","v":0},false,0,null,0,0,null,null,null,0,0,0,0,0,null,null,0,0,{"$f":"IF((IF(restoZero(QQ984,25),(spaziIntermedi(QQ984,25))+1,spaziIntermedi(QQ984,25)))=(spaziIntermedi(QR984,25)),FALSE,TRUE)","v":true},0,{"$f":"+spaziIntermedi(QR984,25)-QT984","v":0},false,0,null,0,0,null,null,null,0,0,0,null,null,0,0,{"$f":"IF((IF(restoZero(RI984,25),(spaziIntermedi(RI984,25))+1,spaziIntermedi(RI984,25)))=(spaziIntermedi(RJ984,25)),FALSE,TRUE)","v":true},0,{"$f":"+spaziIntermedi(RJ984,25)-RL984","v":0},false,0,null,0,0,null,null,null,0,0,0,0,0,null,null,0,0,{"$f":"IF((IF(restoZero(SC984,25),(spaziIntermedi(SC984,25))+1,spaziIntermedi(SC984,25)))=(spaziIntermedi(SD984,25)),FALSE,TRUE)","v":true},0,{"$f":"+spaziIntermedi(SD984,25)-SF984","v":0},false,0,null,0,0,null,null,null,0,0,0,null,null,0,0,{"$f":"IF((IF(restoZero(SU984,25),(spaziIntermedi(SU984,25))+1,spaziIntermedi(SU984,25)))=(spaziIntermedi(SV984,25)),FALSE,TRUE)","v":true},0,{"$f":"+spaziIntermedi(SV984,25)-SX984","v":0},false,0,null,0,0,null,null,null,0,0,0,0,0]
[null,null,0,0,{"$f":"IF((IF(restoZero(C1003,25),(spaziIntermedi(C1003,25))+1,spaziIntermedi(C1003,25)))=(spaziIntermedi(D1003,25)),FALSE,TRUE)","v":true},0,{"$f":"+spaziIntermedi(D1003,25)-F1003","v":0},false,0,null,0,0,null,null,null,0,0,0,null,null,0,0,{"$f":"IF((IF(restoZero(U1003,25),(spaziIntermedi(U1003,25))+1,spaziIntermedi(U1003,25)))=(spaziIntermedi(V1003,25)),FALSE,TRUE)","v":true},0,{"$f":"+spaziIntermedi(V1003,25)-X1003","v":0},false,0,null,0,0,null,null,null,0,0,0,0,0,null,null,0,0,{"$f":"IF((IF(restoZero(AO1003,25),(spaziIntermedi(AO1003,25))+1,spaziIntermedi(AO1003,25)))=(spaziIntermedi(AP1003,25)),FALSE,TRUE)","v":true},0,{"$f":"+spaziIntermedi(AP1003,25)-AR1003","v":0},false,0,null,0,0,null,null,null,0,0,0,null,null,0,0,{"$f":"IF((IF(restoZero(BG1003,25),(spaziIntermedi(BG1003,25))+1,spaziIntermedi(BG1003,25)))=(spaziIntermedi(BH1003,25)),FALSE,TRUE)","v":true},0,{"$f":"+spaziIntermedi(BH1003,25)-BJ1003","v":0},false,0,null,0,0,null,null,null,0,0,0,0,0,null,null,0,0,{"$f":"IF((IF(restoZero(CA1003,25),(spaziIntermedi(CA1003,25))+1,spaziIntermedi(CA1003,25)))=(spaziIntermedi(CB1003,25)),FALSE,TRUE)","v":true},0,{"$f":"+spaziIntermedi(CB1003,25)-CD1003","v":0},false,0,null,0,0,null,null,null,0,0,0,null,null,0,0,{"$f":"IF((IF(restoZero(CS1003,25),(spaziIntermedi(CS1003,25))+1,spaziIntermedi(CS1003,25)))=(spaziIntermedi(CT1003,25)),FALSE,TRUE)","v":true},0,{"$f":"+spaziIntermedi(CT1003,25)-CV1003","v":0},false,0,null,0,0,null,null,null,0,0,0,0,0,null,null,0,0,{"$f":"IF((IF(restoZero(DM1003,25),(spaziIntermedi(DM1003,25))+1,spaziIntermedi(DM1003,25)))=(spaziIntermedi(DN1003,25)),FALSE,TRUE)","v":true},0,{"$f":"+spaziIntermedi(DN1003,25)-DP1003","v":0},false,0,null,0,0,null,null,null,0,0,0,null,null,0,0,{"$f":"IF((IF(restoZero(EE1003,25),(spaziIntermedi(EE1003,25))+1,spaziIntermedi(EE1003,25)))=(spaziIntermedi(EF1003,25)),FALSE,TRUE)","v":true},0,{"$f":"+spaziIntermedi(EF1003,25)-EH1003","v":0},false,0,null,0,0,null,null,null,0,0,0,0,0,null,null,0,0,{"$f":"IF((IF(restoZero(EY1003,25),(spaziIntermedi(EY1003,25))+1,spaziIntermedi(EY1003,25)))=(spaziIntermedi(EZ1003,25)),FALSE,TRUE)","v":true},0,{"$f":"+spaziIntermedi(EZ1003,25)-FB1003","v":0},false,0,null,0,0,null,null,null,0,0,0,null,null,0,0,{"$f":"IF((IF(restoZero(FQ1003,25),(spaziIntermedi(FQ1003,25))+1,spaziIntermedi(FQ1003,25)))=(spaziIntermedi(FR1003,25)),FALSE,TRUE)","v":true},0,{"$f":"+spaziIntermedi(FR1003,25)-FT1003","v":0},false,0,null,0,0,null,null,null,0,0,0,0,0,null,null,0,0,{"$f":"IF((IF(restoZero(GK1003,25),(spaziIntermedi(GK1003,25))+1,spaziIntermedi(GK1003,25)))=(spaziIntermedi(GL1003,25)),FALSE,TRUE)","v":true},0,{"$f":"+spaziIntermedi(GL1003,25)-GN1003","v":0},false,0,null,0,0,null,null,null,0,0,0,null,null,0,0,{"$f":"IF((IF(restoZero(HC1003,25),(spaziIntermedi(HC1003,25))+1,spaziIntermedi(HC1003,25)))=(spaziIntermedi(HD1003,25)),FALSE,TRUE)","v":true},0,{"$f":"+spaziIntermedi(HD1003,25)-HF1003","v":0},false,0,null,0,0,null,null,null,0,0,0,0,0,null,null,0,0,{"$f":"IF((IF(restoZero(HW1003,25),(spaziIntermedi(HW1003,25))+1,spaziIntermedi(HW1003,25)))=(spaziIntermedi(HX1003,25)),FALSE,TRUE)","v":true},0,{"$f":"+spaziIntermedi(HX1003,25)-HZ1003","v":0},false,0,null,0,0,null,null,null,0,0,0,null,null,0,0,{"$f":"IF((IF(restoZero(IO1003,25),(spaziIntermedi(IO1003,25))+1,spaziIntermedi(IO1003,25)))=(spaziIntermedi(IP1003,25)),FALSE,TRUE)","v":true},0,{"$f":"+spaziIntermedi(IP1003,25)-IR1003","v":0},false,0,null,0,0,null,null,null,0,0,0,0,0,null,null,0,0,{"$f":"IF((IF(restoZero(JI1003,25),(spaziIntermedi(JI1003,25))+1,spaziIntermedi(JI1003,25)))=(spaziIntermedi(JJ1003,25)),FALSE,TRUE)","v":true},0,{"$f":"+spaziIntermedi(JJ1003,25)-JL1003","v":0},false,0,null,0,0,null,null,null,0,0,0,null,null,0,0,{"$f":"IF((IF(restoZero(KA1003,25),(spaziIntermedi(KA1003,25))+1,spaziIntermedi(KA1003,25)))=(spaziIntermedi(KB1003,25)),FALSE,TRUE)","v":true},0,{"$f":"+spaziIntermedi(KB1003,25)-KD1003","v":0},false,0,null,0,0,null,null,null,0,0,0,0,0,null,null,0,0,{"$f":"IF((IF(restoZero(KU1003,25),(spaziIntermedi(KU1003,25))+1,spaziIntermedi(KU1003,25)))=(spaziIntermedi(KV1003,25)),FALSE,TRUE)","v":true},0,{"$f":"+spaziIntermedi(KV1003,25)-KX1003","v":0},false,0,null,0,0,null,null,null,0,0,0,null,null,0,0,{"$f":"IF((IF(restoZero(LM1003,25),(spaziIntermedi(LM1003,25))+1,spaziIntermedi(LM1003,25)))=(spaziIntermedi(LN1003,25)),FALSE,TRUE)","v":true},0,{"$f":"+spaziIntermedi(LN1003,25)-LP1003","v":0},false,0,null,0,0,null,null,null,0,0,0,0,0,null,null,0,0,{"$f":"IF((IF(restoZero(MG1003,25),(spaziIntermedi(MG1003,25))+1,spaziIntermedi(MG1003,25)))=(spaziIntermedi(MH1003,25)),FALSE,TRUE)","v":true},0,{"$f":"+spaziIntermedi(MH1003,25)-MJ1003","v":0},false,0,null,0,0,null,null,null,0,0,0,null,null,0,0,{"$f":"IF((IF(restoZero(MY1003,25),(spaziIntermedi(MY1003,25))+1,spaziIntermedi(MY1003,25)))=(spaziIntermedi(MZ1003,25)),FALSE,TRUE)","v":true},0,{"$f":"+spaziIntermedi(MZ1003,25)-NB1003","v":0},false,0,null,0,0,null,null,null,0,0,0,0,0,null,null,0,0,{"$f":"IF((IF(restoZero(NS1003,25),(spaziIntermedi(NS1003,25))+1,spaziIntermedi(NS1003,25)))=(spaziIntermedi(NT1003,25)),FALSE,TRUE)","v":true},0,{"$f":"+spaziIntermedi(NT1003,25)-NV1003","v":0},false,0,null,0,0,null,null,null,0,0,0,null,null,0,0,{"$f":"IF((IF(restoZero(OK1003,25),(spaziIntermedi(OK1003,25))+1,spaziIntermedi(OK1003,25)))=(spaziIntermedi(OL1003,25)),FALSE,TRUE)","v":true},0,{"$f":"+spaziIntermedi(OL1003,25)-ON1003","v":0},false,0,null,0,0,null,null,null,0,0,0,0,0,null,null,0,0,{"$f":"IF((IF(restoZero(PE1003,25),(spaziIntermedi(PE1003,25))+1,spaziIntermedi(PE1003,25)))=(spaziIntermedi(PF1003,25)),FALSE,TRUE)","v":true},0,{"$f":"+spaziIntermedi(PF1003,25)-PH1003","v":0},false,0,null,0,0,null,null,null,0,0,0,null,null,0,0,{"$f":"IF((IF(restoZero(PW1003,25),(spaziIntermedi(PW1003,25))+1,spaziIntermedi(PW1003,25)))=(spaziIntermedi(PX1003,25)),FALSE,TRUE)","v":true},0,{"$f":"+spaziIntermedi(PX1003,25)-PZ1003","v":0},false,0,null,0,0,null,null,null,0,0,0,0,0,null,null,0,0,{"$f":"IF((IF(restoZero(QQ1003,25),(spaziIntermedi(QQ1003,25))+1,spaziIntermedi(QQ1003,25)))=(spaziIntermedi(QR1003,25)),FALSE,TRUE)","v":true},0,{"$f":"+spaziIntermedi(QR1003,25)-QT1003","v":0},false,0,null,0,0,null,null,null,0,0,0,null,null,0,0,{"$f":"IF((IF(restoZero(RI1003,25),(spaziIntermedi(RI1003,25))+1,spaziIntermedi(RI1003,25)))=(spaziIntermedi(RJ1003,25)),FALSE,TRUE)","v":true},0,{"$f":"+spaziIntermedi(RJ1003,25)-RL1003","v":0},false,0,null,0,0,null,null,null,0,0,0,0,0,null,null,0,0,{"$f":"IF((IF(restoZero(SC1003,25),(spaziIntermedi(SC1003,25))+1,spaziIntermedi(SC1003,25)))=(spaziIntermedi(SD1003,25)),FALSE,TRUE)","v":true},0,{"$f":"+spaziIntermedi(SD1003,25)-SF1003","v":0},false,0,null,0,0,null,null,null,0,0,0,null,null,0,0,{"$f":"IF((IF(restoZero(SU1003,25),(spaziIntermedi(SU1003,25))+1,spaziIntermedi(SU1003,25)))=(spaziIntermedi(SV1003,25)),FALSE,TRUE)","v":true},0,{"$f":"+spaziIntermedi(SV1003,25)-SX1003","v":0},false,0,null,0,0,null,null,null,0,0,0,0,0]
[null,null,0,0,{"$f":"IF((IF(restoZero(C1009,25),(spaziIntermedi(C1009,25))+1,spaziIntermedi(C1009,25)))=(spaziIntermedi(D1009,25)),FALSE,TRUE)","v":true},0,{"$f":"+spaziIntermedi(D1009,25)-F1009","v":0},false,0,null,0,0,null,null,null,0,0,0,null,null,0,0,{"$f":"IF((IF(restoZero(U1009,25),(spaziIntermedi(U1009,25))+1,spaziIntermedi(U1009,25)))=(spaziIntermedi(V1009,25)),FALSE,TRUE)","v":true},0,{"$f":"+spaziIntermedi(V1009,25)-X1009","v":0},false,0,null,0,0,null,null,null,0,0,0,0,0,null,null,0,0,{"$f":"IF((IF(restoZero(AO1009,25),(spaziIntermedi(AO1009,25))+1,spaziIntermedi(AO1009,25)))=(spaziIntermedi(AP1009,25)),FALSE,TRUE)","v":true},0,{"$f":"+spaziIntermedi(AP1009,25)-AR1009","v":0},false,0,null,0,0,null,null,null,0,0,0,null,null,0,0,{"$f":"IF((IF(restoZero(BG1009,25),(spaziIntermedi(BG1009,25))+1,spaziIntermedi(BG1009,25)))=(spaziIntermedi(BH1009,25)),FALSE,TRUE)","v":true},0,{"$f":"+spaziIntermedi(BH1009,25)-BJ1009","v":0},false,0,null,0,0,null,null,null,0,0,0,0,0,null,null,0,0,{"$f":"IF((IF(restoZero(CA1009,25),(spaziIntermedi(CA1009,25))+1,spaziIntermedi(CA1009,25)))=(spaziIntermedi(CB1009,25)),FALSE,TRUE)","v":true},0,{"$f":"+spaziIntermedi(CB1009,25)-CD1009","v":0},false,0,null,0,0,null,null,null,0,0,0,null,null,0,0,{"$f":"IF((IF(restoZero(CS1009,25),(spaziIntermedi(CS1009,25))+1,spaziIntermedi(CS1009,25)))=(spaziIntermedi(CT1009,25)),FALSE,TRUE)","v":true},0,{"$f":"+spaziIntermedi(CT1009,25)-CV1009","v":0},false,0,null,0,0,null,null,null,0,0,0,0,0,null,null,0,0,{"$f":"IF((IF(restoZero(DM1009,25),(spaziIntermedi(DM1009,25))+1,spaziIntermedi(DM1009,25)))=(spaziIntermedi(DN1009,25)),FALSE,TRUE)","v":true},0,{"$f":"+spaziIntermedi(DN1009,25)-DP1009","v":0},false,0,null,0,0,null,null,null,0,0,0,null,null,0,0,{"$f":"IF((IF(restoZero(EE1009,25),(spaziIntermedi(EE1009,25))+1,spaziIntermedi(EE1009,25)))=(spaziIntermedi(EF1009,25)),FALSE,TRUE)","v":true},0,{"$f":"+spaziIntermedi(EF1009,25)-EH1009","v":0},false,0,null,0,0,null,null,null,0,0,0,0,0,null,null,0,0,{"$f":"IF((IF(restoZero(EY1009,25),(spaziIntermedi(EY1009,25))+1,spaziIntermedi(EY1009,25)))=(spaziIntermedi(EZ1009,25)),FALSE,TRUE)","v":true},0,{"$f":"+spaziIntermedi(EZ1009,25)-FB1009","v":0},false,0,null,0,0,null,null,null,0,0,0,null,null,0,0,{"$f":"IF((IF(restoZero(FQ1009,25),(spaziIntermedi(FQ1009,25))+1,spaziIntermedi(FQ1009,25)))=(spaziIntermedi(FR1009,25)),FALSE,TRUE)","v":true},0,{"$f":"+spaziIntermedi(FR1009,25)-FT1009","v":0},false,0,null,0,0,null,null,null,0,0,0,0,0,null,null,0,0,{"$f":"IF((IF(restoZero(GK1009,25),(spaziIntermedi(GK1009,25))+1,spaziIntermedi(GK1009,25)))=(spaziIntermedi(GL1009,25)),FALSE,TRUE)","v":true},0,{"$f":"+spaziIntermedi(GL1009,25)-GN1009","v":0},false,0,null,0,0,null,null,null,0,0,0,null,null,0,0,{"$f":"IF((IF(restoZero(HC1009,25),(spaziIntermedi(HC1009,25))+1,spaziIntermedi(HC1009,25)))=(spaziIntermedi(HD1009,25)),FALSE,TRUE)","v":true},0,{"$f":"+spaziIntermedi(HD1009,25)-HF1009","v":0},false,0,null,0,0,null,null,null,0,0,0,0,0,null,null,0,0,{"$f":"IF((IF(restoZero(HW1009,25),(spaziIntermedi(HW1009,25))+1,spaziIntermedi(HW1009,25)))=(spaziIntermedi(HX1009,25)),FALSE,TRUE)","v":true},0,{"$f":"+spaziIntermedi(HX1009,25)-HZ1009","v":0},false,0,null,0,0,null,null,null,0,0,0,null,null,0,0,{"$f":"IF((IF(restoZero(IO1009,25),(spaziIntermedi(IO1009,25))+1,spaziIntermedi(IO1009,25)))=(spaziIntermedi(IP1009,25)),FALSE,TRUE)","v":true},0,{"$f":"+spaziIntermedi(IP1009,25)-IR1009","v":0},false,0,null,0,0,null,null,null,0,0,0,0,0,null,null,0,0,{"$f":"IF((IF(restoZero(JI1009,25),(spaziIntermedi(JI1009,25))+1,spaziIntermedi(JI1009,25)))=(spaziIntermedi(JJ1009,25)),FALSE,TRUE)","v":true},0,{"$f":"+spaziIntermedi(JJ1009,25)-JL1009","v":0},false,0,null,0,0,null,null,null,0,0,0,null,null,0,0,{"$f":"IF((IF(restoZero(KA1009,25),(spaziIntermedi(KA1009,25))+1,spaziIntermedi(KA1009,25)))=(spaziIntermedi(KB1009,25)),FALSE,TRUE)","v":true},0,{"$f":"+spaziIntermedi(KB1009,25)-KD1009","v":0},false,0,null,0,0,null,null,null,0,0,0,0,0,null,null,0,0,{"$f":"IF((IF(restoZero(KU1009,25),(spaziIntermedi(KU1009,25))+1,spaziIntermedi(KU1009,25)))=(spaziIntermedi(KV1009,25)),FALSE,TRUE)","v":true},0,{"$f":"+spaziIntermedi(KV1009,25)-KX1009","v":0},false,0,null,0,0,null,null,null,0,0,0,null,null,0,0,{"$f":"IF((IF(restoZero(LM1009,25),(spaziIntermedi(LM1009,25))+1,spaziIntermedi(LM1009,25)))=(spaziIntermedi(LN1009,25)),FALSE,TRUE)","v":true},0,{"$f":"+spaziIntermedi(LN1009,25)-LP1009","v":0},false,0,null,0,0,null,null,null,0,0,0,0,0,null,null,0,0,{"$f":"IF((IF(restoZero(MG1009,25),(spaziIntermedi(MG1009,25))+1,spaziIntermedi(MG1009,25)))=(spaziIntermedi(MH1009,25)),FALSE,TRUE)","v":true},0,{"$f":"+spaziIntermedi(MH1009,25)-MJ1009","v":0},false,0,null,0,0,null,null,null,0,0,0,null,null,0,0,{"$f":"IF((IF(restoZero(MY1009,25),(spaziIntermedi(MY1009,25))+1,spaziIntermedi(MY1009,25)))=(spaziIntermedi(MZ1009,25)),FALSE,TRUE)","v":true},0,{"$f":"+spaziIntermedi(MZ1009,25)-NB1009","v":0},false,0,null,0,0,null,null,null,0,0,0,0,0,null,null,0,0,{"$f":"IF((IF(restoZero(NS1009,25),(spaziIntermedi(NS1009,25))+1,spaziIntermedi(NS1009,25)))=(spaziIntermedi(NT1009,25)),FALSE,TRUE)","v":true},0,{"$f":"+spaziIntermedi(NT1009,25)-NV1009","v":0},false,0,null,0,0,null,null,null,0,0,0,null,null,0,0,{"$f":"IF((IF(restoZero(OK1009,25),(spaziIntermedi(OK1009,25))+1,spaziIntermedi(OK1009,25)))=(spaziIntermedi(OL1009,25)),FALSE,TRUE)","v":true},0,{"$f":"+spaziIntermedi(OL1009,25)-ON1009","v":0},false,0,null,0,0,null,null,null,0,0,0,0,0,null,null,0,0,{"$f":"IF((IF(restoZero(PE1009,25),(spaziIntermedi(PE1009,25))+1,spaziIntermedi(PE1009,25)))=(spaziIntermedi(PF1009,25)),FALSE,TRUE)","v":true},0,{"$f":"+spaziIntermedi(PF1009,25)-PH1009","v":0},false,0,null,0,0,null,null,null,0,0,0,null,null,0,0,{"$f":"IF((IF(restoZero(PW1009,25),(spaziIntermedi(PW1009,25))+1,spaziIntermedi(PW1009,25)))=(spaziIntermedi(PX1009,25)),FALSE,TRUE)","v":true},0,{"$f":"+spaziIntermedi(PX1009,25)-PZ1009","v":0},false,0,null,0,0,null,null,null,0,0,0,0,0,null,null,0,0,{"$f":"IF((IF(restoZero(QQ1009,25),(spaziIntermedi(QQ1009,25))+1,spaziIntermedi(QQ1009,25)))=(spaziIntermedi(QR1009,25)),FALSE,TRUE)","v":true},0,{"$f":"+spaziIntermedi(QR1009,25)-QT1009","v":0},false,0,null,0,0,null,null,null,0,0,0,null,null,0,0,{"$f":"IF((IF(restoZero(RI1009,25),(spaziIntermedi(RI1009,25))+1,spaziIntermedi(RI1009,25)))=(spaziIntermedi(RJ1009,25)),FALSE,TRUE)","v":true},0,{"$f":"+spaziIntermedi(RJ1009,25)-RL1009","v":0},false,0,null,0,0,null,null,null,0,0,0,0,0,null,null,0,0,{"$f":"IF((IF(restoZero(SC1009,25),(spaziIntermedi(SC1009,25))+1,spaziIntermedi(SC1009,25)))=(spaziIntermedi(SD1009,25)),FALSE,TRUE)","v":true},0,{"$f":"+spaziIntermedi(SD1009,25)-SF1009","v":0},false,0,null,0,0,null,null,null,0,0,0,null,null,0,0,{"$f":"IF((IF(restoZero(SU1009,25),(spaziIntermedi(SU1009,25))+1,spaziIntermedi(SU1009,25)))=(spaziIntermedi(SV1009,25)),FALSE,TRUE)","v":true},0,{"$f":"+spaziIntermedi(SV1009,25)-SX1009","v":0},false,0,null,0,0,null,null,null,0,0,0,0,0]
[null,null,0,0,{"$f":"IF((IF(restoZero(C1041,25),(spaziIntermedi(C1041,25))+1,spaziIntermedi(C1041,25)))=(spaziIntermedi(D1041,25)),FALSE,TRUE)","v":true},0,{"$f":"+spaziIntermedi(D1041,25)-F1041","v":0},false,0,null,0,0,null,null,null,0,0,0,null,null,0,0,{"$f":"IF((IF(restoZero(U1041,25),(spaziIntermedi(U1041,25))+1,spaziIntermedi(U1041,25)))=(spaziIntermedi(V1041,25)),FALSE,TRUE)","v":true},0,{"$f":"+spaziIntermedi(V1041,25)-X1041","v":0},false,0,null,0,0,null,null,null,0,0,0,0,0,null,null,0,0,{"$f":"IF((IF(restoZero(AO1041,25),(spaziIntermedi(AO1041,25))+1,spaziIntermedi(AO1041,25)))=(spaziIntermedi(AP1041,25)),FALSE,TRUE)","v":true},0,{"$f":"+spaziIntermedi(AP1041,25)-AR1041","v":0},false,0,null,0,0,null,null,null,0,0,0,null,null,0,0,{"$f":"IF((IF(restoZero(BG1041,25),(spaziIntermedi(BG1041,25))+1,spaziIntermedi(BG1041,25)))=(spaziIntermedi(BH1041,25)),FALSE,TRUE)","v":true},0,{"$f":"+spaziIntermedi(BH1041,25)-BJ1041","v":0},false,0,null,0,0,null,null,null,0,0,0,0,0,null,null,0,0,{"$f":"IF((IF(restoZero(CA1041,25),(spaziIntermedi(CA1041,25))+1,spaziIntermedi(CA1041,25)))=(spaziIntermedi(CB1041,25)),FALSE,TRUE)","v":true},0,{"$f":"+spaziIntermedi(CB1041,25)-CD1041","v":0},false,0,null,0,0,null,null,null,0,0,0,null,null,0,0,{"$f":"IF((IF(restoZero(CS1041,25),(spaziIntermedi(CS1041,25))+1,spaziIntermedi(CS1041,25)))=(spaziIntermedi(CT1041,25)),FALSE,TRUE)","v":true},0,{"$f":"+spaziIntermedi(CT1041,25)-CV1041","v":0},false,0,null,0,0,null,null,null,0,0,0,0,0,null,null,0,0,{"$f":"IF((IF(restoZero(DM1041,25),(spaziIntermedi(DM1041,25))+1,spaziIntermedi(DM1041,25)))=(spaziIntermedi(DN1041,25)),FALSE,TRUE)","v":true},0,{"$f":"+spaziIntermedi(DN1041,25)-DP1041","v":0},false,0,null,0,0,null,null,null,0,0,0,null,null,0,0,{"$f":"IF((IF(restoZero(EE1041,25),(spaziIntermedi(EE1041,25))+1,spaziIntermedi(EE1041,25)))=(spaziIntermedi(EF1041,25)),FALSE,TRUE)","v":true},0,{"$f":"+spaziIntermedi(EF1041,25)-EH1041","v":0},false,0,null,0,0,null,null,null,0,0,0,0,0,null,null,0,0,{"$f":"IF((IF(restoZero(EY1041,25),(spaziIntermedi(EY1041,25))+1,spaziIntermedi(EY1041,25)))=(spaziIntermedi(EZ1041,25)),FALSE,TRUE)","v":true},0,{"$f":"+spaziIntermedi(EZ1041,25)-FB1041","v":0},false,0,null,0,0,null,null,null,0,0,0,null,null,0,0,{"$f":"IF((IF(restoZero(FQ1041,25),(spaziIntermedi(FQ1041,25))+1,spaziIntermedi(FQ1041,25)))=(spaziIntermedi(FR1041,25)),FALSE,TRUE)","v":true},0,{"$f":"+spaziIntermedi(FR1041,25)-FT1041","v":0},false,0,null,0,0,null,null,null,0,0,0,0,0,null,null,0,0,{"$f":"IF((IF(restoZero(GK1041,25),(spaziIntermedi(GK1041,25))+1,spaziIntermedi(GK1041,25)))=(spaziIntermedi(GL1041,25)),FALSE,TRUE)","v":true},0,{"$f":"+spaziIntermedi(GL1041,25)-GN1041","v":0},false,0,null,0,0,null,null,null,0,0,0,null,null,0,0,{"$f":"IF((IF(restoZero(HC1041,25),(spaziIntermedi(HC1041,25))+1,spaziIntermedi(HC1041,25)))=(spaziIntermedi(HD1041,25)),FALSE,TRUE)","v":true},0,{"$f":"+spaziIntermedi(HD1041,25)-HF1041","v":0},false,0,null,0,0,null,null,null,0,0,0,0,0,null,null,0,0,{"$f":"IF((IF(restoZero(HW1041,25),(spaziIntermedi(HW1041,25))+1,spaziIntermedi(HW1041,25)))=(spaziIntermedi(HX1041,25)),FALSE,TRUE)","v":true},0,{"$f":"+spaziIntermedi(HX1041,25)-HZ1041","v":0},false,0,null,0,0,null,null,null,0,0,0,null,null,0,0,{"$f":"IF((IF(restoZero(IO1041,25),(spaziIntermedi(IO1041,25))+1,spaziIntermedi(IO1041,25)))=(spaziIntermedi(IP1041,25)),FALSE,TRUE)","v":true},0,{"$f":"+spaziIntermedi(IP1041,25)-IR1041","v":0},false,0,null,0,0,null,null,null,0,0,0,0,0,null,null,0,0,{"$f":"IF((IF(restoZero(JI1041,25),(spaziIntermedi(JI1041,25))+1,spaziIntermedi(JI1041,25)))=(spaziIntermedi(JJ1041,25)),FALSE,TRUE)","v":true},0,{"$f":"+spaziIntermedi(JJ1041,25)-JL1041","v":0},false,0,null,0,0,null,null,null,0,0,0,null,null,0,0,{"$f":"IF((IF(restoZero(KA1041,25),(spaziIntermedi(KA1041,25))+1,spaziIntermedi(KA1041,25)))=(spaziIntermedi(KB1041,25)),FALSE,TRUE)","v":true},0,{"$f":"+spaziIntermedi(KB1041,25)-KD1041","v":0},false,0,null,0,0,null,null,null,0,0,0,0,0,null,null,0,0,{"$f":"IF((IF(restoZero(KU1041,25),(spaziIntermedi(KU1041,25))+1,spaziIntermedi(KU1041,25)))=(spaziIntermedi(KV1041,25)),FALSE,TRUE)","v":true},0,{"$f":"+spaziIntermedi(KV1041,25)-KX1041","v":0},false,0,null,0,0,null,null,null,0,0,0,null,null,0,0,{"$f":"IF((IF(restoZero(LM1041,25),(spaziIntermedi(LM1041,25))+1,spaziIntermedi(LM1041,25)))=(spaziIntermedi(LN1041,25)),FALSE,TRUE)","v":true},0,{"$f":"+spaziIntermedi(LN1041,25)-LP1041","v":0},false,0,null,0,0,null,null,null,0,0,0,0,0,null,null,0,0,{"$f":"IF((IF(restoZero(MG1041,25),(spaziIntermedi(MG1041,25))+1,spaziIntermedi(MG1041,25)))=(spaziIntermedi(MH1041,25)),FALSE,TRUE)","v":true},0,{"$f":"+spaziIntermedi(MH1041,25)-MJ1041","v":0},false,0,null,0,0,null,null,null,0,0,0,null,null,0,0,{"$f":"IF((IF(restoZero(MY1041,25),(spaziIntermedi(MY1041,25))+1,spaziIntermedi(MY1041,25)))=(spaziIntermedi(MZ1041,25)),FALSE,TRUE)","v":true},0,{"$f":"+spaziIntermedi(MZ1041,25)-NB1041","v":0},false,0,null,0,0,null,null,null,0,0,0,0,0,null,null,0,0,{"$f":"IF((IF(restoZero(NS1041,25),(spaziIntermedi(NS1041,25))+1,spaziIntermedi(NS1041,25)))=(spaziIntermedi(NT1041,25)),FALSE,TRUE)","v":true},0,{"$f":"+spaziIntermedi(NT1041,25)-NV1041","v":0},false,0,null,0,0,null,null,null,0,0,0,null,null,0,0,{"$f":"IF((IF(restoZero(OK1041,25),(spaziIntermedi(OK1041,25))+1,spaziIntermedi(OK1041,25)))=(spaziIntermedi(OL1041,25)),FALSE,TRUE)","v":true},0,{"$f":"+spaziIntermedi(OL1041,25)-ON1041","v":0},false,0,null,0,0,null,null,null,0,0,0,0,0,null,null,0,0,{"$f":"IF((IF(restoZero(PE1041,25),(spaziIntermedi(PE1041,25))+1,spaziIntermedi(PE1041,25)))=(spaziIntermedi(PF1041,25)),FALSE,TRUE)","v":true},0,{"$f":"+spaziIntermedi(PF1041,25)-PH1041","v":0},false,0,null,0,0,null,null,null,0,0,0,null,null,0,0,{"$f":"IF((IF(restoZero(PW1041,25),(spaziIntermedi(PW1041,25))+1,spaziIntermedi(PW1041,25)))=(spaziIntermedi(PX1041,25)),FALSE,TRUE)","v":true},0,{"$f":"+spaziIntermedi(PX1041,25)-PZ1041","v":0},false,0,null,0,0,null,null,null,0,0,0,0,0,null,null,0,0,{"$f":"IF((IF(restoZero(QQ1041,25),(spaziIntermedi(QQ1041,25))+1,spaziIntermedi(QQ1041,25)))=(spaziIntermedi(QR1041,25)),FALSE,TRUE)","v":true},0,{"$f":"+spaziIntermedi(QR1041,25)-QT1041","v":0},false,0,null,0,0,null,null,null,0,0,0,null,null,0,0,{"$f":"IF((IF(restoZero(RI1041,25),(spaziIntermedi(RI1041,25))+1,spaziIntermedi(RI1041,25)))=(spaziIntermedi(RJ1041,25)),FALSE,TRUE)","v":true},0,{"$f":"+spaziIntermedi(RJ1041,25)-RL1041","v":0},false,0,null,0,0,null,null,null,0,0,0,0,0,null,null,0,0,{"$f":"IF((IF(restoZero(SC1041,25),(spaziIntermedi(SC1041,25))+1,spaziIntermedi(SC1041,25)))=(spaziIntermedi(SD1041,25)),FALSE,TRUE)","v":true},0,{"$f":"+spaziIntermedi(SD1041,25)-SF1041","v":0},false,0,null,0,0,null,null,null,0,0,0,null,null,0,0,{"$f":"IF((IF(restoZero(SU1041,25),(spaziIntermedi(SU1041,25))+1,spaziIntermedi(SU1041,25)))=(spaziIntermedi(SV1041,25)),FALSE,TRUE)","v":true},0,{"$f":"+spaziIntermedi(SV1041,25)-SX1041","v":0},false,0,null,0,0,null,null,null,0,0,0,0,0]
[null,null,0,0,{"$f":"IF((IF(restoZero(C1046,25),(spaziIntermedi(C1046,25))+1,spaziIntermedi(C1046,25)))=(spaziIntermedi(D1046,25)),FALSE,TRUE)","v":true},0,{"$f":"+spaziIntermedi(D1046,25)-F1046","v":0},false,0,null,0,0,null,null,null,0,0,0,null,null,0,0,{"$f":"IF((IF(restoZero(U1046,25),(spaziIntermedi(U1046,25))+1,spaziIntermedi(U1046,25)))=(spaziIntermedi(V1046,25)),FALSE,TRUE)","v":true},0,{"$f":"+spaziIntermedi(V1046,25)-X1046","v":0},false,0,null,0,0,null,null,null,0,0,0,0,0,null,null,0,0,{"$f":"IF((IF(restoZero(AO1046,25),(spaziIntermedi(AO1046,25))+1,spaziIntermedi(AO1046,25)))=(spaziIntermedi(AP1046,25)),FALSE,TRUE)","v":true},0,{"$f":"+spaziIntermedi(AP1046,25)-AR1046","v":0},false,0,null,0,0,null,null,null,0,0,0,null,null,0,0,{"$f":"IF((IF(restoZero(BG1046,25),(spaziIntermedi(BG1046,25))+1,spaziIntermedi(BG1046,25)))=(spaziIntermedi(BH1046,25)),FALSE,TRUE)","v":true},0,{"$f":"+spaziIntermedi(BH1046,25)-BJ1046","v":0},false,0,null,0,0,null,null,null,0,0,0,0,0,null,null,0,0,{"$f":"IF((IF(restoZero(CA1046,25),(spaziIntermedi(CA1046,25))+1,spaziIntermedi(CA1046,25)))=(spaziIntermedi(CB1046,25)),FALSE,TRUE)","v":true},0,{"$f":"+spaziIntermedi(CB1046,25)-CD1046","v":0},false,0,null,0,0,null,null,null,0,0,0,null,null,0,0,{"$f":"IF((IF(restoZero(CS1046,25),(spaziIntermedi(CS1046,25))+1,spaziIntermedi(CS1046,25)))=(spaziIntermedi(CT1046,25)),FALSE,TRUE)","v":true},0,{"$f":"+spaziIntermedi(CT1046,25)-CV1046","v":0},false,0,null,0,0,null,null,null,0,0,0,0,0,null,null,0,0,{"$f":"IF((IF(restoZero(DM1046,25),(spaziIntermedi(DM1046,25))+1,spaziIntermedi(DM1046,25)))=(spaziIntermedi(DN1046,25)),FALSE,TRUE)","v":true},0,{"$f":"+spaziIntermedi(DN1046,25)-DP1046","v":0},false,0,null,0,0,null,null,null,0,0,0,null,null,0,0,{"$f":"IF((IF(restoZero(EE1046,25),(spaziIntermedi(EE1046,25))+1,spaziIntermedi(EE1046,25)))=(spaziIntermedi(EF1046,25)),FALSE,TRUE)","v":true},0,{"$f":"+spaziIntermedi(EF1046,25)-EH1046","v":0},false,0,null,0,0,null,null,null,0,0,0,0,0,null,null,0,0,{"$f":"IF((IF(restoZero(EY1046,25),(spaziIntermedi(EY1046,25))+1,spaziIntermedi(EY1046,25)))=(spaziIntermedi(EZ1046,25)),FALSE,TRUE)","v":true},0,{"$f":"+spaziIntermedi(EZ1046,25)-FB1046","v":0},false,0,null,0,0,null,null,null,0,0,0,null,null,0,0,{"$f":"IF((IF(restoZero(FQ1046,25),(spaziIntermedi(FQ1046,25))+1,spaziIntermedi(FQ1046,25)))=(spaziIntermedi(FR1046,25)),FALSE,TRUE)","v":true},0,{"$f":"+spaziIntermedi(FR1046,25)-FT1046","v":0},false,0,null,0,0,null,null,null,0,0,0,0,0,null,null,0,0,{"$f":"IF((IF(restoZero(GK1046,25),(spaziIntermedi(GK1046,25))+1,spaziIntermedi(GK1046,25)))=(spaziIntermedi(GL1046,25)),FALSE,TRUE)","v":true},0,{"$f":"+spaziIntermedi(GL1046,25)-GN1046","v":0},false,0,null,0,0,null,null,null,0,0,0,null,null,0,0,{"$f":"IF((IF(restoZero(HC1046,25),(spaziIntermedi(HC1046,25))+1,spaziIntermedi(HC1046,25)))=(spaziIntermedi(HD1046,25)),FALSE,TRUE)","v":true},0,{"$f":"+spaziIntermedi(HD1046,25)-HF1046","v":0},false,0,null,0,0,null,null,null,0,0,0,0,0,null,null,0,0,{"$f":"IF((IF(restoZero(HW1046,25),(spaziIntermedi(HW1046,25))+1,spaziIntermedi(HW1046,25)))=(spaziIntermedi(HX1046,25)),FALSE,TRUE)","v":true},0,{"$f":"+spaziIntermedi(HX1046,25)-HZ1046","v":0},false,0,null,0,0,null,null,null,0,0,0,null,null,0,0,{"$f":"IF((IF(restoZero(IO1046,25),(spaziIntermedi(IO1046,25))+1,spaziIntermedi(IO1046,25)))=(spaziIntermedi(IP1046,25)),FALSE,TRUE)","v":true},0,{"$f":"+spaziIntermedi(IP1046,25)-IR1046","v":0},false,0,null,0,0,null,null,null,0,0,0,0,0,null,null,0,0,{"$f":"IF((IF(restoZero(JI1046,25),(spaziIntermedi(JI1046,25))+1,spaziIntermedi(JI1046,25)))=(spaziIntermedi(JJ1046,25)),FALSE,TRUE)","v":true},0,{"$f":"+spaziIntermedi(JJ1046,25)-JL1046","v":0},false,0,null,0,0,null,null,null,0,0,0,null,null,0,0,{"$f":"IF((IF(restoZero(KA1046,25),(spaziIntermedi(KA1046,25))+1,spaziIntermedi(KA1046,25)))=(spaziIntermedi(KB1046,25)),FALSE,TRUE)","v":true},0,{"$f":"+spaziIntermedi(KB1046,25)-KD1046","v":0},false,0,null,0,0,null,null,null,0,0,0,0,0,null,null,0,0,{"$f":"IF((IF(restoZero(KU1046,25),(spaziIntermedi(KU1046,25))+1,spaziIntermedi(KU1046,25)))=(spaziIntermedi(KV1046,25)),FALSE,TRUE)","v":true},0,{"$f":"+spaziIntermedi(KV1046,25)-KX1046","v":0},false,0,null,0,0,null,null,null,0,0,0,null,null,0,0,{"$f":"IF((IF(restoZero(LM1046,25),(spaziIntermedi(LM1046,25))+1,spaziIntermedi(LM1046,25)))=(spaziIntermedi(LN1046,25)),FALSE,TRUE)","v":true},0,{"$f":"+spaziIntermedi(LN1046,25)-LP1046","v":0},false,0,null,0,0,null,null,null,0,0,0,0,0,null,null,0,0,{"$f":"IF((IF(restoZero(MG1046,25),(spaziIntermedi(MG1046,25))+1,spaziIntermedi(MG1046,25)))=(spaziIntermedi(MH1046,25)),FALSE,TRUE)","v":true},0,{"$f":"+spaziIntermedi(MH1046,25)-MJ1046","v":0},false,0,null,0,0,null,null,null,0,0,0,null,null,0,0,{"$f":"IF((IF(restoZero(MY1046,25),(spaziIntermedi(MY1046,25))+1,spaziIntermedi(MY1046,25)))=(spaziIntermedi(MZ1046,25)),FALSE,TRUE)","v":true},0,{"$f":"+spaziIntermedi(MZ1046,25)-NB1046","v":0},false,0,null,0,0,null,null,null,0,0,0,0,0,null,null,0,0,{"$f":"IF((IF(restoZero(NS1046,25),(spaziIntermedi(NS1046,25))+1,spaziIntermedi(NS1046,25)))=(spaziIntermedi(NT1046,25)),FALSE,TRUE)","v":true},0,{"$f":"+spaziIntermedi(NT1046,25)-NV1046","v":0},false,0,null,0,0,null,null,null,0,0,0,null,null,0,0,{"$f":"IF((IF(restoZero(OK1046,25),(spaziIntermedi(OK1046,25))+1,spaziIntermedi(OK1046,25)))=(spaziIntermedi(OL1046,25)),FALSE,TRUE)","v":true},0,{"$f":"+spaziIntermedi(OL1046,25)-ON1046","v":0},false,0,null,0,0,null,null,null,0,0,0,0,0,null,null,0,0,{"$f":"IF((IF(restoZero(PE1046,25),(spaziIntermedi(PE1046,25))+1,spaziIntermedi(PE1046,25)))=(spaziIntermedi(PF1046,25)),FALSE,TRUE)","v":true},0,{"$f":"+spaziIntermedi(PF1046,25)-PH1046","v":0},false,0,null,0,0,null,null,null,0,0,0,null,null,0,0,{"$f":"IF((IF(restoZero(PW1046,25),(spaziIntermedi(PW1046,25))+1,spaziIntermedi(PW1046,25)))=(spaziIntermedi(PX1046,25)),FALSE,TRUE)","v":true},0,{"$f":"+spaziIntermedi(PX1046,25)-PZ1046","v":0},false,0,null,0,0,null,null,null,0,0,0,0,0,null,null,0,0,{"$f":"IF((IF(restoZero(QQ1046,25),(spaziIntermedi(QQ1046,25))+1,spaziIntermedi(QQ1046,25)))=(spaziIntermedi(QR1046,25)),FALSE,TRUE)","v":true},0,{"$f":"+spaziIntermedi(QR1046,25)-QT1046","v":0},false,0,null,0,0,null,null,null,0,0,0,null,null,0,0,{"$f":"IF((IF(restoZero(RI1046,25),(spaziIntermedi(RI1046,25))+1,spaziIntermedi(RI1046,25)))=(spaziIntermedi(RJ1046,25)),FALSE,TRUE)","v":true},0,{"$f":"+spaziIntermedi(RJ1046,25)-RL1046","v":0},false,0,null,0,0,null,null,null,0,0,0,0,0,null,null,0,0,{"$f":"IF((IF(restoZero(SC1046,25),(spaziIntermedi(SC1046,25))+1,spaziIntermedi(SC1046,25)))=(spaziIntermedi(SD1046,25)),FALSE,TRUE)","v":true},0,{"$f":"+spaziIntermedi(SD1046,25)-SF1046","v":0},false,0,null,0,0,null,null,null,0,0,0,null,null,0,0,{"$f":"IF((IF(restoZero(SU1046,25),(spaziIntermedi(SU1046,25))+1,spaziIntermedi(SU1046,25)))=(spaziIntermedi(SV1046,25)),FALSE,TRUE)","v":true},0,{"$f":"+spaziIntermedi(SV1046,25)-SX1046","v":0},false,0,null,0,0,null,null,null,0,0,0,0,0]
[null,null,0,0,{"$f":"IF((IF(restoZero(C1071,25),(spaziIntermedi(C1071,25))+1,spaziIntermedi(C1071,25)))=(spaziIntermedi(D1071,25)),FALSE,TRUE)","v":true},0,{"$f":"+spaziIntermedi(D1071,25)-F1071","v":0},false,0,null,0,0,null,null,null,0,0,0,null,null,0,0,{"$f":"IF((IF(restoZero(U1071,25),(spaziIntermedi(U1071,25))+1,spaziIntermedi(U1071,25)))=(spaziIntermedi(V1071,25)),FALSE,TRUE)","v":true},0,{"$f":"+spaziIntermedi(V1071,25)-X1071","v":0},false,0,null,0,0,null,null,null,0,0,0,0,0,null,null,0,0,{"$f":"IF((IF(restoZero(AO1071,25),(spaziIntermedi(AO1071,25))+1,spaziIntermedi(AO1071,25)))=(spaziIntermedi(AP1071,25)),FALSE,TRUE)","v":true},0,{"$f":"+spaziIntermedi(AP1071,25)-AR1071","v":0},false,0,null,0,0,null,null,null,0,0,0,null,null,0,0,{"$f":"IF((IF(restoZero(BG1071,25),(spaziIntermedi(BG1071,25))+1,spaziIntermedi(BG1071,25)))=(spaziIntermedi(BH1071,25)),FALSE,TRUE)","v":true},0,{"$f":"+spaziIntermedi(BH1071,25)-BJ1071","v":0},false,0,null,0,0,null,null,null,0,0,0,0,0,null,null,0,0,{"$f":"IF((IF(restoZero(CA1071,25),(spaziIntermedi(CA1071,25))+1,spaziIntermedi(CA1071,25)))=(spaziIntermedi(CB1071,25)),FALSE,TRUE)","v":true},0,{"$f":"+spaziIntermedi(CB1071,25)-CD1071","v":0},false,0,null,0,0,null,null,null,0,0,0,null,null,0,0,{"$f":"IF((IF(restoZero(CS1071,25),(spaziIntermedi(CS1071,25))+1,spaziIntermedi(CS1071,25)))=(spaziIntermedi(CT1071,25)),FALSE,TRUE)","v":true},0,{"$f":"+spaziIntermedi(CT1071,25)-CV1071","v":0},false,0,null,0,0,null,null,null,0,0,0,0,0,null,null,0,0,{"$f":"IF((IF(restoZero(DM1071,25),(spaziIntermedi(DM1071,25))+1,spaziIntermedi(DM1071,25)))=(spaziIntermedi(DN1071,25)),FALSE,TRUE)","v":true},0,{"$f":"+spaziIntermedi(DN1071,25)-DP1071","v":0},false,0,null,0,0,null,null,null,0,0,0,null,null,0,0,{"$f":"IF((IF(restoZero(EE1071,25),(spaziIntermedi(EE1071,25))+1,spaziIntermedi(EE1071,25)))=(spaziIntermedi(EF1071,25)),FALSE,TRUE)","v":true},0,{"$f":"+spaziIntermedi(EF1071,25)-EH1071","v":0},false,0,null,0,0,null,null,null,0,0,0,0,0,null,null,0,0,{"$f":"IF((IF(restoZero(EY1071,25),(spaziIntermedi(EY1071,25))+1,spaziIntermedi(EY1071,25)))=(spaziIntermedi(EZ1071,25)),FALSE,TRUE)","v":true},0,{"$f":"+spaziIntermedi(EZ1071,25)-FB1071","v":0},false,0,null,0,0,null,null,null,0,0,0,null,null,0,0,{"$f":"IF((IF(restoZero(FQ1071,25),(spaziIntermedi(FQ1071,25))+1,spaziIntermedi(FQ1071,25)))=(spaziIntermedi(FR1071,25)),FALSE,TRUE)","v":true},0,{"$f":"+spaziIntermedi(FR1071,25)-FT1071","v":0},false,0,null,0,0,null,null,null,0,0,0,0,0,null,null,0,0,{"$f":"IF((IF(restoZero(GK1071,25),(spaziIntermedi(GK1071,25))+1,spaziIntermedi(GK1071,25)))=(spaziIntermedi(GL1071,25)),FALSE,TRUE)","v":true},0,{"$f":"+spaziIntermedi(GL1071,25)-GN1071","v":0},false,0,null,0,0,null,null,null,0,0,0,null,null,0,0,{"$f":"IF((IF(restoZero(HC1071,25),(spaziIntermedi(HC1071,25))+1,spaziIntermedi(HC1071,25)))=(spaziIntermedi(HD1071,25)),FALSE,TRUE)","v":true},0,{"$f":"+spaziIntermedi(HD1071,25)-HF1071","v":0},false,0,null,0,0,null,null,null,0,0,0,0,0,null,null,0,0,{"$f":"IF((IF(restoZero(HW1071,25),(spaziIntermedi(HW1071,25))+1,spaziIntermedi(HW1071,25)))=(spaziIntermedi(HX1071,25)),FALSE,TRUE)","v":true},0,{"$f":"+spaziIntermedi(HX1071,25)-HZ1071","v":0},false,0,null,0,0,null,null,null,0,0,0,null,null,0,0,{"$f":"IF((IF(restoZero(IO1071,25),(spaziIntermedi(IO1071,25))+1,spaziIntermedi(IO1071,25)))=(spaziIntermedi(IP1071,25)),FALSE,TRUE)","v":true},0,{"$f":"+spaziIntermedi(IP1071,25)-IR1071","v":0},false,0,null,0,0,null,null,null,0,0,0,0,0,null,null,0,0,{"$f":"IF((IF(restoZero(JI1071,25),(spaziIntermedi(JI1071,25))+1,spaziIntermedi(JI1071,25)))=(spaziIntermedi(JJ1071,25)),FALSE,TRUE)","v":true},0,{"$f":"+spaziIntermedi(JJ1071,25)-JL1071","v":0},false,0,null,0,0,null,null,null,0,0,0,null,null,0,0,{"$f":"IF((IF(restoZero(KA1071,25),(spaziIntermedi(KA1071,25))+1,spaziIntermedi(KA1071,25)))=(spaziIntermedi(KB1071,25)),FALSE,TRUE)","v":true},0,{"$f":"+spaziIntermedi(KB1071,25)-KD1071","v":0},false,0,null,0,0,null,null,null,0,0,0,0,0,null,null,0,0,{"$f":"IF((IF(restoZero(KU1071,25),(spaziIntermedi(KU1071,25))+1,spaziIntermedi(KU1071,25)))=(spaziIntermedi(KV1071,25)),FALSE,TRUE)","v":true},0,{"$f":"+spaziIntermedi(KV1071,25)-KX1071","v":0},false,0,null,0,0,null,null,null,0,0,0,null,null,0,0,{"$f":"IF((IF(restoZero(LM1071,25),(spaziIntermedi(LM1071,25))+1,spaziIntermedi(LM1071,25)))=(spaziIntermedi(LN1071,25)),FALSE,TRUE)","v":true},0,{"$f":"+spaziIntermedi(LN1071,25)-LP1071","v":0},false,0,null,0,0,null,null,null,0,0,0,0,0,null,null,0,0,{"$f":"IF((IF(restoZero(MG1071,25),(spaziIntermedi(MG1071,25))+1,spaziIntermedi(MG1071,25)))=(spaziIntermedi(MH1071,25)),FALSE,TRUE)","v":true},0,{"$f":"+spaziIntermedi(MH1071,25)-MJ1071","v":0},false,0,null,0,0,null,null,null,0,0,0,null,null,0,0,{"$f":"IF((IF(restoZero(MY1071,25),(spaziIntermedi(MY1071,25))+1,spaziIntermedi(MY1071,25)))=(spaziIntermedi(MZ1071,25)),FALSE,TRUE)","v":true},0,{"$f":"+spaziIntermedi(MZ1071,25)-NB1071","v":0},false,0,null,0,0,null,null,null,0,0,0,0,0,null,null,0,0,{"$f":"IF((IF(restoZero(NS1071,25),(spaziIntermedi(NS1071,25))+1,spaziIntermedi(NS1071,25)))=(spaziIntermedi(NT1071,25)),FALSE,TRUE)","v":true},0,{"$f":"+spaziIntermedi(NT1071,25)-NV1071","v":0},false,0,null,0,0,null,null,null,0,0,0,null,null,0,0,{"$f":"IF((IF(restoZero(OK1071,25),(spaziIntermedi(OK1071,25))+1,spaziIntermedi(OK1071,25)))=(spaziIntermedi(OL1071,25)),FALSE,TRUE)","v":true},0,{"$f":"+spaziIntermedi(OL1071,25)-ON1071","v":0},false,0,null,0,0,null,null,null,0,0,0,0,0,null,null,0,0,{"$f":"IF((IF(restoZero(PE1071,25),(spaziIntermedi(PE1071,25))+1,spaziIntermedi(PE1071,25)))=(spaziIntermedi(PF1071,25)),FALSE,TRUE)","v":true},0,{"$f":"+spaziIntermedi(PF1071,25)-PH1071","v":0},false,0,null,0,0,null,null,null,0,0,0,null,null,0,0,{"$f":"IF((IF(restoZero(PW1071,25),(spaziIntermedi(PW1071,25))+1,spaziIntermedi(PW1071,25)))=(spaziIntermedi(PX1071,25)),FALSE,TRUE)","v":true},0,{"$f":"+spaziIntermedi(PX1071,25)-PZ1071","v":0},false,0,null,0,0,null,null,null,0,0,0,0,0,null,null,0,0,{"$f":"IF((IF(restoZero(QQ1071,25),(spaziIntermedi(QQ1071,25))+1,spaziIntermedi(QQ1071,25)))=(spaziIntermedi(QR1071,25)),FALSE,TRUE)","v":true},0,{"$f":"+spaziIntermedi(QR1071,25)-QT1071","v":0},false,0,null,0,0,null,null,null,0,0,0,null,null,0,0,{"$f":"IF((IF(restoZero(RI1071,25),(spaziIntermedi(RI1071,25))+1,spaziIntermedi(RI1071,25)))=(spaziIntermedi(RJ1071,25)),FALSE,TRUE)","v":true},0,{"$f":"+spaziIntermedi(RJ1071,25)-RL1071","v":0},false,0,null,0,0,null,null,null,0,0,0,0,0,null,null,0,0,{"$f":"IF((IF(restoZero(SC1071,25),(spaziIntermedi(SC1071,25))+1,spaziIntermedi(SC1071,25)))=(spaziIntermedi(SD1071,25)),FALSE,TRUE)","v":true},0,{"$f":"+spaziIntermedi(SD1071,25)-SF1071","v":0},false,0,null,0,0,null,null,null,0,0,0,null,null,0,0,{"$f":"IF((IF(restoZero(SU1071,25),(spaziIntermedi(SU1071,25))+1,spaziIntermedi(SU1071,25)))=(spaziIntermedi(SV1071,25)),FALSE,TRUE)","v":true},0,{"$f":"+spaziIntermedi(SV1071,25)-SX1071","v":0},false,0,null,0,0,null,null,null,0,0,0,0,0]
[null,null,0,0,{"$f":"IF((IF(restoZero(C1090,25),(spaziIntermedi(C1090,25))+1,spaziIntermedi(C1090,25)))=(spaziIntermedi(D1090,25)),FALSE,TRUE)","v":true},0,{"$f":"+spaziIntermedi(D1090,25)-F1090","v":0},false,0,null,0,0,null,null,null,0,0,0,null,null,0,0,{"$f":"IF((IF(restoZero(U1090,25),(spaziIntermedi(U1090,25))+1,spaziIntermedi(U1090,25)))=(spaziIntermedi(V1090,25)),FALSE,TRUE)","v":true},0,{"$f":"+spaziIntermedi(V1090,25)-X1090","v":0},false,0,null,0,0,null,null,null,0,0,0,0,0,null,null,0,0,{"$f":"IF((IF(restoZero(AO1090,25),(spaziIntermedi(AO1090,25))+1,spaziIntermedi(AO1090,25)))=(spaziIntermedi(AP1090,25)),FALSE,TRUE)","v":true},0,{"$f":"+spaziIntermedi(AP1090,25)-AR1090","v":0},false,0,null,0,0,null,null,null,0,0,0,null,null,0,0,{"$f":"IF((IF(restoZero(BG1090,25),(spaziIntermedi(BG1090,25))+1,spaziIntermedi(BG1090,25)))=(spaziIntermedi(BH1090,25)),FALSE,TRUE)","v":true},0,{"$f":"+spaziIntermedi(BH1090,25)-BJ1090","v":0},false,0,null,0,0,null,null,null,0,0,0,0,0,null,null,0,0,{"$f":"IF((IF(restoZero(CA1090,25),(spaziIntermedi(CA1090,25))+1,spaziIntermedi(CA1090,25)))=(spaziIntermedi(CB1090,25)),FALSE,TRUE)","v":true},0,{"$f":"+spaziIntermedi(CB1090,25)-CD1090","v":0},false,0,null,0,0,null,null,null,0,0,0,null,null,0,0,{"$f":"IF((IF(restoZero(CS1090,25),(spaziIntermedi(CS1090,25))+1,spaziIntermedi(CS1090,25)))=(spaziIntermedi(CT1090,25)),FALSE,TRUE)","v":true},0,{"$f":"+spaziIntermedi(CT1090,25)-CV1090","v":0},false,0,null,0,0,null,null,null,0,0,0,0,0,null,null,0,0,{"$f":"IF((IF(restoZero(DM1090,25),(spaziIntermedi(DM1090,25))+1,spaziIntermedi(DM1090,25)))=(spaziIntermedi(DN1090,25)),FALSE,TRUE)","v":true},0,{"$f":"+spaziIntermedi(DN1090,25)-DP1090","v":0},false,0,null,0,0,null,null,null,0,0,0,null,null,0,0,{"$f":"IF((IF(restoZero(EE1090,25),(spaziIntermedi(EE1090,25))+1,spaziIntermedi(EE1090,25)))=(spaziIntermedi(EF1090,25)),FALSE,TRUE)","v":true},0,{"$f":"+spaziIntermedi(EF1090,25)-EH1090","v":0},false,0,null,0,0,null,null,null,0,0,0,0,0,null,null,0,0,{"$f":"IF((IF(restoZero(EY1090,25),(spaziIntermedi(EY1090,25))+1,spaziIntermedi(EY1090,25)))=(spaziIntermedi(EZ1090,25)),FALSE,TRUE)","v":true},0,{"$f":"+spaziIntermedi(EZ1090,25)-FB1090","v":0},false,0,null,0,0,null,null,null,0,0,0,null,null,0,0,{"$f":"IF((IF(restoZero(FQ1090,25),(spaziIntermedi(FQ1090,25))+1,spaziIntermedi(FQ1090,25)))=(spaziIntermedi(FR1090,25)),FALSE,TRUE)","v":true},0,{"$f":"+spaziIntermedi(FR1090,25)-FT1090","v":0},false,0,null,0,0,null,null,null,0,0,0,0,0,null,null,0,0,{"$f":"IF((IF(restoZero(GK1090,25),(spaziIntermedi(GK1090,25))+1,spaziIntermedi(GK1090,25)))=(spaziIntermedi(GL1090,25)),FALSE,TRUE)","v":true},0,{"$f":"+spaziIntermedi(GL1090,25)-GN1090","v":0},false,0,null,0,0,null,null,null,0,0,0,null,null,0,0,{"$f":"IF((IF(restoZero(HC1090,25),(spaziIntermedi(HC1090,25))+1,spaziIntermedi(HC1090,25)))=(spaziIntermedi(HD1090,25)),FALSE,TRUE)","v":true},0,{"$f":"+spaziIntermedi(HD1090,25)-HF1090","v":0},false,0,null,0,0,null,null,null,0,0,0,0,0,null,null,0,0,{"$f":"IF((IF(restoZero(HW1090,25),(spaziIntermedi(HW1090,25))+1,spaziIntermedi(HW1090,25)))=(spaziIntermedi(HX1090,25)),FALSE,TRUE)","v":true},0,{"$f":"+spaziIntermedi(HX1090,25)-HZ1090","v":0},false,0,null,0,0,null,null,null,0,0,0,null,null,0,0,{"$f":"IF((IF(restoZero(IO1090,25),(spaziIntermedi(IO1090,25))+1,spaziIntermedi(IO1090,25)))=(spaziIntermedi(IP1090,25)),FALSE,TRUE)","v":true},0,{"$f":"+spaziIntermedi(IP1090,25)-IR1090","v":0},false,0,null,0,0,null,null,null,0,0,0,0,0,null,null,0,0,{"$f":"IF((IF(restoZero(JI1090,25),(spaziIntermedi(JI1090,25))+1,spaziIntermedi(JI1090,25)))=(spaziIntermedi(JJ1090,25)),FALSE,TRUE)","v":true},0,{"$f":"+spaziIntermedi(JJ1090,25)-JL1090","v":0},false,0,null,0,0,null,null,null,0,0,0,null,null,0,0,{"$f":"IF((IF(restoZero(KA1090,25),(spaziIntermedi(KA1090,25))+1,spaziIntermedi(KA1090,25)))=(spaziIntermedi(KB1090,25)),FALSE,TRUE)","v":true},0,{"$f":"+spaziIntermedi(KB1090,25)-KD1090","v":0},false,0,null,0,0,null,null,null,0,0,0,0,0,null,null,0,0,{"$f":"IF((IF(restoZero(KU1090,25),(spaziIntermedi(KU1090,25))+1,spaziIntermedi(KU1090,25)))=(spaziIntermedi(KV1090,25)),FALSE,TRUE)","v":true},0,{"$f":"+spaziIntermedi(KV1090,25)-KX1090","v":0},false,0,null,0,0,null,null,null,0,0,0,null,null,0,0,{"$f":"IF((IF(restoZero(LM1090,25),(spaziIntermedi(LM1090,25))+1,spaziIntermedi(LM1090,25)))=(spaziIntermedi(LN1090,25)),FALSE,TRUE)","v":true},0,{"$f":"+spaziIntermedi(LN1090,25)-LP1090","v":0},false,0,null,0,0,null,null,null,0,0,0,0,0,null,null,0,0,{"$f":"IF((IF(restoZero(MG1090,25),(spaziIntermedi(MG1090,25))+1,spaziIntermedi(MG1090,25)))=(spaziIntermedi(MH1090,25)),FALSE,TRUE)","v":true},0,{"$f":"+spaziIntermedi(MH1090,25)-MJ1090","v":0},false,0,null,0,0,null,null,null,0,0,0,null,null,0,0,{"$f":"IF((IF(restoZero(MY1090,25),(spaziIntermedi(MY1090,25))+1,spaziIntermedi(MY1090,25)))=(spaziIntermedi(MZ1090,25)),FALSE,TRUE)","v":true},0,{"$f":"+spaziIntermedi(MZ1090,25)-NB1090","v":0},false,0,null,0,0,null,null,null,0,0,0,0,0,null,null,0,0,{"$f":"IF((IF(restoZero(NS1090,25),(spaziIntermedi(NS1090,25))+1,spaziIntermedi(NS1090,25)))=(spaziIntermedi(NT1090,25)),FALSE,TRUE)","v":true},0,{"$f":"+spaziIntermedi(NT1090,25)-NV1090","v":0},false,0,null,0,0,null,null,null,0,0,0,null,null,0,0,{"$f":"IF((IF(restoZero(OK1090,25),(spaziIntermedi(OK1090,25))+1,spaziIntermedi(OK1090,25)))=(spaziIntermedi(OL1090,25)),FALSE,TRUE)","v":true},0,{"$f":"+spaziIntermedi(OL1090,25)-ON1090","v":0},false,0,null,0,0,null,null,null,0,0,0,0,0,null,null,0,0,{"$f":"IF((IF(restoZero(PE1090,25),(spaziIntermedi(PE1090,25))+1,spaziIntermedi(PE1090,25)))=(spaziIntermedi(PF1090,25)),FALSE,TRUE)","v":true},0,{"$f":"+spaziIntermedi(PF1090,25)-PH1090","v":0},false,0,null,0,0,null,null,null,0,0,0,null,null,0,0,{"$f":"IF((IF(restoZero(PW1090,25),(spaziIntermedi(PW1090,25))+1,spaziIntermedi(PW1090,25)))=(spaziIntermedi(PX1090,25)),FALSE,TRUE)","v":true},0,{"$f":"+spaziIntermedi(PX1090,25)-PZ1090","v":0},false,0,null,0,0,null,null,null,0,0,0,0,0,null,null,0,0,{"$f":"IF((IF(restoZero(QQ1090,25),(spaziIntermedi(QQ1090,25))+1,spaziIntermedi(QQ1090,25)))=(spaziIntermedi(QR1090,25)),FALSE,TRUE)","v":true},0,{"$f":"+spaziIntermedi(QR1090,25)-QT1090","v":0},false,0,null,0,0,null,null,null,0,0,0,null,null,0,0,{"$f":"IF((IF(restoZero(RI1090,25),(spaziIntermedi(RI1090,25))+1,spaziIntermedi(RI1090,25)))=(spaziIntermedi(RJ1090,25)),FALSE,TRUE)","v":true},0,{"$f":"+spaziIntermedi(RJ1090,25)-RL1090","v":0},false,0,null,0,0,null,null,null,0,0,0,0,0,null,null,0,0,{"$f":"IF((IF(restoZero(SC1090,25),(spaziIntermedi(SC1090,25))+1,spaziIntermedi(SC1090,25)))=(spaziIntermedi(SD1090,25)),FALSE,TRUE)","v":true},0,{"$f":"+spaziIntermedi(SD1090,25)-SF1090","v":0},false,0,null,0,0,null,null,null,0,0,0,null,null,0,0,{"$f":"IF((IF(restoZero(SU1090,25),(spaziIntermedi(SU1090,25))+1,spaziIntermedi(SU1090,25)))=(spaziIntermedi(SV1090,25)),FALSE,TRUE)","v":true},0,{"$f":"+spaziIntermedi(SV1090,25)-SX1090","v":0},false,0,null,0,0,null,null,null,0,0,0,0,0]
[null,null,0,0,{"$f":"IF((IF(restoZero(C1115,25),(spaziIntermedi(C1115,25))+1,spaziIntermedi(C1115,25)))=(spaziIntermedi(D1115,25)),FALSE,TRUE)","v":true},0,{"$f":"+spaziIntermedi(D1115,25)-F1115","v":0},false,0,null,0,0,null,null,null,0,0,0,null,null,0,0,{"$f":"IF((IF(restoZero(U1115,25),(spaziIntermedi(U1115,25))+1,spaziIntermedi(U1115,25)))=(spaziIntermedi(V1115,25)),FALSE,TRUE)","v":true},0,{"$f":"+spaziIntermedi(V1115,25)-X1115","v":0},false,0,null,0,0,null,null,null,0,0,0,0,0,null,null,0,0,{"$f":"IF((IF(restoZero(AO1115,25),(spaziIntermedi(AO1115,25))+1,spaziIntermedi(AO1115,25)))=(spaziIntermedi(AP1115,25)),FALSE,TRUE)","v":true},0,{"$f":"+spaziIntermedi(AP1115,25)-AR1115","v":0},false,0,null,0,0,null,null,null,0,0,0,null,null,0,0,{"$f":"IF((IF(restoZero(BG1115,25),(spaziIntermedi(BG1115,25))+1,spaziIntermedi(BG1115,25)))=(spaziIntermedi(BH1115,25)),FALSE,TRUE)","v":true},0,{"$f":"+spaziIntermedi(BH1115,25)-BJ1115","v":0},false,0,null,0,0,null,null,null,0,0,0,0,0,null,null,0,0,{"$f":"IF((IF(restoZero(CA1115,25),(spaziIntermedi(CA1115,25))+1,spaziIntermedi(CA1115,25)))=(spaziIntermedi(CB1115,25)),FALSE,TRUE)","v":true},0,{"$f":"+spaziIntermedi(CB1115,25)-CD1115","v":0},false,0,null,0,0,null,null,null,0,0,0,null,null,0,0,{"$f":"IF((IF(restoZero(CS1115,25),(spaziIntermedi(CS1115,25))+1,spaziIntermedi(CS1115,25)))=(spaziIntermedi(CT1115,25)),FALSE,TRUE)","v":true},0,{"$f":"+spaziIntermedi(CT1115,25)-CV1115","v":0},false,0,null,0,0,null,null,null,0,0,0,0,0,null,null,0,0,{"$f":"IF((IF(restoZero(DM1115,25),(spaziIntermedi(DM1115,25))+1,spaziIntermedi(DM1115,25)))=(spaziIntermedi(DN1115,25)),FALSE,TRUE)","v":true},0,{"$f":"+spaziIntermedi(DN1115,25)-DP1115","v":0},false,0,null,0,0,null,null,null,0,0,0,null,null,0,0,{"$f":"IF((IF(restoZero(EE1115,25),(spaziIntermedi(EE1115,25))+1,spaziIntermedi(EE1115,25)))=(spaziIntermedi(EF1115,25)),FALSE,TRUE)","v":true},0,{"$f":"+spaziIntermedi(EF1115,25)-EH1115","v":0},false,0,null,0,0,null,null,null,0,0,0,0,0,null,null,0,0,{"$f":"IF((IF(restoZero(EY1115,25),(spaziIntermedi(EY1115,25))+1,spaziIntermedi(EY1115,25)))=(spaziIntermedi(EZ1115,25)),FALSE,TRUE)","v":true},0,{"$f":"+spaziIntermedi(EZ1115,25)-FB1115","v":0},false,0,null,0,0,null,null,null,0,0,0,null,null,0,0,{"$f":"IF((IF(restoZero(FQ1115,25),(spaziIntermedi(FQ1115,25))+1,spaziIntermedi(FQ1115,25)))=(spaziIntermedi(FR1115,25)),FALSE,TRUE)","v":true},0,{"$f":"+spaziIntermedi(FR1115,25)-FT1115","v":0},false,0,null,0,0,null,null,null,0,0,0,0,0,null,null,0,0,{"$f":"IF((IF(restoZero(GK1115,25),(spaziIntermedi(GK1115,25))+1,spaziIntermedi(GK1115,25)))=(spaziIntermedi(GL1115,25)),FALSE,TRUE)","v":true},0,{"$f":"+spaziIntermedi(GL1115,25)-GN1115","v":0},false,0,null,0,0,null,null,null,0,0,0,null,null,0,0,{"$f":"IF((IF(restoZero(HC1115,25),(spaziIntermedi(HC1115,25))+1,spaziIntermedi(HC1115,25)))=(spaziIntermedi(HD1115,25)),FALSE,TRUE)","v":true},0,{"$f":"+spaziIntermedi(HD1115,25)-HF1115","v":0},false,0,null,0,0,null,null,null,0,0,0,0,0,null,null,0,0,{"$f":"IF((IF(restoZero(HW1115,25),(spaziIntermedi(HW1115,25))+1,spaziIntermedi(HW1115,25)))=(spaziIntermedi(HX1115,25)),FALSE,TRUE)","v":true},0,{"$f":"+spaziIntermedi(HX1115,25)-HZ1115","v":0},false,0,null,0,0,null,null,null,0,0,0,null,null,0,0,{"$f":"IF((IF(restoZero(IO1115,25),(spaziIntermedi(IO1115,25))+1,spaziIntermedi(IO1115,25)))=(spaziIntermedi(IP1115,25)),FALSE,TRUE)","v":true},0,{"$f":"+spaziIntermedi(IP1115,25)-IR1115","v":0},false,0,null,0,0,null,null,null,0,0,0,0,0,null,null,0,0,{"$f":"IF((IF(restoZero(JI1115,25),(spaziIntermedi(JI1115,25))+1,spaziIntermedi(JI1115,25)))=(spaziIntermedi(JJ1115,25)),FALSE,TRUE)","v":true},0,{"$f":"+spaziIntermedi(JJ1115,25)-JL1115","v":0},false,0,null,0,0,null,null,null,0,0,0,null,null,0,0,{"$f":"IF((IF(restoZero(KA1115,25),(spaziIntermedi(KA1115,25))+1,spaziIntermedi(KA1115,25)))=(spaziIntermedi(KB1115,25)),FALSE,TRUE)","v":true},0,{"$f":"+spaziIntermedi(KB1115,25)-KD1115","v":0},false,0,null,0,0,null,null,null,0,0,0,0,0,null,null,0,0,{"$f":"IF((IF(restoZero(KU1115,25),(spaziIntermedi(KU1115,25))+1,spaziIntermedi(KU1115,25)))=(spaziIntermedi(KV1115,25)),FALSE,TRUE)","v":true},0,{"$f":"+spaziIntermedi(KV1115,25)-KX1115","v":0},false,0,null,0,0,null,null,null,0,0,0,null,null,0,0,{"$f":"IF((IF(restoZero(LM1115,25),(spaziIntermedi(LM1115,25))+1,spaziIntermedi(LM1115,25)))=(spaziIntermedi(LN1115,25)),FALSE,TRUE)","v":true},0,{"$f":"+spaziIntermedi(LN1115,25)-LP1115","v":0},false,0,null,0,0,null,null,null,0,0,0,0,0,null,null,0,0,{"$f":"IF((IF(restoZero(MG1115,25),(spaziIntermedi(MG1115,25))+1,spaziIntermedi(MG1115,25)))=(spaziIntermedi(MH1115,25)),FALSE,TRUE)","v":true},0,{"$f":"+spaziIntermedi(MH1115,25)-MJ1115","v":0},false,0,null,0,0,null,null,null,0,0,0,null,null,0,0,{"$f":"IF((IF(restoZero(MY1115,25),(spaziIntermedi(MY1115,25))+1,spaziIntermedi(MY1115,25)))=(spaziIntermedi(MZ1115,25)),FALSE,TRUE)","v":true},0,{"$f":"+spaziIntermedi(MZ1115,25)-NB1115","v":0},false,0,null,0,0,null,null,null,0,0,0,0,0,null,null,0,0,{"$f":"IF((IF(restoZero(NS1115,25),(spaziIntermedi(NS1115,25))+1,spaziIntermedi(NS1115,25)))=(spaziIntermedi(NT1115,25)),FALSE,TRUE)","v":true},0,{"$f":"+spaziIntermedi(NT1115,25)-NV1115","v":0},false,0,null,0,0,null,null,null,0,0,0,null,null,0,0,{"$f":"IF((IF(restoZero(OK1115,25),(spaziIntermedi(OK1115,25))+1,spaziIntermedi(OK1115,25)))=(spaziIntermedi(OL1115,25)),FALSE,TRUE)","v":true},0,{"$f":"+spaziIntermedi(OL1115,25)-ON1115","v":0},false,0,null,0,0,null,null,null,0,0,0,0,0,null,null,0,0,{"$f":"IF((IF(restoZero(PE1115,25),(spaziIntermedi(PE1115,25))+1,spaziIntermedi(PE1115,25)))=(spaziIntermedi(PF1115,25)),FALSE,TRUE)","v":true},0,{"$f":"+spaziIntermedi(PF1115,25)-PH1115","v":0},false,0,null,0,0,null,null,null,0,0,0,null,null,0,0,{"$f":"IF((IF(restoZero(PW1115,25),(spaziIntermedi(PW1115,25))+1,spaziIntermedi(PW1115,25)))=(spaziIntermedi(PX1115,25)),FALSE,TRUE)","v":true},0,{"$f":"+spaziIntermedi(PX1115,25)-PZ1115","v":0},false,0,null,0,0,null,null,null,0,0,0,0,0,null,null,0,0,{"$f":"IF((IF(restoZero(QQ1115,25),(spaziIntermedi(QQ1115,25))+1,spaziIntermedi(QQ1115,25)))=(spaziIntermedi(QR1115,25)),FALSE,TRUE)","v":true},0,{"$f":"+spaziIntermedi(QR1115,25)-QT1115","v":0},false,0,null,0,0,null,null,null,0,0,0,null,null,0,0,{"$f":"IF((IF(restoZero(RI1115,25),(spaziIntermedi(RI1115,25))+1,spaziIntermedi(RI1115,25)))=(spaziIntermedi(RJ1115,25)),FALSE,TRUE)","v":true},0,{"$f":"+spaziIntermedi(RJ1115,25)-RL1115","v":0},false,0,null,0,0,null,null,null,0,0,0,0,0,null,null,0,0,{"$f":"IF((IF(restoZero(SC1115,25),(spaziIntermedi(SC1115,25))+1,spaziIntermedi(SC1115,25)))=(spaziIntermedi(SD1115,25)),FALSE,TRUE)","v":true},0,{"$f":"+spaziIntermedi(SD1115,25)-SF1115","v":0},false,0,null,0,0,null,null,null,0,0,0,null,null,0,0,{"$f":"IF((IF(restoZero(SU1115,25),(spaziIntermedi(SU1115,25))+1,spaziIntermedi(SU1115,25)))=(spaziIntermedi(SV1115,25)),FALSE,TRUE)","v":true},0,{"$f":"+spaziIntermedi(SV1115,25)-SX1115","v":0},false,0,null,0,0,null,null,null,0,0,0,0,0]
[null,null,0,0,{"$f":"IF((IF(restoZero(C1134,25),(spaziIntermedi(C1134,25))+1,spaziIntermedi(C1134,25)))=(spaziIntermedi(D1134,25)),FALSE,TRUE)","v":true},0,{"$f":"+spaziIntermedi(D1134,25)-F1134","v":0},false,0,null,0,0,null,null,null,0,0,0,null,null,0,0,{"$f":"IF((IF(restoZero(U1134,25),(spaziIntermedi(U1134,25))+1,spaziIntermedi(U1134,25)))=(spaziIntermedi(V1134,25)),FALSE,TRUE)","v":true},0,{"$f":"+spaziIntermedi(V1134,25)-X1134","v":0},false,0,null,0,0,null,null,null,0,0,0,0,0,null,null,0,0,{"$f":"IF((IF(restoZero(AO1134,25),(spaziIntermedi(AO1134,25))+1,spaziIntermedi(AO1134,25)))=(spaziIntermedi(AP1134,25)),FALSE,TRUE)","v":true},0,{"$f":"+spaziIntermedi(AP1134,25)-AR1134","v":0},false,0,null,0,0,null,null,null,0,0,0,null,null,0,0,{"$f":"IF((IF(restoZero(BG1134,25),(spaziIntermedi(BG1134,25))+1,spaziIntermedi(BG1134,25)))=(spaziIntermedi(BH1134,25)),FALSE,TRUE)","v":true},0,{"$f":"+spaziIntermedi(BH1134,25)-BJ1134","v":0},false,0,null,0,0,null,null,null,0,0,0,0,0,null,null,0,0,{"$f":"IF((IF(restoZero(CA1134,25),(spaziIntermedi(CA1134,25))+1,spaziIntermedi(CA1134,25)))=(spaziIntermedi(CB1134,25)),FALSE,TRUE)","v":true},0,{"$f":"+spaziIntermedi(CB1134,25)-CD1134","v":0},false,0,null,0,0,null,null,null,0,0,0,null,null,0,0,{"$f":"IF((IF(restoZero(CS1134,25),(spaziIntermedi(CS1134,25))+1,spaziIntermedi(CS1134,25)))=(spaziIntermedi(CT1134,25)),FALSE,TRUE)","v":true},0,{"$f":"+spaziIntermedi(CT1134,25)-CV1134","v":0},false,0,null,0,0,null,null,null,0,0,0,0,0,null,null,0,0,{"$f":"IF((IF(restoZero(DM1134,25),(spaziIntermedi(DM1134,25))+1,spaziIntermedi(DM1134,25)))=(spaziIntermedi(DN1134,25)),FALSE,TRUE)","v":true},0,{"$f":"+spaziIntermedi(DN1134,25)-DP1134","v":0},false,0,null,0,0,null,null,null,0,0,0,null,null,0,0,{"$f":"IF((IF(restoZero(EE1134,25),(spaziIntermedi(EE1134,25))+1,spaziIntermedi(EE1134,25)))=(spaziIntermedi(EF1134,25)),FALSE,TRUE)","v":true},0,{"$f":"+spaziIntermedi(EF1134,25)-EH1134","v":0},false,0,null,0,0,null,null,null,0,0,0,0,0,null,null,0,0,{"$f":"IF((IF(restoZero(EY1134,25),(spaziIntermedi(EY1134,25))+1,spaziIntermedi(EY1134,25)))=(spaziIntermedi(EZ1134,25)),FALSE,TRUE)","v":true},0,{"$f":"+spaziIntermedi(EZ1134,25)-FB1134","v":0},false,0,null,0,0,null,null,null,0,0,0,null,null,0,0,{"$f":"IF((IF(restoZero(FQ1134,25),(spaziIntermedi(FQ1134,25))+1,spaziIntermedi(FQ1134,25)))=(spaziIntermedi(FR1134,25)),FALSE,TRUE)","v":true},0,{"$f":"+spaziIntermedi(FR1134,25)-FT1134","v":0},false,0,null,0,0,null,null,null,0,0,0,0,0,null,null,0,0,{"$f":"IF((IF(restoZero(GK1134,25),(spaziIntermedi(GK1134,25))+1,spaziIntermedi(GK1134,25)))=(spaziIntermedi(GL1134,25)),FALSE,TRUE)","v":true},0,{"$f":"+spaziIntermedi(GL1134,25)-GN1134","v":0},false,0,null,0,0,null,null,null,0,0,0,null,null,0,0,{"$f":"IF((IF(restoZero(HC1134,25),(spaziIntermedi(HC1134,25))+1,spaziIntermedi(HC1134,25)))=(spaziIntermedi(HD1134,25)),FALSE,TRUE)","v":true},0,{"$f":"+spaziIntermedi(HD1134,25)-HF1134","v":0},false,0,null,0,0,null,null,null,0,0,0,0,0,null,null,0,0,{"$f":"IF((IF(restoZero(HW1134,25),(spaziIntermedi(HW1134,25))+1,spaziIntermedi(HW1134,25)))=(spaziIntermedi(HX1134,25)),FALSE,TRUE)","v":true},0,{"$f":"+spaziIntermedi(HX1134,25)-HZ1134","v":0},false,0,null,0,0,null,null,null,0,0,0,null,null,0,0,{"$f":"IF((IF(restoZero(IO1134,25),(spaziIntermedi(IO1134,25))+1,spaziIntermedi(IO1134,25)))=(spaziIntermedi(IP1134,25)),FALSE,TRUE)","v":true},0,{"$f":"+spaziIntermedi(IP1134,25)-IR1134","v":0},false,0,null,0,0,null,null,null,0,0,0,0,0,null,null,0,0,{"$f":"IF((IF(restoZero(JI1134,25),(spaziIntermedi(JI1134,25))+1,spaziIntermedi(JI1134,25)))=(spaziIntermedi(JJ1134,25)),FALSE,TRUE)","v":true},0,{"$f":"+spaziIntermedi(JJ1134,25)-JL1134","v":0},false,0,null,0,0,null,null,null,0,0,0,null,null,0,0,{"$f":"IF((IF(restoZero(KA1134,25),(spaziIntermedi(KA1134,25))+1,spaziIntermedi(KA1134,25)))=(spaziIntermedi(KB1134,25)),FALSE,TRUE)","v":true},0,{"$f":"+spaziIntermedi(KB1134,25)-KD1134","v":0},false,0,null,0,0,null,null,null,0,0,0,0,0,null,null,0,0,{"$f":"IF((IF(restoZero(KU1134,25),(spaziIntermedi(KU1134,25))+1,spaziIntermedi(KU1134,25)))=(spaziIntermedi(KV1134,25)),FALSE,TRUE)","v":true},0,{"$f":"+spaziIntermedi(KV1134,25)-KX1134","v":0},false,0,null,0,0,null,null,null,0,0,0,null,null,0,0,{"$f":"IF((IF(restoZero(LM1134,25),(spaziIntermedi(LM1134,25))+1,spaziIntermedi(LM1134,25)))=(spaziIntermedi(LN1134,25)),FALSE,TRUE)","v":true},0,{"$f":"+spaziIntermedi(LN1134,25)-LP1134","v":0},false,0,null,0,0,null,null,null,0,0,0,0,0,null,null,0,0,{"$f":"IF((IF(restoZero(MG1134,25),(spaziIntermedi(MG1134,25))+1,spaziIntermedi(MG1134,25)))=(spaziIntermedi(MH1134,25)),FALSE,TRUE)","v":true},0,{"$f":"+spaziIntermedi(MH1134,25)-MJ1134","v":0},false,0,null,0,0,null,null,null,0,0,0,null,null,0,0,{"$f":"IF((IF(restoZero(MY1134,25),(spaziIntermedi(MY1134,25))+1,spaziIntermedi(MY1134,25)))=(spaziIntermedi(MZ1134,25)),FALSE,TRUE)","v":true},0,{"$f":"+spaziIntermedi(MZ1134,25)-NB1134","v":0},false,0,null,0,0,null,null,null,0,0,0,0,0,null,null,0,0,{"$f":"IF((IF(restoZero(NS1134,25),(spaziIntermedi(NS1134,25))+1,spaziIntermedi(NS1134,25)))=(spaziIntermedi(NT1134,25)),FALSE,TRUE)","v":true},0,{"$f":"+spaziIntermedi(NT1134,25)-NV1134","v":0},false,0,null,0,0,null,null,null,0,0,0,null,null,0,0,{"$f":"IF((IF(restoZero(OK1134,25),(spaziIntermedi(OK1134,25))+1,spaziIntermedi(OK1134,25)))=(spaziIntermedi(OL1134,25)),FALSE,TRUE)","v":true},0,{"$f":"+spaziIntermedi(OL1134,25)-ON1134","v":0},false,0,null,0,0,null,null,null,0,0,0,0,0,null,null,0,0,{"$f":"IF((IF(restoZero(PE1134,25),(spaziIntermedi(PE1134,25))+1,spaziIntermedi(PE1134,25)))=(spaziIntermedi(PF1134,25)),FALSE,TRUE)","v":true},0,{"$f":"+spaziIntermedi(PF1134,25)-PH1134","v":0},false,0,null,0,0,null,null,null,0,0,0,null,null,0,0,{"$f":"IF((IF(restoZero(PW1134,25),(spaziIntermedi(PW1134,25))+1,spaziIntermedi(PW1134,25)))=(spaziIntermedi(PX1134,25)),FALSE,TRUE)","v":true},0,{"$f":"+spaziIntermedi(PX1134,25)-PZ1134","v":0},false,0,null,0,0,null,null,null,0,0,0,0,0,null,null,0,0,{"$f":"IF((IF(restoZero(QQ1134,25),(spaziIntermedi(QQ1134,25))+1,spaziIntermedi(QQ1134,25)))=(spaziIntermedi(QR1134,25)),FALSE,TRUE)","v":true},0,{"$f":"+spaziIntermedi(QR1134,25)-QT1134","v":0},false,0,null,0,0,null,null,null,0,0,0,null,null,0,0,{"$f":"IF((IF(restoZero(RI1134,25),(spaziIntermedi(RI1134,25))+1,spaziIntermedi(RI1134,25)))=(spaziIntermedi(RJ1134,25)),FALSE,TRUE)","v":true},0,{"$f":"+spaziIntermedi(RJ1134,25)-RL1134","v":0},false,0,null,0,0,null,null,null,0,0,0,0,0,null,null,0,0,{"$f":"IF((IF(restoZero(SC1134,25),(spaziIntermedi(SC1134,25))+1,spaziIntermedi(SC1134,25)))=(spaziIntermedi(SD1134,25)),FALSE,TRUE)","v":true},0,{"$f":"+spaziIntermedi(SD1134,25)-SF1134","v":0},false,0,null,0,0,null,null,null,0,0,0,null,null,0,0,{"$f":"IF((IF(restoZero(SU1134,25),(spaziIntermedi(SU1134,25))+1,spaziIntermedi(SU1134,25)))=(spaziIntermedi(SV1134,25)),FALSE,TRUE)","v":true},0,{"$f":"+spaziIntermedi(SV1134,25)-SX1134","v":0},false,0,null,0,0,null,null,null,0,0,0,0,0]
[null,null,0,0,{"$f":"IF((IF(restoZero(C1153,25),(spaziIntermedi(C1153,25))+1,spaziIntermedi(C1153,25)))=(spaziIntermedi(D1153,25)),FALSE,TRUE)","v":true},0,{"$f":"+spaziIntermedi(D1153,25)-F1153","v":0},false,0,null,0,0,null,null,null,0,0,0,null,null,0,0,{"$f":"IF((IF(restoZero(U1153,25),(spaziIntermedi(U1153,25))+1,spaziIntermedi(U1153,25)))=(spaziIntermedi(V1153,25)),FALSE,TRUE)","v":true},0,{"$f":"+spaziIntermedi(V1153,25)-X1153","v":0},false,0,null,0,0,null,null,null,0,0,0,0,0,null,null,0,0,{"$f":"IF((IF(restoZero(AO1153,25),(spaziIntermedi(AO1153,25))+1,spaziIntermedi(AO1153,25)))=(spaziIntermedi(AP1153,25)),FALSE,TRUE)","v":true},0,{"$f":"+spaziIntermedi(AP1153,25)-AR1153","v":0},false,0,null,0,0,null,null,null,0,0,0,null,null,0,0,{"$f":"IF((IF(restoZero(BG1153,25),(spaziIntermedi(BG1153,25))+1,spaziIntermedi(BG1153,25)))=(spaziIntermedi(BH1153,25)),FALSE,TRUE)","v":true},0,{"$f":"+spaziIntermedi(BH1153,25)-BJ1153","v":0},false,0,null,0,0,null,null,null,0,0,0,0,0,null,null,0,0,{"$f":"IF((IF(restoZero(CA1153,25),(spaziIntermedi(CA1153,25))+1,spaziIntermedi(CA1153,25)))=(spaziIntermedi(CB1153,25)),FALSE,TRUE)","v":true},0,{"$f":"+spaziIntermedi(CB1153,25)-CD1153","v":0},false,0,null,0,0,null,null,null,0,0,0,null,null,0,0,{"$f":"IF((IF(restoZero(CS1153,25),(spaziIntermedi(CS1153,25))+1,spaziIntermedi(CS1153,25)))=(spaziIntermedi(CT1153,25)),FALSE,TRUE)","v":true},0,{"$f":"+spaziIntermedi(CT1153,25)-CV1153","v":0},false,0,null,0,0,null,null,null,0,0,0,0,0,null,null,0,0,{"$f":"IF((IF(restoZero(DM1153,25),(spaziIntermedi(DM1153,25))+1,spaziIntermedi(DM1153,25)))=(spaziIntermedi(DN1153,25)),FALSE,TRUE)","v":true},0,{"$f":"+spaziIntermedi(DN1153,25)-DP1153","v":0},false,0,null,0,0,null,null,null,0,0,0,null,null,0,0,{"$f":"IF((IF(restoZero(EE1153,25),(spaziIntermedi(EE1153,25))+1,spaziIntermedi(EE1153,25)))=(spaziIntermedi(EF1153,25)),FALSE,TRUE)","v":true},0,{"$f":"+spaziIntermedi(EF1153,25)-EH1153","v":0},false,0,null,0,0,null,null,null,0,0,0,0,0,null,null,0,0,{"$f":"IF((IF(restoZero(EY1153,25),(spaziIntermedi(EY1153,25))+1,spaziIntermedi(EY1153,25)))=(spaziIntermedi(EZ1153,25)),FALSE,TRUE)","v":true},0,{"$f":"+spaziIntermedi(EZ1153,25)-FB1153","v":0},false,0,null,0,0,null,null,null,0,0,0,null,null,0,0,{"$f":"IF((IF(restoZero(FQ1153,25),(spaziIntermedi(FQ1153,25))+1,spaziIntermedi(FQ1153,25)))=(spaziIntermedi(FR1153,25)),FALSE,TRUE)","v":true},0,{"$f":"+spaziIntermedi(FR1153,25)-FT1153","v":0},false,0,null,0,0,null,null,null,0,0,0,0,0,null,null,0,0,{"$f":"IF((IF(restoZero(GK1153,25),(spaziIntermedi(GK1153,25))+1,spaziIntermedi(GK1153,25)))=(spaziIntermedi(GL1153,25)),FALSE,TRUE)","v":true},0,{"$f":"+spaziIntermedi(GL1153,25)-GN1153","v":0},false,0,null,0,0,null,null,null,0,0,0,null,null,0,0,{"$f":"IF((IF(restoZero(HC1153,25),(spaziIntermedi(HC1153,25))+1,spaziIntermedi(HC1153,25)))=(spaziIntermedi(HD1153,25)),FALSE,TRUE)","v":true},0,{"$f":"+spaziIntermedi(HD1153,25)-HF1153","v":0},false,0,null,0,0,null,null,null,0,0,0,0,0,null,null,0,0,{"$f":"IF((IF(restoZero(HW1153,25),(spaziIntermedi(HW1153,25))+1,spaziIntermedi(HW1153,25)))=(spaziIntermedi(HX1153,25)),FALSE,TRUE)","v":true},0,{"$f":"+spaziIntermedi(HX1153,25)-HZ1153","v":0},false,0,null,0,0,null,null,null,0,0,0,null,null,0,0,{"$f":"IF((IF(restoZero(IO1153,25),(spaziIntermedi(IO1153,25))+1,spaziIntermedi(IO1153,25)))=(spaziIntermedi(IP1153,25)),FALSE,TRUE)","v":true},0,{"$f":"+spaziIntermedi(IP1153,25)-IR1153","v":0},false,0,null,0,0,null,null,null,0,0,0,0,0,null,null,0,0,{"$f":"IF((IF(restoZero(JI1153,25),(spaziIntermedi(JI1153,25))+1,spaziIntermedi(JI1153,25)))=(spaziIntermedi(JJ1153,25)),FALSE,TRUE)","v":true},0,{"$f":"+spaziIntermedi(JJ1153,25)-JL1153","v":0},false,0,null,0,0,null,null,null,0,0,0,null,null,0,0,{"$f":"IF((IF(restoZero(KA1153,25),(spaziIntermedi(KA1153,25))+1,spaziIntermedi(KA1153,25)))=(spaziIntermedi(KB1153,25)),FALSE,TRUE)","v":true},0,{"$f":"+spaziIntermedi(KB1153,25)-KD1153","v":0},false,0,null,0,0,null,null,null,0,0,0,0,0,null,null,0,0,{"$f":"IF((IF(restoZero(KU1153,25),(spaziIntermedi(KU1153,25))+1,spaziIntermedi(KU1153,25)))=(spaziIntermedi(KV1153,25)),FALSE,TRUE)","v":true},0,{"$f":"+spaziIntermedi(KV1153,25)-KX1153","v":0},false,0,null,0,0,null,null,null,0,0,0,null,null,0,0,{"$f":"IF((IF(restoZero(LM1153,25),(spaziIntermedi(LM1153,25))+1,spaziIntermedi(LM1153,25)))=(spaziIntermedi(LN1153,25)),FALSE,TRUE)","v":true},0,{"$f":"+spaziIntermedi(LN1153,25)-LP1153","v":0},false,0,null,0,0,null,null,null,0,0,0,0,0,null,null,0,0,{"$f":"IF((IF(restoZero(MG1153,25),(spaziIntermedi(MG1153,25))+1,spaziIntermedi(MG1153,25)))=(spaziIntermedi(MH1153,25)),FALSE,TRUE)","v":true},0,{"$f":"+spaziIntermedi(MH1153,25)-MJ1153","v":0},false,0,null,0,0,null,null,null,0,0,0,null,null,0,0,{"$f":"IF((IF(restoZero(MY1153,25),(spaziIntermedi(MY1153,25))+1,spaziIntermedi(MY1153,25)))=(spaziIntermedi(MZ1153,25)),FALSE,TRUE)","v":true},0,{"$f":"+spaziIntermedi(MZ1153,25)-NB1153","v":0},false,0,null,0,0,null,null,null,0,0,0,0,0,null,null,0,0,{"$f":"IF((IF(restoZero(NS1153,25),(spaziIntermedi(NS1153,25))+1,spaziIntermedi(NS1153,25)))=(spaziIntermedi(NT1153,25)),FALSE,TRUE)","v":true},0,{"$f":"+spaziIntermedi(NT1153,25)-NV1153","v":0},false,0,null,0,0,null,null,null,0,0,0,null,null,0,0,{"$f":"IF((IF(restoZero(OK1153,25),(spaziIntermedi(OK1153,25))+1,spaziIntermedi(OK1153,25)))=(spaziIntermedi(OL1153,25)),FALSE,TRUE)","v":true},0,{"$f":"+spaziIntermedi(OL1153,25)-ON1153","v":0},false,0,null,0,0,null,null,null,0,0,0,0,0,null,null,0,0,{"$f":"IF((IF(restoZero(PE1153,25),(spaziIntermedi(PE1153,25))+1,spaziIntermedi(PE1153,25)))=(spaziIntermedi(PF1153,25)),FALSE,TRUE)","v":true},0,{"$f":"+spaziIntermedi(PF1153,25)-PH1153","v":0},false,0,null,0,0,null,null,null,0,0,0,null,null,0,0,{"$f":"IF((IF(restoZero(PW1153,25),(spaziIntermedi(PW1153,25))+1,spaziIntermedi(PW1153,25)))=(spaziIntermedi(PX1153,25)),FALSE,TRUE)","v":true},0,{"$f":"+spaziIntermedi(PX1153,25)-PZ1153","v":0},false,0,null,0,0,null,null,null,0,0,0,0,0,null,null,0,0,{"$f":"IF((IF(restoZero(QQ1153,25),(spaziIntermedi(QQ1153,25))+1,spaziIntermedi(QQ1153,25)))=(spaziIntermedi(QR1153,25)),FALSE,TRUE)","v":true},0,{"$f":"+spaziIntermedi(QR1153,25)-QT1153","v":0},false,0,null,0,0,null,null,null,0,0,0,null,null,0,0,{"$f":"IF((IF(restoZero(RI1153,25),(spaziIntermedi(RI1153,25))+1,spaziIntermedi(RI1153,25)))=(spaziIntermedi(RJ1153,25)),FALSE,TRUE)","v":true},0,{"$f":"+spaziIntermedi(RJ1153,25)-RL1153","v":0},false,0,null,0,0,null,null,null,0,0,0,0,0,null,null,0,0,{"$f":"IF((IF(restoZero(SC1153,25),(spaziIntermedi(SC1153,25))+1,spaziIntermedi(SC1153,25)))=(spaziIntermedi(SD1153,25)),FALSE,TRUE)","v":true},0,{"$f":"+spaziIntermedi(SD1153,25)-SF1153","v":0},false,0,null,0,0,null,null,null,0,0,0,null,null,0,0,{"$f":"IF((IF(restoZero(SU1153,25),(spaziIntermedi(SU1153,25))+1,spaziIntermedi(SU1153,25)))=(spaziIntermedi(SV1153,25)),FALSE,TRUE)","v":true},0,{"$f":"+spaziIntermedi(SV1153,25)-SX1153","v":0},false,0,null,0,0,null,null,null,0,0,0,0,0]
[null,null,0,0,{"$f":"IF((IF(restoZero(C1159,25),(spaziIntermedi(C1159,25))+1,spaziIntermedi(C1159,25)))=(spaziIntermedi(D1159,25)),FALSE,TRUE)","v":true},0,{"$f":"+spaziIntermedi(D1159,25)-F1159","v":0},false,0,null,0,0,null,null,null,0,0,0,null,null,0,0,{"$f":"IF((IF(restoZero(U1159,25),(spaziIntermedi(U1159,25))+1,spaziIntermedi(U1159,25)))=(spaziIntermedi(V1159,25)),FALSE,TRUE)","v":true},0,{"$f":"+spaziIntermedi(V1159,25)-X1159","v":0},false,0,null,0,0,null,null,null,0,0,0,0,0,null,null,0,0,{"$f":"IF((IF(restoZero(AO1159,25),(spaziIntermedi(AO1159,25))+1,spaziIntermedi(AO1159,25)))=(spaziIntermedi(AP1159,25)),FALSE,TRUE)","v":true},0,{"$f":"+spaziIntermedi(AP1159,25)-AR1159","v":0},false,0,null,0,0,null,null,null,0,0,0,null,null,0,0,{"$f":"IF((IF(restoZero(BG1159,25),(spaziIntermedi(BG1159,25))+1,spaziIntermedi(BG1159,25)))=(spaziIntermedi(BH1159,25)),FALSE,TRUE)","v":true},0,{"$f":"+spaziIntermedi(BH1159,25)-BJ1159","v":0},false,0,null,0,0,null,null,null,0,0,0,0,0,null,null,0,0,{"$f":"IF((IF(restoZero(CA1159,25),(spaziIntermedi(CA1159,25))+1,spaziIntermedi(CA1159,25)))=(spaziIntermedi(CB1159,25)),FALSE,TRUE)","v":true},0,{"$f":"+spaziIntermedi(CB1159,25)-CD1159","v":0},false,0,null,0,0,null,null,null,0,0,0,null,null,0,0,{"$f":"IF((IF(restoZero(CS1159,25),(spaziIntermedi(CS1159,25))+1,spaziIntermedi(CS1159,25)))=(spaziIntermedi(CT1159,25)),FALSE,TRUE)","v":true},0,{"$f":"+spaziIntermedi(CT1159,25)-CV1159","v":0},false,0,null,0,0,null,null,null,0,0,0,0,0,null,null,0,0,{"$f":"IF((IF(restoZero(DM1159,25),(spaziIntermedi(DM1159,25))+1,spaziIntermedi(DM1159,25)))=(spaziIntermedi(DN1159,25)),FALSE,TRUE)","v":true},0,{"$f":"+spaziIntermedi(DN1159,25)-DP1159","v":0},false,0,null,0,0,null,null,null,0,0,0,null,null,0,0,{"$f":"IF((IF(restoZero(EE1159,25),(spaziIntermedi(EE1159,25))+1,spaziIntermedi(EE1159,25)))=(spaziIntermedi(EF1159,25)),FALSE,TRUE)","v":true},0,{"$f":"+spaziIntermedi(EF1159,25)-EH1159","v":0},false,0,null,0,0,null,null,null,0,0,0,0,0,null,null,0,0,{"$f":"IF((IF(restoZero(EY1159,25),(spaziIntermedi(EY1159,25))+1,spaziIntermedi(EY1159,25)))=(spaziIntermedi(EZ1159,25)),FALSE,TRUE)","v":true},0,{"$f":"+spaziIntermedi(EZ1159,25)-FB1159","v":0},false,0,null,0,0,null,null,null,0,0,0,null,null,0,0,{"$f":"IF((IF(restoZero(FQ1159,25),(spaziIntermedi(FQ1159,25))+1,spaziIntermedi(FQ1159,25)))=(spaziIntermedi(FR1159,25)),FALSE,TRUE)","v":true},0,{"$f":"+spaziIntermedi(FR1159,25)-FT1159","v":0},false,0,null,0,0,null,null,null,0,0,0,0,0,null,null,0,0,{"$f":"IF((IF(restoZero(GK1159,25),(spaziIntermedi(GK1159,25))+1,spaziIntermedi(GK1159,25)))=(spaziIntermedi(GL1159,25)),FALSE,TRUE)","v":true},0,{"$f":"+spaziIntermedi(GL1159,25)-GN1159","v":0},false,0,null,0,0,null,null,null,0,0,0,null,null,0,0,{"$f":"IF((IF(restoZero(HC1159,25),(spaziIntermedi(HC1159,25))+1,spaziIntermedi(HC1159,25)))=(spaziIntermedi(HD1159,25)),FALSE,TRUE)","v":true},0,{"$f":"+spaziIntermedi(HD1159,25)-HF1159","v":0},false,0,null,0,0,null,null,null,0,0,0,0,0,null,null,0,0,{"$f":"IF((IF(restoZero(HW1159,25),(spaziIntermedi(HW1159,25))+1,spaziIntermedi(HW1159,25)))=(spaziIntermedi(HX1159,25)),FALSE,TRUE)","v":true},0,{"$f":"+spaziIntermedi(HX1159,25)-HZ1159","v":0},false,0,null,0,0,null,null,null,0,0,0,null,null,0,0,{"$f":"IF((IF(restoZero(IO1159,25),(spaziIntermedi(IO1159,25))+1,spaziIntermedi(IO1159,25)))=(spaziIntermedi(IP1159,25)),FALSE,TRUE)","v":true},0,{"$f":"+spaziIntermedi(IP1159,25)-IR1159","v":0},false,0,null,0,0,null,null,null,0,0,0,0,0,null,null,0,0,{"$f":"IF((IF(restoZero(JI1159,25),(spaziIntermedi(JI1159,25))+1,spaziIntermedi(JI1159,25)))=(spaziIntermedi(JJ1159,25)),FALSE,TRUE)","v":true},0,{"$f":"+spaziIntermedi(JJ1159,25)-JL1159","v":0},false,0,null,0,0,null,null,null,0,0,0,null,null,0,0,{"$f":"IF((IF(restoZero(KA1159,25),(spaziIntermedi(KA1159,25))+1,spaziIntermedi(KA1159,25)))=(spaziIntermedi(KB1159,25)),FALSE,TRUE)","v":true},0,{"$f":"+spaziIntermedi(KB1159,25)-KD1159","v":0},false,0,null,0,0,null,null,null,0,0,0,0,0,null,null,0,0,{"$f":"IF((IF(restoZero(KU1159,25),(spaziIntermedi(KU1159,25))+1,spaziIntermedi(KU1159,25)))=(spaziIntermedi(KV1159,25)),FALSE,TRUE)","v":true},0,{"$f":"+spaziIntermedi(KV1159,25)-KX1159","v":0},false,0,null,0,0,null,null,null,0,0,0,null,null,0,0,{"$f":"IF((IF(restoZero(LM1159,25),(spaziIntermedi(LM1159,25))+1,spaziIntermedi(LM1159,25)))=(spaziIntermedi(LN1159,25)),FALSE,TRUE)","v":true},0,{"$f":"+spaziIntermedi(LN1159,25)-LP1159","v":0},false,0,null,0,0,null,null,null,0,0,0,0,0,null,null,0,0,{"$f":"IF((IF(restoZero(MG1159,25),(spaziIntermedi(MG1159,25))+1,spaziIntermedi(MG1159,25)))=(spaziIntermedi(MH1159,25)),FALSE,TRUE)","v":true},0,{"$f":"+spaziIntermedi(MH1159,25)-MJ1159","v":0},false,0,null,0,0,null,null,null,0,0,0,null,null,0,0,{"$f":"IF((IF(restoZero(MY1159,25),(spaziIntermedi(MY1159,25))+1,spaziIntermedi(MY1159,25)))=(spaziIntermedi(MZ1159,25)),FALSE,TRUE)","v":true},0,{"$f":"+spaziIntermedi(MZ1159,25)-NB1159","v":0},false,0,null,0,0,null,null,null,0,0,0,0,0,null,null,0,0,{"$f":"IF((IF(restoZero(NS1159,25),(spaziIntermedi(NS1159,25))+1,spaziIntermedi(NS1159,25)))=(spaziIntermedi(NT1159,25)),FALSE,TRUE)","v":true},0,{"$f":"+spaziIntermedi(NT1159,25)-NV1159","v":0},false,0,null,0,0,null,null,null,0,0,0,null,null,0,0,{"$f":"IF((IF(restoZero(OK1159,25),(spaziIntermedi(OK1159,25))+1,spaziIntermedi(OK1159,25)))=(spaziIntermedi(OL1159,25)),FALSE,TRUE)","v":true},0,{"$f":"+spaziIntermedi(OL1159,25)-ON1159","v":0},false,0,null,0,0,null,null,null,0,0,0,0,0,null,null,0,0,{"$f":"IF((IF(restoZero(PE1159,25),(spaziIntermedi(PE1159,25))+1,spaziIntermedi(PE1159,25)))=(spaziIntermedi(PF1159,25)),FALSE,TRUE)","v":true},0,{"$f":"+spaziIntermedi(PF1159,25)-PH1159","v":0},false,0,null,0,0,null,null,null,0,0,0,null,null,0,0,{"$f":"IF((IF(restoZero(PW1159,25),(spaziIntermedi(PW1159,25))+1,spaziIntermedi(PW1159,25)))=(spaziIntermedi(PX1159,25)),FALSE,TRUE)","v":true},0,{"$f":"+spaziIntermedi(PX1159,25)-PZ1159","v":0},false,0,null,0,0,null,null,null,0,0,0,0,0,null,null,0,0,{"$f":"IF((IF(restoZero(QQ1159,25),(spaziIntermedi(QQ1159,25))+1,spaziIntermedi(QQ1159,25)))=(spaziIntermedi(QR1159,25)),FALSE,TRUE)","v":true},0,{"$f":"+spaziIntermedi(QR1159,25)-QT1159","v":0},false,0,null,0,0,null,null,null,0,0,0,null,null,0,0,{"$f":"IF((IF(restoZero(RI1159,25),(spaziIntermedi(RI1159,25))+1,spaziIntermedi(RI1159,25)))=(spaziIntermedi(RJ1159,25)),FALSE,TRUE)","v":true},0,{"$f":"+spaziIntermedi(RJ1159,25)-RL1159","v":0},false,0,null,0,0,null,null,null,0,0,0,0,0,null,null,0,0,{"$f":"IF((IF(restoZero(SC1159,25),(spaziIntermedi(SC1159,25))+1,spaziIntermedi(SC1159,25)))=(spaziIntermedi(SD1159,25)),FALSE,TRUE)","v":true},0,{"$f":"+spaziIntermedi(SD1159,25)-SF1159","v":0},false,0,null,0,0,null,null,null,0,0,0,null,null,0,0,{"$f":"IF((IF(restoZero(SU1159,25),(spaziIntermedi(SU1159,25))+1,spaziIntermedi(SU1159,25)))=(spaziIntermedi(SV1159,25)),FALSE,TRUE)","v":true},0,{"$f":"+spaziIntermedi(SV1159,25)-SX1159","v":0},false,0,null,0,0,null,null,null,0,0,0,0,0]
[null,null,0,0,{"$f":"IF((IF(restoZero(C1178,25),(spaziIntermedi(C1178,25))+1,spaziIntermedi(C1178,25)))=(spaziIntermedi(D1178,25)),FALSE,TRUE)","v":true},0,{"$f":"+spaziIntermedi(D1178,25)-F1178","v":0},false,0,null,0,0,null,null,null,0,0,0,null,null,0,0,{"$f":"IF((IF(restoZero(U1178,25),(spaziIntermedi(U1178,25))+1,spaziIntermedi(U1178,25)))=(spaziIntermedi(V1178,25)),FALSE,TRUE)","v":true},0,{"$f":"+spaziIntermedi(V1178,25)-X1178","v":0},false,0,null,0,0,null,null,null,0,0,0,0,0,null,null,0,0,{"$f":"IF((IF(restoZero(AO1178,25),(spaziIntermedi(AO1178,25))+1,spaziIntermedi(AO1178,25)))=(spaziIntermedi(AP1178,25)),FALSE,TRUE)","v":true},0,{"$f":"+spaziIntermedi(AP1178,25)-AR1178","v":0},false,0,null,0,0,null,null,null,0,0,0,null,null,0,0,{"$f":"IF((IF(restoZero(BG1178,25),(spaziIntermedi(BG1178,25))+1,spaziIntermedi(BG1178,25)))=(spaziIntermedi(BH1178,25)),FALSE,TRUE)","v":true},0,{"$f":"+spaziIntermedi(BH1178,25)-BJ1178","v":0},false,0,null,0,0,null,null,null,0,0,0,0,0,null,null,0,0,{"$f":"IF((IF(restoZero(CA1178,25),(spaziIntermedi(CA1178,25))+1,spaziIntermedi(CA1178,25)))=(spaziIntermedi(CB1178,25)),FALSE,TRUE)","v":true},0,{"$f":"+spaziIntermedi(CB1178,25)-CD1178","v":0},false,0,null,0,0,null,null,null,0,0,0,null,null,0,0,{"$f":"IF((IF(restoZero(CS1178,25),(spaziIntermedi(CS1178,25))+1,spaziIntermedi(CS1178,25)))=(spaziIntermedi(CT1178,25)),FALSE,TRUE)","v":true},0,{"$f":"+spaziIntermedi(CT1178,25)-CV1178","v":0},false,0,null,0,0,null,null,null,0,0,0,0,0,null,null,0,0,{"$f":"IF((IF(restoZero(DM1178,25),(spaziIntermedi(DM1178,25))+1,spaziIntermedi(DM1178,25)))=(spaziIntermedi(DN1178,25)),FALSE,TRUE)","v":true},0,{"$f":"+spaziIntermedi(DN1178,25)-DP1178","v":0},false,0,null,0,0,null,null,null,0,0,0,null,null,0,0,{"$f":"IF((IF(restoZero(EE1178,25),(spaziIntermedi(EE1178,25))+1,spaziIntermedi(EE1178,25)))=(spaziIntermedi(EF1178,25)),FALSE,TRUE)","v":true},0,{"$f":"+spaziIntermedi(EF1178,25)-EH1178","v":0},false,0,null,0,0,null,null,null,0,0,0,0,0,null,null,0,0,{"$f":"IF((IF(restoZero(EY1178,25),(spaziIntermedi(EY1178,25))+1,spaziIntermedi(EY1178,25)))=(spaziIntermedi(EZ1178,25)),FALSE,TRUE)","v":true},0,{"$f":"+spaziIntermedi(EZ1178,25)-FB1178","v":0},false,0,null,0,0,null,null,null,0,0,0,null,null,0,0,{"$f":"IF((IF(restoZero(FQ1178,25),(spaziIntermedi(FQ1178,25))+1,spaziIntermedi(FQ1178,25)))=(spaziIntermedi(FR1178,25)),FALSE,TRUE)","v":true},0,{"$f":"+spaziIntermedi(FR1178,25)-FT1178","v":0},false,0,null,0,0,null,null,null,0,0,0,0,0,null,null,0,0,{"$f":"IF((IF(restoZero(GK1178,25),(spaziIntermedi(GK1178,25))+1,spaziIntermedi(GK1178,25)))=(spaziIntermedi(GL1178,25)),FALSE,TRUE)","v":true},0,{"$f":"+spaziIntermedi(GL1178,25)-GN1178","v":0},false,0,null,0,0,null,null,null,0,0,0,null,null,0,0,{"$f":"IF((IF(restoZero(HC1178,25),(spaziIntermedi(HC1178,25))+1,spaziIntermedi(HC1178,25)))=(spaziIntermedi(HD1178,25)),FALSE,TRUE)","v":true},0,{"$f":"+spaziIntermedi(HD1178,25)-HF1178","v":0},false,0,null,0,0,null,null,null,0,0,0,0,0,null,null,0,0,{"$f":"IF((IF(restoZero(HW1178,25),(spaziIntermedi(HW1178,25))+1,spaziIntermedi(HW1178,25)))=(spaziIntermedi(HX1178,25)),FALSE,TRUE)","v":true},0,{"$f":"+spaziIntermedi(HX1178,25)-HZ1178","v":0},false,0,null,0,0,null,null,null,0,0,0,null,null,0,0,{"$f":"IF((IF(restoZero(IO1178,25),(spaziIntermedi(IO1178,25))+1,spaziIntermedi(IO1178,25)))=(spaziIntermedi(IP1178,25)),FALSE,TRUE)","v":true},0,{"$f":"+spaziIntermedi(IP1178,25)-IR1178","v":0},false,0,null,0,0,null,null,null,0,0,0,0,0,null,null,0,0,{"$f":"IF((IF(restoZero(JI1178,25),(spaziIntermedi(JI1178,25))+1,spaziIntermedi(JI1178,25)))=(spaziIntermedi(JJ1178,25)),FALSE,TRUE)","v":true},0,{"$f":"+spaziIntermedi(JJ1178,25)-JL1178","v":0},false,0,null,0,0,null,null,null,0,0,0,null,null,0,0,{"$f":"IF((IF(restoZero(KA1178,25),(spaziIntermedi(KA1178,25))+1,spaziIntermedi(KA1178,25)))=(spaziIntermedi(KB1178,25)),FALSE,TRUE)","v":true},0,{"$f":"+spaziIntermedi(KB1178,25)-KD1178","v":0},false,0,null,0,0,null,null,null,0,0,0,0,0,null,null,0,0,{"$f":"IF((IF(restoZero(KU1178,25),(spaziIntermedi(KU1178,25))+1,spaziIntermedi(KU1178,25)))=(spaziIntermedi(KV1178,25)),FALSE,TRUE)","v":true},0,{"$f":"+spaziIntermedi(KV1178,25)-KX1178","v":0},false,0,null,0,0,null,null,null,0,0,0,null,null,0,0,{"$f":"IF((IF(restoZero(LM1178,25),(spaziIntermedi(LM1178,25))+1,spaziIntermedi(LM1178,25)))=(spaziIntermedi(LN1178,25)),FALSE,TRUE)","v":true},0,{"$f":"+spaziIntermedi(LN1178,25)-LP1178","v":0},false,0,null,0,0,null,null,null,0,0,0,0,0,null,null,0,0,{"$f":"IF((IF(restoZero(MG1178,25),(spaziIntermedi(MG1178,25))+1,spaziIntermedi(MG1178,25)))=(spaziIntermedi(MH1178,25)),FALSE,TRUE)","v":true},0,{"$f":"+spaziIntermedi(MH1178,25)-MJ1178","v":0},false,0,null,0,0,null,null,null,0,0,0,null,null,0,0,{"$f":"IF((IF(restoZero(MY1178,25),(spaziIntermedi(MY1178,25))+1,spaziIntermedi(MY1178,25)))=(spaziIntermedi(MZ1178,25)),FALSE,TRUE)","v":true},0,{"$f":"+spaziIntermedi(MZ1178,25)-NB1178","v":0},false,0,null,0,0,null,null,null,0,0,0,0,0,null,null,0,0,{"$f":"IF((IF(restoZero(NS1178,25),(spaziIntermedi(NS1178,25))+1,spaziIntermedi(NS1178,25)))=(spaziIntermedi(NT1178,25)),FALSE,TRUE)","v":true},0,{"$f":"+spaziIntermedi(NT1178,25)-NV1178","v":0},false,0,null,0,0,null,null,null,0,0,0,null,null,0,0,{"$f":"IF((IF(restoZero(OK1178,25),(spaziIntermedi(OK1178,25))+1,spaziIntermedi(OK1178,25)))=(spaziIntermedi(OL1178,25)),FALSE,TRUE)","v":true},0,{"$f":"+spaziIntermedi(OL1178,25)-ON1178","v":0},false,0,null,0,0,null,null,null,0,0,0,0,0,null,null,0,0,{"$f":"IF((IF(restoZero(PE1178,25),(spaziIntermedi(PE1178,25))+1,spaziIntermedi(PE1178,25)))=(spaziIntermedi(PF1178,25)),FALSE,TRUE)","v":true},0,{"$f":"+spaziIntermedi(PF1178,25)-PH1178","v":0},false,0,null,0,0,null,null,null,0,0,0,null,null,0,0,{"$f":"IF((IF(restoZero(PW1178,25),(spaziIntermedi(PW1178,25))+1,spaziIntermedi(PW1178,25)))=(spaziIntermedi(PX1178,25)),FALSE,TRUE)","v":true},0,{"$f":"+spaziIntermedi(PX1178,25)-PZ1178","v":0},false,0,null,0,0,null,null,null,0,0,0,0,0,null,null,0,0,{"$f":"IF((IF(restoZero(QQ1178,25),(spaziIntermedi(QQ1178,25))+1,spaziIntermedi(QQ1178,25)))=(spaziIntermedi(QR1178,25)),FALSE,TRUE)","v":true},0,{"$f":"+spaziIntermedi(QR1178,25)-QT1178","v":0},false,0,null,0,0,null,null,null,0,0,0,null,null,0,0,{"$f":"IF((IF(restoZero(RI1178,25),(spaziIntermedi(RI1178,25))+1,spaziIntermedi(RI1178,25)))=(spaziIntermedi(RJ1178,25)),FALSE,TRUE)","v":true},0,{"$f":"+spaziIntermedi(RJ1178,25)-RL1178","v":0},false,0,null,0,0,null,null,null,0,0,0,0,0,null,null,0,0,{"$f":"IF((IF(restoZero(SC1178,25),(spaziIntermedi(SC1178,25))+1,spaziIntermedi(SC1178,25)))=(spaziIntermedi(SD1178,25)),FALSE,TRUE)","v":true},0,{"$f":"+spaziIntermedi(SD1178,25)-SF1178","v":0},false,0,null,0,0,null,null,null,0,0,0,null,null,0,0,{"$f":"IF((IF(restoZero(SU1178,25),(spaziIntermedi(SU1178,25))+1,spaziIntermedi(SU1178,25)))=(spaziIntermedi(SV1178,25)),FALSE,TRUE)","v":true},0,{"$f":"+spaziIntermedi(SV1178,25)-SX1178","v":0},false,0,null,0,0,null,null,null,0,0,0,0,0]
[null,null,{"$f":"IFERROR(D1196+K1196+L1196,0)","v":0},0,{"$f":"IF((IF(restoZero(C1197,25),(spaziIntermedi(C1197,25))+1,spaziIntermedi(C1197,25)))=(spaziIntermedi(D1197,25)),FALSE,TRUE)","v":true},0,{"$f":"+spaziIntermedi(D1197,25)-F1197","v":0},false,0,null,{"$f":"+IF(H1197=FALSE,I1197,0)","v":0},0,null,null,null,0,0,0,null,null,0,0,{"$f":"IF((IF(restoZero(U1197,25),(spaziIntermedi(U1197,25))+1,spaziIntermedi(U1197,25)))=(spaziIntermedi(V1197,25)),FALSE,TRUE)","v":true},0,{"$f":"+spaziIntermedi(V1197,25)-X1197","v":0},false,0,null,0,0,null,null,null,0,0,0,0,0,null,null,0,0,{"$f":"IF((IF(restoZero(AO1197,25),(spaziIntermedi(AO1197,25))+1,spaziIntermedi(AO1197,25)))=(spaziIntermedi(AP1197,25)),FALSE,TRUE)","v":true},0,{"$f":"+spaziIntermedi(AP1197,25)-AR1197","v":0},false,0,null,0,0,null,null,null,0,0,0,null,null,0,0,{"$f":"IF((IF(restoZero(BG1197,25),(spaziIntermedi(BG1197,25))+1,spaziIntermedi(BG1197,25)))=(spaziIntermedi(BH1197,25)),FALSE,TRUE)","v":true},0,{"$f":"+spaziIntermedi(BH1197,25)-BJ1197","v":0},false,0,null,0,0,null,null,null,0,0,0,0,0,null,null,0,0,{"$f":"IF((IF(restoZero(CA1197,25),(spaziIntermedi(CA1197,25))+1,spaziIntermedi(CA1197,25)))=(spaziIntermedi(CB1197,25)),FALSE,TRUE)","v":true},0,{"$f":"+spaziIntermedi(CB1197,25)-CD1197","v":0},false,0,null,0,0,null,null,null,0,0,0,null,null,0,0,{"$f":"IF((IF(restoZero(CS1197,25),(spaziIntermedi(CS1197,25))+1,spaziIntermedi(CS1197,25)))=(spaziIntermedi(CT1197,25)),FALSE,TRUE)","v":true},0,{"$f":"+spaziIntermedi(CT1197,25)-CV1197","v":0},false,0,null,0,0,null,null,null,0,0,0,0,0,null,null,0,0,{"$f":"IF((IF(restoZero(DM1197,25),(spaziIntermedi(DM1197,25))+1,spaziIntermedi(DM1197,25)))=(spaziIntermedi(DN1197,25)),FALSE,TRUE)","v":true},0,{"$f":"+spaziIntermedi(DN1197,25)-DP1197","v":0},false,0,null,0,0,null,null,null,0,0,0,null,null,0,0,{"$f":"IF((IF(restoZero(EE1197,25),(spaziIntermedi(EE1197,25))+1,spaziIntermedi(EE1197,25)))=(spaziIntermedi(EF1197,25)),FALSE,TRUE)","v":true},0,{"$f":"+spaziIntermedi(EF1197,25)-EH1197","v":0},false,0,null,0,0,null,null,null,0,0,0,0,0,null,null,0,0,{"$f":"IF((IF(restoZero(EY1197,25),(spaziIntermedi(EY1197,25))+1,spaziIntermedi(EY1197,25)))=(spaziIntermedi(EZ1197,25)),FALSE,TRUE)","v":true},0,{"$f":"+spaziIntermedi(EZ1197,25)-FB1197","v":0},false,0,null,0,0,null,null,null,0,0,0,null,null,0,0,{"$f":"IF((IF(restoZero(FQ1197,25),(spaziIntermedi(FQ1197,25))+1,spaziIntermedi(FQ1197,25)))=(spaziIntermedi(FR1197,25)),FALSE,TRUE)","v":true},0,{"$f":"+spaziIntermedi(FR1197,25)-FT1197","v":0},false,0,null,0,0,null,null,null,0,0,0,0,0,null,null,0,0,{"$f":"IF((IF(restoZero(GK1197,25),(spaziIntermedi(GK1197,25))+1,spaziIntermedi(GK1197,25)))=(spaziIntermedi(GL1197,25)),FALSE,TRUE)","v":true},0,{"$f":"+spaziIntermedi(GL1197,25)-GN1197","v":0},false,0,null,0,0,null,null,null,0,0,0,null,null,0,0,{"$f":"IF((IF(restoZero(HC1197,25),(spaziIntermedi(HC1197,25))+1,spaziIntermedi(HC1197,25)))=(spaziIntermedi(HD1197,25)),FALSE,TRUE)","v":true},0,{"$f":"+spaziIntermedi(HD1197,25)-HF1197","v":0},false,0,null,0,0,null,null,null,0,0,0,0,0,null,null,0,0,{"$f":"IF((IF(restoZero(HW1197,25),(spaziIntermedi(HW1197,25))+1,spaziIntermedi(HW1197,25)))=(spaziIntermedi(HX1197,25)),FALSE,TRUE)","v":true},0,{"$f":"+spaziIntermedi(HX1197,25)-HZ1197","v":0},false,0,null,0,0,null,null,null,0,0,0,null,null,0,0,{"$f":"IF((IF(restoZero(IO1197,25),(spaziIntermedi(IO1197,25))+1,spaziIntermedi(IO1197,25)))=(spaziIntermedi(IP1197,25)),FALSE,TRUE)","v":true},0,{"$f":"+spaziIntermedi(IP1197,25)-IR1197","v":0},false,0,null,0,0,null,null,null,0,0,0,0,0,null,null,0,0,{"$f":"IF((IF(restoZero(JI1197,25),(spaziIntermedi(JI1197,25))+1,spaziIntermedi(JI1197,25)))=(spaziIntermedi(JJ1197,25)),FALSE,TRUE)","v":true},0,{"$f":"+spaziIntermedi(JJ1197,25)-JL1197","v":0},false,0,null,0,0,null,null,null,0,0,0,null,null,0,0,{"$f":"IF((IF(restoZero(KA1197,25),(spaziIntermedi(KA1197,25))+1,spaziIntermedi(KA1197,25)))=(spaziIntermedi(KB1197,25)),FALSE,TRUE)","v":true},0,{"$f":"+spaziIntermedi(KB1197,25)-KD1197","v":0},false,0,null,0,0,null,null,null,0,0,0,0,0,null,null,0,0,{"$f":"IF((IF(restoZero(KU1197,25),(spaziIntermedi(KU1197,25))+1,spaziIntermedi(KU1197,25)))=(spaziIntermedi(KV1197,25)),FALSE,TRUE)","v":true},0,{"$f":"+spaziIntermedi(KV1197,25)-KX1197","v":0},false,0,null,0,0,null,null,null,0,0,0,null,null,0,0,{"$f":"IF((IF(restoZero(LM1197,25),(spaziIntermedi(LM1197,25))+1,spaziIntermedi(LM1197,25)))=(spaziIntermedi(LN1197,25)),FALSE,TRUE)","v":true},0,{"$f":"+spaziIntermedi(LN1197,25)-LP1197","v":0},false,0,null,0,0,null,null,null,0,0,0,0,0,null,null,0,0,{"$f":"IF((IF(restoZero(MG1197,25),(spaziIntermedi(MG1197,25))+1,spaziIntermedi(MG1197,25)))=(spaziIntermedi(MH1197,25)),FALSE,TRUE)","v":true},0,{"$f":"+spaziIntermedi(MH1197,25)-MJ1197","v":0},false,0,null,0,0,null,null,null,0,0,0,null,null,0,0,{"$f":"IF((IF(restoZero(MY1197,25),(spaziIntermedi(MY1197,25))+1,spaziIntermedi(MY1197,25)))=(spaziIntermedi(MZ1197,25)),FALSE,TRUE)","v":true},0,{"$f":"+spaziIntermedi(MZ1197,25)-NB1197","v":0},false,0,null,0,0,null,null,null,0,0,0,0,0,null,null,0,0,{"$f":"IF((IF(restoZero(NS1197,25),(spaziIntermedi(NS1197,25))+1,spaziIntermedi(NS1197,25)))=(spaziIntermedi(NT1197,25)),FALSE,TRUE)","v":true},0,{"$f":"+spaziIntermedi(NT1197,25)-NV1197","v":0},false,0,null,0,0,null,null,null,0,0,0,null,null,0,0,{"$f":"IF((IF(restoZero(OK1197,25),(spaziIntermedi(OK1197,25))+1,spaziIntermedi(OK1197,25)))=(spaziIntermedi(OL1197,25)),FALSE,TRUE)","v":true},0,{"$f":"+spaziIntermedi(OL1197,25)-ON1197","v":0},false,0,null,0,0,null,null,null,0,0,0,0,0,null,null,0,0,{"$f":"IF((IF(restoZero(PE1197,25),(spaziIntermedi(PE1197,25))+1,spaziIntermedi(PE1197,25)))=(spaziIntermedi(PF1197,25)),FALSE,TRUE)","v":true},0,{"$f":"+spaziIntermedi(PF1197,25)-PH1197","v":0},false,0,null,0,0,null,null,null,0,0,0,null,null,0,0,{"$f":"IF((IF(restoZero(PW1197,25),(spaziIntermedi(PW1197,25))+1,spaziIntermedi(PW1197,25)))=(spaziIntermedi(PX1197,25)),FALSE,TRUE)","v":true},0,{"$f":"+spaziIntermedi(PX1197,25)-PZ1197","v":0},false,0,null,0,0,null,null,null,0,0,0,0,0,null,null,0,0,{"$f":"IF((IF(restoZero(QQ1197,25),(spaziIntermedi(QQ1197,25))+1,spaziIntermedi(QQ1197,25)))=(spaziIntermedi(QR1197,25)),FALSE,TRUE)","v":true},0,{"$f":"+spaziIntermedi(QR1197,25)-QT1197","v":0},false,0,null,0,0,null,null,null,0,0,0,null,null,0,0,{"$f":"IF((IF(restoZero(RI1197,25),(spaziIntermedi(RI1197,25))+1,spaziIntermedi(RI1197,25)))=(spaziIntermedi(RJ1197,25)),FALSE,TRUE)","v":true},0,{"$f":"+spaziIntermedi(RJ1197,25)-RL1197","v":0},false,0,null,0,0,null,null,null,0,0,0,0,0,null,null,0,0,{"$f":"IF((IF(restoZero(SC1197,25),(spaziIntermedi(SC1197,25))+1,spaziIntermedi(SC1197,25)))=(spaziIntermedi(SD1197,25)),FALSE,TRUE)","v":true},0,{"$f":"+spaziIntermedi(SD1197,25)-SF1197","v":0},false,0,null,0,0,null,null,null,0,0,0,null,null,0,0,{"$f":"IF((IF(restoZero(SU1197,25),(spaziIntermedi(SU1197,25))+1,spaziIntermedi(SU1197,25)))=(spaziIntermedi(SV1197,25)),FALSE,TRUE)","v":true},0,{"$f":"+spaziIntermedi(SV1197,25)-SX1197","v":0},false,0,null,0,0,null,null,null,0,0,0,0,0]
[null,null,0,0,{"$f":"IF((IF(restoZero(C1222,25),(spaziIntermedi(C1222,25))+1,spaziIntermedi(C1222,25)))=(spaziIntermedi(D1222,25)),FALSE,TRUE)","v":true},0,{"$f":"+spaziIntermedi(D1222,25)-F1222","v":0},false,0,null,0,0,null,null,null,0,0,0,null,null,0,0,{"$f":"IF((IF(restoZero(U1222,25),(spaziIntermedi(U1222,25))+1,spaziIntermedi(U1222,25)))=(spaziIntermedi(V1222,25)),FALSE,TRUE)","v":true},0,{"$f":"+spaziIntermedi(V1222,25)-X1222","v":0},false,0,null,0,0,null,null,null,0,0,0,0,0,null,null,0,0,{"$f":"IF((IF(restoZero(AO1222,25),(spaziIntermedi(AO1222,25))+1,spaziIntermedi(AO1222,25)))=(spaziIntermedi(AP1222,25)),FALSE,TRUE)","v":true},0,{"$f":"+spaziIntermedi(AP1222,25)-AR1222","v":0},false,0,null,0,0,null,null,null,0,0,0,null,null,0,0,{"$f":"IF((IF(restoZero(BG1222,25),(spaziIntermedi(BG1222,25))+1,spaziIntermedi(BG1222,25)))=(spaziIntermedi(BH1222,25)),FALSE,TRUE)","v":true},0,{"$f":"+spaziIntermedi(BH1222,25)-BJ1222","v":0},false,0,null,0,0,null,null,null,0,0,0,0,0,null,null,0,0,{"$f":"IF((IF(restoZero(CA1222,25),(spaziIntermedi(CA1222,25))+1,spaziIntermedi(CA1222,25)))=(spaziIntermedi(CB1222,25)),FALSE,TRUE)","v":true},0,{"$f":"+spaziIntermedi(CB1222,25)-CD1222","v":0},false,0,null,0,0,null,null,null,0,0,0,null,null,0,0,{"$f":"IF((IF(restoZero(CS1222,25),(spaziIntermedi(CS1222,25))+1,spaziIntermedi(CS1222,25)))=(spaziIntermedi(CT1222,25)),FALSE,TRUE)","v":true},0,{"$f":"+spaziIntermedi(CT1222,25)-CV1222","v":0},false,0,null,0,0,null,null,null,0,0,0,0,0,null,null,0,0,{"$f":"IF((IF(restoZero(DM1222,25),(spaziIntermedi(DM1222,25))+1,spaziIntermedi(DM1222,25)))=(spaziIntermedi(DN1222,25)),FALSE,TRUE)","v":true},0,{"$f":"+spaziIntermedi(DN1222,25)-DP1222","v":0},false,0,null,0,0,null,null,null,0,0,0,null,null,0,0,{"$f":"IF((IF(restoZero(EE1222,25),(spaziIntermedi(EE1222,25))+1,spaziIntermedi(EE1222,25)))=(spaziIntermedi(EF1222,25)),FALSE,TRUE)","v":true},0,{"$f":"+spaziIntermedi(EF1222,25)-EH1222","v":0},false,0,null,0,0,null,null,null,0,0,0,0,0,null,null,0,0,{"$f":"IF((IF(restoZero(EY1222,25),(spaziIntermedi(EY1222,25))+1,spaziIntermedi(EY1222,25)))=(spaziIntermedi(EZ1222,25)),FALSE,TRUE)","v":true},0,{"$f":"+spaziIntermedi(EZ1222,25)-FB1222","v":0},false,0,null,0,0,null,null,null,0,0,0,null,null,0,0,{"$f":"IF((IF(restoZero(FQ1222,25),(spaziIntermedi(FQ1222,25))+1,spaziIntermedi(FQ1222,25)))=(spaziIntermedi(FR1222,25)),FALSE,TRUE)","v":true},0,{"$f":"+spaziIntermedi(FR1222,25)-FT1222","v":0},false,0,null,0,0,null,null,null,0,0,0,0,0,null,null,0,0,{"$f":"IF((IF(restoZero(GK1222,25),(spaziIntermedi(GK1222,25))+1,spaziIntermedi(GK1222,25)))=(spaziIntermedi(GL1222,25)),FALSE,TRUE)","v":true},0,{"$f":"+spaziIntermedi(GL1222,25)-GN1222","v":0},false,0,null,0,0,null,null,null,0,0,0,null,null,0,0,{"$f":"IF((IF(restoZero(HC1222,25),(spaziIntermedi(HC1222,25))+1,spaziIntermedi(HC1222,25)))=(spaziIntermedi(HD1222,25)),FALSE,TRUE)","v":true},0,{"$f":"+spaziIntermedi(HD1222,25)-HF1222","v":0},false,0,null,0,0,null,null,null,0,0,0,0,0,null,null,0,0,{"$f":"IF((IF(restoZero(HW1222,25),(spaziIntermedi(HW1222,25))+1,spaziIntermedi(HW1222,25)))=(spaziIntermedi(HX1222,25)),FALSE,TRUE)","v":true},0,{"$f":"+spaziIntermedi(HX1222,25)-HZ1222","v":0},false,0,null,0,0,null,null,null,0,0,0,null,null,0,0,{"$f":"IF((IF(restoZero(IO1222,25),(spaziIntermedi(IO1222,25))+1,spaziIntermedi(IO1222,25)))=(spaziIntermedi(IP1222,25)),FALSE,TRUE)","v":true},0,{"$f":"+spaziIntermedi(IP1222,25)-IR1222","v":0},false,0,null,0,0,null,null,null,0,0,0,0,0,null,null,0,0,{"$f":"IF((IF(restoZero(JI1222,25),(spaziIntermedi(JI1222,25))+1,spaziIntermedi(JI1222,25)))=(spaziIntermedi(JJ1222,25)),FALSE,TRUE)","v":true},0,{"$f":"+spaziIntermedi(JJ1222,25)-JL1222","v":0},false,0,null,0,0,null,null,null,0,0,0,null,null,0,0,{"$f":"IF((IF(restoZero(KA1222,25),(spaziIntermedi(KA1222,25))+1,spaziIntermedi(KA1222,25)))=(spaziIntermedi(KB1222,25)),FALSE,TRUE)","v":true},0,{"$f":"+spaziIntermedi(KB1222,25)-KD1222","v":0},false,0,null,0,0,null,null,null,0,0,0,0,0,null,null,0,0,{"$f":"IF((IF(restoZero(KU1222,25),(spaziIntermedi(KU1222,25))+1,spaziIntermedi(KU1222,25)))=(spaziIntermedi(KV1222,25)),FALSE,TRUE)","v":true},0,{"$f":"+spaziIntermedi(KV1222,25)-KX1222","v":0},false,0,null,0,0,null,null,null,0,0,0,null,null,0,0,{"$f":"IF((IF(restoZero(LM1222,25),(spaziIntermedi(LM1222,25))+1,spaziIntermedi(LM1222,25)))=(spaziIntermedi(LN1222,25)),FALSE,TRUE)","v":true},0,{"$f":"+spaziIntermedi(LN1222,25)-LP1222","v":0},false,0,null,0,0,null,null,null,0,0,0,0,0,null,null,0,0,{"$f":"IF((IF(restoZero(MG1222,25),(spaziIntermedi(MG1222,25))+1,spaziIntermedi(MG1222,25)))=(spaziIntermedi(MH1222,25)),FALSE,TRUE)","v":true},0,{"$f":"+spaziIntermedi(MH1222,25)-MJ1222","v":0},false,0,null,0,0,null,null,null,0,0,0,null,null,0,0,{"$f":"IF((IF(restoZero(MY1222,25),(spaziIntermedi(MY1222,25))+1,spaziIntermedi(MY1222,25)))=(spaziIntermedi(MZ1222,25)),FALSE,TRUE)","v":true},0,{"$f":"+spaziIntermedi(MZ1222,25)-NB1222","v":0},false,0,null,0,0,null,null,null,0,0,0,0,0,null,null,0,0,{"$f":"IF((IF(restoZero(NS1222,25),(spaziIntermedi(NS1222,25))+1,spaziIntermedi(NS1222,25)))=(spaziIntermedi(NT1222,25)),FALSE,TRUE)","v":true},0,{"$f":"+spaziIntermedi(NT1222,25)-NV1222","v":0},false,0,null,0,0,null,null,null,0,0,0,null,null,0,0,{"$f":"IF((IF(restoZero(OK1222,25),(spaziIntermedi(OK1222,25))+1,spaziIntermedi(OK1222,25)))=(spaziIntermedi(OL1222,25)),FALSE,TRUE)","v":true},0,{"$f":"+spaziIntermedi(OL1222,25)-ON1222","v":0},false,0,null,0,0,null,null,null,0,0,0,0,0,null,null,0,0,{"$f":"IF((IF(restoZero(PE1222,25),(spaziIntermedi(PE1222,25))+1,spaziIntermedi(PE1222,25)))=(spaziIntermedi(PF1222,25)),FALSE,TRUE)","v":true},0,{"$f":"+spaziIntermedi(PF1222,25)-PH1222","v":0},false,0,null,0,0,null,null,null,0,0,0,null,null,0,0,{"$f":"IF((IF(restoZero(PW1222,25),(spaziIntermedi(PW1222,25))+1,spaziIntermedi(PW1222,25)))=(spaziIntermedi(PX1222,25)),FALSE,TRUE)","v":true},0,{"$f":"+spaziIntermedi(PX1222,25)-PZ1222","v":0},false,0,null,0,0,null,null,null,0,0,0,0,0,null,null,0,0,{"$f":"IF((IF(restoZero(QQ1222,25),(spaziIntermedi(QQ1222,25))+1,spaziIntermedi(QQ1222,25)))=(spaziIntermedi(QR1222,25)),FALSE,TRUE)","v":true},0,{"$f":"+spaziIntermedi(QR1222,25)-QT1222","v":0},false,0,null,0,0,null,null,null,0,0,0,null,null,0,0,{"$f":"IF((IF(restoZero(RI1222,25),(spaziIntermedi(RI1222,25))+1,spaziIntermedi(RI1222,25)))=(spaziIntermedi(RJ1222,25)),FALSE,TRUE)","v":true},0,{"$f":"+spaziIntermedi(RJ1222,25)-RL1222","v":0},false,0,null,0,0,null,null,null,0,0,0,0,0,null,null,0,0,{"$f":"IF((IF(restoZero(SC1222,25),(spaziIntermedi(SC1222,25))+1,spaziIntermedi(SC1222,25)))=(spaziIntermedi(SD1222,25)),FALSE,TRUE)","v":true},0,{"$f":"+spaziIntermedi(SD1222,25)-SF1222","v":0},false,0,null,0,0,null,null,null,0,0,0,null,null,0,0,{"$f":"IF((IF(restoZero(SU1222,25),(spaziIntermedi(SU1222,25))+1,spaziIntermedi(SU1222,25)))=(spaziIntermedi(SV1222,25)),FALSE,TRUE)","v":true},0,{"$f":"+spaziIntermedi(SV1222,25)-SX1222","v":0},false,0,null,0,0,null,null,null,0,0,0,0,0]
[null,null,0,0,{"$f":"IF((IF(restoZero(C1235,25),(spaziIntermedi(C1235,25))+1,spaziIntermedi(C1235,25)))=(spaziIntermedi(D1235,25)),FALSE,TRUE)","v":true},{"$f":"+D1235/constLungRot","v":0},{"$f":"+spaziIntermedi(D1235,25)-F1235","v":0},{"$f":"+G1235*constLungRot>=($C$2*2)","v":false},{"$f":"+G1235*constLungRot","v":0},null,0,{"$f":"+IF(AND(E1235=TRUE,H1235=TRUE),$C$2,0)","v":0},null,null,null,{"$f":"_xlfn.CEILING.MATH(IF(O1235<>\"PIASTRA\",0,IFERROR(IF(MOD(B1235,M1235)=0,(((_xlfn.CEILING.MATH(B1235/M1235)-1))+(B1235/M1235))*2,((_xlfn.CEILING.MATH(B1235/M1235)+(L1235/M1235))*2)),0)),1)","v":0},0,0,null,null,0,0,{"$f":"IF((IF(restoZero(U1235,25),(spaziIntermedi(U1235,25))+1,spaziIntermedi(U1235,25)))=(spaziIntermedi(V1235,25)),FALSE,TRUE)","v":true},0,{"$f":"+spaziIntermedi(V1235,25)-X1235","v":0},false,0,null,0,{"$f":"+IF(AND(W1235=TRUE,Z1235=TRUE),$C$2,0)","v":0},null,null,null,0,0,0,{"$f":"IFERROR(CEILING((T1235/intSpring)*1.5,1),0)","v":0},{"$f":"IFERROR(_xlfn.CEILING.MATH((T1235/intStaple)*4,1),0)","v":0},null,null,0,0,{"$f":"IF((IF(restoZero(AO1235,25),(spaziIntermedi(AO1235,25))+1,spaziIntermedi(AO1235,25)))=(spaziIntermedi(AP1235,25)),FALSE,TRUE)","v":true},{"$f":"+AP1235/constLungRot","v":0},{"$f":"+spaziIntermedi(AP1235,25)-AR1235","v":0},{"$f":"+AS1235*constLungRot>=($C$2*2)","v":false},{"$f":"+AS1235*constLungRot","v":0},null,0,{"$f":"+IF(AND(AQ1235=TRUE,AT1235=TRUE),$C$2,0)","v":0},null,null,null,0,0,0,null,null,0,0,{"$f":"IF((IF(restoZero(BG1235,25),(spaziIntermedi(BG1235,25))+1,spaziIntermedi(BG1235,25)))=(spaziIntermedi(BH1235,25)),FALSE,TRUE)","v":true},{"$f":"+BH1235/constLungRot","v":0},{"$f":"+spaziIntermedi(BH1235,25)-BJ1235","v":0},false,{"$f":"+BK1235*constLungRot","v":0},null,0,{"$f":"+IF(AND(BI1235=TRUE,BL1235=TRUE),$C$2,0)","v":0},null,null,null,0,0,0,{"$f":"IFERROR(CEILING((BF1235/intSpring)*1.5,1),0)","v":0},{"$f":"IFERROR(_xlfn.CEILING.MATH((BF1235/intStaple)*4,1),0)","v":0},null,null,0,0,{"$f":"IF((IF(restoZero(CA1235,25),(spaziIntermedi(CA1235,25))+1,spaziIntermedi(CA1235,25)))=(spaziIntermedi(CB1235,25)),FALSE,TRUE)","v":true},{"$f":"+CB1235/constLungRot","v":0},{"$f":"+spaziIntermedi(CB1235,25)-CD1235","v":0},{"$f":"+CE1235*constLungRot>=($C$2*2)","v":false},{"$f":"+CE1235*constLungRot","v":0},null,0,{"$f":"+IF(AND(CC1235=TRUE,CF1235=TRUE),$C$2,0)","v":0},null,null,null,0,0,0,null,null,0,0,{"$f":"IF((IF(restoZero(CS1235,25),(spaziIntermedi(CS1235,25))+1,spaziIntermedi(CS1235,25)))=(spaziIntermedi(CT1235,25)),FALSE,TRUE)","v":true},{"$f":"+CT1235/constLungRot","v":0},{"$f":"+spaziIntermedi(CT1235,25)-CV1235","v":0},false,{"$f":"+CW1235*constLungRot","v":0},null,0,{"$f":"+IF(AND(CU1235=TRUE,CX1235=TRUE),$C$2,0)","v":0},null,null,null,0,0,0,{"$f":"IFERROR(CEILING((CR1235/intSpring)*1.5,1),0)","v":0},{"$f":"IFERROR(_xlfn.CEILING.MATH((CR1235/intStaple)*4,1),0)","v":0},null,null,0,0,{"$f":"IF((IF(restoZero(DM1235,25),(spaziIntermedi(DM1235,25))+1,spaziIntermedi(DM1235,25)))=(spaziIntermedi(DN1235,25)),FALSE,TRUE)","v":true},{"$f":"+DN1235/constLungRot","v":0},{"$f":"+spaziIntermedi(DN1235,25)-DP1235","v":0},{"$f":"+DQ1235*constLungRot>=($C$2*2)","v":false},{"$f":"+DQ1235*constLungRot","v":0},null,0,{"$f":"+IF(AND(DO1235=TRUE,DR1235=TRUE),$C$2,0)","v":0},null,null,null,0,0,0,null,null,0,0,{"$f":"IF((IF(restoZero(EE1235,25),(spaziIntermedi(EE1235,25))+1,spaziIntermedi(EE1235,25)))=(spaziIntermedi(EF1235,25)),FALSE,TRUE)","v":true},{"$f":"+EF1235/constLungRot","v":0},{"$f":"+spaziIntermedi(EF1235,25)-EH1235","v":0},false,{"$f":"+EI1235*constLungRot","v":0},null,0,{"$f":"+IF(AND(EG1235=TRUE,EJ1235=TRUE),$C$2,0)","v":0},null,null,null,0,0,0,{"$f":"IFERROR(CEILING((ED1235/intSpring)*1.5,1),0)","v":0},{"$f":"IFERROR(_xlfn.CEILING.MATH((ED1235/intStaple)*4,1),0)","v":0},null,null,0,0,{"$f":"IF((IF(restoZero(EY1235,25),(spaziIntermedi(EY1235,25))+1,spaziIntermedi(EY1235,25)))=(spaziIntermedi(EZ1235,25)),FALSE,TRUE)","v":true},{"$f":"+EZ1235/constLungRot","v":0},{"$f":"+spaziIntermedi(EZ1235,25)-FB1235","v":0},{"$f":"+FC1235*constLungRot>=($C$2*2)","v":false},{"$f":"+FC1235*constLungRot","v":0},null,0,{"$f":"+IF(AND(FA1235=TRUE,FD1235=TRUE),$C$2,0)","v":0},null,null,null,0,0,0,null,null,0,0,{"$f":"IF((IF(restoZero(FQ1235,25),(spaziIntermedi(FQ1235,25))+1,spaziIntermedi(FQ1235,25)))=(spaziIntermedi(FR1235,25)),FALSE,TRUE)","v":true},{"$f":"+FR1235/constLungRot","v":0},{"$f":"+spaziIntermedi(FR1235,25)-FT1235","v":0},false,{"$f":"+FU1235*constLungRot","v":0},null,0,{"$f":"+IF(AND(FS1235=TRUE,FV1235=TRUE),$C$2,0)","v":0},null,null,null,0,0,0,{"$f":"IFERROR(CEILING((FP1235/intSpring)*1.5,1),0)","v":0},{"$f":"IFERROR(_xlfn.CEILING.MATH((FP1235/intStaple)*4,1),0)","v":0},null,null,0,0,{"$f":"IF((IF(restoZero(GK1235,25),(spaziIntermedi(GK1235,25))+1,spaziIntermedi(GK1235,25)))=(spaziIntermedi(GL1235,25)),FALSE,TRUE)","v":true},{"$f":"+GL1235/constLungRot","v":0},{"$f":"+spaziIntermedi(GL1235,25)-GN1235","v":0},{"$f":"+GO1235*constLungRot>=($C$2*2)","v":false},{"$f":"+GO1235*constLungRot","v":0},null,0,{"$f":"+IF(AND(GM1235=TRUE,GP1235=TRUE),$C$2,0)","v":0},null,null,null,0,0,0,null,null,0,0,{"$f":"IF((IF(restoZero(HC1235,25),(spaziIntermedi(HC1235,25))+1,spaziIntermedi(HC1235,25)))=(spaziIntermedi(HD1235,25)),FALSE,TRUE)","v":true},{"$f":"+HD1235/constLungRot","v":0},{"$f":"+spaziIntermedi(HD1235,25)-HF1235","v":0},false,{"$f":"+HG1235*constLungRot","v":0},null,0,{"$f":"+IF(AND(HE1235=TRUE,HH1235=TRUE),$C$2,0)","v":0},null,null,null,0,0,0,{"$f":"IFERROR(CEILING((HB1235/intSpring)*1.5,1),0)","v":0},{"$f":"IFERROR(_xlfn.CEILING.MATH((HB1235/intStaple)*4,1),0)","v":0},null,null,0,0,{"$f":"IF((IF(restoZero(HW1235,25),(spaziIntermedi(HW1235,25))+1,spaziIntermedi(HW1235,25)))=(spaziIntermedi(HX1235,25)),FALSE,TRUE)","v":true},{"$f":"+HX1235/constLungRot","v":0},{"$f":"+spaziIntermedi(HX1235,25)-HZ1235","v":0},{"$f":"+IA1235*constLungRot>=($C$2*2)","v":false},{"$f":"+IA1235*constLungRot","v":0},null,0,{"$f":"+IF(AND(HY1235=TRUE,IB1235=TRUE),$C$2,0)","v":0},null,null,null,0,0,0,null,null,0,0,{"$f":"IF((IF(restoZero(IO1235,25),(spaziIntermedi(IO1235,25))+1,spaziIntermedi(IO1235,25)))=(spaziIntermedi(IP1235,25)),FALSE,TRUE)","v":true},{"$f":"+IP1235/constLungRot","v":0},{"$f":"+spaziIntermedi(IP1235,25)-IR1235","v":0},false,{"$f":"+IS1235*constLungRot","v":0},null,0,{"$f":"+IF(AND(IQ1235=TRUE,IT1235=TRUE),$C$2,0)","v":0},null,null,null,0,0,0,{"$f":"IFERROR(CEILING((IN1235/intSpring)*1.5,1),0)","v":0},{"$f":"IFERROR(_xlfn.CEILING.MATH((IN1235/intStaple)*4,1),0)","v":0},null,null,0,0,{"$f":"IF((IF(restoZero(JI1235,25),(spaziIntermedi(JI1235,25))+1,spaziIntermedi(JI1235,25)))=(spaziIntermedi(JJ1235,25)),FALSE,TRUE)","v":true},{"$f":"+JJ1235/constLungRot","v":0},{"$f":"+spaziIntermedi(JJ1235,25)-JL1235","v":0},{"$f":"+JM1235*constLungRot>=($C$2*2)","v":false},{"$f":"+JM1235*constLungRot","v":0},null,0,{"$f":"+IF(AND(JK1235=TRUE,JN1235=TRUE),$C$2,0)","v":0},null,null,null,0,0,0,null,null,0,0,{"$f":"IF((IF(restoZero(KA1235,25),(spaziIntermedi(KA1235,25))+1,spaziIntermedi(KA1235,25)))=(spaziIntermedi(KB1235,25)),FALSE,TRUE)","v":true},{"$f":"+KB1235/constLungRot","v":0},{"$f":"+spaziIntermedi(KB1235,25)-KD1235","v":0},false,{"$f":"+KE1235*constLungRot","v":0},null,0,{"$f":"+IF(AND(KC1235=TRUE,KF1235=TRUE),$C$2,0)","v":0},null,null,null,0,0,0,{"$f":"IFERROR(CEILING((JZ1235/intSpring)*1.5,1),0)","v":0},{"$f":"IFERROR(_xlfn.CEILING.MATH((JZ1235/intStaple)*4,1),0)","v":0},null,null,0,0,{"$f":"IF((IF(restoZero(KU1235,25),(spaziIntermedi(KU1235,25))+1,spaziIntermedi(KU1235,25)))=(spaziIntermedi(KV1235,25)),FALSE,TRUE)","v":true},{"$f":"+KV1235/constLungRot","v":0},{"$f":"+spaziIntermedi(KV1235,25)-KX1235","v":0},{"$f":"+KY1235*constLungRot>=($C$2*2)","v":false},{"$f":"+KY1235*constLungRot","v":0},null,0,{"$f":"+IF(AND(KW1235=TRUE,KZ1235=TRUE),$C$2,0)","v":0},null,null,null,0,0,0,null,null,0,0,{"$f":"IF((IF(restoZero(LM1235,25),(spaziIntermedi(LM1235,25))+1,spaziIntermedi(LM1235,25)))=(spaziIntermedi(LN1235,25)),FALSE,TRUE)","v":true},{"$f":"+LN1235/constLungRot","v":0},{"$f":"+spaziIntermedi(LN1235,25)-LP1235","v":0},false,{"$f":"+LQ1235*constLungRot","v":0},null,0,{"$f":"+IF(AND(LO1235=TRUE,LR1235=TRUE),$C$2,0)","v":0},null,null,null,0,0,0,{"$f":"IFERROR(CEILING((LL1235/intSpring)*1.5,1),0)","v":0},{"$f":"IFERROR(_xlfn.CEILING.MATH((LL1235/intStaple)*4,1),0)","v":0},null,null,0,0,{"$f":"IF((IF(restoZero(MG1235,25),(spaziIntermedi(MG1235,25))+1,spaziIntermedi(MG1235,25)))=(spaziIntermedi(MH1235,25)),FALSE,TRUE)","v":true},{"$f":"+MH1235/constLungRot","v":0},{"$f":"+spaziIntermedi(MH1235,25)-MJ1235","v":0},{"$f":"+MK1235*constLungRot>=($C$2*2)","v":false},{"$f":"+MK1235*constLungRot","v":0},null,0,{"$f":"+IF(AND(MI1235=TRUE,ML1235=TRUE),$C$2,0)","v":0},null,null,null,0,0,0,null,null,0,0,{"$f":"IF((IF(restoZero(MY1235,25),(spaziIntermedi(MY1235,25))+1,spaziIntermedi(MY1235,25)))=(spaziIntermedi(MZ1235,25)),FALSE,TRUE)","v":true},{"$f":"+MZ1235/constLungRot","v":0},{"$f":"+spaziIntermedi(MZ1235,25)-NB1235","v":0},false,{"$f":"+NC1235*constLungRot","v":0},null,0,{"$f":"+IF(AND(NA1235=TRUE,ND1235=TRUE),$C$2,0)","v":0},null,null,null,0,0,0,{"$f":"IFERROR(CEILING((MX1235/intSpring)*1.5,1),0)","v":0},{"$f":"IFERROR(_xlfn.CEILING.MATH((MX1235/intStaple)*4,1),0)","v":0},null,null,0,0,{"$f":"IF((IF(restoZero(NS1235,25),(spaziIntermedi(NS1235,25))+1,spaziIntermedi(NS1235,25)))=(spaziIntermedi(NT1235,25)),FALSE,TRUE)","v":true},{"$f":"+NT1235/constLungRot","v":0},{"$f":"+spaziIntermedi(NT1235,25)-NV1235","v":0},{"$f":"+NW1235*constLungRot>=($C$2*2)","v":false},{"$f":"+NW1235*constLungRot","v":0},null,0,{"$f":"+IF(AND(NU1235=TRUE,NX1235=TRUE),$C$2,0)","v":0},null,null,null,0,0,0,null,null,0,0,{"$f":"IF((IF(restoZero(OK1235,25),(spaziIntermedi(OK1235,25))+1,spaziIntermedi(OK1235,25)))=(spaziIntermedi(OL1235,25)),FALSE,TRUE)","v":true},{"$f":"+OL1235/constLungRot","v":0},{"$f":"+spaziIntermedi(OL1235,25)-ON1235","v":0},false,{"$f":"+OO1235*constLungRot","v":0},null,0,{"$f":"+IF(AND(OM1235=TRUE,OP1235=TRUE),$C$2,0)","v":0},null,null,null,0,0,0,{"$f":"IFERROR(CEILING((OJ1235/intSpring)*1.5,1),0)","v":0},{"$f":"IFERROR(_xlfn.CEILING.MATH((OJ1235/intStaple)*4,1),0)","v":0},null,null,0,0,{"$f":"IF((IF(restoZero(PE1235,25),(spaziIntermedi(PE1235,25))+1,spaziIntermedi(PE1235,25)))=(spaziIntermedi(PF1235,25)),FALSE,TRUE)","v":true},{"$f":"+PF1235/constLungRot","v":0},{"$f":"+spaziIntermedi(PF1235,25)-PH1235","v":0},{"$f":"+PI1235*constLungRot>=($C$2*2)","v":false},{"$f":"+PI1235*constLungRot","v":0},null,0,{"$f":"+IF(AND(PG1235=TRUE,PJ1235=TRUE),$C$2,0)","v":0},null,null,null,0,0,0,null,null,0,0,{"$f":"IF((IF(restoZero(PW1235,25),(spaziIntermedi(PW1235,25))+1,spaziIntermedi(PW1235,25)))=(spaziIntermedi(PX1235,25)),FALSE,TRUE)","v":true},{"$f":"+PX1235/constLungRot","v":0},{"$f":"+spaziIntermedi(PX1235,25)-PZ1235","v":0},false,{"$f":"+QA1235*constLungRot","v":0},null,0,{"$f":"+IF(AND(PY1235=TRUE,QB1235=TRUE),$C$2,0)","v":0},null,null,null,0,0,0,{"$f":"IFERROR(CEILING((PV1235/intSpring)*1.5,1),0)","v":0},{"$f":"IFERROR(_xlfn.CEILING.MATH((PV1235/intStaple)*4,1),0)","v":0},null,null,0,0,{"$f":"IF((IF(restoZero(QQ1235,25),(spaziIntermedi(QQ1235,25))+1,spaziIntermedi(QQ1235,25)))=(spaziIntermedi(QR1235,25)),FALSE,TRUE)","v":true},{"$f":"+QR1235/constLungRot","v":0},{"$f":"+spaziIntermedi(QR1235,25)-QT1235","v":0},{"$f":"+QU1235*constLungRot>=($C$2*2)","v":false},{"$f":"+QU1235*constLungRot","v":0},null,0,{"$f":"+IF(AND(QS1235=TRUE,QV1235=TRUE),$C$2,0)","v":0},null,null,null,0,0,0,null,null,0,0,{"$f":"IF((IF(restoZero(RI1235,25),(spaziIntermedi(RI1235,25))+1,spaziIntermedi(RI1235,25)))=(spaziIntermedi(RJ1235,25)),FALSE,TRUE)","v":true},{"$f":"+RJ1235/constLungRot","v":0},{"$f":"+spaziIntermedi(RJ1235,25)-RL1235","v":0},false,{"$f":"+RM1235*constLungRot","v":0},null,0,{"$f":"+IF(AND(RK1235=TRUE,RN1235=TRUE),$C$2,0)","v":0},null,null,null,0,0,0,{"$f":"IFERROR(CEILING((RH1235/intSpring)*1.5,1),0)","v":0},{"$f":"IFERROR(_xlfn.CEILING.MATH((RH1235/intStaple)*4,1),0)","v":0},null,null,0,0,{"$f":"IF((IF(restoZero(SC1235,25),(spaziIntermedi(SC1235,25))+1,spaziIntermedi(SC1235,25)))=(spaziIntermedi(SD1235,25)),FALSE,TRUE)","v":true},{"$f":"+SD1235/constLungRot","v":0},{"$f":"+spaziIntermedi(SD1235,25)-SF1235","v":0},{"$f":"+SG1235*constLungRot>=($C$2*2)","v":false},{"$f":"+SG1235*constLungRot","v":0},null,0,{"$f":"+IF(AND(SE1235=TRUE,SH1235=TRUE),$C$2,0)","v":0},null,null,null,0,0,0,null,null,0,0,{"$f":"IF((IF(restoZero(SU1235,25),(spaziIntermedi(SU1235,25))+1,spaziIntermedi(SU1235,25)))=(spaziIntermedi(SV1235,25)),FALSE,TRUE)","v":true},{"$f":"+SV1235/constLungRot","v":0},{"$f":"+spaziIntermedi(SV1235,25)-SX1235","v":0},false,{"$f":"+SY1235*constLungRot","v":0},null,0,{"$f":"+IF(AND(SW1235=TRUE,SZ1235=TRUE),$C$2,0)","v":0},null,null,null,0,0,0,{"$f":"IFERROR(CEILING((ST1235/intSpring)*1.5,1),0)","v":0},{"$f":"IFERROR(_xlfn.CEILING.MATH((ST1235/intStaple)*4,1),0)","v":0}]
[null,null,0,0,{"$f":"IF((IF(restoZero(C1236,25),(spaziIntermedi(C1236,25))+1,spaziIntermedi(C1236,25)))=(spaziIntermedi(D1236,25)),FALSE,TRUE)","v":true},0,{"$f":"+spaziIntermedi(D1236,25)-F1236","v":0},false,0,null,0,0,null,null,null,0,{"$f":"IF(N1236=0,0,B1236*2)","v":0},{"$f":"IF(OR(B1236=\"\"),0,IF(O1236=\"PIASTRA\",P1236*2,_xlfn.CEILING.MATH(SUM(12,(B1236/M1236),((L1236*C$2)/M1236))*2,1)))","v":0},null,null,0,0,{"$f":"IF((IF(restoZero(U1236,25),(spaziIntermedi(U1236,25))+1,spaziIntermedi(U1236,25)))=(spaziIntermedi(V1236,25)),FALSE,TRUE)","v":true},0,{"$f":"+spaziIntermedi(V1236,25)-X1236","v":0},false,0,null,0,0,null,null,null,{"$f":"_xlfn.CEILING.MATH(IF(AG1236<>\"PIASTRA\",0,IFERROR(IF(MOD(T1236,AE1236)=0,(((_xlfn.CEILING.MATH(T1236/AE1236)-1))+(T1236/AE1236))*2,((_xlfn.CEILING.MATH(T1236/AE1236)+(AD1236/AE1236))*2)),0)),1)","v":0},{"$f":"IF(AF1236=0,0,T1236*2)","v":0},{"$f":"IF(OR(T1236=\"\"),0,IF(AG1236=\"PIASTRA\",AH1236*2,_xlfn.CEILING.MATH(SUM(12,(T1236/AE1236),((AD1236*U$2)/AE1236))*2,1)))","v":0},0,0,null,null,0,0,{"$f":"IF((IF(restoZero(AO1236,25),(spaziIntermedi(AO1236,25))+1,spaziIntermedi(AO1236,25)))=(spaziIntermedi(AP1236,25)),FALSE,TRUE)","v":true},0,{"$f":"+spaziIntermedi(AP1236,25)-AR1236","v":0},false,0,null,{"$f":"+IF(AT1236=FALSE,AU1236,0)","v":0},0,null,null,null,{"$f":"_xlfn.CEILING.MATH(IF(BA1236<>\"PIASTRA\",0,IFERROR(IF(MOD(AN1236,AY1236)=0,(((_xlfn.CEILING.MATH(AN1236/AY1236)-1))+(AN1236/AY1236))*2,((_xlfn.CEILING.MATH(AN1236/AY1236)+(AX1236/AY1236))*2)),0)),1)","v":0},{"$f":"IF(AZ1236=0,0,AN1236*2)","v":0},{"$f":"IF(OR(AN1236=\"\"),0,IF(BA1236=\"PIASTRA\",BB1236*2,_xlfn.CEILING.MATH(SUM(12,(AN1236/AY1236),((AX1236*AO$2)/AY1236))*2,1)))","v":0},null,null,0,0,{"$f":"IF((IF(restoZero(BG1236,25),(spaziIntermedi(BG1236,25))+1,spaziIntermedi(BG1236,25)))=(spaziIntermedi(BH1236,25)),FALSE,TRUE)","v":true},0,{"$f":"+spaziIntermedi(BH1236,25)-BJ1236","v":0},false,0,null,{"$f":"+IF(BL1236=FALSE,BM1236,0)","v":0},0,null,null,null,{"$f":"_xlfn.CEILING.MATH(IF(BS1236<>\"PIASTRA\",0,IFERROR(IF(MOD(BF1236,BQ1236)=0,(((_xlfn.CEILING.MATH(BF1236/BQ1236)-1))+(BF1236/BQ1236))*2,((_xlfn.CEILING.MATH(BF1236/BQ1236)+(BP1236/BQ1236))*2)),0)),1)","v":0},{"$f":"IF(BR1236=0,0,BF1236*2)","v":0},{"$f":"IF(OR(BF1236=\"\"),0,IF(BS1236=\"PIASTRA\",BT1236*2,_xlfn.CEILING.MATH(SUM(12,(BF1236/BQ1236),((BP1236*BG$2)/BQ1236))*2,1)))","v":0},0,0,null,null,0,0,{"$f":"IF((IF(restoZero(CA1236,25),(spaziIntermedi(CA1236,25))+1,spaziIntermedi(CA1236,25)))=(spaziIntermedi(CB1236,25)),FALSE,TRUE)","v":true},0,{"$f":"+spaziIntermedi(CB1236,25)-CD1236","v":0},false,0,null,{"$f":"+IF(CF1236=FALSE,CG1236,0)","v":0},0,null,null,null,{"$f":"_xlfn.CEILING.MATH(IF(CM1236<>\"PIASTRA\",0,IFERROR(IF(MOD(BZ1236,CK1236)=0,(((_xlfn.CEILING.MATH(BZ1236/CK1236)-1))+(BZ1236/CK1236))*2,((_xlfn.CEILING.MATH(BZ1236/CK1236)+(CJ1236/CK1236))*2)),0)),1)","v":0},{"$f":"IF(CL1236=0,0,BZ1236*2)","v":0},{"$f":"IF(OR(BZ1236=\"\"),0,IF(CM1236=\"PIASTRA\",CN1236*2,_xlfn.CEILING.MATH(SUM(12,(BZ1236/CK1236),((CJ1236*CA$2)/CK1236))*2,1)))","v":0},null,null,0,0,{"$f":"IF((IF(restoZero(CS1236,25),(spaziIntermedi(CS1236,25))+1,spaziIntermedi(CS1236,25)))=(spaziIntermedi(CT1236,25)),FALSE,TRUE)","v":true},0,{"$f":"+spaziIntermedi(CT1236,25)-CV1236","v":0},false,0,null,{"$f":"+IF(CX1236=FALSE,CY1236,0)","v":0},0,null,null,null,{"$f":"_xlfn.CEILING.MATH(IF(DE1236<>\"PIASTRA\",0,IFERROR(IF(MOD(CR1236,DC1236)=0,(((_xlfn.CEILING.MATH(CR1236/DC1236)-1))+(CR1236/DC1236))*2,((_xlfn.CEILING.MATH(CR1236/DC1236)+(DB1236/DC1236))*2)),0)),1)","v":0},{"$f":"IF(DD1236=0,0,CR1236*2)","v":0},{"$f":"IF(OR(CR1236=\"\"),0,IF(DE1236=\"PIASTRA\",DF1236*2,_xlfn.CEILING.MATH(SUM(12,(CR1236/DC1236),((DB1236*$C$2)/DC1236))*2,1)))","v":0},0,0,null,null,0,0,{"$f":"IF((IF(restoZero(DM1236,25),(spaziIntermedi(DM1236,25))+1,spaziIntermedi(DM1236,25)))=(spaziIntermedi(DN1236,25)),FALSE,TRUE)","v":true},0,{"$f":"+spaziIntermedi(DN1236,25)-DP1236","v":0},false,0,null,{"$f":"+IF(DR1236=FALSE,DS1236,0)","v":0},0,null,null,null,{"$f":"_xlfn.CEILING.MATH(IF(DY1236<>\"PIASTRA\",0,IFERROR(IF(MOD(DL1236,DW1236)=0,(((_xlfn.CEILING.MATH(DL1236/DW1236)-1))+(DL1236/DW1236))*2,((_xlfn.CEILING.MATH(DL1236/DW1236)+(DV1236/DW1236))*2)),0)),1)","v":0},{"$f":"IF(DX1236=0,0,DL1236*2)","v":0},{"$f":"IF(OR(DL1236=\"\"),0,IF(DY1236=\"PIASTRA\",DZ1236*2,_xlfn.CEILING.MATH(SUM(12,(DL1236/DW1236),((DV1236*DM$2)/DW1236))*2,1)))","v":0},null,null,0,0,{"$f":"IF((IF(restoZero(EE1236,25),(spaziIntermedi(EE1236,25))+1,spaziIntermedi(EE1236,25)))=(spaziIntermedi(EF1236,25)),FALSE,TRUE)","v":true},0,{"$f":"+spaziIntermedi(EF1236,25)-EH1236","v":0},false,0,null,{"$f":"+IF(EJ1236=FALSE,EK1236,0)","v":0},0,null,null,null,{"$f":"_xlfn.CEILING.MATH(IF(EQ1236<>\"PIASTRA\",0,IFERROR(IF(MOD(ED1236,EO1236)=0,(((_xlfn.CEILING.MATH(ED1236/EO1236)-1))+(ED1236/EO1236))*2,((_xlfn.CEILING.MATH(ED1236/EO1236)+(EN1236/EO1236))*2)),0)),1)","v":0},{"$f":"IF(EP1236=0,0,ED1236*2)","v":0},{"$f":"IF(OR(ED1236=\"\"),0,IF(EQ1236=\"PIASTRA\",ER1236*2,_xlfn.CEILING.MATH(SUM(12,(ED1236/EO1236),((EN1236*EE$2)/EO1236))*2,1)))","v":0},0,0,null,null,0,0,{"$f":"IF((IF(restoZero(EY1236,25),(spaziIntermedi(EY1236,25))+1,spaziIntermedi(EY1236,25)))=(spaziIntermedi(EZ1236,25)),FALSE,TRUE)","v":true},0,{"$f":"+spaziIntermedi(EZ1236,25)-FB1236","v":0},false,0,null,{"$f":"+IF(FD1236=FALSE,FE1236,0)","v":0},0,null,null,null,{"$f":"_xlfn.CEILING.MATH(IF(FK1236<>\"PIASTRA\",0,IFERROR(IF(MOD(EX1236,FI1236)=0,(((_xlfn.CEILING.MATH(EX1236/FI1236)-1))+(EX1236/FI1236))*2,((_xlfn.CEILING.MATH(EX1236/FI1236)+(FH1236/FI1236))*2)),0)),1)","v":0},{"$f":"IF(FJ1236=0,0,EX1236*2)","v":0},{"$f":"IF(OR(EX1236=\"\"),0,IF(FK1236=\"PIASTRA\",FL1236*2,_xlfn.CEILING.MATH(SUM(12,(EX1236/FI1236),((FH1236*EY$2)/FI1236))*2,1)))","v":0},null,null,0,0,{"$f":"IF((IF(restoZero(FQ1236,25),(spaziIntermedi(FQ1236,25))+1,spaziIntermedi(FQ1236,25)))=(spaziIntermedi(FR1236,25)),FALSE,TRUE)","v":true},0,{"$f":"+spaziIntermedi(FR1236,25)-FT1236","v":0},false,0,null,{"$f":"+IF(FV1236=FALSE,FW1236,0)","v":0},0,null,null,null,{"$f":"_xlfn.CEILING.MATH(IF(GC1236<>\"PIASTRA\",0,IFERROR(IF(MOD(FP1236,GA1236)=0,(((_xlfn.CEILING.MATH(FP1236/GA1236)-1))+(FP1236/GA1236))*2,((_xlfn.CEILING.MATH(FP1236/GA1236)+(FZ1236/GA1236))*2)),0)),1)","v":0},{"$f":"IF(GB1236=0,0,FP1236*2)","v":0},{"$f":"IF(OR(FP1236=\"\"),0,IF(GC1236=\"PIASTRA\",GD1236*2,_xlfn.CEILING.MATH(SUM(12,(FP1236/GA1236),((FZ1236*FQ$2)/GA1236))*2,1)))","v":0},0,0,null,null,0,0,{"$f":"IF((IF(restoZero(GK1236,25),(spaziIntermedi(GK1236,25))+1,spaziIntermedi(GK1236,25)))=(spaziIntermedi(GL1236,25)),FALSE,TRUE)","v":true},0,{"$f":"+spaziIntermedi(GL1236,25)-GN1236","v":0},false,0,null,{"$f":"+IF(GP1236=FALSE,GQ1236,0)","v":0},0,null,null,null,{"$f":"_xlfn.CEILING.MATH(IF(GW1236<>\"PIASTRA\",0,IFERROR(IF(MOD(GJ1236,GU1236)=0,(((_xlfn.CEILING.MATH(GJ1236/GU1236)-1))+(GJ1236/GU1236))*2,((_xlfn.CEILING.MATH(GJ1236/GU1236)+(GT1236/GU1236))*2)),0)),1)","v":0},{"$f":"IF(GV1236=0,0,GJ1236*2)","v":0},{"$f":"IF(OR(GJ1236=\"\"),0,IF(GW1236=\"PIASTRA\",GX1236*2,_xlfn.CEILING.MATH(SUM(12,(GJ1236/GU1236),((GT1236*GK$2)/GU1236))*2,1)))","v":0},null,null,0,0,{"$f":"IF((IF(restoZero(HC1236,25),(spaziIntermedi(HC1236,25))+1,spaziIntermedi(HC1236,25)))=(spaziIntermedi(HD1236,25)),FALSE,TRUE)","v":true},0,{"$f":"+spaziIntermedi(HD1236,25)-HF1236","v":0},false,0,null,{"$f":"+IF(HH1236=FALSE,HI1236,0)","v":0},0,null,null,null,{"$f":"_xlfn.CEILING.MATH(IF(HO1236<>\"PIASTRA\",0,IFERROR(IF(MOD(HB1236,HM1236)=0,(((_xlfn.CEILING.MATH(HB1236/HM1236)-1))+(HB1236/HM1236))*2,((_xlfn.CEILING.MATH(HB1236/HM1236)+(HL1236/HM1236))*2)),0)),1)","v":0},{"$f":"IF(HN1236=0,0,HB1236*2)","v":0},{"$f":"IF(OR(HB1236=\"\"),0,IF(HO1236=\"PIASTRA\",HP1236*2,_xlfn.CEILING.MATH(SUM(12,(HB1236/HM1236),((HL1236*HC$2)/HM1236))*2,1)))","v":0},0,0,null,null,0,0,{"$f":"IF((IF(restoZero(HW1236,25),(spaziIntermedi(HW1236,25))+1,spaziIntermedi(HW1236,25)))=(spaziIntermedi(HX1236,25)),FALSE,TRUE)","v":true},0,{"$f":"+spaziIntermedi(HX1236,25)-HZ1236","v":0},false,0,null,{"$f":"+IF(IB1236=FALSE,IC1236,0)","v":0},0,null,null,null,{"$f":"_xlfn.CEILING.MATH(IF(II1236<>\"PIASTRA\",0,IFERROR(IF(MOD(HV1236,IG1236)=0,(((_xlfn.CEILING.MATH(HV1236/IG1236)-1))+(HV1236/IG1236))*2,((_xlfn.CEILING.MATH(HV1236/IG1236)+(IF1236/IG1236))*2)),0)),1)","v":0},{"$f":"IF(IH1236=0,0,HV1236*2)","v":0},{"$f":"IF(OR(HV1236=\"\"),0,IF(II1236=\"PIASTRA\",IJ1236*2,_xlfn.CEILING.MATH(SUM(12,(HV1236/IG1236),((IF1236*HW$2)/IG1236))*2,1)))","v":0},null,null,0,0,{"$f":"IF((IF(restoZero(IO1236,25),(spaziIntermedi(IO1236,25))+1,spaziIntermedi(IO1236,25)))=(spaziIntermedi(IP1236,25)),FALSE,TRUE)","v":true},0,{"$f":"+spaziIntermedi(IP1236,25)-IR1236","v":0},false,0,null,{"$f":"+IF(IT1236=FALSE,IU1236,0)","v":0},0,null,null,null,{"$f":"_xlfn.CEILING.MATH(IF(JA1236<>\"PIASTRA\",0,IFERROR(IF(MOD(IN1236,IY1236)=0,(((_xlfn.CEILING.MATH(IN1236/IY1236)-1))+(IN1236/IY1236))*2,((_xlfn.CEILING.MATH(IN1236/IY1236)+(IX1236/IY1236))*2)),0)),1)","v":0},{"$f":"IF(IZ1236=0,0,IN1236*2)","v":0},{"$f":"IF(OR(IN1236=\"\"),0,IF(JA1236=\"PIASTRA\",JB1236*2,_xlfn.CEILING.MATH(SUM(12,(IN1236/IY1236),((IX1236*IO$2)/IY1236))*2,1)))","v":0},0,0,null,null,0,0,{"$f":"IF((IF(restoZero(JI1236,25),(spaziIntermedi(JI1236,25))+1,spaziIntermedi(JI1236,25)))=(spaziIntermedi(JJ1236,25)),FALSE,TRUE)","v":true},0,{"$f":"+spaziIntermedi(JJ1236,25)-JL1236","v":0},false,0,null,{"$f":"+IF(JN1236=FALSE,JO1236,0)","v":0},0,null,null,null,{"$f":"_xlfn.CEILING.MATH(IF(JU1236<>\"PIASTRA\",0,IFERROR(IF(MOD(JH1236,JS1236)=0,(((_xlfn.CEILING.MATH(JH1236/JS1236)-1))+(JH1236/JS1236))*2,((_xlfn.CEILING.MATH(JH1236/JS1236)+(JR1236/JS1236))*2)),0)),1)","v":0},{"$f":"IF(JT1236=0,0,JH1236*2)","v":0},{"$f":"IF(OR(JH1236=\"\"),0,IF(JU1236=\"PIASTRA\",JV1236*2,_xlfn.CEILING.MATH(SUM(12,(JH1236/JS1236),((JR1236*JI$2)/JS1236))*2,1)))","v":0},null,null,0,0,{"$f":"IF((IF(restoZero(KA1236,25),(spaziIntermedi(KA1236,25))+1,spaziIntermedi(KA1236,25)))=(spaziIntermedi(KB1236,25)),FALSE,TRUE)","v":true},0,{"$f":"+spaziIntermedi(KB1236,25)-KD1236","v":0},false,0,null,{"$f":"+IF(KF1236=FALSE,KG1236,0)","v":0},0,null,null,null,{"$f":"_xlfn.CEILING.MATH(IF(KM1236<>\"PIASTRA\",0,IFERROR(IF(MOD(JZ1236,KK1236)=0,(((_xlfn.CEILING.MATH(JZ1236/KK1236)-1))+(JZ1236/KK1236))*2,((_xlfn.CEILING.MATH(JZ1236/KK1236)+(KJ1236/KK1236))*2)),0)),1)","v":0},{"$f":"IF(KL1236=0,0,JZ1236*2)","v":0},{"$f":"IF(OR(JZ1236=\"\"),0,IF(KM1236=\"PIASTRA\",KN1236*2,_xlfn.CEILING.MATH(SUM(12,(JZ1236/KK1236),((KJ1236*KA$2)/KK1236))*2,1)))","v":0},0,0,null,null,0,0,{"$f":"IF((IF(restoZero(KU1236,25),(spaziIntermedi(KU1236,25))+1,spaziIntermedi(KU1236,25)))=(spaziIntermedi(KV1236,25)),FALSE,TRUE)","v":true},0,{"$f":"+spaziIntermedi(KV1236,25)-KX1236","v":0},false,0,null,{"$f":"+IF(KZ1236=FALSE,LA1236,0)","v":0},0,null,null,null,{"$f":"_xlfn.CEILING.MATH(IF(LG1236<>\"PIASTRA\",0,IFERROR(IF(MOD(KT1236,LE1236)=0,(((_xlfn.CEILING.MATH(KT1236/LE1236)-1))+(KT1236/LE1236))*2,((_xlfn.CEILING.MATH(KT1236/LE1236)+(LD1236/LE1236))*2)),0)),1)","v":0},{"$f":"IF(LF1236=0,0,KT1236*2)","v":0},{"$f":"IF(OR(KT1236=\"\"),0,IF(LG1236=\"PIASTRA\",LH1236*2,_xlfn.CEILING.MATH(SUM(12,(KT1236/LE1236),((LD1236*KU$2)/LE1236))*2,1)))","v":0},null,null,0,0,{"$f":"IF((IF(restoZero(LM1236,25),(spaziIntermedi(LM1236,25))+1,spaziIntermedi(LM1236,25)))=(spaziIntermedi(LN1236,25)),FALSE,TRUE)","v":true},0,{"$f":"+spaziIntermedi(LN1236,25)-LP1236","v":0},false,0,null,{"$f":"+IF(LR1236=FALSE,LS1236,0)","v":0},0,null,null,null,{"$f":"_xlfn.CEILING.MATH(IF(LY1236<>\"PIASTRA\",0,IFERROR(IF(MOD(LL1236,LW1236)=0,(((_xlfn.CEILING.MATH(LL1236/LW1236)-1))+(LL1236/LW1236))*2,((_xlfn.CEILING.MATH(LL1236/LW1236)+(LV1236/LW1236))*2)),0)),1)","v":0},{"$f":"IF(LX1236=0,0,LL1236*2)","v":0},{"$f":"IF(OR(LL1236=\"\"),0,IF(LY1236=\"PIASTRA\",LZ1236*2,_xlfn.CEILING.MATH(SUM(12,(LL1236/LW1236),((LV1236*LM$2)/LW1236))*2,1)))","v":0},0,0,null,null,0,0,{"$f":"IF((IF(restoZero(MG1236,25),(spaziIntermedi(MG1236,25))+1,spaziIntermedi(MG1236,25)))=(spaziIntermedi(MH1236,25)),FALSE,TRUE)","v":true},0,{"$f":"+spaziIntermedi(MH1236,25)-MJ1236","v":0},false,0,null,{"$f":"+IF(ML1236=FALSE,MM1236,0)","v":0},0,null,null,null,{"$f":"_xlfn.CEILING.MATH(IF(MS1236<>\"PIASTRA\",0,IFERROR(IF(MOD(MF1236,MQ1236)=0,(((_xlfn.CEILING.MATH(MF1236/MQ1236)-1))+(MF1236/MQ1236))*2,((_xlfn.CEILING.MATH(MF1236/MQ1236)+(MP1236/MQ1236))*2)),0)),1)","v":0},{"$f":"IF(MR1236=0,0,MF1236*2)","v":0},{"$f":"IF(OR(MF1236=\"\"),0,IF(MS1236=\"PIASTRA\",MT1236*2,_xlfn.CEILING.MATH(SUM(12,(MF1236/MQ1236),((MP1236*MG$2)/MQ1236))*2,1)))","v":0},null,null,0,0,{"$f":"IF((IF(restoZero(MY1236,25),(spaziIntermedi(MY1236,25))+1,spaziIntermedi(MY1236,25)))=(spaziIntermedi(MZ1236,25)),FALSE,TRUE)","v":true},0,{"$f":"+spaziIntermedi(MZ1236,25)-NB1236","v":0},false,0,null,{"$f":"+IF(ND1236=FALSE,NE1236,0)","v":0},0,null,null,null,{"$f":"_xlfn.CEILING.MATH(IF(NK1236<>\"PIASTRA\",0,IFERROR(IF(MOD(MX1236,NI1236)=0,(((_xlfn.CEILING.MATH(MX1236/NI1236)-1))+(MX1236/NI1236))*2,((_xlfn.CEILING.MATH(MX1236/NI1236)+(NH1236/NI1236))*2)),0)),1)","v":0},{"$f":"IF(NJ1236=0,0,MX1236*2)","v":0},{"$f":"IF(OR(MX1236=\"\"),0,IF(NK1236=\"PIASTRA\",NL1236*2,_xlfn.CEILING.MATH(SUM(12,(MX1236/NI1236),((NH1236*MY$2)/NI1236))*2,1)))","v":0},0,0,null,null,0,0,{"$f":"IF((IF(restoZero(NS1236,25),(spaziIntermedi(NS1236,25))+1,spaziIntermedi(NS1236,25)))=(spaziIntermedi(NT1236,25)),FALSE,TRUE)","v":true},0,{"$f":"+spaziIntermedi(NT1236,25)-NV1236","v":0},false,0,null,{"$f":"+IF(NX1236=FALSE,NY1236,0)","v":0},0,null,null,null,{"$f":"_xlfn.CEILING.MATH(IF(OE1236<>\"PIASTRA\",0,IFERROR(IF(MOD(NR1236,OC1236)=0,(((_xlfn.CEILING.MATH(NR1236/OC1236)-1))+(NR1236/OC1236))*2,((_xlfn.CEILING.MATH(NR1236/OC1236)+(OB1236/OC1236))*2)),0)),1)","v":0},{"$f":"IF(OD1236=0,0,NR1236*2)","v":0},{"$f":"IF(OR(NR1236=\"\"),0,IF(OE1236=\"PIASTRA\",OF1236*2,_xlfn.CEILING.MATH(SUM(12,(NR1236/OC1236),((OB1236*NS$2)/OC1236))*2,1)))","v":0},null,null,0,0,{"$f":"IF((IF(restoZero(OK1236,25),(spaziIntermedi(OK1236,25))+1,spaziIntermedi(OK1236,25)))=(spaziIntermedi(OL1236,25)),FALSE,TRUE)","v":true},0,{"$f":"+spaziIntermedi(OL1236,25)-ON1236","v":0},false,0,null,{"$f":"+IF(OP1236=FALSE,OQ1236,0)","v":0},0,null,null,null,{"$f":"_xlfn.CEILING.MATH(IF(OW1236<>\"PIASTRA\",0,IFERROR(IF(MOD(OJ1236,OU1236)=0,(((_xlfn.CEILING.MATH(OJ1236/OU1236)-1))+(OJ1236/OU1236))*2,((_xlfn.CEILING.MATH(OJ1236/OU1236)+(OT1236/OU1236))*2)),0)),1)","v":0},{"$f":"IF(OV1236=0,0,OJ1236*2)","v":0},{"$f":"IF(OR(OJ1236=\"\"),0,IF(OW1236=\"PIASTRA\",OX1236*2,_xlfn.CEILING.MATH(SUM(12,(OJ1236/OU1236),((OT1236*OK$2)/OU1236))*2,1)))","v":0},0,0,null,null,0,0,{"$f":"IF((IF(restoZero(PE1236,25),(spaziIntermedi(PE1236,25))+1,spaziIntermedi(PE1236,25)))=(spaziIntermedi(PF1236,25)),FALSE,TRUE)","v":true},0,{"$f":"+spaziIntermedi(PF1236,25)-PH1236","v":0},false,0,null,{"$f":"+IF(PJ1236=FALSE,PK1236,0)","v":0},0,null,null,null,{"$f":"_xlfn.CEILING.MATH(IF(PQ1236<>\"PIASTRA\",0,IFERROR(IF(MOD(PD1236,PO1236)=0,(((_xlfn.CEILING.MATH(PD1236/PO1236)-1))+(PD1236/PO1236))*2,((_xlfn.CEILING.MATH(PD1236/PO1236)+(PN1236/PO1236))*2)),0)),1)","v":0},{"$f":"IF(PP1236=0,0,PD1236*2)","v":0},{"$f":"IF(OR(PD1236=\"\"),0,IF(PQ1236=\"PIASTRA\",PR1236*2,_xlfn.CEILING.MATH(SUM(12,(PD1236/PO1236),((PN1236*PE$2)/PO1236))*2,1)))","v":0},null,null,0,0,{"$f":"IF((IF(restoZero(PW1236,25),(spaziIntermedi(PW1236,25))+1,spaziIntermedi(PW1236,25)))=(spaziIntermedi(PX1236,25)),FALSE,TRUE)","v":true},0,{"$f":"+spaziIntermedi(PX1236,25)-PZ1236","v":0},false,0,null,{"$f":"+IF(QB1236=FALSE,QC1236,0)","v":0},0,null,null,null,{"$f":"_xlfn.CEILING.MATH(IF(QI1236<>\"PIASTRA\",0,IFERROR(IF(MOD(PV1236,QG1236)=0,(((_xlfn.CEILING.MATH(PV1236/QG1236)-1))+(PV1236/QG1236))*2,((_xlfn.CEILING.MATH(PV1236/QG1236)+(QF1236/QG1236))*2)),0)),1)","v":0},{"$f":"IF(QH1236=0,0,PV1236*2)","v":0},{"$f":"IF(OR(PV1236=\"\"),0,IF(QI1236=\"PIASTRA\",QJ1236*2,_xlfn.CEILING.MATH(SUM(12,(PV1236/QG1236),((QF1236*PW$2)/QG1236))*2,1)))","v":0},0,0,null,null,0,0,{"$f":"IF((IF(restoZero(QQ1236,25),(spaziIntermedi(QQ1236,25))+1,spaziIntermedi(QQ1236,25)))=(spaziIntermedi(QR1236,25)),FALSE,TRUE)","v":true},0,{"$f":"+spaziIntermedi(QR1236,25)-QT1236","v":0},false,0,null,{"$f":"+IF(QV1236=FALSE,QW1236,0)","v":0},0,null,null,null,{"$f":"_xlfn.CEILING.MATH(IF(RC1236<>\"PIASTRA\",0,IFERROR(IF(MOD(QP1236,RA1236)=0,(((_xlfn.CEILING.MATH(QP1236/RA1236)-1))+(QP1236/RA1236))*2,((_xlfn.CEILING.MATH(QP1236/RA1236)+(QZ1236/RA1236))*2)),0)),1)","v":0},{"$f":"IF(RB1236=0,0,QP1236*2)","v":0},{"$f":"IF(OR(QP1236=\"\"),0,IF(RC1236=\"PIASTRA\",RD1236*2,_xlfn.CEILING.MATH(SUM(12,(QP1236/RA1236),((QZ1236*QQ$2)/RA1236))*2,1)))","v":0},null,null,0,0,{"$f":"IF((IF(restoZero(RI1236,25),(spaziIntermedi(RI1236,25))+1,spaziIntermedi(RI1236,25)))=(spaziIntermedi(RJ1236,25)),FALSE,TRUE)","v":true},0,{"$f":"+spaziIntermedi(RJ1236,25)-RL1236","v":0},false,0,null,{"$f":"+IF(RN1236=FALSE,RO1236,0)","v":0},0,null,null,null,{"$f":"_xlfn.CEILING.MATH(IF(RU1236<>\"PIASTRA\",0,IFERROR(IF(MOD(RH1236,RS1236)=0,(((_xlfn.CEILING.MATH(RH1236/RS1236)-1))+(RH1236/RS1236))*2,((_xlfn.CEILING.MATH(RH1236/RS1236)+(RR1236/RS1236))*2)),0)),1)","v":0},{"$f":"IF(RT1236=0,0,RH1236*2)","v":0},{"$f":"IF(OR(RH1236=\"\"),0,IF(RU1236=\"PIASTRA\",RV1236*2,_xlfn.CEILING.MATH(SUM(12,(RH1236/RS1236),((RR1236*RI$2)/RS1236))*2,1)))","v":0},0,0,null,null,0,0,{"$f":"IF((IF(restoZero(SC1236,25),(spaziIntermedi(SC1236,25))+1,spaziIntermedi(SC1236,25)))=(spaziIntermedi(SD1236,25)),FALSE,TRUE)","v":true},0,{"$f":"+spaziIntermedi(SD1236,25)-SF1236","v":0},false,0,null,{"$f":"+IF(SH1236=FALSE,SI1236,0)","v":0},0,null,null,null,{"$f":"_xlfn.CEILING.MATH(IF(SO1236<>\"PIASTRA\",0,IFERROR(IF(MOD(SB1236,SM1236)=0,(((_xlfn.CEILING.MATH(SB1236/SM1236)-1))+(SB1236/SM1236))*2,((_xlfn.CEILING.MATH(SB1236/SM1236)+(SL1236/SM1236))*2)),0)),1)","v":0},{"$f":"IF(SN1236=0,0,SB1236*2)","v":0},{"$f":"IF(OR(SB1236=\"\"),0,IF(SO1236=\"PIASTRA\",SP1236*2,_xlfn.CEILING.MATH(SUM(12,(SB1236/SM1236),((SL1236*SC$2)/SM1236))*2,1)))","v":0},null,null,0,0,{"$f":"IF((IF(restoZero(SU1236,25),(spaziIntermedi(SU1236,25))+1,spaziIntermedi(SU1236,25)))=(spaziIntermedi(SV1236,25)),FALSE,TRUE)","v":true},0,{"$f":"+spaziIntermedi(SV1236,25)-SX1236","v":0},false,0,null,{"$f":"+IF(SZ1236=FALSE,TA1236,0)","v":0},0,null,null,null,{"$f":"_xlfn.CEILING.MATH(IF(TG1236<>\"PIASTRA\",0,IFERROR(IF(MOD(ST1236,TE1236)=0,(((_xlfn.CEILING.MATH(ST1236/TE1236)-1))+(ST1236/TE1236))*2,((_xlfn.CEILING.MATH(ST1236/TE1236)+(TD1236/TE1236))*2)),0)),1)","v":0},{"$f":"IF(TF1236=0,0,ST1236*2)","v":0},{"$f":"IF(OR(ST1236=\"\"),0,IF(TG1236=\"PIASTRA\",TH1236*2,_xlfn.CEILING.MATH(SUM(12,(ST1236/TE1236),((TD1236*SU$2)/TE1236))*2,1)))","v":0},0,0]
[null,null,0,{"$f":"IF(B1237=\"\",0,D1236+B1237+L1236+K1236+J1237)","v":0},{"$f":"IF((IF(restoZero(C1237,25),(spaziIntermedi(C1237,25))+1,spaziIntermedi(C1237,25)))=(spaziIntermedi(D1237,25)),FALSE,TRUE)","v":true},0,{"$f":"+spaziIntermedi(D1237,25)-F1237","v":0},false,0,null,0,0,null,null,null,0,0,0,null,null,{"$f":"IFERROR(V1236+AC1236+AD1236,0)","v":0},{"$f":"IF(T1237=\"\",0,V1236+T1237+AD1236+AC1236)","v":0},{"$f":"IF((IF(restoZero(U1237,25),(spaziIntermedi(U1237,25))+1,spaziIntermedi(U1237,25)))=(spaziIntermedi(V1237,25)),FALSE,TRUE)","v":true},{"$f":"+V1237/constLungRot","v":0},{"$f":"+spaziIntermedi(V1237,25)-X1237","v":0},false,{"$f":"+Y1237*constLungRot","v":0},null,{"$f":"+IF(Z1237=FALSE,AA1237,0)","v":0},0,null,null,null,0,0,0,0,0,null,null,{"$f":"IFERROR(AP1236+AW1236+AX1236,0)","v":0},{"$f":"IF(AN1237=\"\",0,AP1236+AN1237+AX1236+AW1236+AV1237)","v":0},{"$f":"IF((IF(restoZero(AO1237,25),(spaziIntermedi(AO1237,25))+1,spaziIntermedi(AO1237,25)))=(spaziIntermedi(AP1237,25)),FALSE,TRUE)","v":true},0,{"$f":"+spaziIntermedi(AP1237,25)-AR1237","v":0},false,0,null,0,0,null,null,null,0,0,0,null,null,{"$f":"IFERROR(BH1236+BO1236+BP1236,0)","v":0},{"$f":"IF(BF1237=\"\",0,BH1236+BF1237+BP1236+BO1236)","v":0},{"$f":"IF((IF(restoZero(BG1237,25),(spaziIntermedi(BG1237,25))+1,spaziIntermedi(BG1237,25)))=(spaziIntermedi(BH1237,25)),FALSE,TRUE)","v":true},0,{"$f":"+spaziIntermedi(BH1237,25)-BJ1237","v":0},false,0,null,0,0,null,null,null,0,0,0,0,0,null,null,{"$f":"IFERROR(CB1236+CI1236+CJ1236,0)","v":0},{"$f":"IF(BZ1237=\"\",0,CB1236+BZ1237+CJ1236+CI1236+CH1237)","v":0},{"$f":"IF((IF(restoZero(CA1237,25),(spaziIntermedi(CA1237,25))+1,spaziIntermedi(CA1237,25)))=(spaziIntermedi(CB1237,25)),FALSE,TRUE)","v":true},0,{"$f":"+spaziIntermedi(CB1237,25)-CD1237","v":0},false,0,null,0,0,null,null,null,0,0,0,null,null,{"$f":"IFERROR(CT1236+DA1236+DB1236,0)","v":0},{"$f":"IF(CR1237=\"\",0,CT1236+CR1237+DB1236+DA1236)","v":0},{"$f":"IF((IF(restoZero(CS1237,25),(spaziIntermedi(CS1237,25))+1,spaziIntermedi(CS1237,25)))=(spaziIntermedi(CT1237,25)),FALSE,TRUE)","v":true},0,{"$f":"+spaziIntermedi(CT1237,25)-CV1237","v":0},false,0,null,0,0,null,null,null,0,0,0,0,0,null,null,{"$f":"IFERROR(DN1236+DU1236+DV1236,0)","v":0},{"$f":"IF(DL1237=\"\",0,DN1236+DL1237+DV1236+DU1236+DT1237)","v":0},{"$f":"IF((IF(restoZero(DM1237,25),(spaziIntermedi(DM1237,25))+1,spaziIntermedi(DM1237,25)))=(spaziIntermedi(DN1237,25)),FALSE,TRUE)","v":true},0,{"$f":"+spaziIntermedi(DN1237,25)-DP1237","v":0},false,0,null,0,0,null,null,null,0,0,0,null,null,{"$f":"IFERROR(EF1236+EM1236+EN1236,0)","v":0},{"$f":"IF(ED1237=\"\",0,EF1236+ED1237+EN1236+EM1236)","v":0},{"$f":"IF((IF(restoZero(EE1237,25),(spaziIntermedi(EE1237,25))+1,spaziIntermedi(EE1237,25)))=(spaziIntermedi(EF1237,25)),FALSE,TRUE)","v":true},0,{"$f":"+spaziIntermedi(EF1237,25)-EH1237","v":0},false,0,null,0,0,null,null,null,0,0,0,0,0,null,null,{"$f":"IFERROR(EZ1236+FG1236+FH1236,0)","v":0},{"$f":"IF(EX1237=\"\",0,EZ1236+EX1237+FH1236+FG1236+FF1237)","v":0},{"$f":"IF((IF(restoZero(EY1237,25),(spaziIntermedi(EY1237,25))+1,spaziIntermedi(EY1237,25)))=(spaziIntermedi(EZ1237,25)),FALSE,TRUE)","v":true},0,{"$f":"+spaziIntermedi(EZ1237,25)-FB1237","v":0},false,0,null,0,0,null,null,null,0,0,0,null,null,{"$f":"IFERROR(FR1236+FY1236+FZ1236,0)","v":0},{"$f":"IF(FP1237=\"\",0,FR1236+FP1237+FZ1236+FY1236)","v":0},{"$f":"IF((IF(restoZero(FQ1237,25),(spaziIntermedi(FQ1237,25))+1,spaziIntermedi(FQ1237,25)))=(spaziIntermedi(FR1237,25)),FALSE,TRUE)","v":true},0,{"$f":"+spaziIntermedi(FR1237,25)-FT1237","v":0},false,0,null,0,0,null,null,null,0,0,0,0,0,null,null,{"$f":"IFERROR(GL1236+GS1236+GT1236,0)","v":0},{"$f":"IF(GJ1237=\"\",0,GL1236+GJ1237+GT1236+GS1236+GR1237)","v":0},{"$f":"IF((IF(restoZero(GK1237,25),(spaziIntermedi(GK1237,25))+1,spaziIntermedi(GK1237,25)))=(spaziIntermedi(GL1237,25)),FALSE,TRUE)","v":true},0,{"$f":"+spaziIntermedi(GL1237,25)-GN1237","v":0},false,0,null,0,0,null,null,null,0,0,0,null,null,{"$f":"IFERROR(HD1236+HK1236+HL1236,0)","v":0},{"$f":"IF(HB1237=\"\",0,HD1236+HB1237+HL1236+HK1236)","v":0},{"$f":"IF((IF(restoZero(HC1237,25),(spaziIntermedi(HC1237,25))+1,spaziIntermedi(HC1237,25)))=(spaziIntermedi(HD1237,25)),FALSE,TRUE)","v":true},0,{"$f":"+spaziIntermedi(HD1237,25)-HF1237","v":0},false,0,null,0,0,null,null,null,0,0,0,0,0,null,null,{"$f":"IFERROR(HX1236+IE1236+IF1236,0)","v":0},{"$f":"IF(HV1237=\"\",0,HX1236+HV1237+IF1236+IE1236+ID1237)","v":0},{"$f":"IF((IF(restoZero(HW1237,25),(spaziIntermedi(HW1237,25))+1,spaziIntermedi(HW1237,25)))=(spaziIntermedi(HX1237,25)),FALSE,TRUE)","v":true},0,{"$f":"+spaziIntermedi(HX1237,25)-HZ1237","v":0},false,0,null,0,0,null,null,null,0,0,0,null,null,{"$f":"IFERROR(IP1236+IW1236+IX1236,0)","v":0},{"$f":"IF(IN1237=\"\",0,IP1236+IN1237+IX1236+IW1236)","v":0},{"$f":"IF((IF(restoZero(IO1237,25),(spaziIntermedi(IO1237,25))+1,spaziIntermedi(IO1237,25)))=(spaziIntermedi(IP1237,25)),FALSE,TRUE)","v":true},0,{"$f":"+spaziIntermedi(IP1237,25)-IR1237","v":0},false,0,null,0,0,null,null,null,0,0,0,0,0,null,null,{"$f":"IFERROR(JJ1236+JQ1236+JR1236,0)","v":0},{"$f":"IF(JH1237=\"\",0,JJ1236+JH1237+JR1236+JQ1236+JP1237)","v":0},{"$f":"IF((IF(restoZero(JI1237,25),(spaziIntermedi(JI1237,25))+1,spaziIntermedi(JI1237,25)))=(spaziIntermedi(JJ1237,25)),FALSE,TRUE)","v":true},0,{"$f":"+spaziIntermedi(JJ1237,25)-JL1237","v":0},false,0,null,0,0,null,null,null,0,0,0,null,null,{"$f":"IFERROR(KB1236+KI1236+KJ1236,0)","v":0},{"$f":"IF(JZ1237=\"\",0,KB1236+JZ1237+KJ1236+KI1236)","v":0},{"$f":"IF((IF(restoZero(KA1237,25),(spaziIntermedi(KA1237,25))+1,spaziIntermedi(KA1237,25)))=(spaziIntermedi(KB1237,25)),FALSE,TRUE)","v":true},0,{"$f":"+spaziIntermedi(KB1237,25)-KD1237","v":0},false,0,null,0,0,null,null,null,0,0,0,0,0,null,null,{"$f":"IFERROR(KV1236+LC1236+LD1236,0)","v":0},{"$f":"IF(KT1237=\"\",0,KV1236+KT1237+LD1236+LC1236+LB1237)","v":0},{"$f":"IF((IF(restoZero(KU1237,25),(spaziIntermedi(KU1237,25))+1,spaziIntermedi(KU1237,25)))=(spaziIntermedi(KV1237,25)),FALSE,TRUE)","v":true},0,{"$f":"+spaziIntermedi(KV1237,25)-KX1237","v":0},false,0,null,0,0,null,null,null,0,0,0,null,null,{"$f":"IFERROR(LN1236+LU1236+LV1236,0)","v":0},{"$f":"IF(LL1237=\"\",0,LN1236+LL1237+LV1236+LU1236)","v":0},{"$f":"IF((IF(restoZero(LM1237,25),(spaziIntermedi(LM1237,25))+1,spaziIntermedi(LM1237,25)))=(spaziIntermedi(LN1237,25)),FALSE,TRUE)","v":true},0,{"$f":"+spaziIntermedi(LN1237,25)-LP1237","v":0},false,0,null,0,0,null,null,null,0,0,0,0,0,null,null,{"$f":"IFERROR(MH1236+MO1236+MP1236,0)","v":0},{"$f":"IF(MF1237=\"\",0,MH1236+MF1237+MP1236+MO1236+MN1237)","v":0},{"$f":"IF((IF(restoZero(MG1237,25),(spaziIntermedi(MG1237,25))+1,spaziIntermedi(MG1237,25)))=(spaziIntermedi(MH1237,25)),FALSE,TRUE)","v":true},0,{"$f":"+spaziIntermedi(MH1237,25)-MJ1237","v":0},false,0,null,0,0,null,null,null,0,0,0,null,null,{"$f":"IFERROR(MZ1236+NG1236+NH1236,0)","v":0},{"$f":"IF(MX1237=\"\",0,MZ1236+MX1237+NH1236+NG1236)","v":0},{"$f":"IF((IF(restoZero(MY1237,25),(spaziIntermedi(MY1237,25))+1,spaziIntermedi(MY1237,25)))=(spaziIntermedi(MZ1237,25)),FALSE,TRUE)","v":true},0,{"$f":"+spaziIntermedi(MZ1237,25)-NB1237","v":0},false,0,null,0,0,null,null,null,0,0,0,0,0,null,null,{"$f":"IFERROR(NT1236+OA1236+OB1236,0)","v":0},{"$f":"IF(NR1237=\"\",0,NT1236+NR1237+OB1236+OA1236+NZ1237)","v":0},{"$f":"IF((IF(restoZero(NS1237,25),(spaziIntermedi(NS1237,25))+1,spaziIntermedi(NS1237,25)))=(spaziIntermedi(NT1237,25)),FALSE,TRUE)","v":true},0,{"$f":"+spaziIntermedi(NT1237,25)-NV1237","v":0},false,0,null,0,0,null,null,null,0,0,0,null,null,{"$f":"IFERROR(OL1236+OS1236+OT1236,0)","v":0},{"$f":"IF(OJ1237=\"\",0,OL1236+OJ1237+OT1236+OS1236)","v":0},{"$f":"IF((IF(restoZero(OK1237,25),(spaziIntermedi(OK1237,25))+1,spaziIntermedi(OK1237,25)))=(spaziIntermedi(OL1237,25)),FALSE,TRUE)","v":true},0,{"$f":"+spaziIntermedi(OL1237,25)-ON1237","v":0},false,0,null,0,0,null,null,null,0,0,0,0,0,null,null,{"$f":"IFERROR(PF1236+PM1236+PN1236,0)","v":0},{"$f":"IF(PD1237=\"\",0,PF1236+PD1237+PN1236+PM1236+PL1237)","v":0},{"$f":"IF((IF(restoZero(PE1237,25),(spaziIntermedi(PE1237,25))+1,spaziIntermedi(PE1237,25)))=(spaziIntermedi(PF1237,25)),FALSE,TRUE)","v":true},0,{"$f":"+spaziIntermedi(PF1237,25)-PH1237","v":0},false,0,null,0,0,null,null,null,0,0,0,null,null,{"$f":"IFERROR(PX1236+QE1236+QF1236,0)","v":0},{"$f":"IF(PV1237=\"\",0,PX1236+PV1237+QF1236+QE1236)","v":0},{"$f":"IF((IF(restoZero(PW1237,25),(spaziIntermedi(PW1237,25))+1,spaziIntermedi(PW1237,25)))=(spaziIntermedi(PX1237,25)),FALSE,TRUE)","v":true},0,{"$f":"+spaziIntermedi(PX1237,25)-PZ1237","v":0},false,0,null,0,0,null,null,null,0,0,0,0,0,null,null,{"$f":"IFERROR(QR1236+QY1236+QZ1236,0)","v":0},{"$f":"IF(QP1237=\"\",0,QR1236+QP1237+QZ1236+QY1236+QX1237)","v":0},{"$f":"IF((IF(restoZero(QQ1237,25),(spaziIntermedi(QQ1237,25))+1,spaziIntermedi(QQ1237,25)))=(spaziIntermedi(QR1237,25)),FALSE,TRUE)","v":true},0,{"$f":"+spaziIntermedi(QR1237,25)-QT1237","v":0},false,0,null,0,0,null,null,null,0,0,0,null,null,{"$f":"IFERROR(RJ1236+RQ1236+RR1236,0)","v":0},{"$f":"IF(RH1237=\"\",0,RJ1236+RH1237+RR1236+RQ1236)","v":0},{"$f":"IF((IF(restoZero(RI1237,25),(spaziIntermedi(RI1237,25))+1,spaziIntermedi(RI1237,25)))=(spaziIntermedi(RJ1237,25)),FALSE,TRUE)","v":true},0,{"$f":"+spaziIntermedi(RJ1237,25)-RL1237","v":0},false,0,null,0,0,null,null,null,0,0,0,0,0,null,null,{"$f":"IFERROR(SD1236+SK1236+SL1236,0)","v":0},{"$f":"IF(SB1237=\"\",0,SD1236+SB1237+SL1236+SK1236+SJ1237)","v":0},{"$f":"IF((IF(restoZero(SC1237,25),(spaziIntermedi(SC1237,25))+1,spaziIntermedi(SC1237,25)))=(spaziIntermedi(SD1237,25)),FALSE,TRUE)","v":true},0,{"$f":"+spaziIntermedi(SD1237,25)-SF1237","v":0},false,0,null,0,0,null,null,null,0,0,0,null,null,{"$f":"IFERROR(SV1236+TC1236+TD1236,0)","v":0},{"$f":"IF(ST1237=\"\",0,SV1236+ST1237+TD1236+TC1236)","v":0},{"$f":"IF((IF(restoZero(SU1237,25),(spaziIntermedi(SU1237,25))+1,spaziIntermedi(SU1237,25)))=(spaziIntermedi(SV1237,25)),FALSE,TRUE)","v":true},0,{"$f":"+spaziIntermedi(SV1237,25)-SX1237","v":0},false,0,null,0,0,null,null,null,0,0,0,0,0]
[null,null,0,0,{"$f":"IF((IF(restoZero(C1238,25),(spaziIntermedi(C1238,25))+1,spaziIntermedi(C1238,25)))=(spaziIntermedi(D1238,25)),FALSE,TRUE)","v":true},0,{"$f":"+spaziIntermedi(D1238,25)-F1238","v":0},false,0,null,0,0,null,null,null,0,0,0,null,null,0,0,{"$f":"IF((IF(restoZero(U1238,25),(spaziIntermedi(U1238,25))+1,spaziIntermedi(U1238,25)))=(spaziIntermedi(V1238,25)),FALSE,TRUE)","v":true},0,{"$f":"+spaziIntermedi(V1238,25)-X1238","v":0},false,0,null,0,0,null,null,null,0,0,0,0,0,null,null,0,0,{"$f":"IF((IF(restoZero(AO1238,25),(spaziIntermedi(AO1238,25))+1,spaziIntermedi(AO1238,25)))=(spaziIntermedi(AP1238,25)),FALSE,TRUE)","v":true},0,{"$f":"+spaziIntermedi(AP1238,25)-AR1238","v":0},false,0,null,0,0,null,null,null,0,0,0,null,null,0,0,{"$f":"IF((IF(restoZero(BG1238,25),(spaziIntermedi(BG1238,25))+1,spaziIntermedi(BG1238,25)))=(spaziIntermedi(BH1238,25)),FALSE,TRUE)","v":true},0,{"$f":"+spaziIntermedi(BH1238,25)-BJ1238","v":0},false,0,null,0,0,null,null,null,0,0,0,0,0,null,null,0,0,{"$f":"IF((IF(restoZero(CA1238,25),(spaziIntermedi(CA1238,25))+1,spaziIntermedi(CA1238,25)))=(spaziIntermedi(CB1238,25)),FALSE,TRUE)","v":true},0,{"$f":"+spaziIntermedi(CB1238,25)-CD1238","v":0},false,0,null,0,0,null,null,null,0,0,0,null,null,0,0,{"$f":"IF((IF(restoZero(CS1238,25),(spaziIntermedi(CS1238,25))+1,spaziIntermedi(CS1238,25)))=(spaziIntermedi(CT1238,25)),FALSE,TRUE)","v":true},0,{"$f":"+spaziIntermedi(CT1238,25)-CV1238","v":0},false,0,null,0,0,null,null,null,0,0,0,0,0,null,null,0,0,{"$f":"IF((IF(restoZero(DM1238,25),(spaziIntermedi(DM1238,25))+1,spaziIntermedi(DM1238,25)))=(spaziIntermedi(DN1238,25)),FALSE,TRUE)","v":true},0,{"$f":"+spaziIntermedi(DN1238,25)-DP1238","v":0},false,0,null,0,0,null,null,null,0,0,0,null,null,0,0,{"$f":"IF((IF(restoZero(EE1238,25),(spaziIntermedi(EE1238,25))+1,spaziIntermedi(EE1238,25)))=(spaziIntermedi(EF1238,25)),FALSE,TRUE)","v":true},0,{"$f":"+spaziIntermedi(EF1238,25)-EH1238","v":0},false,0,null,0,0,null,null,null,0,0,0,0,0,null,null,0,0,{"$f":"IF((IF(restoZero(EY1238,25),(spaziIntermedi(EY1238,25))+1,spaziIntermedi(EY1238,25)))=(spaziIntermedi(EZ1238,25)),FALSE,TRUE)","v":true},0,{"$f":"+spaziIntermedi(EZ1238,25)-FB1238","v":0},false,0,null,0,0,null,null,null,0,0,0,null,null,0,0,{"$f":"IF((IF(restoZero(FQ1238,25),(spaziIntermedi(FQ1238,25))+1,spaziIntermedi(FQ1238,25)))=(spaziIntermedi(FR1238,25)),FALSE,TRUE)","v":true},0,{"$f":"+spaziIntermedi(FR1238,25)-FT1238","v":0},false,0,null,0,0,null,null,null,0,0,0,0,0,null,null,0,0,{"$f":"IF((IF(restoZero(GK1238,25),(spaziIntermedi(GK1238,25))+1,spaziIntermedi(GK1238,25)))=(spaziIntermedi(GL1238,25)),FALSE,TRUE)","v":true},0,{"$f":"+spaziIntermedi(GL1238,25)-GN1238","v":0},false,0,null,0,0,null,null,null,0,0,0,null,null,0,0,{"$f":"IF((IF(restoZero(HC1238,25),(spaziIntermedi(HC1238,25))+1,spaziIntermedi(HC1238,25)))=(spaziIntermedi(HD1238,25)),FALSE,TRUE)","v":true},0,{"$f":"+spaziIntermedi(HD1238,25)-HF1238","v":0},false,0,null,0,0,null,null,null,0,0,0,0,0,null,null,0,0,{"$f":"IF((IF(restoZero(HW1238,25),(spaziIntermedi(HW1238,25))+1,spaziIntermedi(HW1238,25)))=(spaziIntermedi(HX1238,25)),FALSE,TRUE)","v":true},0,{"$f":"+spaziIntermedi(HX1238,25)-HZ1238","v":0},false,0,null,0,0,null,null,null,0,0,0,null,null,0,0,{"$f":"IF((IF(restoZero(IO1238,25),(spaziIntermedi(IO1238,25))+1,spaziIntermedi(IO1238,25)))=(spaziIntermedi(IP1238,25)),FALSE,TRUE)","v":true},0,{"$f":"+spaziIntermedi(IP1238,25)-IR1238","v":0},false,0,null,0,0,null,null,null,0,0,0,0,0,null,null,0,0,{"$f":"IF((IF(restoZero(JI1238,25),(spaziIntermedi(JI1238,25))+1,spaziIntermedi(JI1238,25)))=(spaziIntermedi(JJ1238,25)),FALSE,TRUE)","v":true},0,{"$f":"+spaziIntermedi(JJ1238,25)-JL1238","v":0},false,0,null,0,0,null,null,null,0,0,0,null,null,0,0,{"$f":"IF((IF(restoZero(KA1238,25),(spaziIntermedi(KA1238,25))+1,spaziIntermedi(KA1238,25)))=(spaziIntermedi(KB1238,25)),FALSE,TRUE)","v":true},0,{"$f":"+spaziIntermedi(KB1238,25)-KD1238","v":0},false,0,null,0,0,null,null,null,0,0,0,0,0,null,null,0,0,{"$f":"IF((IF(restoZero(KU1238,25),(spaziIntermedi(KU1238,25))+1,spaziIntermedi(KU1238,25)))=(spaziIntermedi(KV1238,25)),FALSE,TRUE)","v":true},0,{"$f":"+spaziIntermedi(KV1238,25)-KX1238","v":0},false,0,null,0,0,null,null,null,0,0,0,null,null,0,0,{"$f":"IF((IF(restoZero(LM1238,25),(spaziIntermedi(LM1238,25))+1,spaziIntermedi(LM1238,25)))=(spaziIntermedi(LN1238,25)),FALSE,TRUE)","v":true},0,{"$f":"+spaziIntermedi(LN1238,25)-LP1238","v":0},false,0,null,0,0,null,null,null,0,0,0,0,0,null,null,0,0,{"$f":"IF((IF(restoZero(MG1238,25),(spaziIntermedi(MG1238,25))+1,spaziIntermedi(MG1238,25)))=(spaziIntermedi(MH1238,25)),FALSE,TRUE)","v":true},0,{"$f":"+spaziIntermedi(MH1238,25)-MJ1238","v":0},false,0,null,0,0,null,null,null,0,0,0,null,null,0,0,{"$f":"IF((IF(restoZero(MY1238,25),(spaziIntermedi(MY1238,25))+1,spaziIntermedi(MY1238,25)))=(spaziIntermedi(MZ1238,25)),FALSE,TRUE)","v":true},0,{"$f":"+spaziIntermedi(MZ1238,25)-NB1238","v":0},false,0,null,0,0,null,null,null,0,0,0,0,0,null,null,0,0,{"$f":"IF((IF(restoZero(NS1238,25),(spaziIntermedi(NS1238,25))+1,spaziIntermedi(NS1238,25)))=(spaziIntermedi(NT1238,25)),FALSE,TRUE)","v":true},0,{"$f":"+spaziIntermedi(NT1238,25)-NV1238","v":0},false,0,null,0,0,null,null,null,0,0,0,null,null,0,0,{"$f":"IF((IF(restoZero(OK1238,25),(spaziIntermedi(OK1238,25))+1,spaziIntermedi(OK1238,25)))=(spaziIntermedi(OL1238,25)),FALSE,TRUE)","v":true},0,{"$f":"+spaziIntermedi(OL1238,25)-ON1238","v":0},false,0,null,0,0,null,null,null,0,0,0,0,0,null,null,0,0,{"$f":"IF((IF(restoZero(PE1238,25),(spaziIntermedi(PE1238,25))+1,spaziIntermedi(PE1238,25)))=(spaziIntermedi(PF1238,25)),FALSE,TRUE)","v":true},0,{"$f":"+spaziIntermedi(PF1238,25)-PH1238","v":0},false,0,null,0,0,null,null,null,0,0,0,null,null,0,0,{"$f":"IF((IF(restoZero(PW1238,25),(spaziIntermedi(PW1238,25))+1,spaziIntermedi(PW1238,25)))=(spaziIntermedi(PX1238,25)),FALSE,TRUE)","v":true},0,{"$f":"+spaziIntermedi(PX1238,25)-PZ1238","v":0},false,0,null,0,0,null,null,null,0,0,0,0,0,null,null,0,0,{"$f":"IF((IF(restoZero(QQ1238,25),(spaziIntermedi(QQ1238,25))+1,spaziIntermedi(QQ1238,25)))=(spaziIntermedi(QR1238,25)),FALSE,TRUE)","v":true},0,{"$f":"+spaziIntermedi(QR1238,25)-QT1238","v":0},false,0,null,0,0,null,null,null,0,0,0,null,null,0,0,{"$f":"IF((IF(restoZero(RI1238,25),(spaziIntermedi(RI1238,25))+1,spaziIntermedi(RI1238,25)))=(spaziIntermedi(RJ1238,25)),FALSE,TRUE)","v":true},0,{"$f":"+spaziIntermedi(RJ1238,25)-RL1238","v":0},false,0,null,0,0,null,null,null,0,0,0,0,0,null,null,0,0,{"$f":"IF((IF(restoZero(SC1238,25),(spaziIntermedi(SC1238,25))+1,spaziIntermedi(SC1238,25)))=(spaziIntermedi(SD1238,25)),FALSE,TRUE)","v":true},0,{"$f":"+spaziIntermedi(SD1238,25)-SF1238","v":0},false,0,null,0,0,null,null,null,0,0,0,null,null,0,0,{"$f":"IF((IF(restoZero(SU1238,25),(spaziIntermedi(SU1238,25))+1,spaziIntermedi(SU1238,25)))=(spaziIntermedi(SV1238,25)),FALSE,TRUE)","v":true},0,{"$f":"+spaziIntermedi(SV1238,25)-SX1238","v":0},false,0,null,0,0,null,null,null,0,0,0,0,0]
[null,null,0,0,{"$f":"IF((IF(restoZero(C1239,25),(spaziIntermedi(C1239,25))+1,spaziIntermedi(C1239,25)))=(spaziIntermedi(D1239,25)),FALSE,TRUE)","v":true},0,{"$f":"+spaziIntermedi(D1239,25)-F1239","v":0},false,0,null,0,0,null,null,null,0,0,0,null,null,0,0,{"$f":"IF((IF(restoZero(U1239,25),(spaziIntermedi(U1239,25))+1,spaziIntermedi(U1239,25)))=(spaziIntermedi(V1239,25)),FALSE,TRUE)","v":true},0,{"$f":"+spaziIntermedi(V1239,25)-X1239","v":0},false,0,null,0,0,null,null,null,0,0,0,0,0,null,null,0,0,{"$f":"IF((IF(restoZero(AO1239,25),(spaziIntermedi(AO1239,25))+1,spaziIntermedi(AO1239,25)))=(spaziIntermedi(AP1239,25)),FALSE,TRUE)","v":true},0,{"$f":"+spaziIntermedi(AP1239,25)-AR1239","v":0},false,0,null,0,0,null,null,null,0,0,0,null,null,0,0,{"$f":"IF((IF(restoZero(BG1239,25),(spaziIntermedi(BG1239,25))+1,spaziIntermedi(BG1239,25)))=(spaziIntermedi(BH1239,25)),FALSE,TRUE)","v":true},0,{"$f":"+spaziIntermedi(BH1239,25)-BJ1239","v":0},false,0,null,0,0,null,null,null,0,0,0,0,0,null,null,0,0,{"$f":"IF((IF(restoZero(CA1239,25),(spaziIntermedi(CA1239,25))+1,spaziIntermedi(CA1239,25)))=(spaziIntermedi(CB1239,25)),FALSE,TRUE)","v":true},0,{"$f":"+spaziIntermedi(CB1239,25)-CD1239","v":0},false,0,null,0,0,null,null,null,0,0,0,null,null,0,0,{"$f":"IF((IF(restoZero(CS1239,25),(spaziIntermedi(CS1239,25))+1,spaziIntermedi(CS1239,25)))=(spaziIntermedi(CT1239,25)),FALSE,TRUE)","v":true},0,{"$f":"+spaziIntermedi(CT1239,25)-CV1239","v":0},false,0,null,0,0,null,null,null,0,0,0,0,0,null,null,0,0,{"$f":"IF((IF(restoZero(DM1239,25),(spaziIntermedi(DM1239,25))+1,spaziIntermedi(DM1239,25)))=(spaziIntermedi(DN1239,25)),FALSE,TRUE)","v":true},0,{"$f":"+spaziIntermedi(DN1239,25)-DP1239","v":0},false,0,null,0,0,null,null,null,0,0,0,null,null,0,0,{"$f":"IF((IF(restoZero(EE1239,25),(spaziIntermedi(EE1239,25))+1,spaziIntermedi(EE1239,25)))=(spaziIntermedi(EF1239,25)),FALSE,TRUE)","v":true},0,{"$f":"+spaziIntermedi(EF1239,25)-EH1239","v":0},false,0,null,0,0,null,null,null,0,0,0,0,0,null,null,0,0,{"$f":"IF((IF(restoZero(EY1239,25),(spaziIntermedi(EY1239,25))+1,spaziIntermedi(EY1239,25)))=(spaziIntermedi(EZ1239,25)),FALSE,TRUE)","v":true},0,{"$f":"+spaziIntermedi(EZ1239,25)-FB1239","v":0},false,0,null,0,0,null,null,null,0,0,0,null,null,0,0,{"$f":"IF((IF(restoZero(FQ1239,25),(spaziIntermedi(FQ1239,25))+1,spaziIntermedi(FQ1239,25)))=(spaziIntermedi(FR1239,25)),FALSE,TRUE)","v":true},0,{"$f":"+spaziIntermedi(FR1239,25)-FT1239","v":0},false,0,null,0,0,null,null,null,0,0,0,0,0,null,null,0,0,{"$f":"IF((IF(restoZero(GK1239,25),(spaziIntermedi(GK1239,25))+1,spaziIntermedi(GK1239,25)))=(spaziIntermedi(GL1239,25)),FALSE,TRUE)","v":true},0,{"$f":"+spaziIntermedi(GL1239,25)-GN1239","v":0},false,0,null,0,0,null,null,null,0,0,0,null,null,0,0,{"$f":"IF((IF(restoZero(HC1239,25),(spaziIntermedi(HC1239,25))+1,spaziIntermedi(HC1239,25)))=(spaziIntermedi(HD1239,25)),FALSE,TRUE)","v":true},0,{"$f":"+spaziIntermedi(HD1239,25)-HF1239","v":0},false,0,null,0,0,null,null,null,0,0,0,0,0,null,null,0,0,{"$f":"IF((IF(restoZero(HW1239,25),(spaziIntermedi(HW1239,25))+1,spaziIntermedi(HW1239,25)))=(spaziIntermedi(HX1239,25)),FALSE,TRUE)","v":true},0,{"$f":"+spaziIntermedi(HX1239,25)-HZ1239","v":0},false,0,null,0,0,null,null,null,0,0,0,null,null,0,0,{"$f":"IF((IF(restoZero(IO1239,25),(spaziIntermedi(IO1239,25))+1,spaziIntermedi(IO1239,25)))=(spaziIntermedi(IP1239,25)),FALSE,TRUE)","v":true},0,{"$f":"+spaziIntermedi(IP1239,25)-IR1239","v":0},false,0,null,0,0,null,null,null,0,0,0,0,0,null,null,0,0,{"$f":"IF((IF(restoZero(JI1239,25),(spaziIntermedi(JI1239,25))+1,spaziIntermedi(JI1239,25)))=(spaziIntermedi(JJ1239,25)),FALSE,TRUE)","v":true},0,{"$f":"+spaziIntermedi(JJ1239,25)-JL1239","v":0},false,0,null,0,0,null,null,null,0,0,0,null,null,0,0,{"$f":"IF((IF(restoZero(KA1239,25),(spaziIntermedi(KA1239,25))+1,spaziIntermedi(KA1239,25)))=(spaziIntermedi(KB1239,25)),FALSE,TRUE)","v":true},0,{"$f":"+spaziIntermedi(KB1239,25)-KD1239","v":0},false,0,null,0,0,null,null,null,0,0,0,0,0,null,null,0,0,{"$f":"IF((IF(restoZero(KU1239,25),(spaziIntermedi(KU1239,25))+1,spaziIntermedi(KU1239,25)))=(spaziIntermedi(KV1239,25)),FALSE,TRUE)","v":true},0,{"$f":"+spaziIntermedi(KV1239,25)-KX1239","v":0},false,0,null,0,0,null,null,null,0,0,0,null,null,0,0,{"$f":"IF((IF(restoZero(LM1239,25),(spaziIntermedi(LM1239,25))+1,spaziIntermedi(LM1239,25)))=(spaziIntermedi(LN1239,25)),FALSE,TRUE)","v":true},0,{"$f":"+spaziIntermedi(LN1239,25)-LP1239","v":0},false,0,null,0,0,null,null,null,0,0,0,0,0,null,null,0,0,{"$f":"IF((IF(restoZero(MG1239,25),(spaziIntermedi(MG1239,25))+1,spaziIntermedi(MG1239,25)))=(spaziIntermedi(MH1239,25)),FALSE,TRUE)","v":true},0,{"$f":"+spaziIntermedi(MH1239,25)-MJ1239","v":0},false,0,null,0,0,null,null,null,0,0,0,null,null,0,0,{"$f":"IF((IF(restoZero(MY1239,25),(spaziIntermedi(MY1239,25))+1,spaziIntermedi(MY1239,25)))=(spaziIntermedi(MZ1239,25)),FALSE,TRUE)","v":true},0,{"$f":"+spaziIntermedi(MZ1239,25)-NB1239","v":0},false,0,null,0,0,null,null,null,0,0,0,0,0,null,null,0,0,{"$f":"IF((IF(restoZero(NS1239,25),(spaziIntermedi(NS1239,25))+1,spaziIntermedi(NS1239,25)))=(spaziIntermedi(NT1239,25)),FALSE,TRUE)","v":true},0,{"$f":"+spaziIntermedi(NT1239,25)-NV1239","v":0},false,0,null,0,0,null,null,null,0,0,0,null,null,0,0,{"$f":"IF((IF(restoZero(OK1239,25),(spaziIntermedi(OK1239,25))+1,spaziIntermedi(OK1239,25)))=(spaziIntermedi(OL1239,25)),FALSE,TRUE)","v":true},0,{"$f":"+spaziIntermedi(OL1239,25)-ON1239","v":0},false,0,null,0,0,null,null,null,0,0,0,0,0,null,null,0,0,{"$f":"IF((IF(restoZero(PE1239,25),(spaziIntermedi(PE1239,25))+1,spaziIntermedi(PE1239,25)))=(spaziIntermedi(PF1239,25)),FALSE,TRUE)","v":true},0,{"$f":"+spaziIntermedi(PF1239,25)-PH1239","v":0},false,0,null,0,0,null,null,null,0,0,0,null,null,0,0,{"$f":"IF((IF(restoZero(PW1239,25),(spaziIntermedi(PW1239,25))+1,spaziIntermedi(PW1239,25)))=(spaziIntermedi(PX1239,25)),FALSE,TRUE)","v":true},0,{"$f":"+spaziIntermedi(PX1239,25)-PZ1239","v":0},false,0,null,0,0,null,null,null,0,0,0,0,0,null,null,0,0,{"$f":"IF((IF(restoZero(QQ1239,25),(spaziIntermedi(QQ1239,25))+1,spaziIntermedi(QQ1239,25)))=(spaziIntermedi(QR1239,25)),FALSE,TRUE)","v":true},0,{"$f":"+spaziIntermedi(QR1239,25)-QT1239","v":0},false,0,null,0,0,null,null,null,0,0,0,null,null,0,0,{"$f":"IF((IF(restoZero(RI1239,25),(spaziIntermedi(RI1239,25))+1,spaziIntermedi(RI1239,25)))=(spaziIntermedi(RJ1239,25)),FALSE,TRUE)","v":true},0,{"$f":"+spaziIntermedi(RJ1239,25)-RL1239","v":0},false,0,null,0,0,null,null,null,0,0,0,0,0,null,null,0,0,{"$f":"IF((IF(restoZero(SC1239,25),(spaziIntermedi(SC1239,25))+1,spaziIntermedi(SC1239,25)))=(spaziIntermedi(SD1239,25)),FALSE,TRUE)","v":true},0,{"$f":"+spaziIntermedi(SD1239,25)-SF1239","v":0},false,0,null,0,0,null,null,null,0,0,0,null,null,0,0,{"$f":"IF((IF(restoZero(SU1239,25),(spaziIntermedi(SU1239,25))+1,spaziIntermedi(SU1239,25)))=(spaziIntermedi(SV1239,25)),FALSE,TRUE)","v":true},0,{"$f":"+spaziIntermedi(SV1239,25)-SX1239","v":0},false,0,null,0,0,null,null,null,0,0,0,0,0]
[null,null,0,0,{"$f":"IF((IF(restoZero(C1240,25),(spaziIntermedi(C1240,25))+1,spaziIntermedi(C1240,25)))=(spaziIntermedi(D1240,25)),FALSE,TRUE)","v":true},0,{"$f":"+spaziIntermedi(D1240,25)-F1240","v":0},false,0,null,0,0,null,null,null,0,0,0,null,null,0,0,{"$f":"IF((IF(restoZero(U1240,25),(spaziIntermedi(U1240,25))+1,spaziIntermedi(U1240,25)))=(spaziIntermedi(V1240,25)),FALSE,TRUE)","v":true},0,{"$f":"+spaziIntermedi(V1240,25)-X1240","v":0},false,0,null,0,0,null,null,null,0,0,0,0,0,null,null,0,0,{"$f":"IF((IF(restoZero(AO1240,25),(spaziIntermedi(AO1240,25))+1,spaziIntermedi(AO1240,25)))=(spaziIntermedi(AP1240,25)),FALSE,TRUE)","v":true},0,{"$f":"+spaziIntermedi(AP1240,25)-AR1240","v":0},false,0,null,0,0,null,null,null,0,0,0,null,null,0,0,{"$f":"IF((IF(restoZero(BG1240,25),(spaziIntermedi(BG1240,25))+1,spaziIntermedi(BG1240,25)))=(spaziIntermedi(BH1240,25)),FALSE,TRUE)","v":true},0,{"$f":"+spaziIntermedi(BH1240,25)-BJ1240","v":0},false,0,null,0,0,null,null,null,0,0,0,0,0,null,null,0,0,{"$f":"IF((IF(restoZero(CA1240,25),(spaziIntermedi(CA1240,25))+1,spaziIntermedi(CA1240,25)))=(spaziIntermedi(CB1240,25)),FALSE,TRUE)","v":true},0,{"$f":"+spaziIntermedi(CB1240,25)-CD1240","v":0},false,0,null,0,0,null,null,null,0,0,0,null,null,0,0,{"$f":"IF((IF(restoZero(CS1240,25),(spaziIntermedi(CS1240,25))+1,spaziIntermedi(CS1240,25)))=(spaziIntermedi(CT1240,25)),FALSE,TRUE)","v":true},0,{"$f":"+spaziIntermedi(CT1240,25)-CV1240","v":0},false,0,null,0,0,null,null,null,0,0,0,0,0,null,null,0,0,{"$f":"IF((IF(restoZero(DM1240,25),(spaziIntermedi(DM1240,25))+1,spaziIntermedi(DM1240,25)))=(spaziIntermedi(DN1240,25)),FALSE,TRUE)","v":true},0,{"$f":"+spaziIntermedi(DN1240,25)-DP1240","v":0},false,0,null,0,0,null,null,null,0,0,0,null,null,0,0,{"$f":"IF((IF(restoZero(EE1240,25),(spaziIntermedi(EE1240,25))+1,spaziIntermedi(EE1240,25)))=(spaziIntermedi(EF1240,25)),FALSE,TRUE)","v":true},0,{"$f":"+spaziIntermedi(EF1240,25)-EH1240","v":0},false,0,null,0,0,null,null,null,0,0,0,0,0,null,null,0,0,{"$f":"IF((IF(restoZero(EY1240,25),(spaziIntermedi(EY1240,25))+1,spaziIntermedi(EY1240,25)))=(spaziIntermedi(EZ1240,25)),FALSE,TRUE)","v":true},0,{"$f":"+spaziIntermedi(EZ1240,25)-FB1240","v":0},false,0,null,0,0,null,null,null,0,0,0,null,null,0,0,{"$f":"IF((IF(restoZero(FQ1240,25),(spaziIntermedi(FQ1240,25))+1,spaziIntermedi(FQ1240,25)))=(spaziIntermedi(FR1240,25)),FALSE,TRUE)","v":true},0,{"$f":"+spaziIntermedi(FR1240,25)-FT1240","v":0},false,0,null,0,0,null,null,null,0,0,0,0,0,null,null,0,0,{"$f":"IF((IF(restoZero(GK1240,25),(spaziIntermedi(GK1240,25))+1,spaziIntermedi(GK1240,25)))=(spaziIntermedi(GL1240,25)),FALSE,TRUE)","v":true},0,{"$f":"+spaziIntermedi(GL1240,25)-GN1240","v":0},false,0,null,0,0,null,null,null,0,0,0,null,null,0,0,{"$f":"IF((IF(restoZero(HC1240,25),(spaziIntermedi(HC1240,25))+1,spaziIntermedi(HC1240,25)))=(spaziIntermedi(HD1240,25)),FALSE,TRUE)","v":true},0,{"$f":"+spaziIntermedi(HD1240,25)-HF1240","v":0},false,0,null,0,0,null,null,null,0,0,0,0,0,null,null,0,0,{"$f":"IF((IF(restoZero(HW1240,25),(spaziIntermedi(HW1240,25))+1,spaziIntermedi(HW1240,25)))=(spaziIntermedi(HX1240,25)),FALSE,TRUE)","v":true},0,{"$f":"+spaziIntermedi(HX1240,25)-HZ1240","v":0},false,0,null,0,0,null,null,null,0,0,0,null,null,0,0,{"$f":"IF((IF(restoZero(IO1240,25),(spaziIntermedi(IO1240,25))+1,spaziIntermedi(IO1240,25)))=(spaziIntermedi(IP1240,25)),FALSE,TRUE)","v":true},0,{"$f":"+spaziIntermedi(IP1240,25)-IR1240","v":0},false,0,null,0,0,null,null,null,0,0,0,0,0,null,null,0,0,{"$f":"IF((IF(restoZero(JI1240,25),(spaziIntermedi(JI1240,25))+1,spaziIntermedi(JI1240,25)))=(spaziIntermedi(JJ1240,25)),FALSE,TRUE)","v":true},0,{"$f":"+spaziIntermedi(JJ1240,25)-JL1240","v":0},false,0,null,0,0,null,null,null,0,0,0,null,null,0,0,{"$f":"IF((IF(restoZero(KA1240,25),(spaziIntermedi(KA1240,25))+1,spaziIntermedi(KA1240,25)))=(spaziIntermedi(KB1240,25)),FALSE,TRUE)","v":true},0,{"$f":"+spaziIntermedi(KB1240,25)-KD1240","v":0},false,0,null,0,0,null,null,null,0,0,0,0,0,null,null,0,0,{"$f":"IF((IF(restoZero(KU1240,25),(spaziIntermedi(KU1240,25))+1,spaziIntermedi(KU1240,25)))=(spaziIntermedi(KV1240,25)),FALSE,TRUE)","v":true},0,{"$f":"+spaziIntermedi(KV1240,25)-KX1240","v":0},false,0,null,0,0,null,null,null,0,0,0,null,null,0,0,{"$f":"IF((IF(restoZero(LM1240,25),(spaziIntermedi(LM1240,25))+1,spaziIntermedi(LM1240,25)))=(spaziIntermedi(LN1240,25)),FALSE,TRUE)","v":true},0,{"$f":"+spaziIntermedi(LN1240,25)-LP1240","v":0},false,0,null,0,0,null,null,null,0,0,0,0,0,null,null,0,0,{"$f":"IF((IF(restoZero(MG1240,25),(spaziIntermedi(MG1240,25))+1,spaziIntermedi(MG1240,25)))=(spaziIntermedi(MH1240,25)),FALSE,TRUE)","v":true},0,{"$f":"+spaziIntermedi(MH1240,25)-MJ1240","v":0},false,0,null,0,0,null,null,null,0,0,0,null,null,0,0,{"$f":"IF((IF(restoZero(MY1240,25),(spaziIntermedi(MY1240,25))+1,spaziIntermedi(MY1240,25)))=(spaziIntermedi(MZ1240,25)),FALSE,TRUE)","v":true},0,{"$f":"+spaziIntermedi(MZ1240,25)-NB1240","v":0},false,0,null,0,0,null,null,null,0,0,0,0,0,null,null,0,0,{"$f":"IF((IF(restoZero(NS1240,25),(spaziIntermedi(NS1240,25))+1,spaziIntermedi(NS1240,25)))=(spaziIntermedi(NT1240,25)),FALSE,TRUE)","v":true},0,{"$f":"+spaziIntermedi(NT1240,25)-NV1240","v":0},false,0,null,0,0,null,null,null,0,0,0,null,null,0,0,{"$f":"IF((IF(restoZero(OK1240,25),(spaziIntermedi(OK1240,25))+1,spaziIntermedi(OK1240,25)))=(spaziIntermedi(OL1240,25)),FALSE,TRUE)","v":true},0,{"$f":"+spaziIntermedi(OL1240,25)-ON1240","v":0},false,0,null,0,0,null,null,null,0,0,0,0,0,null,null,0,0,{"$f":"IF((IF(restoZero(PE1240,25),(spaziIntermedi(PE1240,25))+1,spaziIntermedi(PE1240,25)))=(spaziIntermedi(PF1240,25)),FALSE,TRUE)","v":true},0,{"$f":"+spaziIntermedi(PF1240,25)-PH1240","v":0},false,0,null,0,0,null,null,null,0,0,0,null,null,0,0,{"$f":"IF((IF(restoZero(PW1240,25),(spaziIntermedi(PW1240,25))+1,spaziIntermedi(PW1240,25)))=(spaziIntermedi(PX1240,25)),FALSE,TRUE)","v":true},0,{"$f":"+spaziIntermedi(PX1240,25)-PZ1240","v":0},false,0,null,0,0,null,null,null,0,0,0,0,0,null,null,0,0,{"$f":"IF((IF(restoZero(QQ1240,25),(spaziIntermedi(QQ1240,25))+1,spaziIntermedi(QQ1240,25)))=(spaziIntermedi(QR1240,25)),FALSE,TRUE)","v":true},0,{"$f":"+spaziIntermedi(QR1240,25)-QT1240","v":0},false,0,null,0,0,null,null,null,0,0,0,null,null,0,0,{"$f":"IF((IF(restoZero(RI1240,25),(spaziIntermedi(RI1240,25))+1,spaziIntermedi(RI1240,25)))=(spaziIntermedi(RJ1240,25)),FALSE,TRUE)","v":true},0,{"$f":"+spaziIntermedi(RJ1240,25)-RL1240","v":0},false,0,null,0,0,null,null,null,0,0,0,0,0,null,null,0,0,{"$f":"IF((IF(restoZero(SC1240,25),(spaziIntermedi(SC1240,25))+1,spaziIntermedi(SC1240,25)))=(spaziIntermedi(SD1240,25)),FALSE,TRUE)","v":true},0,{"$f":"+spaziIntermedi(SD1240,25)-SF1240","v":0},false,0,null,0,0,null,null,null,0,0,0,null,null,0,0,{"$f":"IF((IF(restoZero(SU1240,25),(spaziIntermedi(SU1240,25))+1,spaziIntermedi(SU1240,25)))=(spaziIntermedi(SV1240,25)),FALSE,TRUE)","v":true},0,{"$f":"+spaziIntermedi(SV1240,25)-SX1240","v":0},false,0,null,0,0,null,null,null,0,0,0,0,0]
[null,null,0,0,{"$f":"IF((IF(restoZero(C1241,25),(spaziIntermedi(C1241,25))+1,spaziIntermedi(C1241,25)))=(spaziIntermedi(D1241,25)),FALSE,TRUE)","v":true},0,{"$f":"+spaziIntermedi(D1241,25)-F1241","v":0},false,0,null,0,0,null,null,null,0,0,0,null,null,0,0,{"$f":"IF((IF(restoZero(U1241,25),(spaziIntermedi(U1241,25))+1,spaziIntermedi(U1241,25)))=(spaziIntermedi(V1241,25)),FALSE,TRUE)","v":true},0,{"$f":"+spaziIntermedi(V1241,25)-X1241","v":0},false,0,null,0,0,null,null,null,0,0,0,0,0,null,null,0,0,{"$f":"IF((IF(restoZero(AO1241,25),(spaziIntermedi(AO1241,25))+1,spaziIntermedi(AO1241,25)))=(spaziIntermedi(AP1241,25)),FALSE,TRUE)","v":true},0,{"$f":"+spaziIntermedi(AP1241,25)-AR1241","v":0},false,0,null,0,0,null,null,null,0,0,0,null,null,0,0,{"$f":"IF((IF(restoZero(BG1241,25),(spaziIntermedi(BG1241,25))+1,spaziIntermedi(BG1241,25)))=(spaziIntermedi(BH1241,25)),FALSE,TRUE)","v":true},0,{"$f":"+spaziIntermedi(BH1241,25)-BJ1241","v":0},false,0,null,0,0,null,null,null,0,0,0,0,0,null,null,0,0,{"$f":"IF((IF(restoZero(CA1241,25),(spaziIntermedi(CA1241,25))+1,spaziIntermedi(CA1241,25)))=(spaziIntermedi(CB1241,25)),FALSE,TRUE)","v":true},0,{"$f":"+spaziIntermedi(CB1241,25)-CD1241","v":0},false,0,null,0,0,null,null,null,0,0,0,null,null,0,0,{"$f":"IF((IF(restoZero(CS1241,25),(spaziIntermedi(CS1241,25))+1,spaziIntermedi(CS1241,25)))=(spaziIntermedi(CT1241,25)),FALSE,TRUE)","v":true},0,{"$f":"+spaziIntermedi(CT1241,25)-CV1241","v":0},false,0,null,0,0,null,null,null,0,0,0,0,0,null,null,0,0,{"$f":"IF((IF(restoZero(DM1241,25),(spaziIntermedi(DM1241,25))+1,spaziIntermedi(DM1241,25)))=(spaziIntermedi(DN1241,25)),FALSE,TRUE)","v":true},0,{"$f":"+spaziIntermedi(DN1241,25)-DP1241","v":0},false,0,null,0,0,null,null,null,0,0,0,null,null,0,0,{"$f":"IF((IF(restoZero(EE1241,25),(spaziIntermedi(EE1241,25))+1,spaziIntermedi(EE1241,25)))=(spaziIntermedi(EF1241,25)),FALSE,TRUE)","v":true},0,{"$f":"+spaziIntermedi(EF1241,25)-EH1241","v":0},false,0,null,0,0,null,null,null,0,0,0,0,0,null,null,0,0,{"$f":"IF((IF(restoZero(EY1241,25),(spaziIntermedi(EY1241,25))+1,spaziIntermedi(EY1241,25)))=(spaziIntermedi(EZ1241,25)),FALSE,TRUE)","v":true},0,{"$f":"+spaziIntermedi(EZ1241,25)-FB1241","v":0},false,0,null,0,0,null,null,null,0,0,0,null,null,0,0,{"$f":"IF((IF(restoZero(FQ1241,25),(spaziIntermedi(FQ1241,25))+1,spaziIntermedi(FQ1241,25)))=(spaziIntermedi(FR1241,25)),FALSE,TRUE)","v":true},0,{"$f":"+spaziIntermedi(FR1241,25)-FT1241","v":0},false,0,null,0,0,null,null,null,0,0,0,0,0,null,null,0,0,{"$f":"IF((IF(restoZero(GK1241,25),(spaziIntermedi(GK1241,25))+1,spaziIntermedi(GK1241,25)))=(spaziIntermedi(GL1241,25)),FALSE,TRUE)","v":true},0,{"$f":"+spaziIntermedi(GL1241,25)-GN1241","v":0},false,0,null,0,0,null,null,null,0,0,0,null,null,0,0,{"$f":"IF((IF(restoZero(HC1241,25),(spaziIntermedi(HC1241,25))+1,spaziIntermedi(HC1241,25)))=(spaziIntermedi(HD1241,25)),FALSE,TRUE)","v":true},0,{"$f":"+spaziIntermedi(HD1241,25)-HF1241","v":0},false,0,null,0,0,null,null,null,0,0,0,0,0,null,null,0,0,{"$f":"IF((IF(restoZero(HW1241,25),(spaziIntermedi(HW1241,25))+1,spaziIntermedi(HW1241,25)))=(spaziIntermedi(HX1241,25)),FALSE,TRUE)","v":true},0,{"$f":"+spaziIntermedi(HX1241,25)-HZ1241","v":0},false,0,null,0,0,null,null,null,0,0,0,null,null,0,0,{"$f":"IF((IF(restoZero(IO1241,25),(spaziIntermedi(IO1241,25))+1,spaziIntermedi(IO1241,25)))=(spaziIntermedi(IP1241,25)),FALSE,TRUE)","v":true},0,{"$f":"+spaziIntermedi(IP1241,25)-IR1241","v":0},false,0,null,0,0,null,null,null,0,0,0,0,0,null,null,0,0,{"$f":"IF((IF(restoZero(JI1241,25),(spaziIntermedi(JI1241,25))+1,spaziIntermedi(JI1241,25)))=(spaziIntermedi(JJ1241,25)),FALSE,TRUE)","v":true},0,{"$f":"+spaziIntermedi(JJ1241,25)-JL1241","v":0},false,0,null,0,0,null,null,null,0,0,0,null,null,0,0,{"$f":"IF((IF(restoZero(KA1241,25),(spaziIntermedi(KA1241,25))+1,spaziIntermedi(KA1241,25)))=(spaziIntermedi(KB1241,25)),FALSE,TRUE)","v":true},0,{"$f":"+spaziIntermedi(KB1241,25)-KD1241","v":0},false,0,null,0,0,null,null,null,0,0,0,0,0,null,null,0,0,{"$f":"IF((IF(restoZero(KU1241,25),(spaziIntermedi(KU1241,25))+1,spaziIntermedi(KU1241,25)))=(spaziIntermedi(KV1241,25)),FALSE,TRUE)","v":true},0,{"$f":"+spaziIntermedi(KV1241,25)-KX1241","v":0},false,0,null,0,0,null,null,null,0,0,0,null,null,0,0,{"$f":"IF((IF(restoZero(LM1241,25),(spaziIntermedi(LM1241,25))+1,spaziIntermedi(LM1241,25)))=(spaziIntermedi(LN1241,25)),FALSE,TRUE)","v":true},0,{"$f":"+spaziIntermedi(LN1241,25)-LP1241","v":0},false,0,null,0,0,null,null,null,0,0,0,0,0,null,null,0,0,{"$f":"IF((IF(restoZero(MG1241,25),(spaziIntermedi(MG1241,25))+1,spaziIntermedi(MG1241,25)))=(spaziIntermedi(MH1241,25)),FALSE,TRUE)","v":true},0,{"$f":"+spaziIntermedi(MH1241,25)-MJ1241","v":0},false,0,null,0,0,null,null,null,0,0,0,null,null,0,0,{"$f":"IF((IF(restoZero(MY1241,25),(spaziIntermedi(MY1241,25))+1,spaziIntermedi(MY1241,25)))=(spaziIntermedi(MZ1241,25)),FALSE,TRUE)","v":true},0,{"$f":"+spaziIntermedi(MZ1241,25)-NB1241","v":0},false,0,null,0,0,null,null,null,0,0,0,0,0,null,null,0,0,{"$f":"IF((IF(restoZero(NS1241,25),(spaziIntermedi(NS1241,25))+1,spaziIntermedi(NS1241,25)))=(spaziIntermedi(NT1241,25)),FALSE,TRUE)","v":true},0,{"$f":"+spaziIntermedi(NT1241,25)-NV1241","v":0},false,0,null,0,0,null,null,null,0,0,0,null,null,0,0,{"$f":"IF((IF(restoZero(OK1241,25),(spaziIntermedi(OK1241,25))+1,spaziIntermedi(OK1241,25)))=(spaziIntermedi(OL1241,25)),FALSE,TRUE)","v":true},0,{"$f":"+spaziIntermedi(OL1241,25)-ON1241","v":0},false,0,null,0,0,null,null,null,0,0,0,0,0,null,null,0,0,{"$f":"IF((IF(restoZero(PE1241,25),(spaziIntermedi(PE1241,25))+1,spaziIntermedi(PE1241,25)))=(spaziIntermedi(PF1241,25)),FALSE,TRUE)","v":true},0,{"$f":"+spaziIntermedi(PF1241,25)-PH1241","v":0},false,0,null,0,0,null,null,null,0,0,0,null,null,0,0,{"$f":"IF((IF(restoZero(PW1241,25),(spaziIntermedi(PW1241,25))+1,spaziIntermedi(PW1241,25)))=(spaziIntermedi(PX1241,25)),FALSE,TRUE)","v":true},0,{"$f":"+spaziIntermedi(PX1241,25)-PZ1241","v":0},false,0,null,0,0,null,null,null,0,0,0,0,0,null,null,0,0,{"$f":"IF((IF(restoZero(QQ1241,25),(spaziIntermedi(QQ1241,25))+1,spaziIntermedi(QQ1241,25)))=(spaziIntermedi(QR1241,25)),FALSE,TRUE)","v":true},0,{"$f":"+spaziIntermedi(QR1241,25)-QT1241","v":0},false,0,null,0,0,null,null,null,0,0,0,null,null,0,0,{"$f":"IF((IF(restoZero(RI1241,25),(spaziIntermedi(RI1241,25))+1,spaziIntermedi(RI1241,25)))=(spaziIntermedi(RJ1241,25)),FALSE,TRUE)","v":true},0,{"$f":"+spaziIntermedi(RJ1241,25)-RL1241","v":0},false,0,null,0,0,null,null,null,0,0,0,0,0,null,null,0,0,{"$f":"IF((IF(restoZero(SC1241,25),(spaziIntermedi(SC1241,25))+1,spaziIntermedi(SC1241,25)))=(spaziIntermedi(SD1241,25)),FALSE,TRUE)","v":true},0,{"$f":"+spaziIntermedi(SD1241,25)-SF1241","v":0},false,0,null,0,0,null,null,null,0,0,0,null,null,0,0,{"$f":"IF((IF(restoZero(SU1241,25),(spaziIntermedi(SU1241,25))+1,spaziIntermedi(SU1241,25)))=(spaziIntermedi(SV1241,25)),FALSE,TRUE)","v":true},0,{"$f":"+spaziIntermedi(SV1241,25)-SX1241","v":0},false,0,null,0,0,null,null,null,0,0,0,0,0]
[null,null,0,0,{"$f":"IF((IF(restoZero(C1242,25),(spaziIntermedi(C1242,25))+1,spaziIntermedi(C1242,25)))=(spaziIntermedi(D1242,25)),FALSE,TRUE)","v":true},0,{"$f":"+spaziIntermedi(D1242,25)-F1242","v":0},false,0,null,0,0,null,null,null,0,0,0,null,null,0,0,{"$f":"IF((IF(restoZero(U1242,25),(spaziIntermedi(U1242,25))+1,spaziIntermedi(U1242,25)))=(spaziIntermedi(V1242,25)),FALSE,TRUE)","v":true},0,{"$f":"+spaziIntermedi(V1242,25)-X1242","v":0},false,0,null,0,0,null,null,null,0,0,0,0,0,null,null,0,0,{"$f":"IF((IF(restoZero(AO1242,25),(spaziIntermedi(AO1242,25))+1,spaziIntermedi(AO1242,25)))=(spaziIntermedi(AP1242,25)),FALSE,TRUE)","v":true},0,{"$f":"+spaziIntermedi(AP1242,25)-AR1242","v":0},false,0,null,0,0,null,null,null,0,0,0,null,null,0,0,{"$f":"IF((IF(restoZero(BG1242,25),(spaziIntermedi(BG1242,25))+1,spaziIntermedi(BG1242,25)))=(spaziIntermedi(BH1242,25)),FALSE,TRUE)","v":true},0,{"$f":"+spaziIntermedi(BH1242,25)-BJ1242","v":0},false,0,null,0,0,null,null,null,0,0,0,0,0,null,null,0,0,{"$f":"IF((IF(restoZero(CA1242,25),(spaziIntermedi(CA1242,25))+1,spaziIntermedi(CA1242,25)))=(spaziIntermedi(CB1242,25)),FALSE,TRUE)","v":true},0,{"$f":"+spaziIntermedi(CB1242,25)-CD1242","v":0},false,0,null,0,0,null,null,null,0,0,0,null,null,0,0,{"$f":"IF((IF(restoZero(CS1242,25),(spaziIntermedi(CS1242,25))+1,spaziIntermedi(CS1242,25)))=(spaziIntermedi(CT1242,25)),FALSE,TRUE)","v":true},0,{"$f":"+spaziIntermedi(CT1242,25)-CV1242","v":0},false,0,null,0,0,null,null,null,0,0,0,0,0,null,null,0,0,{"$f":"IF((IF(restoZero(DM1242,25),(spaziIntermedi(DM1242,25))+1,spaziIntermedi(DM1242,25)))=(spaziIntermedi(DN1242,25)),FALSE,TRUE)","v":true},0,{"$f":"+spaziIntermedi(DN1242,25)-DP1242","v":0},false,0,null,0,0,null,null,null,0,0,0,null,null,0,0,{"$f":"IF((IF(restoZero(EE1242,25),(spaziIntermedi(EE1242,25))+1,spaziIntermedi(EE1242,25)))=(spaziIntermedi(EF1242,25)),FALSE,TRUE)","v":true},0,{"$f":"+spaziIntermedi(EF1242,25)-EH1242","v":0},false,0,null,0,0,null,null,null,0,0,0,0,0,null,null,0,0,{"$f":"IF((IF(restoZero(EY1242,25),(spaziIntermedi(EY1242,25))+1,spaziIntermedi(EY1242,25)))=(spaziIntermedi(EZ1242,25)),FALSE,TRUE)","v":true},0,{"$f":"+spaziIntermedi(EZ1242,25)-FB1242","v":0},false,0,null,0,0,null,null,null,0,0,0,null,null,0,0,{"$f":"IF((IF(restoZero(FQ1242,25),(spaziIntermedi(FQ1242,25))+1,spaziIntermedi(FQ1242,25)))=(spaziIntermedi(FR1242,25)),FALSE,TRUE)","v":true},0,{"$f":"+spaziIntermedi(FR1242,25)-FT1242","v":0},false,0,null,0,0,null,null,null,0,0,0,0,0,null,null,0,0,{"$f":"IF((IF(restoZero(GK1242,25),(spaziIntermedi(GK1242,25))+1,spaziIntermedi(GK1242,25)))=(spaziIntermedi(GL1242,25)),FALSE,TRUE)","v":true},0,{"$f":"+spaziIntermedi(GL1242,25)-GN1242","v":0},false,0,null,0,0,null,null,null,0,0,0,null,null,0,0,{"$f":"IF((IF(restoZero(HC1242,25),(spaziIntermedi(HC1242,25))+1,spaziIntermedi(HC1242,25)))=(spaziIntermedi(HD1242,25)),FALSE,TRUE)","v":true},0,{"$f":"+spaziIntermedi(HD1242,25)-HF1242","v":0},false,0,null,0,0,null,null,null,0,0,0,0,0,null,null,0,0,{"$f":"IF((IF(restoZero(HW1242,25),(spaziIntermedi(HW1242,25))+1,spaziIntermedi(HW1242,25)))=(spaziIntermedi(HX1242,25)),FALSE,TRUE)","v":true},0,{"$f":"+spaziIntermedi(HX1242,25)-HZ1242","v":0},false,0,null,0,0,null,null,null,0,0,0,null,null,0,0,{"$f":"IF((IF(restoZero(IO1242,25),(spaziIntermedi(IO1242,25))+1,spaziIntermedi(IO1242,25)))=(spaziIntermedi(IP1242,25)),FALSE,TRUE)","v":true},0,{"$f":"+spaziIntermedi(IP1242,25)-IR1242","v":0},false,0,null,0,0,null,null,null,0,0,0,0,0,null,null,0,0,{"$f":"IF((IF(restoZero(JI1242,25),(spaziIntermedi(JI1242,25))+1,spaziIntermedi(JI1242,25)))=(spaziIntermedi(JJ1242,25)),FALSE,TRUE)","v":true},0,{"$f":"+spaziIntermedi(JJ1242,25)-JL1242","v":0},false,0,null,0,0,null,null,null,0,0,0,null,null,0,0,{"$f":"IF((IF(restoZero(KA1242,25),(spaziIntermedi(KA1242,25))+1,spaziIntermedi(KA1242,25)))=(spaziIntermedi(KB1242,25)),FALSE,TRUE)","v":true},0,{"$f":"+spaziIntermedi(KB1242,25)-KD1242","v":0},false,0,null,0,0,null,null,null,0,0,0,0,0,null,null,0,0,{"$f":"IF((IF(restoZero(KU1242,25),(spaziIntermedi(KU1242,25))+1,spaziIntermedi(KU1242,25)))=(spaziIntermedi(KV1242,25)),FALSE,TRUE)","v":true},0,{"$f":"+spaziIntermedi(KV1242,25)-KX1242","v":0},false,0,null,0,0,null,null,null,0,0,0,null,null,0,0,{"$f":"IF((IF(restoZero(LM1242,25),(spaziIntermedi(LM1242,25))+1,spaziIntermedi(LM1242,25)))=(spaziIntermedi(LN1242,25)),FALSE,TRUE)","v":true},0,{"$f":"+spaziIntermedi(LN1242,25)-LP1242","v":0},false,0,null,0,0,null,null,null,0,0,0,0,0,null,null,0,0,{"$f":"IF((IF(restoZero(MG1242,25),(spaziIntermedi(MG1242,25))+1,spaziIntermedi(MG1242,25)))=(spaziIntermedi(MH1242,25)),FALSE,TRUE)","v":true},0,{"$f":"+spaziIntermedi(MH1242,25)-MJ1242","v":0},false,0,null,0,0,null,null,null,0,0,0,null,null,0,0,{"$f":"IF((IF(restoZero(MY1242,25),(spaziIntermedi(MY1242,25))+1,spaziIntermedi(MY1242,25)))=(spaziIntermedi(MZ1242,25)),FALSE,TRUE)","v":true},0,{"$f":"+spaziIntermedi(MZ1242,25)-NB1242","v":0},false,0,null,0,0,null,null,null,0,0,0,0,0,null,null,0,0,{"$f":"IF((IF(restoZero(NS1242,25),(spaziIntermedi(NS1242,25))+1,spaziIntermedi(NS1242,25)))=(spaziIntermedi(NT1242,25)),FALSE,TRUE)","v":true},0,{"$f":"+spaziIntermedi(NT1242,25)-NV1242","v":0},false,0,null,0,0,null,null,null,0,0,0,null,null,0,0,{"$f":"IF((IF(restoZero(OK1242,25),(spaziIntermedi(OK1242,25))+1,spaziIntermedi(OK1242,25)))=(spaziIntermedi(OL1242,25)),FALSE,TRUE)","v":true},0,{"$f":"+spaziIntermedi(OL1242,25)-ON1242","v":0},false,0,null,0,0,null,null,null,0,0,0,0,0,null,null,0,0,{"$f":"IF((IF(restoZero(PE1242,25),(spaziIntermedi(PE1242,25))+1,spaziIntermedi(PE1242,25)))=(spaziIntermedi(PF1242,25)),FALSE,TRUE)","v":true},0,{"$f":"+spaziIntermedi(PF1242,25)-PH1242","v":0},false,0,null,0,0,null,null,null,0,0,0,null,null,0,0,{"$f":"IF((IF(restoZero(PW1242,25),(spaziIntermedi(PW1242,25))+1,spaziIntermedi(PW1242,25)))=(spaziIntermedi(PX1242,25)),FALSE,TRUE)","v":true},0,{"$f":"+spaziIntermedi(PX1242,25)-PZ1242","v":0},false,0,null,0,0,null,null,null,0,0,0,0,0,null,null,0,0,{"$f":"IF((IF(restoZero(QQ1242,25),(spaziIntermedi(QQ1242,25))+1,spaziIntermedi(QQ1242,25)))=(spaziIntermedi(QR1242,25)),FALSE,TRUE)","v":true},0,{"$f":"+spaziIntermedi(QR1242,25)-QT1242","v":0},false,0,null,0,0,null,null,null,0,0,0,null,null,0,0,{"$f":"IF((IF(restoZero(RI1242,25),(spaziIntermedi(RI1242,25))+1,spaziIntermedi(RI1242,25)))=(spaziIntermedi(RJ1242,25)),FALSE,TRUE)","v":true},0,{"$f":"+spaziIntermedi(RJ1242,25)-RL1242","v":0},false,0,null,0,0,null,null,null,0,0,0,0,0,null,null,0,0,{"$f":"IF((IF(restoZero(SC1242,25),(spaziIntermedi(SC1242,25))+1,spaziIntermedi(SC1242,25)))=(spaziIntermedi(SD1242,25)),FALSE,TRUE)","v":true},0,{"$f":"+spaziIntermedi(SD1242,25)-SF1242","v":0},false,0,null,0,0,null,null,null,0,0,0,null,null,0,0,{"$f":"IF((IF(restoZero(SU1242,25),(spaziIntermedi(SU1242,25))+1,spaziIntermedi(SU1242,25)))=(spaziIntermedi(SV1242,25)),FALSE,TRUE)","v":true},0,{"$f":"+spaziIntermedi(SV1242,25)-SX1242","v":0},false,0,null,0,0,null,null,null,0,0,0,0,0]
[null,null,0,0,{"$f":"IF((IF(restoZero(C1243,25),(spaziIntermedi(C1243,25))+1,spaziIntermedi(C1243,25)))=(spaziIntermedi(D1243,25)),FALSE,TRUE)","v":true},0,{"$f":"+spaziIntermedi(D1243,25)-F1243","v":0},false,0,null,0,0,null,null,null,0,0,0,null,null,0,0,{"$f":"IF((IF(restoZero(U1243,25),(spaziIntermedi(U1243,25))+1,spaziIntermedi(U1243,25)))=(spaziIntermedi(V1243,25)),FALSE,TRUE)","v":true},0,{"$f":"+spaziIntermedi(V1243,25)-X1243","v":0},false,0,null,0,0,null,null,null,0,0,0,0,0,null,null,0,0,{"$f":"IF((IF(restoZero(AO1243,25),(spaziIntermedi(AO1243,25))+1,spaziIntermedi(AO1243,25)))=(spaziIntermedi(AP1243,25)),FALSE,TRUE)","v":true},0,{"$f":"+spaziIntermedi(AP1243,25)-AR1243","v":0},false,0,null,0,0,null,null,null,0,0,0,null,null,0,0,{"$f":"IF((IF(restoZero(BG1243,25),(spaziIntermedi(BG1243,25))+1,spaziIntermedi(BG1243,25)))=(spaziIntermedi(BH1243,25)),FALSE,TRUE)","v":true},0,{"$f":"+spaziIntermedi(BH1243,25)-BJ1243","v":0},false,0,null,0,0,null,null,null,0,0,0,0,0,null,null,0,0,{"$f":"IF((IF(restoZero(CA1243,25),(spaziIntermedi(CA1243,25))+1,spaziIntermedi(CA1243,25)))=(spaziIntermedi(CB1243,25)),FALSE,TRUE)","v":true},0,{"$f":"+spaziIntermedi(CB1243,25)-CD1243","v":0},false,0,null,0,0,null,null,null,0,0,0,null,null,0,0,{"$f":"IF((IF(restoZero(CS1243,25),(spaziIntermedi(CS1243,25))+1,spaziIntermedi(CS1243,25)))=(spaziIntermedi(CT1243,25)),FALSE,TRUE)","v":true},0,{"$f":"+spaziIntermedi(CT1243,25)-CV1243","v":0},false,0,null,0,0,null,null,null,0,0,0,0,0,null,null,0,0,{"$f":"IF((IF(restoZero(DM1243,25),(spaziIntermedi(DM1243,25))+1,spaziIntermedi(DM1243,25)))=(spaziIntermedi(DN1243,25)),FALSE,TRUE)","v":true},0,{"$f":"+spaziIntermedi(DN1243,25)-DP1243","v":0},false,0,null,0,0,null,null,null,0,0,0,null,null,0,0,{"$f":"IF((IF(restoZero(EE1243,25),(spaziIntermedi(EE1243,25))+1,spaziIntermedi(EE1243,25)))=(spaziIntermedi(EF1243,25)),FALSE,TRUE)","v":true},0,{"$f":"+spaziIntermedi(EF1243,25)-EH1243","v":0},false,0,null,0,0,null,null,null,0,0,0,0,0,null,null,0,0,{"$f":"IF((IF(restoZero(EY1243,25),(spaziIntermedi(EY1243,25))+1,spaziIntermedi(EY1243,25)))=(spaziIntermedi(EZ1243,25)),FALSE,TRUE)","v":true},0,{"$f":"+spaziIntermedi(EZ1243,25)-FB1243","v":0},false,0,null,0,0,null,null,null,0,0,0,null,null,0,0,{"$f":"IF((IF(restoZero(FQ1243,25),(spaziIntermedi(FQ1243,25))+1,spaziIntermedi(FQ1243,25)))=(spaziIntermedi(FR1243,25)),FALSE,TRUE)","v":true},0,{"$f":"+spaziIntermedi(FR1243,25)-FT1243","v":0},false,0,null,0,0,null,null,null,0,0,0,0,0,null,null,0,0,{"$f":"IF((IF(restoZero(GK1243,25),(spaziIntermedi(GK1243,25))+1,spaziIntermedi(GK1243,25)))=(spaziIntermedi(GL1243,25)),FALSE,TRUE)","v":true},0,{"$f":"+spaziIntermedi(GL1243,25)-GN1243","v":0},false,0,null,0,0,null,null,null,0,0,0,null,null,0,0,{"$f":"IF((IF(restoZero(HC1243,25),(spaziIntermedi(HC1243,25))+1,spaziIntermedi(HC1243,25)))=(spaziIntermedi(HD1243,25)),FALSE,TRUE)","v":true},0,{"$f":"+spaziIntermedi(HD1243,25)-HF1243","v":0},false,0,null,0,0,null,null,null,0,0,0,0,0,null,null,0,0,{"$f":"IF((IF(restoZero(HW1243,25),(spaziIntermedi(HW1243,25))+1,spaziIntermedi(HW1243,25)))=(spaziIntermedi(HX1243,25)),FALSE,TRUE)","v":true},0,{"$f":"+spaziIntermedi(HX1243,25)-HZ1243","v":0},false,0,null,0,0,null,null,null,0,0,0,null,null,0,0,{"$f":"IF((IF(restoZero(IO1243,25),(spaziIntermedi(IO1243,25))+1,spaziIntermedi(IO1243,25)))=(spaziIntermedi(IP1243,25)),FALSE,TRUE)","v":true},0,{"$f":"+spaziIntermedi(IP1243,25)-IR1243","v":0},false,0,null,0,0,null,null,null,0,0,0,0,0,null,null,0,0,{"$f":"IF((IF(restoZero(JI1243,25),(spaziIntermedi(JI1243,25))+1,spaziIntermedi(JI1243,25)))=(spaziIntermedi(JJ1243,25)),FALSE,TRUE)","v":true},0,{"$f":"+spaziIntermedi(JJ1243,25)-JL1243","v":0},false,0,null,0,0,null,null,null,0,0,0,null,null,0,0,{"$f":"IF((IF(restoZero(KA1243,25),(spaziIntermedi(KA1243,25))+1,spaziIntermedi(KA1243,25)))=(spaziIntermedi(KB1243,25)),FALSE,TRUE)","v":true},0,{"$f":"+spaziIntermedi(KB1243,25)-KD1243","v":0},false,0,null,0,0,null,null,null,0,0,0,0,0,null,null,0,0,{"$f":"IF((IF(restoZero(KU1243,25),(spaziIntermedi(KU1243,25))+1,spaziIntermedi(KU1243,25)))=(spaziIntermedi(KV1243,25)),FALSE,TRUE)","v":true},0,{"$f":"+spaziIntermedi(KV1243,25)-KX1243","v":0},false,0,null,0,0,null,null,null,0,0,0,null,null,0,0,{"$f":"IF((IF(restoZero(LM1243,25),(spaziIntermedi(LM1243,25))+1,spaziIntermedi(LM1243,25)))=(spaziIntermedi(LN1243,25)),FALSE,TRUE)","v":true},0,{"$f":"+spaziIntermedi(LN1243,25)-LP1243","v":0},false,0,null,0,0,null,null,null,0,0,0,0,0,null,null,0,0,{"$f":"IF((IF(restoZero(MG1243,25),(spaziIntermedi(MG1243,25))+1,spaziIntermedi(MG1243,25)))=(spaziIntermedi(MH1243,25)),FALSE,TRUE)","v":true},0,{"$f":"+spaziIntermedi(MH1243,25)-MJ1243","v":0},false,0,null,0,0,null,null,null,0,0,0,null,null,0,0,{"$f":"IF((IF(restoZero(MY1243,25),(spaziIntermedi(MY1243,25))+1,spaziIntermedi(MY1243,25)))=(spaziIntermedi(MZ1243,25)),FALSE,TRUE)","v":true},0,{"$f":"+spaziIntermedi(MZ1243,25)-NB1243","v":0},false,0,null,0,0,null,null,null,0,0,0,0,0,null,null,0,0,{"$f":"IF((IF(restoZero(NS1243,25),(spaziIntermedi(NS1243,25))+1,spaziIntermedi(NS1243,25)))=(spaziIntermedi(NT1243,25)),FALSE,TRUE)","v":true},0,{"$f":"+spaziIntermedi(NT1243,25)-NV1243","v":0},false,0,null,0,0,null,null,null,0,0,0,null,null,0,0,{"$f":"IF((IF(restoZero(OK1243,25),(spaziIntermedi(OK1243,25))+1,spaziIntermedi(OK1243,25)))=(spaziIntermedi(OL1243,25)),FALSE,TRUE)","v":true},0,{"$f":"+spaziIntermedi(OL1243,25)-ON1243","v":0},false,0,null,0,0,null,null,null,0,0,0,0,0,null,null,0,0,{"$f":"IF((IF(restoZero(PE1243,25),(spaziIntermedi(PE1243,25))+1,spaziIntermedi(PE1243,25)))=(spaziIntermedi(PF1243,25)),FALSE,TRUE)","v":true},0,{"$f":"+spaziIntermedi(PF1243,25)-PH1243","v":0},false,0,null,0,0,null,null,null,0,0,0,null,null,0,0,{"$f":"IF((IF(restoZero(PW1243,25),(spaziIntermedi(PW1243,25))+1,spaziIntermedi(PW1243,25)))=(spaziIntermedi(PX1243,25)),FALSE,TRUE)","v":true},0,{"$f":"+spaziIntermedi(PX1243,25)-PZ1243","v":0},false,0,null,0,0,null,null,null,0,0,0,0,0,null,null,0,0,{"$f":"IF((IF(restoZero(QQ1243,25),(spaziIntermedi(QQ1243,25))+1,spaziIntermedi(QQ1243,25)))=(spaziIntermedi(QR1243,25)),FALSE,TRUE)","v":true},0,{"$f":"+spaziIntermedi(QR1243,25)-QT1243","v":0},false,0,null,0,0,null,null,null,0,0,0,null,null,0,0,{"$f":"IF((IF(restoZero(RI1243,25),(spaziIntermedi(RI1243,25))+1,spaziIntermedi(RI1243,25)))=(spaziIntermedi(RJ1243,25)),FALSE,TRUE)","v":true},0,{"$f":"+spaziIntermedi(RJ1243,25)-RL1243","v":0},false,0,null,0,0,null,null,null,0,0,0,0,0,null,null,0,0,{"$f":"IF((IF(restoZero(SC1243,25),(spaziIntermedi(SC1243,25))+1,spaziIntermedi(SC1243,25)))=(spaziIntermedi(SD1243,25)),FALSE,TRUE)","v":true},0,{"$f":"+spaziIntermedi(SD1243,25)-SF1243","v":0},false,0,null,0,0,null,null,null,0,0,0,null,null,0,0,{"$f":"IF((IF(restoZero(SU1243,25),(spaziIntermedi(SU1243,25))+1,spaziIntermedi(SU1243,25)))=(spaziIntermedi(SV1243,25)),FALSE,TRUE)","v":true},0,{"$f":"+spaziIntermedi(SV1243,25)-SX1243","v":0},false,0,null,0,0,null,null,null,0,0,0,0,0]
[null,null,0,0,{"$f":"IF((IF(restoZero(C1244,25),(spaziIntermedi(C1244,25))+1,spaziIntermedi(C1244,25)))=(spaziIntermedi(D1244,25)),FALSE,TRUE)","v":true},0,{"$f":"+spaziIntermedi(D1244,25)-F1244","v":0},false,0,null,0,0,null,null,null,0,0,0,null,null,0,0,{"$f":"IF((IF(restoZero(U1244,25),(spaziIntermedi(U1244,25))+1,spaziIntermedi(U1244,25)))=(spaziIntermedi(V1244,25)),FALSE,TRUE)","v":true},0,{"$f":"+spaziIntermedi(V1244,25)-X1244","v":0},false,0,null,0,0,null,null,null,0,0,0,0,0,null,null,0,0,{"$f":"IF((IF(restoZero(AO1244,25),(spaziIntermedi(AO1244,25))+1,spaziIntermedi(AO1244,25)))=(spaziIntermedi(AP1244,25)),FALSE,TRUE)","v":true},0,{"$f":"+spaziIntermedi(AP1244,25)-AR1244","v":0},false,0,null,0,0,null,null,null,0,0,0,null,null,0,0,{"$f":"IF((IF(restoZero(BG1244,25),(spaziIntermedi(BG1244,25))+1,spaziIntermedi(BG1244,25)))=(spaziIntermedi(BH1244,25)),FALSE,TRUE)","v":true},0,{"$f":"+spaziIntermedi(BH1244,25)-BJ1244","v":0},false,0,null,0,0,null,null,null,0,0,0,0,0,null,null,0,0,{"$f":"IF((IF(restoZero(CA1244,25),(spaziIntermedi(CA1244,25))+1,spaziIntermedi(CA1244,25)))=(spaziIntermedi(CB1244,25)),FALSE,TRUE)","v":true},0,{"$f":"+spaziIntermedi(CB1244,25)-CD1244","v":0},false,0,null,0,0,null,null,null,0,0,0,null,null,0,0,{"$f":"IF((IF(restoZero(CS1244,25),(spaziIntermedi(CS1244,25))+1,spaziIntermedi(CS1244,25)))=(spaziIntermedi(CT1244,25)),FALSE,TRUE)","v":true},0,{"$f":"+spaziIntermedi(CT1244,25)-CV1244","v":0},false,0,null,0,0,null,null,null,0,0,0,0,0,null,null,0,0,{"$f":"IF((IF(restoZero(DM1244,25),(spaziIntermedi(DM1244,25))+1,spaziIntermedi(DM1244,25)))=(spaziIntermedi(DN1244,25)),FALSE,TRUE)","v":true},0,{"$f":"+spaziIntermedi(DN1244,25)-DP1244","v":0},false,0,null,0,0,null,null,null,0,0,0,null,null,0,0,{"$f":"IF((IF(restoZero(EE1244,25),(spaziIntermedi(EE1244,25))+1,spaziIntermedi(EE1244,25)))=(spaziIntermedi(EF1244,25)),FALSE,TRUE)","v":true},0,{"$f":"+spaziIntermedi(EF1244,25)-EH1244","v":0},false,0,null,0,0,null,null,null,0,0,0,0,0,null,null,0,0,{"$f":"IF((IF(restoZero(EY1244,25),(spaziIntermedi(EY1244,25))+1,spaziIntermedi(EY1244,25)))=(spaziIntermedi(EZ1244,25)),FALSE,TRUE)","v":true},0,{"$f":"+spaziIntermedi(EZ1244,25)-FB1244","v":0},false,0,null,0,0,null,null,null,0,0,0,null,null,0,0,{"$f":"IF((IF(restoZero(FQ1244,25),(spaziIntermedi(FQ1244,25))+1,spaziIntermedi(FQ1244,25)))=(spaziIntermedi(FR1244,25)),FALSE,TRUE)","v":true},0,{"$f":"+spaziIntermedi(FR1244,25)-FT1244","v":0},false,0,null,0,0,null,null,null,0,0,0,0,0,null,null,0,0,{"$f":"IF((IF(restoZero(GK1244,25),(spaziIntermedi(GK1244,25))+1,spaziIntermedi(GK1244,25)))=(spaziIntermedi(GL1244,25)),FALSE,TRUE)","v":true},0,{"$f":"+spaziIntermedi(GL1244,25)-GN1244","v":0},false,0,null,0,0,null,null,null,0,0,0,null,null,0,0,{"$f":"IF((IF(restoZero(HC1244,25),(spaziIntermedi(HC1244,25))+1,spaziIntermedi(HC1244,25)))=(spaziIntermedi(HD1244,25)),FALSE,TRUE)","v":true},0,{"$f":"+spaziIntermedi(HD1244,25)-HF1244","v":0},false,0,null,0,0,null,null,null,0,0,0,0,0,null,null,0,0,{"$f":"IF((IF(restoZero(HW1244,25),(spaziIntermedi(HW1244,25))+1,spaziIntermedi(HW1244,25)))=(spaziIntermedi(HX1244,25)),FALSE,TRUE)","v":true},0,{"$f":"+spaziIntermedi(HX1244,25)-HZ1244","v":0},false,0,null,0,0,null,null,null,0,0,0,null,null,0,0,{"$f":"IF((IF(restoZero(IO1244,25),(spaziIntermedi(IO1244,25))+1,spaziIntermedi(IO1244,25)))=(spaziIntermedi(IP1244,25)),FALSE,TRUE)","v":true},0,{"$f":"+spaziIntermedi(IP1244,25)-IR1244","v":0},false,0,null,0,0,null,null,null,0,0,0,0,0,null,null,0,0,{"$f":"IF((IF(restoZero(JI1244,25),(spaziIntermedi(JI1244,25))+1,spaziIntermedi(JI1244,25)))=(spaziIntermedi(JJ1244,25)),FALSE,TRUE)","v":true},0,{"$f":"+spaziIntermedi(JJ1244,25)-JL1244","v":0},false,0,null,0,0,null,null,null,0,0,0,null,null,0,0,{"$f":"IF((IF(restoZero(KA1244,25),(spaziIntermedi(KA1244,25))+1,spaziIntermedi(KA1244,25)))=(spaziIntermedi(KB1244,25)),FALSE,TRUE)","v":true},0,{"$f":"+spaziIntermedi(KB1244,25)-KD1244","v":0},false,0,null,0,0,null,null,null,0,0,0,0,0,null,null,0,0,{"$f":"IF((IF(restoZero(KU1244,25),(spaziIntermedi(KU1244,25))+1,spaziIntermedi(KU1244,25)))=(spaziIntermedi(KV1244,25)),FALSE,TRUE)","v":true},0,{"$f":"+spaziIntermedi(KV1244,25)-KX1244","v":0},false,0,null,0,0,null,null,null,0,0,0,null,null,0,0,{"$f":"IF((IF(restoZero(LM1244,25),(spaziIntermedi(LM1244,25))+1,spaziIntermedi(LM1244,25)))=(spaziIntermedi(LN1244,25)),FALSE,TRUE)","v":true},0,{"$f":"+spaziIntermedi(LN1244,25)-LP1244","v":0},false,0,null,0,0,null,null,null,0,0,0,0,0,null,null,0,0,{"$f":"IF((IF(restoZero(MG1244,25),(spaziIntermedi(MG1244,25))+1,spaziIntermedi(MG1244,25)))=(spaziIntermedi(MH1244,25)),FALSE,TRUE)","v":true},0,{"$f":"+spaziIntermedi(MH1244,25)-MJ1244","v":0},false,0,null,0,0,null,null,null,0,0,0,null,null,0,0,{"$f":"IF((IF(restoZero(MY1244,25),(spaziIntermedi(MY1244,25))+1,spaziIntermedi(MY1244,25)))=(spaziIntermedi(MZ1244,25)),FALSE,TRUE)","v":true},0,{"$f":"+spaziIntermedi(MZ1244,25)-NB1244","v":0},false,0,null,0,0,null,null,null,0,0,0,0,0,null,null,0,0,{"$f":"IF((IF(restoZero(NS1244,25),(spaziIntermedi(NS1244,25))+1,spaziIntermedi(NS1244,25)))=(spaziIntermedi(NT1244,25)),FALSE,TRUE)","v":true},0,{"$f":"+spaziIntermedi(NT1244,25)-NV1244","v":0},false,0,null,0,0,null,null,null,0,0,0,null,null,0,0,{"$f":"IF((IF(restoZero(OK1244,25),(spaziIntermedi(OK1244,25))+1,spaziIntermedi(OK1244,25)))=(spaziIntermedi(OL1244,25)),FALSE,TRUE)","v":true},0,{"$f":"+spaziIntermedi(OL1244,25)-ON1244","v":0},false,0,null,0,0,null,null,null,0,0,0,0,0,null,null,0,0,{"$f":"IF((IF(restoZero(PE1244,25),(spaziIntermedi(PE1244,25))+1,spaziIntermedi(PE1244,25)))=(spaziIntermedi(PF1244,25)),FALSE,TRUE)","v":true},0,{"$f":"+spaziIntermedi(PF1244,25)-PH1244","v":0},false,0,null,0,0,null,null,null,0,0,0,null,null,0,0,{"$f":"IF((IF(restoZero(PW1244,25),(spaziIntermedi(PW1244,25))+1,spaziIntermedi(PW1244,25)))=(spaziIntermedi(PX1244,25)),FALSE,TRUE)","v":true},0,{"$f":"+spaziIntermedi(PX1244,25)-PZ1244","v":0},false,0,null,0,0,null,null,null,0,0,0,0,0,null,null,0,0,{"$f":"IF((IF(restoZero(QQ1244,25),(spaziIntermedi(QQ1244,25))+1,spaziIntermedi(QQ1244,25)))=(spaziIntermedi(QR1244,25)),FALSE,TRUE)","v":true},0,{"$f":"+spaziIntermedi(QR1244,25)-QT1244","v":0},false,0,null,0,0,null,null,null,0,0,0,null,null,0,0,{"$f":"IF((IF(restoZero(RI1244,25),(spaziIntermedi(RI1244,25))+1,spaziIntermedi(RI1244,25)))=(spaziIntermedi(RJ1244,25)),FALSE,TRUE)","v":true},0,{"$f":"+spaziIntermedi(RJ1244,25)-RL1244","v":0},false,0,null,0,0,null,null,null,0,0,0,0,0,null,null,0,0,{"$f":"IF((IF(restoZero(SC1244,25),(spaziIntermedi(SC1244,25))+1,spaziIntermedi(SC1244,25)))=(spaziIntermedi(SD1244,25)),FALSE,TRUE)","v":true},0,{"$f":"+spaziIntermedi(SD1244,25)-SF1244","v":0},false,0,null,0,0,null,null,null,0,0,0,null,null,0,0,{"$f":"IF((IF(restoZero(SU1244,25),(spaziIntermedi(SU1244,25))+1,spaziIntermedi(SU1244,25)))=(spaziIntermedi(SV1244,25)),FALSE,TRUE)","v":true},0,{"$f":"+spaziIntermedi(SV1244,25)-SX1244","v":0},false,0,null,0,0,null,null,null,0,0,0,0,0]
[null,null,0,0,{"$f":"IF((IF(restoZero(C1245,25),(spaziIntermedi(C1245,25))+1,spaziIntermedi(C1245,25)))=(spaziIntermedi(D1245,25)),FALSE,TRUE)","v":true},0,{"$f":"+spaziIntermedi(D1245,25)-F1245","v":0},false,0,null,0,0,null,null,null,0,0,0,null,null,0,0,{"$f":"IF((IF(restoZero(U1245,25),(spaziIntermedi(U1245,25))+1,spaziIntermedi(U1245,25)))=(spaziIntermedi(V1245,25)),FALSE,TRUE)","v":true},0,{"$f":"+spaziIntermedi(V1245,25)-X1245","v":0},false,0,null,0,0,null,null,null,0,0,0,0,0,null,null,0,0,{"$f":"IF((IF(restoZero(AO1245,25),(spaziIntermedi(AO1245,25))+1,spaziIntermedi(AO1245,25)))=(spaziIntermedi(AP1245,25)),FALSE,TRUE)","v":true},0,{"$f":"+spaziIntermedi(AP1245,25)-AR1245","v":0},false,0,null,0,0,null,null,null,0,0,0,null,null,0,0,{"$f":"IF((IF(restoZero(BG1245,25),(spaziIntermedi(BG1245,25))+1,spaziIntermedi(BG1245,25)))=(spaziIntermedi(BH1245,25)),FALSE,TRUE)","v":true},0,{"$f":"+spaziIntermedi(BH1245,25)-BJ1245","v":0},false,0,null,0,0,null,null,null,0,0,0,0,0,null,null,0,0,{"$f":"IF((IF(restoZero(CA1245,25),(spaziIntermedi(CA1245,25))+1,spaziIntermedi(CA1245,25)))=(spaziIntermedi(CB1245,25)),FALSE,TRUE)","v":true},0,{"$f":"+spaziIntermedi(CB1245,25)-CD1245","v":0},false,0,null,0,0,null,null,null,0,0,0,null,null,0,0,{"$f":"IF((IF(restoZero(CS1245,25),(spaziIntermedi(CS1245,25))+1,spaziIntermedi(CS1245,25)))=(spaziIntermedi(CT1245,25)),FALSE,TRUE)","v":true},0,{"$f":"+spaziIntermedi(CT1245,25)-CV1245","v":0},false,0,null,0,0,null,null,null,0,0,0,0,0,null,null,0,0,{"$f":"IF((IF(restoZero(DM1245,25),(spaziIntermedi(DM1245,25))+1,spaziIntermedi(DM1245,25)))=(spaziIntermedi(DN1245,25)),FALSE,TRUE)","v":true},0,{"$f":"+spaziIntermedi(DN1245,25)-DP1245","v":0},false,0,null,0,0,null,null,null,0,0,0,null,null,0,0,{"$f":"IF((IF(restoZero(EE1245,25),(spaziIntermedi(EE1245,25))+1,spaziIntermedi(EE1245,25)))=(spaziIntermedi(EF1245,25)),FALSE,TRUE)","v":true},0,{"$f":"+spaziIntermedi(EF1245,25)-EH1245","v":0},false,0,null,0,0,null,null,null,0,0,0,0,0,null,null,0,0,{"$f":"IF((IF(restoZero(EY1245,25),(spaziIntermedi(EY1245,25))+1,spaziIntermedi(EY1245,25)))=(spaziIntermedi(EZ1245,25)),FALSE,TRUE)","v":true},0,{"$f":"+spaziIntermedi(EZ1245,25)-FB1245","v":0},false,0,null,0,0,null,null,null,0,0,0,null,null,0,0,{"$f":"IF((IF(restoZero(FQ1245,25),(spaziIntermedi(FQ1245,25))+1,spaziIntermedi(FQ1245,25)))=(spaziIntermedi(FR1245,25)),FALSE,TRUE)","v":true},0,{"$f":"+spaziIntermedi(FR1245,25)-FT1245","v":0},false,0,null,0,0,null,null,null,0,0,0,0,0,null,null,0,0,{"$f":"IF((IF(restoZero(GK1245,25),(spaziIntermedi(GK1245,25))+1,spaziIntermedi(GK1245,25)))=(spaziIntermedi(GL1245,25)),FALSE,TRUE)","v":true},0,{"$f":"+spaziIntermedi(GL1245,25)-GN1245","v":0},false,0,null,0,0,null,null,null,0,0,0,null,null,0,0,{"$f":"IF((IF(restoZero(HC1245,25),(spaziIntermedi(HC1245,25))+1,spaziIntermedi(HC1245,25)))=(spaziIntermedi(HD1245,25)),FALSE,TRUE)","v":true},0,{"$f":"+spaziIntermedi(HD1245,25)-HF1245","v":0},false,0,null,0,0,null,null,null,0,0,0,0,0,null,null,0,0,{"$f":"IF((IF(restoZero(HW1245,25),(spaziIntermedi(HW1245,25))+1,spaziIntermedi(HW1245,25)))=(spaziIntermedi(HX1245,25)),FALSE,TRUE)","v":true},0,{"$f":"+spaziIntermedi(HX1245,25)-HZ1245","v":0},false,0,null,0,0,null,null,null,0,0,0,null,null,0,0,{"$f":"IF((IF(restoZero(IO1245,25),(spaziIntermedi(IO1245,25))+1,spaziIntermedi(IO1245,25)))=(spaziIntermedi(IP1245,25)),FALSE,TRUE)","v":true},0,{"$f":"+spaziIntermedi(IP1245,25)-IR1245","v":0},false,0,null,0,0,null,null,null,0,0,0,0,0,null,null,0,0,{"$f":"IF((IF(restoZero(JI1245,25),(spaziIntermedi(JI1245,25))+1,spaziIntermedi(JI1245,25)))=(spaziIntermedi(JJ1245,25)),FALSE,TRUE)","v":true},0,{"$f":"+spaziIntermedi(JJ1245,25)-JL1245","v":0},false,0,null,0,0,null,null,null,0,0,0,null,null,0,0,{"$f":"IF((IF(restoZero(KA1245,25),(spaziIntermedi(KA1245,25))+1,spaziIntermedi(KA1245,25)))=(spaziIntermedi(KB1245,25)),FALSE,TRUE)","v":true},0,{"$f":"+spaziIntermedi(KB1245,25)-KD1245","v":0},false,0,null,0,0,null,null,null,0,0,0,0,0,null,null,0,0,{"$f":"IF((IF(restoZero(KU1245,25),(spaziIntermedi(KU1245,25))+1,spaziIntermedi(KU1245,25)))=(spaziIntermedi(KV1245,25)),FALSE,TRUE)","v":true},0,{"$f":"+spaziIntermedi(KV1245,25)-KX1245","v":0},false,0,null,0,0,null,null,null,0,0,0,null,null,0,0,{"$f":"IF((IF(restoZero(LM1245,25),(spaziIntermedi(LM1245,25))+1,spaziIntermedi(LM1245,25)))=(spaziIntermedi(LN1245,25)),FALSE,TRUE)","v":true},0,{"$f":"+spaziIntermedi(LN1245,25)-LP1245","v":0},false,0,null,0,0,null,null,null,0,0,0,0,0,null,null,0,0,{"$f":"IF((IF(restoZero(MG1245,25),(spaziIntermedi(MG1245,25))+1,spaziIntermedi(MG1245,25)))=(spaziIntermedi(MH1245,25)),FALSE,TRUE)","v":true},0,{"$f":"+spaziIntermedi(MH1245,25)-MJ1245","v":0},false,0,null,0,0,null,null,null,0,0,0,null,null,0,0,{"$f":"IF((IF(restoZero(MY1245,25),(spaziIntermedi(MY1245,25))+1,spaziIntermedi(MY1245,25)))=(spaziIntermedi(MZ1245,25)),FALSE,TRUE)","v":true},0,{"$f":"+spaziIntermedi(MZ1245,25)-NB1245","v":0},false,0,null,0,0,null,null,null,0,0,0,0,0,null,null,0,0,{"$f":"IF((IF(restoZero(NS1245,25),(spaziIntermedi(NS1245,25))+1,spaziIntermedi(NS1245,25)))=(spaziIntermedi(NT1245,25)),FALSE,TRUE)","v":true},0,{"$f":"+spaziIntermedi(NT1245,25)-NV1245","v":0},false,0,null,0,0,null,null,null,0,0,0,null,null,0,0,{"$f":"IF((IF(restoZero(OK1245,25),(spaziIntermedi(OK1245,25))+1,spaziIntermedi(OK1245,25)))=(spaziIntermedi(OL1245,25)),FALSE,TRUE)","v":true},0,{"$f":"+spaziIntermedi(OL1245,25)-ON1245","v":0},false,0,null,0,0,null,null,null,0,0,0,0,0,null,null,0,0,{"$f":"IF((IF(restoZero(PE1245,25),(spaziIntermedi(PE1245,25))+1,spaziIntermedi(PE1245,25)))=(spaziIntermedi(PF1245,25)),FALSE,TRUE)","v":true},0,{"$f":"+spaziIntermedi(PF1245,25)-PH1245","v":0},false,0,null,0,0,null,null,null,0,0,0,null,null,0,0,{"$f":"IF((IF(restoZero(PW1245,25),(spaziIntermedi(PW1245,25))+1,spaziIntermedi(PW1245,25)))=(spaziIntermedi(PX1245,25)),FALSE,TRUE)","v":true},0,{"$f":"+spaziIntermedi(PX1245,25)-PZ1245","v":0},false,0,null,0,0,null,null,null,0,0,0,0,0,null,null,0,0,{"$f":"IF((IF(restoZero(QQ1245,25),(spaziIntermedi(QQ1245,25))+1,spaziIntermedi(QQ1245,25)))=(spaziIntermedi(QR1245,25)),FALSE,TRUE)","v":true},0,{"$f":"+spaziIntermedi(QR1245,25)-QT1245","v":0},false,0,null,0,0,null,null,null,0,0,0,null,null,0,0,{"$f":"IF((IF(restoZero(RI1245,25),(spaziIntermedi(RI1245,25))+1,spaziIntermedi(RI1245,25)))=(spaziIntermedi(RJ1245,25)),FALSE,TRUE)","v":true},0,{"$f":"+spaziIntermedi(RJ1245,25)-RL1245","v":0},false,0,null,0,0,null,null,null,0,0,0,0,0,null,null,0,0,{"$f":"IF((IF(restoZero(SC1245,25),(spaziIntermedi(SC1245,25))+1,spaziIntermedi(SC1245,25)))=(spaziIntermedi(SD1245,25)),FALSE,TRUE)","v":true},0,{"$f":"+spaziIntermedi(SD1245,25)-SF1245","v":0},false,0,null,0,0,null,null,null,0,0,0,null,null,0,0,{"$f":"IF((IF(restoZero(SU1245,25),(spaziIntermedi(SU1245,25))+1,spaziIntermedi(SU1245,25)))=(spaziIntermedi(SV1245,25)),FALSE,TRUE)","v":true},0,{"$f":"+spaziIntermedi(SV1245,25)-SX1245","v":0},false,0,null,0,0,null,null,null,0,0,0,0,0]
[null,null,0,0,{"$f":"IF((IF(restoZero(C1246,25),(spaziIntermedi(C1246,25))+1,spaziIntermedi(C1246,25)))=(spaziIntermedi(D1246,25)),FALSE,TRUE)","v":true},0,{"$f":"+spaziIntermedi(D1246,25)-F1246","v":0},false,0,null,0,0,null,null,null,0,0,0,null,null,0,0,{"$f":"IF((IF(restoZero(U1246,25),(spaziIntermedi(U1246,25))+1,spaziIntermedi(U1246,25)))=(spaziIntermedi(V1246,25)),FALSE,TRUE)","v":true},0,{"$f":"+spaziIntermedi(V1246,25)-X1246","v":0},false,0,null,0,0,null,null,null,0,0,0,0,0,null,null,0,0,{"$f":"IF((IF(restoZero(AO1246,25),(spaziIntermedi(AO1246,25))+1,spaziIntermedi(AO1246,25)))=(spaziIntermedi(AP1246,25)),FALSE,TRUE)","v":true},0,{"$f":"+spaziIntermedi(AP1246,25)-AR1246","v":0},false,0,null,0,0,null,null,null,0,0,0,null,null,0,0,{"$f":"IF((IF(restoZero(BG1246,25),(spaziIntermedi(BG1246,25))+1,spaziIntermedi(BG1246,25)))=(spaziIntermedi(BH1246,25)),FALSE,TRUE)","v":true},0,{"$f":"+spaziIntermedi(BH1246,25)-BJ1246","v":0},false,0,null,0,0,null,null,null,0,0,0,0,0,null,null,0,0,{"$f":"IF((IF(restoZero(CA1246,25),(spaziIntermedi(CA1246,25))+1,spaziIntermedi(CA1246,25)))=(spaziIntermedi(CB1246,25)),FALSE,TRUE)","v":true},0,{"$f":"+spaziIntermedi(CB1246,25)-CD1246","v":0},false,0,null,0,0,null,null,null,0,0,0,null,null,0,0,{"$f":"IF((IF(restoZero(CS1246,25),(spaziIntermedi(CS1246,25))+1,spaziIntermedi(CS1246,25)))=(spaziIntermedi(CT1246,25)),FALSE,TRUE)","v":true},0,{"$f":"+spaziIntermedi(CT1246,25)-CV1246","v":0},false,0,null,0,0,null,null,null,0,0,0,0,0,null,null,0,0,{"$f":"IF((IF(restoZero(DM1246,25),(spaziIntermedi(DM1246,25))+1,spaziIntermedi(DM1246,25)))=(spaziIntermedi(DN1246,25)),FALSE,TRUE)","v":true},0,{"$f":"+spaziIntermedi(DN1246,25)-DP1246","v":0},false,0,null,0,0,null,null,null,0,0,0,null,null,0,0,{"$f":"IF((IF(restoZero(EE1246,25),(spaziIntermedi(EE1246,25))+1,spaziIntermedi(EE1246,25)))=(spaziIntermedi(EF1246,25)),FALSE,TRUE)","v":true},0,{"$f":"+spaziIntermedi(EF1246,25)-EH1246","v":0},false,0,null,0,0,null,null,null,0,0,0,0,0,null,null,0,0,{"$f":"IF((IF(restoZero(EY1246,25),(spaziIntermedi(EY1246,25))+1,spaziIntermedi(EY1246,25)))=(spaziIntermedi(EZ1246,25)),FALSE,TRUE)","v":true},0,{"$f":"+spaziIntermedi(EZ1246,25)-FB1246","v":0},false,0,null,0,0,null,null,null,0,0,0,null,null,0,0,{"$f":"IF((IF(restoZero(FQ1246,25),(spaziIntermedi(FQ1246,25))+1,spaziIntermedi(FQ1246,25)))=(spaziIntermedi(FR1246,25)),FALSE,TRUE)","v":true},0,{"$f":"+spaziIntermedi(FR1246,25)-FT1246","v":0},false,0,null,0,0,null,null,null,0,0,0,0,0,null,null,0,0,{"$f":"IF((IF(restoZero(GK1246,25),(spaziIntermedi(GK1246,25))+1,spaziIntermedi(GK1246,25)))=(spaziIntermedi(GL1246,25)),FALSE,TRUE)","v":true},0,{"$f":"+spaziIntermedi(GL1246,25)-GN1246","v":0},false,0,null,0,0,null,null,null,0,0,0,null,null,0,0,{"$f":"IF((IF(restoZero(HC1246,25),(spaziIntermedi(HC1246,25))+1,spaziIntermedi(HC1246,25)))=(spaziIntermedi(HD1246,25)),FALSE,TRUE)","v":true},0,{"$f":"+spaziIntermedi(HD1246,25)-HF1246","v":0},false,0,null,0,0,null,null,null,0,0,0,0,0,null,null,0,0,{"$f":"IF((IF(restoZero(HW1246,25),(spaziIntermedi(HW1246,25))+1,spaziIntermedi(HW1246,25)))=(spaziIntermedi(HX1246,25)),FALSE,TRUE)","v":true},0,{"$f":"+spaziIntermedi(HX1246,25)-HZ1246","v":0},false,0,null,0,0,null,null,null,0,0,0,null,null,0,0,{"$f":"IF((IF(restoZero(IO1246,25),(spaziIntermedi(IO1246,25))+1,spaziIntermedi(IO1246,25)))=(spaziIntermedi(IP1246,25)),FALSE,TRUE)","v":true},0,{"$f":"+spaziIntermedi(IP1246,25)-IR1246","v":0},false,0,null,0,0,null,null,null,0,0,0,0,0,null,null,0,0,{"$f":"IF((IF(restoZero(JI1246,25),(spaziIntermedi(JI1246,25))+1,spaziIntermedi(JI1246,25)))=(spaziIntermedi(JJ1246,25)),FALSE,TRUE)","v":true},0,{"$f":"+spaziIntermedi(JJ1246,25)-JL1246","v":0},false,0,null,0,0,null,null,null,0,0,0,null,null,0,0,{"$f":"IF((IF(restoZero(KA1246,25),(spaziIntermedi(KA1246,25))+1,spaziIntermedi(KA1246,25)))=(spaziIntermedi(KB1246,25)),FALSE,TRUE)","v":true},0,{"$f":"+spaziIntermedi(KB1246,25)-KD1246","v":0},false,0,null,0,0,null,null,null,0,0,0,0,0,null,null,0,0,{"$f":"IF((IF(restoZero(KU1246,25),(spaziIntermedi(KU1246,25))+1,spaziIntermedi(KU1246,25)))=(spaziIntermedi(KV1246,25)),FALSE,TRUE)","v":true},0,{"$f":"+spaziIntermedi(KV1246,25)-KX1246","v":0},false,0,null,0,0,null,null,null,0,0,0,null,null,0,0,{"$f":"IF((IF(restoZero(LM1246,25),(spaziIntermedi(LM1246,25))+1,spaziIntermedi(LM1246,25)))=(spaziIntermedi(LN1246,25)),FALSE,TRUE)","v":true},0,{"$f":"+spaziIntermedi(LN1246,25)-LP1246","v":0},false,0,null,0,0,null,null,null,0,0,0,0,0,null,null,0,0,{"$f":"IF((IF(restoZero(MG1246,25),(spaziIntermedi(MG1246,25))+1,spaziIntermedi(MG1246,25)))=(spaziIntermedi(MH1246,25)),FALSE,TRUE)","v":true},0,{"$f":"+spaziIntermedi(MH1246,25)-MJ1246","v":0},false,0,null,0,0,null,null,null,0,0,0,null,null,0,0,{"$f":"IF((IF(restoZero(MY1246,25),(spaziIntermedi(MY1246,25))+1,spaziIntermedi(MY1246,25)))=(spaziIntermedi(MZ1246,25)),FALSE,TRUE)","v":true},0,{"$f":"+spaziIntermedi(MZ1246,25)-NB1246","v":0},false,0,null,0,0,null,null,null,0,0,0,0,0,null,null,0,0,{"$f":"IF((IF(restoZero(NS1246,25),(spaziIntermedi(NS1246,25))+1,spaziIntermedi(NS1246,25)))=(spaziIntermedi(NT1246,25)),FALSE,TRUE)","v":true},0,{"$f":"+spaziIntermedi(NT1246,25)-NV1246","v":0},false,0,null,0,0,null,null,null,0,0,0,null,null,0,0,{"$f":"IF((IF(restoZero(OK1246,25),(spaziIntermedi(OK1246,25))+1,spaziIntermedi(OK1246,25)))=(spaziIntermedi(OL1246,25)),FALSE,TRUE)","v":true},0,{"$f":"+spaziIntermedi(OL1246,25)-ON1246","v":0},false,0,null,0,0,null,null,null,0,0,0,0,0,null,null,0,0,{"$f":"IF((IF(restoZero(PE1246,25),(spaziIntermedi(PE1246,25))+1,spaziIntermedi(PE1246,25)))=(spaziIntermedi(PF1246,25)),FALSE,TRUE)","v":true},0,{"$f":"+spaziIntermedi(PF1246,25)-PH1246","v":0},false,0,null,0,0,null,null,null,0,0,0,null,null,0,0,{"$f":"IF((IF(restoZero(PW1246,25),(spaziIntermedi(PW1246,25))+1,spaziIntermedi(PW1246,25)))=(spaziIntermedi(PX1246,25)),FALSE,TRUE)","v":true},0,{"$f":"+spaziIntermedi(PX1246,25)-PZ1246","v":0},false,0,null,0,0,null,null,null,0,0,0,0,0,null,null,0,0,{"$f":"IF((IF(restoZero(QQ1246,25),(spaziIntermedi(QQ1246,25))+1,spaziIntermedi(QQ1246,25)))=(spaziIntermedi(QR1246,25)),FALSE,TRUE)","v":true},0,{"$f":"+spaziIntermedi(QR1246,25)-QT1246","v":0},false,0,null,0,0,null,null,null,0,0,0,null,null,0,0,{"$f":"IF((IF(restoZero(RI1246,25),(spaziIntermedi(RI1246,25))+1,spaziIntermedi(RI1246,25)))=(spaziIntermedi(RJ1246,25)),FALSE,TRUE)","v":true},0,{"$f":"+spaziIntermedi(RJ1246,25)-RL1246","v":0},false,0,null,0,0,null,null,null,0,0,0,0,0,null,null,0,0,{"$f":"IF((IF(restoZero(SC1246,25),(spaziIntermedi(SC1246,25))+1,spaziIntermedi(SC1246,25)))=(spaziIntermedi(SD1246,25)),FALSE,TRUE)","v":true},0,{"$f":"+spaziIntermedi(SD1246,25)-SF1246","v":0},false,0,null,0,0,null,null,null,0,0,0,null,null,0,0,{"$f":"IF((IF(restoZero(SU1246,25),(spaziIntermedi(SU1246,25))+1,spaziIntermedi(SU1246,25)))=(spaziIntermedi(SV1246,25)),FALSE,TRUE)","v":true},0,{"$f":"+spaziIntermedi(SV1246,25)-SX1246","v":0},false,0,null,0,0,null,null,null,0,0,0,0,0]
[null,null,0,0,{"$f":"IF((IF(restoZero(C1247,25),(spaziIntermedi(C1247,25))+1,spaziIntermedi(C1247,25)))=(spaziIntermedi(D1247,25)),FALSE,TRUE)","v":true},0,{"$f":"+spaziIntermedi(D1247,25)-F1247","v":0},false,0,null,0,0,null,null,null,0,0,0,null,null,0,0,{"$f":"IF((IF(restoZero(U1247,25),(spaziIntermedi(U1247,25))+1,spaziIntermedi(U1247,25)))=(spaziIntermedi(V1247,25)),FALSE,TRUE)","v":true},0,{"$f":"+spaziIntermedi(V1247,25)-X1247","v":0},false,0,null,0,0,null,null,null,0,0,0,0,0,null,null,0,0,{"$f":"IF((IF(restoZero(AO1247,25),(spaziIntermedi(AO1247,25))+1,spaziIntermedi(AO1247,25)))=(spaziIntermedi(AP1247,25)),FALSE,TRUE)","v":true},0,{"$f":"+spaziIntermedi(AP1247,25)-AR1247","v":0},false,0,null,0,0,null,null,null,0,0,0,null,null,0,0,{"$f":"IF((IF(restoZero(BG1247,25),(spaziIntermedi(BG1247,25))+1,spaziIntermedi(BG1247,25)))=(spaziIntermedi(BH1247,25)),FALSE,TRUE)","v":true},0,{"$f":"+spaziIntermedi(BH1247,25)-BJ1247","v":0},false,0,null,0,0,null,null,null,0,0,0,0,0,null,null,0,0,{"$f":"IF((IF(restoZero(CA1247,25),(spaziIntermedi(CA1247,25))+1,spaziIntermedi(CA1247,25)))=(spaziIntermedi(CB1247,25)),FALSE,TRUE)","v":true},0,{"$f":"+spaziIntermedi(CB1247,25)-CD1247","v":0},false,0,null,0,0,null,null,null,0,0,0,null,null,0,0,{"$f":"IF((IF(restoZero(CS1247,25),(spaziIntermedi(CS1247,25))+1,spaziIntermedi(CS1247,25)))=(spaziIntermedi(CT1247,25)),FALSE,TRUE)","v":true},0,{"$f":"+spaziIntermedi(CT1247,25)-CV1247","v":0},false,0,null,0,0,null,null,null,0,0,0,0,0,null,null,0,0,{"$f":"IF((IF(restoZero(DM1247,25),(spaziIntermedi(DM1247,25))+1,spaziIntermedi(DM1247,25)))=(spaziIntermedi(DN1247,25)),FALSE,TRUE)","v":true},0,{"$f":"+spaziIntermedi(DN1247,25)-DP1247","v":0},false,0,null,0,0,null,null,null,0,0,0,null,null,0,0,{"$f":"IF((IF(restoZero(EE1247,25),(spaziIntermedi(EE1247,25))+1,spaziIntermedi(EE1247,25)))=(spaziIntermedi(EF1247,25)),FALSE,TRUE)","v":true},0,{"$f":"+spaziIntermedi(EF1247,25)-EH1247","v":0},false,0,null,0,0,null,null,null,0,0,0,0,0,null,null,0,0,{"$f":"IF((IF(restoZero(EY1247,25),(spaziIntermedi(EY1247,25))+1,spaziIntermedi(EY1247,25)))=(spaziIntermedi(EZ1247,25)),FALSE,TRUE)","v":true},0,{"$f":"+spaziIntermedi(EZ1247,25)-FB1247","v":0},false,0,null,0,0,null,null,null,0,0,0,null,null,0,0,{"$f":"IF((IF(restoZero(FQ1247,25),(spaziIntermedi(FQ1247,25))+1,spaziIntermedi(FQ1247,25)))=(spaziIntermedi(FR1247,25)),FALSE,TRUE)","v":true},0,{"$f":"+spaziIntermedi(FR1247,25)-FT1247","v":0},false,0,null,0,0,null,null,null,0,0,0,0,0,null,null,0,0,{"$f":"IF((IF(restoZero(GK1247,25),(spaziIntermedi(GK1247,25))+1,spaziIntermedi(GK1247,25)))=(spaziIntermedi(GL1247,25)),FALSE,TRUE)","v":true},0,{"$f":"+spaziIntermedi(GL1247,25)-GN1247","v":0},false,0,null,0,0,null,null,null,0,0,0,null,null,0,0,{"$f":"IF((IF(restoZero(HC1247,25),(spaziIntermedi(HC1247,25))+1,spaziIntermedi(HC1247,25)))=(spaziIntermedi(HD1247,25)),FALSE,TRUE)","v":true},0,{"$f":"+spaziIntermedi(HD1247,25)-HF1247","v":0},false,0,null,0,0,null,null,null,0,0,0,0,0,null,null,0,0,{"$f":"IF((IF(restoZero(HW1247,25),(spaziIntermedi(HW1247,25))+1,spaziIntermedi(HW1247,25)))=(spaziIntermedi(HX1247,25)),FALSE,TRUE)","v":true},0,{"$f":"+spaziIntermedi(HX1247,25)-HZ1247","v":0},false,0,null,0,0,null,null,null,0,0,0,null,null,0,0,{"$f":"IF((IF(restoZero(IO1247,25),(spaziIntermedi(IO1247,25))+1,spaziIntermedi(IO1247,25)))=(spaziIntermedi(IP1247,25)),FALSE,TRUE)","v":true},0,{"$f":"+spaziIntermedi(IP1247,25)-IR1247","v":0},false,0,null,0,0,null,null,null,0,0,0,0,0,null,null,0,0,{"$f":"IF((IF(restoZero(JI1247,25),(spaziIntermedi(JI1247,25))+1,spaziIntermedi(JI1247,25)))=(spaziIntermedi(JJ1247,25)),FALSE,TRUE)","v":true},0,{"$f":"+spaziIntermedi(JJ1247,25)-JL1247","v":0},false,0,null,0,0,null,null,null,0,0,0,null,null,0,0,{"$f":"IF((IF(restoZero(KA1247,25),(spaziIntermedi(KA1247,25))+1,spaziIntermedi(KA1247,25)))=(spaziIntermedi(KB1247,25)),FALSE,TRUE)","v":true},0,{"$f":"+spaziIntermedi(KB1247,25)-KD1247","v":0},false,0,null,0,0,null,null,null,0,0,0,0,0,null,null,0,0,{"$f":"IF((IF(restoZero(KU1247,25),(spaziIntermedi(KU1247,25))+1,spaziIntermedi(KU1247,25)))=(spaziIntermedi(KV1247,25)),FALSE,TRUE)","v":true},0,{"$f":"+spaziIntermedi(KV1247,25)-KX1247","v":0},false,0,null,0,0,null,null,null,0,0,0,null,null,0,0,{"$f":"IF((IF(restoZero(LM1247,25),(spaziIntermedi(LM1247,25))+1,spaziIntermedi(LM1247,25)))=(spaziIntermedi(LN1247,25)),FALSE,TRUE)","v":true},0,{"$f":"+spaziIntermedi(LN1247,25)-LP1247","v":0},false,0,null,0,0,null,null,null,0,0,0,0,0,null,null,0,0,{"$f":"IF((IF(restoZero(MG1247,25),(spaziIntermedi(MG1247,25))+1,spaziIntermedi(MG1247,25)))=(spaziIntermedi(MH1247,25)),FALSE,TRUE)","v":true},0,{"$f":"+spaziIntermedi(MH1247,25)-MJ1247","v":0},false,0,null,0,0,null,null,null,0,0,0,null,null,0,0,{"$f":"IF((IF(restoZero(MY1247,25),(spaziIntermedi(MY1247,25))+1,spaziIntermedi(MY1247,25)))=(spaziIntermedi(MZ1247,25)),FALSE,TRUE)","v":true},0,{"$f":"+spaziIntermedi(MZ1247,25)-NB1247","v":0},false,0,null,0,0,null,null,null,0,0,0,0,0,null,null,0,0,{"$f":"IF((IF(restoZero(NS1247,25),(spaziIntermedi(NS1247,25))+1,spaziIntermedi(NS1247,25)))=(spaziIntermedi(NT1247,25)),FALSE,TRUE)","v":true},0,{"$f":"+spaziIntermedi(NT1247,25)-NV1247","v":0},false,0,null,0,0,null,null,null,0,0,0,null,null,0,0,{"$f":"IF((IF(restoZero(OK1247,25),(spaziIntermedi(OK1247,25))+1,spaziIntermedi(OK1247,25)))=(spaziIntermedi(OL1247,25)),FALSE,TRUE)","v":true},0,{"$f":"+spaziIntermedi(OL1247,25)-ON1247","v":0},false,0,null,0,0,null,null,null,0,0,0,0,0,null,null,0,0,{"$f":"IF((IF(restoZero(PE1247,25),(spaziIntermedi(PE1247,25))+1,spaziIntermedi(PE1247,25)))=(spaziIntermedi(PF1247,25)),FALSE,TRUE)","v":true},0,{"$f":"+spaziIntermedi(PF1247,25)-PH1247","v":0},false,0,null,0,0,null,null,null,0,0,0,null,null,0,0,{"$f":"IF((IF(restoZero(PW1247,25),(spaziIntermedi(PW1247,25))+1,spaziIntermedi(PW1247,25)))=(spaziIntermedi(PX1247,25)),FALSE,TRUE)","v":true},0,{"$f":"+spaziIntermedi(PX1247,25)-PZ1247","v":0},false,0,null,0,0,null,null,null,0,0,0,0,0,null,null,0,0,{"$f":"IF((IF(restoZero(QQ1247,25),(spaziIntermedi(QQ1247,25))+1,spaziIntermedi(QQ1247,25)))=(spaziIntermedi(QR1247,25)),FALSE,TRUE)","v":true},0,{"$f":"+spaziIntermedi(QR1247,25)-QT1247","v":0},false,0,null,0,0,null,null,null,0,0,0,null,null,0,0,{"$f":"IF((IF(restoZero(RI1247,25),(spaziIntermedi(RI1247,25))+1,spaziIntermedi(RI1247,25)))=(spaziIntermedi(RJ1247,25)),FALSE,TRUE)","v":true},0,{"$f":"+spaziIntermedi(RJ1247,25)-RL1247","v":0},false,0,null,0,0,null,null,null,0,0,0,0,0,null,null,0,0,{"$f":"IF((IF(restoZero(SC1247,25),(spaziIntermedi(SC1247,25))+1,spaziIntermedi(SC1247,25)))=(spaziIntermedi(SD1247,25)),FALSE,TRUE)","v":true},0,{"$f":"+spaziIntermedi(SD1247,25)-SF1247","v":0},false,0,null,0,0,null,null,null,0,0,0,null,null,0,0,{"$f":"IF((IF(restoZero(SU1247,25),(spaziIntermedi(SU1247,25))+1,spaziIntermedi(SU1247,25)))=(spaziIntermedi(SV1247,25)),FALSE,TRUE)","v":true},0,{"$f":"+spaziIntermedi(SV1247,25)-SX1247","v":0},false,0,null,0,0,null,null,null,0,0,0,0,0]
[null,null,0,0,{"$f":"IF((IF(restoZero(C1248,25),(spaziIntermedi(C1248,25))+1,spaziIntermedi(C1248,25)))=(spaziIntermedi(D1248,25)),FALSE,TRUE)","v":true},0,{"$f":"+spaziIntermedi(D1248,25)-F1248","v":0},false,0,null,0,0,null,null,null,0,0,0,null,null,0,0,{"$f":"IF((IF(restoZero(U1248,25),(spaziIntermedi(U1248,25))+1,spaziIntermedi(U1248,25)))=(spaziIntermedi(V1248,25)),FALSE,TRUE)","v":true},0,{"$f":"+spaziIntermedi(V1248,25)-X1248","v":0},false,0,null,0,0,null,null,null,0,0,0,0,0,null,null,0,0,{"$f":"IF((IF(restoZero(AO1248,25),(spaziIntermedi(AO1248,25))+1,spaziIntermedi(AO1248,25)))=(spaziIntermedi(AP1248,25)),FALSE,TRUE)","v":true},0,{"$f":"+spaziIntermedi(AP1248,25)-AR1248","v":0},false,0,null,0,0,null,null,null,0,0,0,null,null,0,0,{"$f":"IF((IF(restoZero(BG1248,25),(spaziIntermedi(BG1248,25))+1,spaziIntermedi(BG1248,25)))=(spaziIntermedi(BH1248,25)),FALSE,TRUE)","v":true},0,{"$f":"+spaziIntermedi(BH1248,25)-BJ1248","v":0},false,0,null,0,0,null,null,null,0,0,0,0,0,null,null,0,0,{"$f":"IF((IF(restoZero(CA1248,25),(spaziIntermedi(CA1248,25))+1,spaziIntermedi(CA1248,25)))=(spaziIntermedi(CB1248,25)),FALSE,TRUE)","v":true},0,{"$f":"+spaziIntermedi(CB1248,25)-CD1248","v":0},false,0,null,0,0,null,null,null,0,0,0,null,null,0,0,{"$f":"IF((IF(restoZero(CS1248,25),(spaziIntermedi(CS1248,25))+1,spaziIntermedi(CS1248,25)))=(spaziIntermedi(CT1248,25)),FALSE,TRUE)","v":true},0,{"$f":"+spaziIntermedi(CT1248,25)-CV1248","v":0},false,0,null,0,0,null,null,null,0,0,0,0,0,null,null,0,0,{"$f":"IF((IF(restoZero(DM1248,25),(spaziIntermedi(DM1248,25))+1,spaziIntermedi(DM1248,25)))=(spaziIntermedi(DN1248,25)),FALSE,TRUE)","v":true},0,{"$f":"+spaziIntermedi(DN1248,25)-DP1248","v":0},false,0,null,0,0,null,null,null,0,0,0,null,null,0,0,{"$f":"IF((IF(restoZero(EE1248,25),(spaziIntermedi(EE1248,25))+1,spaziIntermedi(EE1248,25)))=(spaziIntermedi(EF1248,25)),FALSE,TRUE)","v":true},0,{"$f":"+spaziIntermedi(EF1248,25)-EH1248","v":0},false,0,null,0,0,null,null,null,0,0,0,0,0,null,null,0,0,{"$f":"IF((IF(restoZero(EY1248,25),(spaziIntermedi(EY1248,25))+1,spaziIntermedi(EY1248,25)))=(spaziIntermedi(EZ1248,25)),FALSE,TRUE)","v":true},0,{"$f":"+spaziIntermedi(EZ1248,25)-FB1248","v":0},false,0,null,0,0,null,null,null,0,0,0,null,null,0,0,{"$f":"IF((IF(restoZero(FQ1248,25),(spaziIntermedi(FQ1248,25))+1,spaziIntermedi(FQ1248,25)))=(spaziIntermedi(FR1248,25)),FALSE,TRUE)","v":true},0,{"$f":"+spaziIntermedi(FR1248,25)-FT1248","v":0},false,0,null,0,0,null,null,null,0,0,0,0,0,null,null,0,0,{"$f":"IF((IF(restoZero(GK1248,25),(spaziIntermedi(GK1248,25))+1,spaziIntermedi(GK1248,25)))=(spaziIntermedi(GL1248,25)),FALSE,TRUE)","v":true},0,{"$f":"+spaziIntermedi(GL1248,25)-GN1248","v":0},false,0,null,0,0,null,null,null,0,0,0,null,null,0,0,{"$f":"IF((IF(restoZero(HC1248,25),(spaziIntermedi(HC1248,25))+1,spaziIntermedi(HC1248,25)))=(spaziIntermedi(HD1248,25)),FALSE,TRUE)","v":true},0,{"$f":"+spaziIntermedi(HD1248,25)-HF1248","v":0},false,0,null,0,0,null,null,null,0,0,0,0,0,null,null,0,0,{"$f":"IF((IF(restoZero(HW1248,25),(spaziIntermedi(HW1248,25))+1,spaziIntermedi(HW1248,25)))=(spaziIntermedi(HX1248,25)),FALSE,TRUE)","v":true},0,{"$f":"+spaziIntermedi(HX1248,25)-HZ1248","v":0},false,0,null,0,0,null,null,null,0,0,0,null,null,0,0,{"$f":"IF((IF(restoZero(IO1248,25),(spaziIntermedi(IO1248,25))+1,spaziIntermedi(IO1248,25)))=(spaziIntermedi(IP1248,25)),FALSE,TRUE)","v":true},0,{"$f":"+spaziIntermedi(IP1248,25)-IR1248","v":0},false,0,null,0,0,null,null,null,0,0,0,0,0,null,null,0,0,{"$f":"IF((IF(restoZero(JI1248,25),(spaziIntermedi(JI1248,25))+1,spaziIntermedi(JI1248,25)))=(spaziIntermedi(JJ1248,25)),FALSE,TRUE)","v":true},0,{"$f":"+spaziIntermedi(JJ1248,25)-JL1248","v":0},false,0,null,0,0,null,null,null,0,0,0,null,null,0,0,{"$f":"IF((IF(restoZero(KA1248,25),(spaziIntermedi(KA1248,25))+1,spaziIntermedi(KA1248,25)))=(spaziIntermedi(KB1248,25)),FALSE,TRUE)","v":true},0,{"$f":"+spaziIntermedi(KB1248,25)-KD1248","v":0},false,0,null,0,0,null,null,null,0,0,0,0,0,null,null,0,0,{"$f":"IF((IF(restoZero(KU1248,25),(spaziIntermedi(KU1248,25))+1,spaziIntermedi(KU1248,25)))=(spaziIntermedi(KV1248,25)),FALSE,TRUE)","v":true},0,{"$f":"+spaziIntermedi(KV1248,25)-KX1248","v":0},false,0,null,0,0,null,null,null,0,0,0,null,null,0,0,{"$f":"IF((IF(restoZero(LM1248,25),(spaziIntermedi(LM1248,25))+1,spaziIntermedi(LM1248,25)))=(spaziIntermedi(LN1248,25)),FALSE,TRUE)","v":true},0,{"$f":"+spaziIntermedi(LN1248,25)-LP1248","v":0},false,0,null,0,0,null,null,null,0,0,0,0,0,null,null,0,0,{"$f":"IF((IF(restoZero(MG1248,25),(spaziIntermedi(MG1248,25))+1,spaziIntermedi(MG1248,25)))=(spaziIntermedi(MH1248,25)),FALSE,TRUE)","v":true},0,{"$f":"+spaziIntermedi(MH1248,25)-MJ1248","v":0},false,0,null,0,0,null,null,null,0,0,0,null,null,0,0,{"$f":"IF((IF(restoZero(MY1248,25),(spaziIntermedi(MY1248,25))+1,spaziIntermedi(MY1248,25)))=(spaziIntermedi(MZ1248,25)),FALSE,TRUE)","v":true},0,{"$f":"+spaziIntermedi(MZ1248,25)-NB1248","v":0},false,0,null,0,0,null,null,null,0,0,0,0,0,null,null,0,0,{"$f":"IF((IF(restoZero(NS1248,25),(spaziIntermedi(NS1248,25))+1,spaziIntermedi(NS1248,25)))=(spaziIntermedi(NT1248,25)),FALSE,TRUE)","v":true},0,{"$f":"+spaziIntermedi(NT1248,25)-NV1248","v":0},false,0,null,0,0,null,null,null,0,0,0,null,null,0,0,{"$f":"IF((IF(restoZero(OK1248,25),(spaziIntermedi(OK1248,25))+1,spaziIntermedi(OK1248,25)))=(spaziIntermedi(OL1248,25)),FALSE,TRUE)","v":true},0,{"$f":"+spaziIntermedi(OL1248,25)-ON1248","v":0},false,0,null,0,0,null,null,null,0,0,0,0,0,null,null,0,0,{"$f":"IF((IF(restoZero(PE1248,25),(spaziIntermedi(PE1248,25))+1,spaziIntermedi(PE1248,25)))=(spaziIntermedi(PF1248,25)),FALSE,TRUE)","v":true},0,{"$f":"+spaziIntermedi(PF1248,25)-PH1248","v":0},false,0,null,0,0,null,null,null,0,0,0,null,null,0,0,{"$f":"IF((IF(restoZero(PW1248,25),(spaziIntermedi(PW1248,25))+1,spaziIntermedi(PW1248,25)))=(spaziIntermedi(PX1248,25)),FALSE,TRUE)","v":true},0,{"$f":"+spaziIntermedi(PX1248,25)-PZ1248","v":0},false,0,null,0,0,null,null,null,0,0,0,0,0,null,null,0,0,{"$f":"IF((IF(restoZero(QQ1248,25),(spaziIntermedi(QQ1248,25))+1,spaziIntermedi(QQ1248,25)))=(spaziIntermedi(QR1248,25)),FALSE,TRUE)","v":true},0,{"$f":"+spaziIntermedi(QR1248,25)-QT1248","v":0},false,0,null,0,0,null,null,null,0,0,0,null,null,0,0,{"$f":"IF((IF(restoZero(RI1248,25),(spaziIntermedi(RI1248,25))+1,spaziIntermedi(RI1248,25)))=(spaziIntermedi(RJ1248,25)),FALSE,TRUE)","v":true},0,{"$f":"+spaziIntermedi(RJ1248,25)-RL1248","v":0},false,0,null,0,0,null,null,null,0,0,0,0,0,null,null,0,0,{"$f":"IF((IF(restoZero(SC1248,25),(spaziIntermedi(SC1248,25))+1,spaziIntermedi(SC1248,25)))=(spaziIntermedi(SD1248,25)),FALSE,TRUE)","v":true},0,{"$f":"+spaziIntermedi(SD1248,25)-SF1248","v":0},false,0,null,0,0,null,null,null,0,0,0,null,null,0,0,{"$f":"IF((IF(restoZero(SU1248,25),(spaziIntermedi(SU1248,25))+1,spaziIntermedi(SU1248,25)))=(spaziIntermedi(SV1248,25)),FALSE,TRUE)","v":true},0,{"$f":"+spaziIntermedi(SV1248,25)-SX1248","v":0},false,0,null,0,0,null,null,null,0,0,0,0,0]
[null,null,0,0,{"$f":"IF((IF(restoZero(C1249,25),(spaziIntermedi(C1249,25))+1,spaziIntermedi(C1249,25)))=(spaziIntermedi(D1249,25)),FALSE,TRUE)","v":true},0,{"$f":"+spaziIntermedi(D1249,25)-F1249","v":0},false,0,null,0,0,null,null,null,0,0,0,null,null,0,0,{"$f":"IF((IF(restoZero(U1249,25),(spaziIntermedi(U1249,25))+1,spaziIntermedi(U1249,25)))=(spaziIntermedi(V1249,25)),FALSE,TRUE)","v":true},0,{"$f":"+spaziIntermedi(V1249,25)-X1249","v":0},false,0,null,0,0,null,null,null,0,0,0,0,0,null,null,0,0,{"$f":"IF((IF(restoZero(AO1249,25),(spaziIntermedi(AO1249,25))+1,spaziIntermedi(AO1249,25)))=(spaziIntermedi(AP1249,25)),FALSE,TRUE)","v":true},0,{"$f":"+spaziIntermedi(AP1249,25)-AR1249","v":0},false,0,null,0,0,null,null,null,0,0,0,null,null,0,0,{"$f":"IF((IF(restoZero(BG1249,25),(spaziIntermedi(BG1249,25))+1,spaziIntermedi(BG1249,25)))=(spaziIntermedi(BH1249,25)),FALSE,TRUE)","v":true},0,{"$f":"+spaziIntermedi(BH1249,25)-BJ1249","v":0},false,0,null,0,0,null,null,null,0,0,0,0,0,null,null,0,0,{"$f":"IF((IF(restoZero(CA1249,25),(spaziIntermedi(CA1249,25))+1,spaziIntermedi(CA1249,25)))=(spaziIntermedi(CB1249,25)),FALSE,TRUE)","v":true},0,{"$f":"+spaziIntermedi(CB1249,25)-CD1249","v":0},false,0,null,0,0,null,null,null,0,0,0,null,null,0,0,{"$f":"IF((IF(restoZero(CS1249,25),(spaziIntermedi(CS1249,25))+1,spaziIntermedi(CS1249,25)))=(spaziIntermedi(CT1249,25)),FALSE,TRUE)","v":true},0,{"$f":"+spaziIntermedi(CT1249,25)-CV1249","v":0},false,0,null,0,0,null,null,null,0,0,0,0,0,null,null,0,0,{"$f":"IF((IF(restoZero(DM1249,25),(spaziIntermedi(DM1249,25))+1,spaziIntermedi(DM1249,25)))=(spaziIntermedi(DN1249,25)),FALSE,TRUE)","v":true},0,{"$f":"+spaziIntermedi(DN1249,25)-DP1249","v":0},false,0,null,0,0,null,null,null,0,0,0,null,null,0,0,{"$f":"IF((IF(restoZero(EE1249,25),(spaziIntermedi(EE1249,25))+1,spaziIntermedi(EE1249,25)))=(spaziIntermedi(EF1249,25)),FALSE,TRUE)","v":true},0,{"$f":"+spaziIntermedi(EF1249,25)-EH1249","v":0},false,0,null,0,0,null,null,null,0,0,0,0,0,null,null,0,0,{"$f":"IF((IF(restoZero(EY1249,25),(spaziIntermedi(EY1249,25))+1,spaziIntermedi(EY1249,25)))=(spaziIntermedi(EZ1249,25)),FALSE,TRUE)","v":true},0,{"$f":"+spaziIntermedi(EZ1249,25)-FB1249","v":0},false,0,null,0,0,null,null,null,0,0,0,null,null,0,0,{"$f":"IF((IF(restoZero(FQ1249,25),(spaziIntermedi(FQ1249,25))+1,spaziIntermedi(FQ1249,25)))=(spaziIntermedi(FR1249,25)),FALSE,TRUE)","v":true},0,{"$f":"+spaziIntermedi(FR1249,25)-FT1249","v":0},false,0,null,0,0,null,null,null,0,0,0,0,0,null,null,0,0,{"$f":"IF((IF(restoZero(GK1249,25),(spaziIntermedi(GK1249,25))+1,spaziIntermedi(GK1249,25)))=(spaziIntermedi(GL1249,25)),FALSE,TRUE)","v":true},0,{"$f":"+spaziIntermedi(GL1249,25)-GN1249","v":0},false,0,null,0,0,null,null,null,0,0,0,null,null,0,0,{"$f":"IF((IF(restoZero(HC1249,25),(spaziIntermedi(HC1249,25))+1,spaziIntermedi(HC1249,25)))=(spaziIntermedi(HD1249,25)),FALSE,TRUE)","v":true},0,{"$f":"+spaziIntermedi(HD1249,25)-HF1249","v":0},false,0,null,0,0,null,null,null,0,0,0,0,0,null,null,0,0,{"$f":"IF((IF(restoZero(HW1249,25),(spaziIntermedi(HW1249,25))+1,spaziIntermedi(HW1249,25)))=(spaziIntermedi(HX1249,25)),FALSE,TRUE)","v":true},0,{"$f":"+spaziIntermedi(HX1249,25)-HZ1249","v":0},false,0,null,0,0,null,null,null,0,0,0,null,null,0,0,{"$f":"IF((IF(restoZero(IO1249,25),(spaziIntermedi(IO1249,25))+1,spaziIntermedi(IO1249,25)))=(spaziIntermedi(IP1249,25)),FALSE,TRUE)","v":true},0,{"$f":"+spaziIntermedi(IP1249,25)-IR1249","v":0},false,0,null,0,0,null,null,null,0,0,0,0,0,null,null,0,0,{"$f":"IF((IF(restoZero(JI1249,25),(spaziIntermedi(JI1249,25))+1,spaziIntermedi(JI1249,25)))=(spaziIntermedi(JJ1249,25)),FALSE,TRUE)","v":true},0,{"$f":"+spaziIntermedi(JJ1249,25)-JL1249","v":0},false,0,null,0,0,null,null,null,0,0,0,null,null,0,0,{"$f":"IF((IF(restoZero(KA1249,25),(spaziIntermedi(KA1249,25))+1,spaziIntermedi(KA1249,25)))=(spaziIntermedi(KB1249,25)),FALSE,TRUE)","v":true},0,{"$f":"+spaziIntermedi(KB1249,25)-KD1249","v":0},false,0,null,0,0,null,null,null,0,0,0,0,0,null,null,0,0,{"$f":"IF((IF(restoZero(KU1249,25),(spaziIntermedi(KU1249,25))+1,spaziIntermedi(KU1249,25)))=(spaziIntermedi(KV1249,25)),FALSE,TRUE)","v":true},0,{"$f":"+spaziIntermedi(KV1249,25)-KX1249","v":0},false,0,null,0,0,null,null,null,0,0,0,null,null,0,0,{"$f":"IF((IF(restoZero(LM1249,25),(spaziIntermedi(LM1249,25))+1,spaziIntermedi(LM1249,25)))=(spaziIntermedi(LN1249,25)),FALSE,TRUE)","v":true},0,{"$f":"+spaziIntermedi(LN1249,25)-LP1249","v":0},false,0,null,0,0,null,null,null,0,0,0,0,0,null,null,0,0,{"$f":"IF((IF(restoZero(MG1249,25),(spaziIntermedi(MG1249,25))+1,spaziIntermedi(MG1249,25)))=(spaziIntermedi(MH1249,25)),FALSE,TRUE)","v":true},0,{"$f":"+spaziIntermedi(MH1249,25)-MJ1249","v":0},false,0,null,0,0,null,null,null,0,0,0,null,null,0,0,{"$f":"IF((IF(restoZero(MY1249,25),(spaziIntermedi(MY1249,25))+1,spaziIntermedi(MY1249,25)))=(spaziIntermedi(MZ1249,25)),FALSE,TRUE)","v":true},0,{"$f":"+spaziIntermedi(MZ1249,25)-NB1249","v":0},false,0,null,0,0,null,null,null,0,0,0,0,0,null,null,0,0,{"$f":"IF((IF(restoZero(NS1249,25),(spaziIntermedi(NS1249,25))+1,spaziIntermedi(NS1249,25)))=(spaziIntermedi(NT1249,25)),FALSE,TRUE)","v":true},0,{"$f":"+spaziIntermedi(NT1249,25)-NV1249","v":0},false,0,null,0,0,null,null,null,0,0,0,null,null,0,0,{"$f":"IF((IF(restoZero(OK1249,25),(spaziIntermedi(OK1249,25))+1,spaziIntermedi(OK1249,25)))=(spaziIntermedi(OL1249,25)),FALSE,TRUE)","v":true},0,{"$f":"+spaziIntermedi(OL1249,25)-ON1249","v":0},false,0,null,0,0,null,null,null,0,0,0,0,0,null,null,0,0,{"$f":"IF((IF(restoZero(PE1249,25),(spaziIntermedi(PE1249,25))+1,spaziIntermedi(PE1249,25)))=(spaziIntermedi(PF1249,25)),FALSE,TRUE)","v":true},0,{"$f":"+spaziIntermedi(PF1249,25)-PH1249","v":0},false,0,null,0,0,null,null,null,0,0,0,null,null,0,0,{"$f":"IF((IF(restoZero(PW1249,25),(spaziIntermedi(PW1249,25))+1,spaziIntermedi(PW1249,25)))=(spaziIntermedi(PX1249,25)),FALSE,TRUE)","v":true},0,{"$f":"+spaziIntermedi(PX1249,25)-PZ1249","v":0},false,0,null,0,0,null,null,null,0,0,0,0,0,null,null,0,0,{"$f":"IF((IF(restoZero(QQ1249,25),(spaziIntermedi(QQ1249,25))+1,spaziIntermedi(QQ1249,25)))=(spaziIntermedi(QR1249,25)),FALSE,TRUE)","v":true},0,{"$f":"+spaziIntermedi(QR1249,25)-QT1249","v":0},false,0,null,0,0,null,null,null,0,0,0,null,null,0,0,{"$f":"IF((IF(restoZero(RI1249,25),(spaziIntermedi(RI1249,25))+1,spaziIntermedi(RI1249,25)))=(spaziIntermedi(RJ1249,25)),FALSE,TRUE)","v":true},0,{"$f":"+spaziIntermedi(RJ1249,25)-RL1249","v":0},false,0,null,0,0,null,null,null,0,0,0,0,0,null,null,0,0,{"$f":"IF((IF(restoZero(SC1249,25),(spaziIntermedi(SC1249,25))+1,spaziIntermedi(SC1249,25)))=(spaziIntermedi(SD1249,25)),FALSE,TRUE)","v":true},0,{"$f":"+spaziIntermedi(SD1249,25)-SF1249","v":0},false,0,null,0,0,null,null,null,0,0,0,null,null,0,0,{"$f":"IF((IF(restoZero(SU1249,25),(spaziIntermedi(SU1249,25))+1,spaziIntermedi(SU1249,25)))=(spaziIntermedi(SV1249,25)),FALSE,TRUE)","v":true},0,{"$f":"+spaziIntermedi(SV1249,25)-SX1249","v":0},false,0,null,0,0,null,null,null,0,0,0,0,0]

{"sheet":"dBase","index":3,"n_rows":262,"n_cols":38,"rows_kept":262,"cut":false,"hidden":true,"merged":[]}
[{"$nulls":28},"Misura",null,"Max","Installa","rete Scelta","Schema","InterFix","InteMolle","InteStaple","Sovrapp"]
[null,{"$f":"+_xlfn.SEQUENCE(,16)","v":1},2,3,4,5,6,7,8,9,10,11,12,13,14,15,16,{"$nulls":11},{"$f":"IF(misLarg=\"\",\"\",misLarg)","v":""},{"$f":"IFERROR(LOOKUP(AC2,Y4:Y17),0)","v":0},{"$f":"MAX(Z4:Z17)","v":450},{"$f":"IF(ISBLANK(Home!Y4),\"\",Home!Y4)","v":""},{"$f":"IFERROR(_xlfn.XLOOKUP(AF2,_xlfn.ANCHORARRAY(AH4),_xlfn.ANCHORARRAY(AG4)),0)","v":0},{"$f":"IFERROR(+_xlfn.XLOOKUP(AF2,_xlfn.ANCHORARRAY(AH4),X4:X17),0)","v":0},{"$f":"IFERROR(_xlfn.XLOOKUP(AF2,_xlfn.ANCHORARRAY(AH4),AB4:AB17),0)","v":0},{"$f":"_xlfn.IFNA(_xlfn.XLOOKUP(AF2,_xlfn.ANCHORARRAY(AH4),AC4:AC17),0)","v":0},{"$f":"_xlfn.IFNA(_xlfn.XLOOKUP(AF2,_xlfn.ANCHORARRAY(AH4),AD4:AD17),0)","v":0},{"$f":"_xlfn.IFNA(IF(SupGen!G3=TRUE,_xlfn.XLOOKUP(reteElec,_xlfn._TRO_ALL(W4:W17),_xlfn._TRO_ALL(AE4:AE17)),1),0)","v":0}]
[null,"EstInt","Ambiente","Fix","Distanza Calpestio","Codice","LarghezzaRete","SchInst","TipoInst","MinLuc","MaxLuc","Accop","IntFixSing","SbordoRete","Interasse Molle","Sigla B","Sovrapp",{"$f":"+tipoInstSel","v":"INTERNAL INSTALLATION"},{"$f":"+tipoAmbSel","v":"CORROSIVE"},{"$f":"+instSupSel","v":"WITH SUPPORTS"},{"$f":"+distCalpSel","v":"0-50 cm"},{"$f":"+schemaSel","v":"A"},5,8,9,10,11,12,13,14,16,null,null,null,{"$f":"IF(AI4=AI5,1,COUNTA(AI4:AI5))","v":1}]
[null,{"$f":"+interno","v":"INTERNAL INSTALLATION"},{"$f":"+AmbNorm","v":"NORMAL"},{"$f":"+tipoSupporti","v":"WITH SUPPORTS"},"0-50 cm",{"$f":"+\"RONET\"&databaseCombo[[#This Row],[LarghezzaRete]]&\"0\"","v":"RONET1020"},102,{"$f":"+LEFT(databaseCombo[[#This Row],[TipoInst]],1)","v":"A"},"A",0,77,{"$f":"+sing","v":"SINGLE"},1,0.3,{"$f":"+NA()","v":{"$error":"#N/A"}},null,0.5,{"$f":"esterno","v":"EXTERNAL INSTALLATION"},{"$f":"_xlfn.UNIQUE(_xlfn._xlws.FILTER(_xlfn.CHOOSECOLS(databaseCombo[],2),databaseCombo[EstInt]=R3))","v":"NORMAL"},{"$f":"_xlfn.UNIQUE(_xlfn._xlws.FILTER(_xlfn.CHOOSECOLS(databaseCombo[],3),(databaseCombo[EstInt]=R3)*(databaseCombo[Ambiente]=S3)))","v":"WITH SUPPORTS"},{"$f":"_xlfn.UNIQUE(_xlfn._xlws.FILTER(_xlfn.CHOOSECOLS(databaseCombo[],4),(databaseCombo[EstInt]=R3)*(databaseCombo[Ambiente]=S3)*(databaseCombo[Fix]=T3)))","v":"0-50 cm"},{"$f":"_xlfn.UNIQUE(_xlfn._xlws.FILTER(_xlfn.CHOOSECOLS(databaseCombo[],7),(databaseCombo[EstInt]=R3)*(databaseCombo[Ambiente]=S3)*(databaseCombo[Fix]=T3)*(databaseCombo[Distanza Calpestio]=U3)))","v":"A"},{"$f":"_xlfn.UNIQUE(_xlfn._xlws.FILTER(_xlfn.CHOOSECOLS(databaseCombo[],5,8,9,10,11,12,13,14),(databaseCombo[EstInt]=R3)*(databaseCombo[Ambiente]=S3)*(databaseCombo[Fix]=T3)*(databaseCombo[Distanza Calpestio]=U3)*(databaseCombo[SchInst]=V3)))","v":"OVERNET1020B"},"A",0,77,"SINGLE",1,0.3,{"$error":"#N/A"},{"$f":"_xlfn._xlws.FILTER(_xlfn.CHOOSECOLS(databaseCombo[],16),(databaseCombo[EstInt]=R3)*(databaseCombo[Ambiente]=S3)*(databaseCombo[Fix]=T3)*(databaseCombo[Distanza Calpestio]=U3)*(databaseCombo[SchInst]=V3))","v":0.5},{"$f":"AND($AC$2>=Y4,$AC$2<=Z4)","v":false},{"$f":"+IF(AF4:AF17=TRUE,W4:W17,0)","v":0},{"$f":"+IF(AF4:AF17=TRUE,AA4:AA17,0)","v":0},{"$f":"IFERROR(_xlfn._xlws.FILTER(AH4:AH17, AH4:AH17<>0),\"\")","v":""},{"$f":"IFERROR(_xlfn.UNIQUE(_xlfn._xlws.FILTER(_xlfn.CHOOSECOLS(AG4:AH17,1),(_xlfn.ANCHORARRAY(AH4))=sdoppElec)),\"\")","v":""}]
[null,"INTERNAL INSTALLATION","NORMAL","WITH SUPPORTS","0-50 cm",{"$f":"+\"RONET\"&databaseCombo[[#This Row],[LarghezzaRete]]&\"0\"","v":"RONET1220"},122,{"$f":"+LEFT(databaseCombo[[#This Row],[TipoInst]],1)","v":"A"},"A",73,97,"SINGLE",0.9,0.3,{"$f":"+NA()","v":{"$error":"#N/A"}},null,0.5,{"$f":"+interno","v":"INTERNAL INSTALLATION"},"CORROSIVE",null,"50-120 cm","B","OVERNET1220B","A",73,97,"SINGLE",0.9,0.3,{"$error":"#N/A"},0.5,false,0,0]
[null,"INTERNAL INSTALLATION","NORMAL","WITH SUPPORTS","0-50 cm",{"$f":"+\"RONET\"&databaseCombo[[#This Row],[LarghezzaRete]]&\"0\"","v":"RONET1520"},152,{"$f":"+LEFT(databaseCombo[[#This Row],[TipoInst]],1)","v":"A"},"A",93,127,"SINGLE",0.7,0.3,{"$f":"+NA()","v":{"$error":"#N/A"}},null,0.5,{"$nulls":4},"C","OVERNET1520B","A",93,127,"SINGLE",0.7,0.3,{"$error":"#N/A"},0.5,false,0,0]
[null,"INTERNAL INSTALLATION","NORMAL","WITH SUPPORTS","0-50 cm",{"$f":"+\"RONET\"&databaseCombo[[#This Row],[LarghezzaRete]]&\"0\"","v":"RONET1830"},183,{"$f":"+LEFT(databaseCombo[[#This Row],[TipoInst]],1)","v":"A"},"A",123,158,"SINGLE",0.6,0.3,{"$f":"+NA()","v":{"$error":"#N/A"}},null,0.5,{"$nulls":4},"ConSupporti","OVERNET1830B","A",123,158,"SINGLE",0.6,0.3,{"$error":"#N/A"},0.5,false,0,0]
[null,"INTERNAL INSTALLATION","NORMAL","WITH SUPPORTS","0-50 cm",{"$f":"+\"RONET\"&databaseCombo[[#This Row],[LarghezzaRete]]&\"0\"","v":"RONET2030"},203,{"$f":"+LEFT(databaseCombo[[#This Row],[TipoInst]],1)","v":"A"},"A",153,178,"SINGLE",0.5,0.3,{"$f":"+NA()","v":{"$error":"#N/A"}},null,0.5,{"$nulls":4},{"$f":"+IF(OR(V3=\"D\",V3=\"E\"),FALSE,TRUE)","v":true},"OVERNET2030B","A",153,178,"SINGLE",0.5,0.3,{"$error":"#N/A"},0.5,false,0,0]
[null,"INTERNAL INSTALLATION","NORMAL","WITH SUPPORTS","0-50 cm",{"$f":"+\"RONET\"&databaseCombo[[#This Row],[LarghezzaRete]]&\"0\"","v":"RONET2230"},223,{"$f":"+LEFT(databaseCombo[[#This Row],[TipoInst]],1)","v":"A"},"A",173,198,"SINGLE",0.4,0.3,{"$f":"+NA()","v":{"$error":"#N/A"}},null,1,{"$nulls":5},"OVERNET2230B","A",173,198,"SINGLE",0.4,0.3,{"$error":"#N/A"},1,false,0,0,null,{"$f":"IF(COUNTA(_xlfn.ANCHORARRAY(AJ4))>1,TRUE,FALSE)","v":false}]
[null,"INTERNAL INSTALLATION","NORMAL","WITH SUPPORTS","0-50 cm",{"$f":"+\"RONET\"&databaseCombo[[#This Row],[LarghezzaRete]]&\"0\"","v":"RONET2530"},253,{"$f":"+LEFT(databaseCombo[[#This Row],[TipoInst]],1)","v":"A"},"A",193,228,"SINGLE",0.3,0.3,{"$f":"+NA()","v":{"$error":"#N/A"}},null,1,{"$nulls":4},"isGreche","OVERNET2440B","A",183,218,"SINGLE",0.3,0.3,{"$error":"#N/A"},1,false,0,0]
[null,"INTERNAL INSTALLATION","NORMAL","WITH SUPPORTS","50-120 cm",{"$f":"+\"RONET\"&databaseCombo[[#This Row],[LarghezzaRete]]&\"0\"","v":"RONET1020"},102,{"$f":"+LEFT(databaseCombo[[#This Row],[TipoInst]],1)","v":"A"},"A1",0,77,"SINGLE",0.254,1,{"$f":"+NA()","v":{"$error":"#N/A"}},null,1,{"$nulls":4},{"$f":"+IF(V3=\"E\",TRUE,FALSE)","v":false},"OVERNET1020B","A2",152,167,"DOUBLE",0.254,0.3,25.4,1,false,0,0]
[null,"INTERNAL INSTALLATION","NORMAL","WITH SUPPORTS","50-120 cm",{"$f":"+\"RONET\"&databaseCombo[[#This Row],[LarghezzaRete]]&\"0\"","v":"RONET1220"},122,{"$f":"+LEFT(databaseCombo[[#This Row],[TipoInst]],1)","v":"A"},"A1",73,97,"SINGLE",0.254,1,{"$f":"+NA()","v":{"$error":"#N/A"}},null,1,{"$nulls":5},"OVERNET1220B","A2",166.99,208,"DOUBLE",0.254,0.3,25.4,1,false,0,0]
[null,"INTERNAL INSTALLATION","NORMAL","WITH SUPPORTS","50-120 cm",{"$f":"+\"RONET\"&databaseCombo[[#This Row],[LarghezzaRete]]&\"0\"","v":"RONET1520"},152,{"$f":"+LEFT(databaseCombo[[#This Row],[TipoInst]],1)","v":"A"},"A1",93,123,"SINGLE",0.254,1,{"$f":"+NA()","v":{"$error":"#N/A"}},null,1,{"$nulls":5},"OVERNET1520B","A2",207.99,269,"DOUBLE",0.254,0.3,25.4,1,false,0,0]
[null,"INTERNAL INSTALLATION","NORMAL","WITH SUPPORTS","50-120 cm",{"$f":"+\"RONET\"&databaseCombo[[#This Row],[LarghezzaRete]]&\"0\"","v":"RONET1830"},183,{"$f":"+LEFT(databaseCombo[[#This Row],[TipoInst]],1)","v":"A"},"A1",119,158,"SINGLE",0.254,1,{"$f":"+NA()","v":{"$error":"#N/A"}},null,1,{"$nulls":5},"OVERNET1830B","A2",265.99,330,"DOUBLE",0.254,0.3,25.4,1,false,0,0]
[null,"INTERNAL INSTALLATION","NORMAL","WITH SUPPORTS","50-120 cm",{"$f":"+\"RONET\"&databaseCombo[[#This Row],[LarghezzaRete]]&\"0\"","v":"RONET2030"},203,{"$f":"+LEFT(databaseCombo[[#This Row],[TipoInst]],1)","v":"A"},"A1",153,178,"SINGLE",0.254,1,{"$f":"+NA()","v":{"$error":"#N/A"}},null,1,{"$nulls":5},"OVERNET2030B","A2",329.99,369,"DOUBLE",0.254,0.3,25.4,1,false,0,0]
[null,"INTERNAL INSTALLATION","NORMAL","WITH SUPPORTS","50-120 cm",{"$f":"+\"RONET\"&databaseCombo[[#This Row],[LarghezzaRete]]&\"0\"","v":"RONET2230"},223,{"$f":"+LEFT(databaseCombo[[#This Row],[TipoInst]],1)","v":"A"},"A1",173,198,"SINGLE",0.254,1,{"$f":"+NA()","v":{"$error":"#N/A"}},null,1,{"$nulls":5},"OVERNET2230B","A2",368.99,409,"DOUBLE",0.254,0.3,25.4,1,false,0,0]
[null,"INTERNAL INSTALLATION","NORMAL","WITH SUPPORTS","50-120 cm",{"$f":"+\"RONET\"&databaseCombo[[#This Row],[LarghezzaRete]]&\"0\"","v":"RONET2530"},253,{"$f":"+LEFT(databaseCombo[[#This Row],[TipoInst]],1)","v":"A"},"A1",193,228,"SINGLE",0.254,1,{"$f":"+NA()","v":{"$error":"#N/A"}},null,1,{"$nulls":5},"OVERNET2440B","A2",408.99,450,"DOUBLE",0.254,0.3,25.4,1,false,0,0]
[null,"INTERNAL INSTALLATION","NORMAL","WITH SUPPORTS","0-50 cm",{"$f":"+\"RONET\"&databaseCombo[[#This Row],[LarghezzaRete]]&\"0\"","v":"RONET1020"},102,{"$f":"+LEFT(databaseCombo[[#This Row],[TipoInst]],1)","v":"A"},"A2",152,167,{"$f":"+dopp","v":"DOUBLE"},0.254,0.3,25.4,null,0.5]
[null,"INTERNAL INSTALLATION","NORMAL","WITH SUPPORTS","0-50 cm",{"$f":"+\"RONET\"&databaseCombo[[#This Row],[LarghezzaRete]]&\"0\"","v":"RONET1220"},122,{"$f":"+LEFT(databaseCombo[[#This Row],[TipoInst]],1)","v":"A"},"A2",166.99,208,"DOUBLE",0.254,0.3,25.4,null,0.5]
[null,"INTERNAL INSTALLATION","NORMAL","WITH SUPPORTS","0-50 cm",{"$f":"+\"RONET\"&databaseCombo[[#This Row],[LarghezzaRete]]&\"0\"","v":"RONET1520"},152,{"$f":"+LEFT(databaseCombo[[#This Row],[TipoInst]],1)","v":"A"},"A2",207.99,269,"DOUBLE",0.254,0.3,25.4,null,0.5,{"$nulls":9},{"$f":"+ISBLANK(Z4)","v":false}]
[null,"INTERNAL INSTALLATION","NORMAL","WITH SUPPORTS","0-50 cm",{"$f":"+\"RONET\"&databaseCombo[[#This Row],[LarghezzaRete]]&\"0\"","v":"RONET1830"},183,{"$f":"+LEFT(databaseCombo[[#This Row],[TipoInst]],1)","v":"A"},"A2",265.99,330,"DOUBLE",0.254,0.3,25.4,null,0.5]
[null,"INTERNAL INSTALLATION","NORMAL","WITH SUPPORTS","0-50 cm",{"$f":"+\"RONET\"&databaseCombo[[#This Row],[LarghezzaRete]]&\"0\"","v":"RONET2030"},203,{"$f":"+LEFT(databaseCombo[[#This Row],[TipoInst]],1)","v":"A"},"A2",229.99,369,"DOUBLE",0.254,0.3,25.4,null,0.5]
[null,"INTERNAL INSTALLATION","NORMAL","WITH SUPPORTS","0-50 cm",{"$f":"+\"RONET\"&databaseCombo[[#This Row],[LarghezzaRete]]&\"0\"","v":"RONET2230"},223,{"$f":"+LEFT(databaseCombo[[#This Row],[TipoInst]],1)","v":"A"},"A2",368.99,409,"DOUBLE",0.254,0.3,25.4,null,1]
[null,"INTERNAL INSTALLATION","NORMAL","WITH SUPPORTS","0-50 cm",{"$f":"+\"RONET\"&databaseCombo[[#This Row],[LarghezzaRete]]&\"0\"","v":"RONET2530"},253,{"$f":"+LEFT(databaseCombo[[#This Row],[TipoInst]],1)","v":"A"},"A2",449.99,470,"DOUBLE",0.254,0.3,25.4,null,1]
[null,"INTERNAL INSTALLATION",{"$f":"+AmbCorr","v":"CORROSIVE"},"WITH SUPPORTS","0-50 cm",{"$f":"+\"OVERNET\"&databaseCombo[[#This Row],[LarghezzaRete]]&\"0\"&databaseCombo[[#This Row],[Sigla B]]","v":"OVERNET1020B"},102,{"$f":"+LEFT(databaseCombo[[#This Row],[TipoInst]],1)","v":"A"},"A",0,77,{"$f":"+sing","v":"SINGLE"},1,0.3,{"$f":"+NA()","v":{"$error":"#N/A"}},"B",0.5]
[null,"INTERNAL INSTALLATION","CORROSIVE","WITH SUPPORTS","0-50 cm",{"$f":"+\"OVERNET\"&databaseCombo[[#This Row],[LarghezzaRete]]&\"0\"&databaseCombo[[#This Row],[Sigla B]]","v":"OVERNET1220B"},122,{"$f":"+LEFT(databaseCombo[[#This Row],[TipoInst]],1)","v":"A"},"A",73,97,"SINGLE",0.9,0.3,{"$f":"+NA()","v":{"$error":"#N/A"}},"B",0.5]
[null,"INTERNAL INSTALLATION","CORROSIVE","WITH SUPPORTS","0-50 cm",{"$f":"+\"OVERNET\"&databaseCombo[[#This Row],[LarghezzaRete]]&\"0\"&databaseCombo[[#This Row],[Sigla B]]","v":"OVERNET1520B"},152,{"$f":"+LEFT(databaseCombo[[#This Row],[TipoInst]],1)","v":"A"},"A",93,127,"SINGLE",0.7,0.3,{"$f":"+NA()","v":{"$error":"#N/A"}},"B",0.5]
[null,"INTERNAL INSTALLATION","CORROSIVE","WITH SUPPORTS","0-50 cm",{"$f":"+\"OVERNET\"&databaseCombo[[#This Row],[LarghezzaRete]]&\"0\"&databaseCombo[[#This Row],[Sigla B]]","v":"OVERNET1830B"},183,{"$f":"+LEFT(databaseCombo[[#This Row],[TipoInst]],1)","v":"A"},"A",123,158,"SINGLE",0.6,0.3,{"$f":"+NA()","v":{"$error":"#N/A"}},"B",0.5]
[null,"INTERNAL INSTALLATION","CORROSIVE","WITH SUPPORTS","0-50 cm",{"$f":"+\"OVERNET\"&databaseCombo[[#This Row],[LarghezzaRete]]&\"0\"&databaseCombo[[#This Row],[Sigla B]]","v":"OVERNET2030B"},203,{"$f":"+LEFT(databaseCombo[[#This Row],[TipoInst]],1)","v":"A"},"A",153,178,"SINGLE",0.5,0.3,{"$f":"+NA()","v":{"$error":"#N/A"}},"B",0.5]
[null,"INTERNAL INSTALLATION","CORROSIVE","WITH SUPPORTS","0-50 cm",{"$f":"+\"OVERNET\"&databaseCombo[[#This Row],[LarghezzaRete]]&\"0\"&databaseCombo[[#This Row],[Sigla B]]","v":"OVERNET2230B"},223,{"$f":"+LEFT(databaseCombo[[#This Row],[TipoInst]],1)","v":"A"},"A",173,198,"SINGLE",0.4,0.3,{"$f":"+NA()","v":{"$error":"#N/A"}},"B",1]
[null,"INTERNAL INSTALLATION","CORROSIVE","WITH SUPPORTS","0-50 cm",{"$f":"+\"OVERNET\"&databaseCombo[[#This Row],[LarghezzaRete]]&\"0\"&databaseCombo[[#This Row],[Sigla B]]","v":"OVERNET2440B"},244,{"$f":"+LEFT(databaseCombo[[#This Row],[TipoInst]],1)","v":"A"},"A",183,218,"SINGLE",0.3,0.3,{"$f":"+NA()","v":{"$error":"#N/A"}},"B",1]
[null,"INTERNAL INSTALLATION","CORROSIVE","WITH SUPPORTS","50-120 cm",{"$f":"+\"OVERNET\"&databaseCombo[[#This Row],[LarghezzaRete]]&\"0\"&databaseCombo[[#This Row],[Sigla B]]","v":"OVERNET1020B"},102,{"$f":"+LEFT(databaseCombo[[#This Row],[TipoInst]],1)","v":"A"},"A1",0,77,"SINGLE",0.254,1,{"$f":"+NA()","v":{"$error":"#N/A"}},"B",1]
[null,"INTERNAL INSTALLATION","CORROSIVE","WITH SUPPORTS","50-120 cm",{"$f":"+\"OVERNET\"&databaseCombo[[#This Row],[LarghezzaRete]]&\"0\"&databaseCombo[[#This Row],[Sigla B]]","v":"OVERNET1220B"},122,{"$f":"+LEFT(databaseCombo[[#This Row],[TipoInst]],1)","v":"A"},"A1",73,97,"SINGLE",0.254,1,{"$f":"+NA()","v":{"$error":"#N/A"}},"B",1]
[null,"INTERNAL INSTALLATION","CORROSIVE","WITH SUPPORTS","50-120 cm",{"$f":"+\"OVERNET\"&databaseCombo[[#This Row],[LarghezzaRete]]&\"0\"&databaseCombo[[#This Row],[Sigla B]]","v":"OVERNET1520B"},152,{"$f":"+LEFT(databaseCombo[[#This Row],[TipoInst]],1)","v":"A"},"A1",93,123,"SINGLE",0.254,1,{"$f":"+NA()","v":{"$error":"#N/A"}},"B",1]
[null,"INTERNAL INSTALLATION","CORROSIVE","WITH SUPPORTS","50-120 cm",{"$f":"+\"OVERNET\"&databaseCombo[[#This Row],[LarghezzaRete]]&\"0\"&databaseCombo[[#This Row],[Sigla B]]","v":"OVERNET1830B"},183,{"$f":"+LEFT(databaseCombo[[#This Row],[TipoInst]],1)","v":"A"},"A1",119,158,"SINGLE",0.254,1,{"$f":"+NA()","v":{"$error":"#N/A"}},"B",1]
[null,{"$f":"+interno","v":"INTERNAL INSTALLATION"},"CORROSIVE",{"$f":"+tipoSupporti","v":"WITH SUPPORTS"},"50-120 cm",{"$f":"+\"OVERNET\"&databaseCombo[[#This Row],[LarghezzaRete]]&\"0\"&databaseCombo[[#This Row],[Sigla B]]","v":"OVERNET2030B"},203,{"$f":"+LEFT(databaseCombo[[#This Row],[TipoInst]],1)","v":"A"},"A1",153,178,"SINGLE",0.254,1,{"$f":"+NA()","v":{"$error":"#N/A"}},"B",1]
[null,"INTERNAL INSTALLATION","CORROSIVE","WITH SUPPORTS","50-120 cm",{"$f":"+\"OVERNET\"&databaseCombo[[#This Row],[LarghezzaRete]]&\"0\"&databaseCombo[[#This Row],[Sigla B]]","v":"OVERNET2230B"},223,{"$f":"+LEFT(databaseCombo[[#This Row],[TipoInst]],1)","v":"A"},"A1",173,198,"SINGLE",0.254,1,{"$f":"+NA()","v":{"$error":"#N/A"}},"B",1]
[null,"INTERNAL INSTALLATION","CORROSIVE","WITH SUPPORTS","50-120 cm",{"$f":"+\"OVERNET\"&databaseCombo[[#This Row],[LarghezzaRete]]&\"0\"&databaseCombo[[#This Row],[Sigla B]]","v":"OVERNET2440B"},244,{"$f":"+LEFT(databaseCombo[[#This Row],[TipoInst]],1)","v":"A"},"A1",193,218,"SINGLE",0.254,1,{"$f":"+NA()","v":{"$error":"#N/A"}},"B",1]
[null,"INTERNAL INSTALLATION","CORROSIVE","WITH SUPPORTS","0-50 cm",{"$f":"+\"OVERNET\"&databaseCombo[[#This Row],[LarghezzaRete]]&\"0\"&databaseCombo[[#This Row],[Sigla B]]","v":"OVERNET1020B"},102,{"$f":"+LEFT(databaseCombo[[#This Row],[TipoInst]],1)","v":"A"},"A2",152,167,{"$f":"+dopp","v":"DOUBLE"},0.254,0.3,25.4,"B",1]
[null,"INTERNAL INSTALLATION","CORROSIVE","WITH SUPPORTS","0-50 cm",{"$f":"+\"OVERNET\"&databaseCombo[[#This Row],[LarghezzaRete]]&\"0\"&databaseCombo[[#This Row],[Sigla B]]","v":"OVERNET1220B"},122,{"$f":"+LEFT(databaseCombo[[#This Row],[TipoInst]],1)","v":"A"},"A2",166.99,208,"DOUBLE",0.254,0.3,25.4,"B",1]
[null,"INTERNAL INSTALLATION","CORROSIVE","WITH SUPPORTS","0-50 cm",{"$f":"+\"OVERNET\"&databaseCombo[[#This Row],[LarghezzaRete]]&\"0\"&databaseCombo[[#This Row],[Sigla B]]","v":"OVERNET1520B"},152,{"$f":"+LEFT(databaseCombo[[#This Row],[TipoInst]],1)","v":"A"},"A2",207.99,269,"DOUBLE",0.254,0.3,25.4,"B",1]
[null,"INTERNAL INSTALLATION","CORROSIVE","WITH SUPPORTS","0-50 cm",{"$f":"+\"OVERNET\"&databaseCombo[[#This Row],[LarghezzaRete]]&\"0\"&databaseCombo[[#This Row],[Sigla B]]","v":"OVERNET1830B"},183,{"$f":"+LEFT(databaseCombo[[#This Row],[TipoInst]],1)","v":"A"},"A2",265.99,330,"DOUBLE",0.254,0.3,25.4,"B",1]
[null,"INTERNAL INSTALLATION","CORROSIVE","WITH SUPPORTS","0-50 cm",{"$f":"+\"OVERNET\"&databaseCombo[[#This Row],[LarghezzaRete]]&\"0\"&databaseCombo[[#This Row],[Sigla B]]","v":"OVERNET2030B"},203,{"$f":"+LEFT(databaseCombo[[#This Row],[TipoInst]],1)","v":"A"},"A2",329.99,369,"DOUBLE",0.254,0.3,25.4,"B",1]
[null,"INTERNAL INSTALLATION","CORROSIVE","WITH SUPPORTS","0-50 cm",{"$f":"+\"OVERNET\"&databaseCombo[[#This Row],[LarghezzaRete]]&\"0\"&databaseCombo[[#This Row],[Sigla B]]","v":"OVERNET2230B"},223,{"$f":"+LEFT(databaseCombo[[#This Row],[TipoInst]],1)","v":"A"},"A2",368.99,409,"DOUBLE",0.254,0.3,25.4,"B",1]
[null,"INTERNAL INSTALLATION","CORROSIVE","WITH SUPPORTS","0-50 cm",{"$f":"+\"OVERNET\"&databaseCombo[[#This Row],[LarghezzaRete]]&\"0\"&databaseCombo[[#This Row],[Sigla B]]","v":"OVERNET2440B"},244,{"$f":"+LEFT(databaseCombo[[#This Row],[TipoInst]],1)","v":"A"},"A2",408.99,450,"DOUBLE",0.254,0.3,25.4,"B",1]
[null,"INTERNAL INSTALLATION","CORROSIVE","WITH SUPPORTS","50-120 cm",{"$f":"+\"OVERNET\"&databaseCombo[[#This Row],[LarghezzaRete]]&\"0\"&databaseCombo[[#This Row],[Sigla B]]","v":"OVERNET1020B"},102,{"$f":"+LEFT(databaseCombo[[#This Row],[TipoInst]],1)","v":"A"},"A2",152,167,"DOUBLE",0.254,0.3,25.4,"B",1]
[null,"INTERNAL INSTALLATION","CORROSIVE","WITH SUPPORTS","50-120 cm",{"$f":"+\"OVERNET\"&databaseCombo[[#This Row],[LarghezzaRete]]&\"0\"&databaseCombo[[#This Row],[Sigla B]]","v":"OVERNET1220B"},122,{"$f":"+LEFT(databaseCombo[[#This Row],[TipoInst]],1)","v":"A"},"A2",166.99,208,"DOUBLE",0.254,0.3,25.4,"B",1]
[null,"INTERNAL INSTALLATION","CORROSIVE","WITH SUPPORTS","50-120 cm",{"$f":"+\"OVERNET\"&databaseCombo[[#This Row],[LarghezzaRete]]&\"0\"&databaseCombo[[#This Row],[Sigla B]]","v":"OVERNET1520B"},152,{"$f":"+LEFT(databaseCombo[[#This Row],[TipoInst]],1)","v":"A"},"A2",207.99,269,"DOUBLE",0.254,0.3,25.4,"B",1]
[null,"INTERNAL INSTALLATION","CORROSIVE","WITH SUPPORTS","50-120 cm",{"$f":"+\"OVERNET\"&databaseCombo[[#This Row],[LarghezzaRete]]&\"0\"&databaseCombo[[#This Row],[Sigla B]]","v":"OVERNET1830B"},183,{"$f":"+LEFT(databaseCombo[[#This Row],[TipoInst]],1)","v":"A"},"A2",265.99,330,"DOUBLE",0.254,0.3,25.4,"B",1]
[null,"INTERNAL INSTALLATION","CORROSIVE","WITH SUPPORTS","50-120 cm",{"$f":"+\"OVERNET\"&databaseCombo[[#This Row],[LarghezzaRete]]&\"0\"&databaseCombo[[#This Row],[Sigla B]]","v":"OVERNET2030B"},203,{"$f":"+LEFT(databaseCombo[[#This Row],[TipoInst]],1)","v":"A"},"A2",329.99,369,"DOUBLE",0.254,0.3,25.4,"B",1]
[null,"INTERNAL INSTALLATION","CORROSIVE","WITH SUPPORTS","50-120 cm",{"$f":"+\"OVERNET\"&databaseCombo[[#This Row],[LarghezzaRete]]&\"0\"&databaseCombo[[#This Row],[Sigla B]]","v":"OVERNET2230B"},223,{"$f":"+LEFT(databaseCombo[[#This Row],[TipoInst]],1)","v":"A"},"A2",368.99,409,"DOUBLE",0.254,0.3,25.4,"B",1]
[null,"INTERNAL INSTALLATION","CORROSIVE","WITH SUPPORTS","50-120 cm",{"$f":"+\"OVERNET\"&databaseCombo[[#This Row],[LarghezzaRete]]&\"0\"&databaseCombo[[#This Row],[Sigla B]]","v":"OVERNET2440B"},244,{"$f":"+LEFT(databaseCombo[[#This Row],[TipoInst]],1)","v":"A"},"A2",408.99,450,"DOUBLE",0.254,0.3,25.4,"B",1]
[null,"INTERNAL INSTALLATION",{"$f":"+AmbNorm","v":"NORMAL"},"WITH SUPPORTS","50-120 cm",{"$f":"+\"RONET\"&databaseCombo[[#This Row],[LarghezzaRete]]&\"0\"","v":"RONET1020"},102,{"$f":"+LEFT(databaseCombo[[#This Row],[TipoInst]],1)","v":"A"},"A2",152,167,"DOUBLE",0.254,0.3,25.4,null,1]
[null,"INTERNAL INSTALLATION","NORMAL","WITH SUPPORTS","50-120 cm",{"$f":"+\"RONET\"&databaseCombo[[#This Row],[LarghezzaRete]]&\"0\"","v":"RONET1220"},122,{"$f":"+LEFT(databaseCombo[[#This Row],[TipoInst]],1)","v":"A"},"A2",166.99,208,"DOUBLE",0.254,0.3,25.4,null,1]
[null,"INTERNAL INSTALLATION","NORMAL","WITH SUPPORTS","50-120 cm",{"$f":"+\"RONET\"&databaseCombo[[#This Row],[LarghezzaRete]]&\"0\"","v":"RONET1520"},152,{"$f":"+LEFT(databaseCombo[[#This Row],[TipoInst]],1)","v":"A"},"A2",207.99,269,"DOUBLE",0.254,0.3,25.4,null,1]
[null,"INTERNAL INSTALLATION","NORMAL","WITH SUPPORTS","50-120 cm",{"$f":"+\"RONET\"&databaseCombo[[#This Row],[LarghezzaRete]]&\"0\"","v":"RONET1830"},183,{"$f":"+LEFT(databaseCombo[[#This Row],[TipoInst]],1)","v":"A"},"A2",265.99,330,"DOUBLE",0.254,0.3,25.4,null,1]
[null,"INTERNAL INSTALLATION","NORMAL","WITH SUPPORTS","50-120 cm",{"$f":"+\"RONET\"&databaseCombo[[#This Row],[LarghezzaRete]]&\"0\"","v":"RONET2030"},203,{"$f":"+LEFT(databaseCombo[[#This Row],[TipoInst]],1)","v":"A"},"A2",229.99,369,"DOUBLE",0.254,0.3,25.4,null,1]
[null,"INTERNAL INSTALLATION","NORMAL","WITH SUPPORTS","50-120 cm",{"$f":"+\"RONET\"&databaseCombo[[#This Row],[LarghezzaRete]]&\"0\"","v":"RONET2230"},223,{"$f":"+LEFT(databaseCombo[[#This Row],[TipoInst]],1)","v":"A"},"A2",368.99,409,"DOUBLE",0.254,0.3,25.4,null,1]
[null,"INTERNAL INSTALLATION","NORMAL","WITH SUPPORTS","50-120 cm",{"$f":"+\"RONET\"&databaseCombo[[#This Row],[LarghezzaRete]]&\"0\"","v":"RONET2530"},253,{"$f":"+LEFT(databaseCombo[[#This Row],[TipoInst]],1)","v":"A"},"A2",449.99,470,"DOUBLE",0.254,0.3,25.4,null,1]
[null,"INTERNAL INSTALLATION","NORMAL","WITH SUPPORTS","0-50 cm",{"$f":"+\"RONET\"&databaseCombo[[#This Row],[LarghezzaRete]]&\"0\"","v":"RONET1020"},102,{"$f":"+LEFT(databaseCombo[[#This Row],[TipoInst]],1)","v":"B"},"B",0,84,{"$f":"+sing","v":"SINGLE"},1,0.3,{"$f":"+NA()","v":{"$error":"#N/A"}},null,0.5]
[null,"INTERNAL INSTALLATION","NORMAL","WITH SUPPORTS","0-50 cm",{"$f":"+\"RONET\"&databaseCombo[[#This Row],[LarghezzaRete]]&\"0\"","v":"RONET1220"},122,{"$f":"+LEFT(databaseCombo[[#This Row],[TipoInst]],1)","v":"B"},"B",82,104,"SINGLE",0.9,0.3,{"$f":"+NA()","v":{"$error":"#N/A"}},null,0.5]
[null,"INTERNAL INSTALLATION","NORMAL","WITH SUPPORTS","0-50 cm",{"$f":"+\"RONET\"&databaseCombo[[#This Row],[LarghezzaRete]]&\"0\"","v":"RONET1520"},152,{"$f":"+LEFT(databaseCombo[[#This Row],[TipoInst]],1)","v":"B"},"B",102,134,"SINGLE",0.7,0.3,{"$f":"+NA()","v":{"$error":"#N/A"}},null,0.5]
[null,"INTERNAL INSTALLATION","NORMAL","WITH SUPPORTS","0-50 cm",{"$f":"+\"RONET\"&databaseCombo[[#This Row],[LarghezzaRete]]&\"0\"","v":"RONET1830"},183,{"$f":"+LEFT(databaseCombo[[#This Row],[TipoInst]],1)","v":"B"},"B",132,165,"SINGLE",0.6,0.3,{"$f":"+NA()","v":{"$error":"#N/A"}},null,0.5]
[null,"INTERNAL INSTALLATION","NORMAL","WITH SUPPORTS","0-50 cm",{"$f":"+\"RONET\"&databaseCombo[[#This Row],[LarghezzaRete]]&\"0\"","v":"RONET2030"},203,{"$f":"+LEFT(databaseCombo[[#This Row],[TipoInst]],1)","v":"B"},"B",163,185,"SINGLE",0.5,0.3,{"$f":"+NA()","v":{"$error":"#N/A"}},null,0.5]
[null,"INTERNAL INSTALLATION","NORMAL","WITH SUPPORTS","0-50 cm",{"$f":"+\"RONET\"&databaseCombo[[#This Row],[LarghezzaRete]]&\"0\"","v":"RONET2230"},223,{"$f":"+LEFT(databaseCombo[[#This Row],[TipoInst]],1)","v":"B"},"B",183,205,"SINGLE",0.4,0.3,{"$f":"+NA()","v":{"$error":"#N/A"}},null,1]
[null,"INTERNAL INSTALLATION","NORMAL","WITH SUPPORTS","0-50 cm",{"$f":"+\"RONET\"&databaseCombo[[#This Row],[LarghezzaRete]]&\"0\"","v":"RONET2530"},253,{"$f":"+LEFT(databaseCombo[[#This Row],[TipoInst]],1)","v":"B"},"B",203,235,"SINGLE",0.3,0.3,{"$f":"+NA()","v":{"$error":"#N/A"}},null,1]
[null,"INTERNAL INSTALLATION","NORMAL","WITH SUPPORTS","50-120 cm",{"$f":"+\"RONET\"&databaseCombo[[#This Row],[LarghezzaRete]]&\"0\"","v":"RONET1020"},102,{"$f":"+LEFT(databaseCombo[[#This Row],[TipoInst]],1)","v":"B"},"B1",0,84,"SINGLE",0.254,1,{"$f":"+NA()","v":{"$error":"#N/A"}},null,1]
[null,{"$f":"+interno","v":"INTERNAL INSTALLATION"},"NORMAL",{"$f":"+tipoSupporti","v":"WITH SUPPORTS"},"50-120 cm",{"$f":"+\"RONET\"&databaseCombo[[#This Row],[LarghezzaRete]]&\"0\"","v":"RONET1220"},122,{"$f":"+LEFT(databaseCombo[[#This Row],[TipoInst]],1)","v":"B"},"B1",82,104,"SINGLE",0.254,1,{"$f":"+NA()","v":{"$error":"#N/A"}},null,1]
[null,"INTERNAL INSTALLATION","NORMAL","WITH SUPPORTS","50-120 cm",{"$f":"+\"RONET\"&databaseCombo[[#This Row],[LarghezzaRete]]&\"0\"","v":"RONET1520"},152,{"$f":"+LEFT(databaseCombo[[#This Row],[TipoInst]],1)","v":"B"},"B1",102,134,"SINGLE",0.254,1,{"$f":"+NA()","v":{"$error":"#N/A"}},null,1]
[null,"INTERNAL INSTALLATION","NORMAL","WITH SUPPORTS","50-120 cm",{"$f":"+\"RONET\"&databaseCombo[[#This Row],[LarghezzaRete]]&\"0\"","v":"RONET1830"},183,{"$f":"+LEFT(databaseCombo[[#This Row],[TipoInst]],1)","v":"B"},"B1",132,165,"SINGLE",0.254,1,{"$f":"+NA()","v":{"$error":"#N/A"}},null,1]
[null,"INTERNAL INSTALLATION","NORMAL","WITH SUPPORTS","50-120 cm",{"$f":"+\"RONET\"&databaseCombo[[#This Row],[LarghezzaRete]]&\"0\"","v":"RONET2030"},203,{"$f":"+LEFT(databaseCombo[[#This Row],[TipoInst]],1)","v":"B"},"B1",163,185,"SINGLE",0.254,1,{"$f":"+NA()","v":{"$error":"#N/A"}},null,1]
[null,"INTERNAL INSTALLATION","NORMAL","WITH SUPPORTS","50-120 cm",{"$f":"+\"RONET\"&databaseCombo[[#This Row],[LarghezzaRete]]&\"0\"","v":"RONET2230"},223,{"$f":"+LEFT(databaseCombo[[#This Row],[TipoInst]],1)","v":"B"},"B1",183,205,"SINGLE",0.254,1,{"$f":"+NA()","v":{"$error":"#N/A"}},null,1]
[null,"INTERNAL INSTALLATION","NORMAL","WITH SUPPORTS","50-120 cm",{"$f":"+\"RONET\"&databaseCombo[[#This Row],[LarghezzaRete]]&\"0\"","v":"RONET2530"},253,{"$f":"+LEFT(databaseCombo[[#This Row],[TipoInst]],1)","v":"B"},"B1",203,235,"SINGLE",0.254,1,{"$f":"+NA()","v":{"$error":"#N/A"}},null,1]
[null,"INTERNAL INSTALLATION","NORMAL","WITH SUPPORTS","0-50 cm",{"$f":"+\"RONET\"&databaseCombo[[#This Row],[LarghezzaRete]]&\"0\"","v":"RONET1020"},102,{"$f":"+LEFT(databaseCombo[[#This Row],[TipoInst]],1)","v":"B"},"B2",157,172,"DOPPIA",0.254,0.3,25.4,null,0.5]
[null,"INTERNAL INSTALLATION","NORMAL","WITH SUPPORTS","0-50 cm",{"$f":"+\"RONET\"&databaseCombo[[#This Row],[LarghezzaRete]]&\"0\"","v":"RONET1220"},122,{"$f":"+LEFT(databaseCombo[[#This Row],[TipoInst]],1)","v":"B"},"B2",171.99,212,"DOPPIA",0.254,0.3,25.4,null,0.5]
[null,"INTERNAL INSTALLATION","NORMAL","WITH SUPPORTS","0-50 cm",{"$f":"+\"RONET\"&databaseCombo[[#This Row],[LarghezzaRete]]&\"0\"","v":"RONET1520"},152,{"$f":"+LEFT(databaseCombo[[#This Row],[TipoInst]],1)","v":"B"},"B2",211.99,272,"DOPPIA",0.254,0.3,25.4,null,0.5]
[null,"INTERNAL INSTALLATION","NORMAL","WITH SUPPORTS","0-50 cm",{"$f":"+\"RONET\"&databaseCombo[[#This Row],[LarghezzaRete]]&\"0\"","v":"RONET1830"},183,{"$f":"+LEFT(databaseCombo[[#This Row],[TipoInst]],1)","v":"B"},"B2",271.99,334,"DOPPIA",0.254,0.3,25.4,null,0.5]
[null,"INTERNAL INSTALLATION","NORMAL","WITH SUPPORTS","0-50 cm",{"$f":"+\"RONET\"&databaseCombo[[#This Row],[LarghezzaRete]]&\"0\"","v":"RONET2030"},203,{"$f":"+LEFT(databaseCombo[[#This Row],[TipoInst]],1)","v":"B"},"B2",333.99,374,"DOPPIA",0.254,0.3,25.4,null,0.5]
[null,"INTERNAL INSTALLATION","NORMAL","WITH SUPPORTS","0-50 cm",{"$f":"+\"RONET\"&databaseCombo[[#This Row],[LarghezzaRete]]&\"0\"","v":"RONET2230"},223,{"$f":"+LEFT(databaseCombo[[#This Row],[TipoInst]],1)","v":"B"},"B2",373.99,414,"DOPPIA",0.254,0.3,25.4,null,1]
[null,"INTERNAL INSTALLATION","NORMAL","WITH SUPPORTS","0-50 cm",{"$f":"+\"RONET\"&databaseCombo[[#This Row],[LarghezzaRete]]&\"0\"","v":"RONET2530"},253,{"$f":"+LEFT(databaseCombo[[#This Row],[TipoInst]],1)","v":"B"},"B2",413.99,474,{"$f":"+dopp","v":"DOUBLE"},0.254,0.3,25.4,null,1]
[null,"INTERNAL INSTALLATION",{"$f":"+AmbCorr","v":"CORROSIVE"},"WITH SUPPORTS","0-50 cm",{"$f":"+\"OVERNET\"&databaseCombo[[#This Row],[LarghezzaRete]]&\"0\"&databaseCombo[[#This Row],[Sigla B]]","v":"OVERNET1020B"},102,{"$f":"+LEFT(databaseCombo[[#This Row],[TipoInst]],1)","v":"B"},"B",0,84,{"$f":"+sing","v":"SINGLE"},1,0.3,{"$f":"+NA()","v":{"$error":"#N/A"}},"B",0.5]
[null,"INTERNAL INSTALLATION","CORROSIVE","WITH SUPPORTS","0-50 cm",{"$f":"+\"OVERNET\"&databaseCombo[[#This Row],[LarghezzaRete]]&\"0\"&databaseCombo[[#This Row],[Sigla B]]","v":"OVERNET1220B"},122,{"$f":"+LEFT(databaseCombo[[#This Row],[TipoInst]],1)","v":"B"},"B",82,104,"SINGLE",0.9,0.3,{"$f":"+NA()","v":{"$error":"#N/A"}},"B",0.5]
[null,"INTERNAL INSTALLATION","CORROSIVE","WITH SUPPORTS","0-50 cm",{"$f":"+\"OVERNET\"&databaseCombo[[#This Row],[LarghezzaRete]]&\"0\"&databaseCombo[[#This Row],[Sigla B]]","v":"OVERNET1520B"},152,{"$f":"+LEFT(databaseCombo[[#This Row],[TipoInst]],1)","v":"B"},"B",102,134,"SINGLE",0.7,0.3,{"$f":"+NA()","v":{"$error":"#N/A"}},"B",0.5]
[null,"INTERNAL INSTALLATION","CORROSIVE","WITH SUPPORTS","0-50 cm",{"$f":"+\"OVERNET\"&databaseCombo[[#This Row],[LarghezzaRete]]&\"0\"&databaseCombo[[#This Row],[Sigla B]]","v":"OVERNET1830B"},183,{"$f":"+LEFT(databaseCombo[[#This Row],[TipoInst]],1)","v":"B"},"B",132,165,"SINGLE",0.6,0.3,{"$f":"+NA()","v":{"$error":"#N/A"}},"B",0.5]
[null,"INTERNAL INSTALLATION","CORROSIVE","WITH SUPPORTS","0-50 cm",{"$f":"+\"OVERNET\"&databaseCombo[[#This Row],[LarghezzaRete]]&\"0\"&databaseCombo[[#This Row],[Sigla B]]","v":"OVERNET2030B"},203,{"$f":"+LEFT(databaseCombo[[#This Row],[TipoInst]],1)","v":"B"},"B",163,185,"SINGLE",0.5,0.3,{"$f":"+NA()","v":{"$error":"#N/A"}},"B",0.5]
[null,"INTERNAL INSTALLATION","CORROSIVE","WITH SUPPORTS","0-50 cm",{"$f":"+\"OVERNET\"&databaseCombo[[#This Row],[LarghezzaRete]]&\"0\"&databaseCombo[[#This Row],[Sigla B]]","v":"OVERNET2230B"},223,{"$f":"+LEFT(databaseCombo[[#This Row],[TipoInst]],1)","v":"B"},"B",183,205,"SINGLE",0.4,0.3,{"$f":"+NA()","v":{"$error":"#N/A"}},"B",1]
[null,"INTERNAL INSTALLATION","CORROSIVE","WITH SUPPORTS","0-50 cm",{"$f":"+\"OVERNET\"&databaseCombo[[#This Row],[LarghezzaRete]]&\"0\"&databaseCombo[[#This Row],[Sigla B]]","v":"OVERNET2440B"},244,{"$f":"+LEFT(databaseCombo[[#This Row],[TipoInst]],1)","v":"B"},"B",193,225,"SINGLE",0.3,0.3,{"$f":"+NA()","v":{"$error":"#N/A"}},"B",1]
[null,"INTERNAL INSTALLATION","CORROSIVE","WITH SUPPORTS","50-120 cm",{"$f":"+\"OVERNET\"&databaseCombo[[#This Row],[LarghezzaRete]]&\"0\"&databaseCombo[[#This Row],[Sigla B]]","v":"OVERNET1020B"},102,{"$f":"+LEFT(databaseCombo[[#This Row],[TipoInst]],1)","v":"B"},"B1",0,84,"SINGLE",0.254,1,{"$f":"+NA()","v":{"$error":"#N/A"}},"B",1]
[null,"INTERNAL INSTALLATION","CORROSIVE","WITH SUPPORTS","50-120 cm",{"$f":"+\"OVERNET\"&databaseCombo[[#This Row],[LarghezzaRete]]&\"0\"&databaseCombo[[#This Row],[Sigla B]]","v":"OVERNET1220B"},122,{"$f":"+LEFT(databaseCombo[[#This Row],[TipoInst]],1)","v":"B"},"B1",82,104,"SINGLE",0.254,1,{"$f":"+NA()","v":{"$error":"#N/A"}},"B",1]
[null,"INTERNAL INSTALLATION","CORROSIVE","WITH SUPPORTS","50-120 cm",{"$f":"+\"OVERNET\"&databaseCombo[[#This Row],[LarghezzaRete]]&\"0\"&databaseCombo[[#This Row],[Sigla B]]","v":"OVERNET1520B"},152,{"$f":"+LEFT(databaseCombo[[#This Row],[TipoInst]],1)","v":"B"},"B1",102,134,"SINGLE",0.254,1,{"$f":"+NA()","v":{"$error":"#N/A"}},"B",1]
[null,"INTERNAL INSTALLATION","CORROSIVE","WITH SUPPORTS","50-120 cm",{"$f":"+\"OVERNET\"&databaseCombo[[#This Row],[LarghezzaRete]]&\"0\"&databaseCombo[[#This Row],[Sigla B]]","v":"OVERNET1830B"},183,{"$f":"+LEFT(databaseCombo[[#This Row],[TipoInst]],1)","v":"B"},"B1",132,165,"SINGLE",0.254,1,{"$f":"+NA()","v":{"$error":"#N/A"}},"B",1]
[null,"INTERNAL INSTALLATION","CORROSIVE","WITH SUPPORTS","50-120 cm",{"$f":"+\"OVERNET\"&databaseCombo[[#This Row],[LarghezzaRete]]&\"0\"&databaseCombo[[#This Row],[Sigla B]]","v":"OVERNET2030B"},203,{"$f":"+LEFT(databaseCombo[[#This Row],[TipoInst]],1)","v":"B"},"B1",163,185,"SINGLE",0.254,1,{"$f":"+NA()","v":{"$error":"#N/A"}},"B",1]
[null,"INTERNAL INSTALLATION","CORROSIVE","WITH SUPPORTS","50-120 cm",{"$f":"+\"OVERNET\"&databaseCombo[[#This Row],[LarghezzaRete]]&\"0\"&databaseCombo[[#This Row],[Sigla B]]","v":"OVERNET2230B"},223,{"$f":"+LEFT(databaseCombo[[#This Row],[TipoInst]],1)","v":"B"},"B1",183,205,"SINGLE",0.254,1,{"$f":"+NA()","v":{"$error":"#N/A"}},"B",1]
[null,"INTERNAL INSTALLATION","CORROSIVE","WITH SUPPORTS","50-120 cm",{"$f":"+\"OVERNET\"&databaseCombo[[#This Row],[LarghezzaRete]]&\"0\"&databaseCombo[[#This Row],[Sigla B]]","v":"OVERNET2440B"},244,{"$f":"+LEFT(databaseCombo[[#This Row],[TipoInst]],1)","v":"B"},"B1",203,225,"SINGLE",0.254,1,{"$f":"+NA()","v":{"$error":"#N/A"}},"B",1]
[null,"INTERNAL INSTALLATION","CORROSIVE","WITH SUPPORTS","0-50 cm",{"$f":"+\"OVERNET\"&databaseCombo[[#This Row],[LarghezzaRete]]&\"0\"&databaseCombo[[#This Row],[Sigla B]]","v":"OVERNET1020B"},102,{"$f":"+LEFT(databaseCombo[[#This Row],[TipoInst]],1)","v":"B"},"B2",157,172,{"$f":"+dopp","v":"DOUBLE"},0.254,0.3,25.4,"B",1]
[null,"INTERNAL INSTALLATION","CORROSIVE","WITH SUPPORTS","0-50 cm",{"$f":"+\"OVERNET\"&databaseCombo[[#This Row],[LarghezzaRete]]&\"0\"&databaseCombo[[#This Row],[Sigla B]]","v":"OVERNET1220B"},122,{"$f":"+LEFT(databaseCombo[[#This Row],[TipoInst]],1)","v":"B"},"B2",171.99,212,"DOUBLE",0.254,0.3,25.4,"B",1]
[null,"INTERNAL INSTALLATION","CORROSIVE","WITH SUPPORTS","0-50 cm",{"$f":"+\"OVERNET\"&databaseCombo[[#This Row],[LarghezzaRete]]&\"0\"&databaseCombo[[#This Row],[Sigla B]]","v":"OVERNET1520B"},152,{"$f":"+LEFT(databaseCombo[[#This Row],[TipoInst]],1)","v":"B"},"B2",211.99,272,"DOUBLE",0.254,0.3,25.4,"B",1]
[null,"INTERNAL INSTALLATION","CORROSIVE","WITH SUPPORTS","0-50 cm",{"$f":"+\"OVERNET\"&databaseCombo[[#This Row],[LarghezzaRete]]&\"0\"&databaseCombo[[#This Row],[Sigla B]]","v":"OVERNET1830B"},183,{"$f":"+LEFT(databaseCombo[[#This Row],[TipoInst]],1)","v":"B"},"B2",271.99,334,"DOUBLE",0.254,0.3,25.4,"B",1]
[null,"INTERNAL INSTALLATION","CORROSIVE","WITH SUPPORTS","0-50 cm",{"$f":"+\"OVERNET\"&databaseCombo[[#This Row],[LarghezzaRete]]&\"0\"&databaseCombo[[#This Row],[Sigla B]]","v":"OVERNET2030B"},203,{"$f":"+LEFT(databaseCombo[[#This Row],[TipoInst]],1)","v":"B"},"B2",333.99,374,"DOUBLE",0.254,0.3,25.4,"B",1]
[null,{"$f":"+interno","v":"INTERNAL INSTALLATION"},"CORROSIVE",{"$f":"+tipoSupporti","v":"WITH SUPPORTS"},"0-50 cm",{"$f":"+\"OVERNET\"&databaseCombo[[#This Row],[LarghezzaRete]]&\"0\"&databaseCombo[[#This Row],[Sigla B]]","v":"OVERNET2230B"},223,{"$f":"+LEFT(databaseCombo[[#This Row],[TipoInst]],1)","v":"B"},"B2",373.99,414,"DOUBLE",0.254,0.3,25.4,"B",1]
[null,"INTERNAL INSTALLATION","CORROSIVE","WITH SUPPORTS","0-50 cm",{"$f":"+\"OVERNET\"&databaseCombo[[#This Row],[LarghezzaRete]]&\"0\"&databaseCombo[[#This Row],[Sigla B]]","v":"OVERNET2440B"},244,{"$f":"+LEFT(databaseCombo[[#This Row],[TipoInst]],1)","v":"B"},"B2",413.99,456,"DOUBLE",0.254,0.3,25.4,"B",1]
[null,"INTERNAL INSTALLATION","CORROSIVE","WITH SUPPORTS","50-120 cm",{"$f":"+\"OVERNET\"&databaseCombo[[#This Row],[LarghezzaRete]]&\"0\"&databaseCombo[[#This Row],[Sigla B]]","v":"OVERNET1020B"},102,{"$f":"+LEFT(databaseCombo[[#This Row],[TipoInst]],1)","v":"B"},"B2",157,172,"DOUBLE",0.254,0.3,25.4,"B",1]
[null,"INTERNAL INSTALLATION","CORROSIVE","WITH SUPPORTS","50-120 cm",{"$f":"+\"OVERNET\"&databaseCombo[[#This Row],[LarghezzaRete]]&\"0\"&databaseCombo[[#This Row],[Sigla B]]","v":"OVERNET1220B"},122,{"$f":"+LEFT(databaseCombo[[#This Row],[TipoInst]],1)","v":"B"},"B2",171.99,212,"DOUBLE",0.254,0.3,25.4,"B",1]
[null,"INTERNAL INSTALLATION","CORROSIVE","WITH SUPPORTS","50-120 cm",{"$f":"+\"OVERNET\"&databaseCombo[[#This Row],[LarghezzaRete]]&\"0\"&databaseCombo[[#This Row],[Sigla B]]","v":"OVERNET1520B"},152,{"$f":"+LEFT(databaseCombo[[#This Row],[TipoInst]],1)","v":"B"},"B2",211.99,272,"DOUBLE",0.254,0.3,25.4,"B",1]
[null,"INTERNAL INSTALLATION","CORROSIVE","WITH SUPPORTS","50-120 cm",{"$f":"+\"OVERNET\"&databaseCombo[[#This Row],[LarghezzaRete]]&\"0\"&databaseCombo[[#This Row],[Sigla B]]","v":"OVERNET1830B"},183,{"$f":"+LEFT(databaseCombo[[#This Row],[TipoInst]],1)","v":"B"},"B2",271.99,334,"DOUBLE",0.254,0.3,25.4,"B",1]
[null,"INTERNAL INSTALLATION","CORROSIVE","WITH SUPPORTS","50-120 cm",{"$f":"+\"OVERNET\"&databaseCombo[[#This Row],[LarghezzaRete]]&\"0\"&databaseCombo[[#This Row],[Sigla B]]","v":"OVERNET2030B"},203,{"$f":"+LEFT(databaseCombo[[#This Row],[TipoInst]],1)","v":"B"},"B2",333.99,374,"DOUBLE",0.254,0.3,25.4,"B",1]
[null,"INTERNAL INSTALLATION","CORROSIVE","WITH SUPPORTS","50-120 cm",{"$f":"+\"OVERNET\"&databaseCombo[[#This Row],[LarghezzaRete]]&\"0\"&databaseCombo[[#This Row],[Sigla B]]","v":"OVERNET2230B"},223,{"$f":"+LEFT(databaseCombo[[#This Row],[TipoInst]],1)","v":"B"},"B2",373.99,414,"DOUBLE",0.254,0.3,25.4,"B",1]
[null,"INTERNAL INSTALLATION","CORROSIVE","WITH SUPPORTS","50-120 cm",{"$f":"+\"OVERNET\"&databaseCombo[[#This Row],[LarghezzaRete]]&\"0\"&databaseCombo[[#This Row],[Sigla B]]","v":"OVERNET2440B"},244,{"$f":"+LEFT(databaseCombo[[#This Row],[TipoInst]],1)","v":"B"},"B2",413.99,456,"DOUBLE",0.254,0.3,25.4,"B",1]
[null,"INTERNAL INSTALLATION",{"$f":"+AmbNorm","v":"NORMAL"},"WITH SUPPORTS","50-120 cm",{"$f":"+\"RONET\"&databaseCombo[[#This Row],[LarghezzaRete]]&\"0\"","v":"RONET1020"},102,{"$f":"+LEFT(databaseCombo[[#This Row],[TipoInst]],1)","v":"B"},"B2",157,172,"DOUBLE",0.254,0.3,25.4,null,1]
[null,"INTERNAL INSTALLATION","NORMAL","WITH SUPPORTS","50-120 cm",{"$f":"+\"RONET\"&databaseCombo[[#This Row],[LarghezzaRete]]&\"0\"","v":"RONET1220"},122,{"$f":"+LEFT(databaseCombo[[#This Row],[TipoInst]],1)","v":"B"},"B2",171.99,212,"DOUBLE",0.254,0.3,25.4,null,1]
[null,"INTERNAL INSTALLATION","NORMAL","WITH SUPPORTS","50-120 cm",{"$f":"+\"RONET\"&databaseCombo[[#This Row],[LarghezzaRete]]&\"0\"","v":"RONET1520"},152,{"$f":"+LEFT(databaseCombo[[#This Row],[TipoInst]],1)","v":"B"},"B2",211.99,272,"DOUBLE",0.254,0.3,25.4,null,1]
[null,"INTERNAL INSTALLATION","NORMAL","WITH SUPPORTS","50-120 cm",{"$f":"+\"RONET\"&databaseCombo[[#This Row],[LarghezzaRete]]&\"0\"","v":"RONET1830"},183,{"$f":"+LEFT(databaseCombo[[#This Row],[TipoInst]],1)","v":"B"},"B2",271.99,334,"DOUBLE",0.254,0.3,25.4,null,1]
[null,"INTERNAL INSTALLATION","NORMAL","WITH SUPPORTS","50-120 cm",{"$f":"+\"RONET\"&databaseCombo[[#This Row],[LarghezzaRete]]&\"0\"","v":"RONET2030"},203,{"$f":"+LEFT(databaseCombo[[#This Row],[TipoInst]],1)","v":"B"},"B2",333.99,374,"DOUBLE",0.254,0.3,25.4,null,1]
[null,"INTERNAL INSTALLATION","NORMAL","WITH SUPPORTS","50-120 cm",{"$f":"+\"RONET\"&databaseCombo[[#This Row],[LarghezzaRete]]&\"0\"","v":"RONET2230"},223,{"$f":"+LEFT(databaseCombo[[#This Row],[TipoInst]],1)","v":"B"},"B2",373.99,414,"DOUBLE",0.254,0.3,25.4,null,1]
[null,"INTERNAL INSTALLATION","NORMAL","WITH SUPPORTS","50-120 cm",{"$f":"+\"RONET\"&databaseCombo[[#This Row],[LarghezzaRete]]&\"0\"","v":"RONET2530"},253,{"$f":"+LEFT(databaseCombo[[#This Row],[TipoInst]],1)","v":"B"},"B2",413.99,474,"DOUBLE",0.254,0.3,25.4,null,1]
[null,"INTERNAL INSTALLATION","NORMAL","WITH SUPPORTS","0-50 cm",{"$f":"+\"RONET\"&databaseCombo[[#This Row],[LarghezzaRete]]&\"0\"","v":"RONET1020"},102,{"$f":"+LEFT(databaseCombo[[#This Row],[TipoInst]],1)","v":"C"},"C",0,77,{"$f":"+sing","v":"SINGLE"},1,0.3,{"$f":"+NA()","v":{"$error":"#N/A"}},null,0.5]
[null,"INTERNAL INSTALLATION","NORMAL","WITH SUPPORTS","0-50 cm",{"$f":"+\"RONET\"&databaseCombo[[#This Row],[LarghezzaRete]]&\"0\"","v":"RONET1220"},122,{"$f":"+LEFT(databaseCombo[[#This Row],[TipoInst]],1)","v":"C"},"C",73,97,"SINGLE",0.9,0.3,{"$f":"+NA()","v":{"$error":"#N/A"}},null,0.5]
[null,"INTERNAL INSTALLATION","NORMAL","WITH SUPPORTS","0-50 cm",{"$f":"+\"RONET\"&databaseCombo[[#This Row],[LarghezzaRete]]&\"0\"","v":"RONET1520"},152,{"$f":"+LEFT(databaseCombo[[#This Row],[TipoInst]],1)","v":"C"},"C",93,127,"SINGLE",0.7,0.3,{"$f":"+NA()","v":{"$error":"#N/A"}},null,0.5]
[null,"INTERNAL INSTALLATION","NORMAL","WITH SUPPORTS","0-50 cm",{"$f":"+\"RONET\"&databaseCombo[[#This Row],[LarghezzaRete]]&\"0\"","v":"RONET1830"},183,{"$f":"+LEFT(databaseCombo[[#This Row],[TipoInst]],1)","v":"C"},"C",123,158,"SINGLE",0.6,0.3,{"$f":"+NA()","v":{"$error":"#N/A"}},null,0.5]
[null,"INTERNAL INSTALLATION","NORMAL","WITH SUPPORTS","0-50 cm",{"$f":"+\"RONET\"&databaseCombo[[#This Row],[LarghezzaRete]]&\"0\"","v":"RONET2030"},203,{"$f":"+LEFT(databaseCombo[[#This Row],[TipoInst]],1)","v":"C"},"C",153,178,"SINGLE",0.5,0.3,{"$f":"+NA()","v":{"$error":"#N/A"}},null,0.5]
[null,"INTERNAL INSTALLATION","NORMAL","WITH SUPPORTS","0-50 cm",{"$f":"+\"RONET\"&databaseCombo[[#This Row],[LarghezzaRete]]&\"0\"","v":"RONET2230"},223,{"$f":"+LEFT(databaseCombo[[#This Row],[TipoInst]],1)","v":"C"},"C",173,198,"SINGLE",0.4,0.3,{"$f":"+NA()","v":{"$error":"#N/A"}},null,1]
[null,"INTERNAL INSTALLATION","NORMAL","WITH SUPPORTS","0-50 cm",{"$f":"+\"RONET\"&databaseCombo[[#This Row],[LarghezzaRete]]&\"0\"","v":"RONET2530"},253,{"$f":"+LEFT(databaseCombo[[#This Row],[TipoInst]],1)","v":"C"},"C",193,228,"SINGLE",0.3,0.3,{"$f":"+NA()","v":{"$error":"#N/A"}},null,1]
[null,"INTERNAL INSTALLATION","NORMAL","WITH SUPPORTS","50-120 cm",{"$f":"+\"RONET\"&databaseCombo[[#This Row],[LarghezzaRete]]&\"0\"","v":"RONET1020"},102,{"$f":"+LEFT(databaseCombo[[#This Row],[TipoInst]],1)","v":"C"},"C1",0,77,"SINGLE",0.254,1,{"$f":"+NA()","v":{"$error":"#N/A"}},null,1]
[null,"INTERNAL INSTALLATION","NORMAL","WITH SUPPORTS","50-120 cm",{"$f":"+\"RONET\"&databaseCombo[[#This Row],[LarghezzaRete]]&\"0\"","v":"RONET1220"},122,{"$f":"+LEFT(databaseCombo[[#This Row],[TipoInst]],1)","v":"C"},"C1",73,97,"SINGLE",0.254,1,{"$f":"+NA()","v":{"$error":"#N/A"}},null,1]
[null,"INTERNAL INSTALLATION","NORMAL","WITH SUPPORTS","50-120 cm",{"$f":"+\"RONET\"&databaseCombo[[#This Row],[LarghezzaRete]]&\"0\"","v":"RONET1520"},152,{"$f":"+LEFT(databaseCombo[[#This Row],[TipoInst]],1)","v":"C"},"C1",93,123,"SINGLE",0.254,1,{"$f":"+NA()","v":{"$error":"#N/A"}},null,1]
[null,"INTERNAL INSTALLATION","NORMAL","WITH SUPPORTS","50-120 cm",{"$f":"+\"RONET\"&databaseCombo[[#This Row],[LarghezzaRete]]&\"0\"","v":"RONET1830"},183,{"$f":"+LEFT(databaseCombo[[#This Row],[TipoInst]],1)","v":"C"},"C1",119,158,"SINGLE",0.254,1,{"$f":"+NA()","v":{"$error":"#N/A"}},null,1]
[null,"INTERNAL INSTALLATION","NORMAL","WITH SUPPORTS","50-120 cm",{"$f":"+\"RONET\"&databaseCombo[[#This Row],[LarghezzaRete]]&\"0\"","v":"RONET2030"},203,{"$f":"+LEFT(databaseCombo[[#This Row],[TipoInst]],1)","v":"C"},"C1",153,178,"SINGLE",0.254,1,{"$f":"+NA()","v":{"$error":"#N/A"}},null,1]
[null,"INTERNAL INSTALLATION","NORMAL","WITH SUPPORTS","50-120 cm",{"$f":"+\"RONET\"&databaseCombo[[#This Row],[LarghezzaRete]]&\"0\"","v":"RONET2230"},223,{"$f":"+LEFT(databaseCombo[[#This Row],[TipoInst]],1)","v":"C"},"C1",173,198,"SINGLE",0.254,1,{"$f":"+NA()","v":{"$error":"#N/A"}},null,1]
[null,"INTERNAL INSTALLATION","NORMAL","WITH SUPPORTS","50-120 cm",{"$f":"+\"RONET\"&databaseCombo[[#This Row],[LarghezzaRete]]&\"0\"","v":"RONET2530"},253,{"$f":"+LEFT(databaseCombo[[#This Row],[TipoInst]],1)","v":"C"},"C1",193,228,"SINGLE",0.254,1,{"$f":"+NA()","v":{"$error":"#N/A"}},null,1]
[null,"INTERNAL INSTALLATION","NORMAL","WITH SUPPORTS","0-50 cm",{"$f":"+\"RONET\"&databaseCombo[[#This Row],[LarghezzaRete]]&\"0\"","v":"RONET1020"},102,{"$f":"+LEFT(databaseCombo[[#This Row],[TipoInst]],1)","v":"C"},"C2",152,167,{"$f":"+dopp","v":"DOUBLE"},0.254,0.3,25.4,null,0.5]
[null,"INTERNAL INSTALLATION","NORMAL","WITH SUPPORTS","0-50 cm",{"$f":"+\"RONET\"&databaseCombo[[#This Row],[LarghezzaRete]]&\"0\"","v":"RONET1220"},122,{"$f":"+LEFT(databaseCombo[[#This Row],[TipoInst]],1)","v":"C"},"C2",166.99,208,"DOUBLE",0.254,0.3,25.4,null,0.5]
[null,{"$f":"+interno","v":"INTERNAL INSTALLATION"},"NORMAL",{"$f":"+tipoSupporti","v":"WITH SUPPORTS"},"0-50 cm",{"$f":"+\"RONET\"&databaseCombo[[#This Row],[LarghezzaRete]]&\"0\"","v":"RONET1520"},152,{"$f":"+LEFT(databaseCombo[[#This Row],[TipoInst]],1)","v":"C"},"C2",207.99,269,"DOUBLE",0.254,0.3,25.4,null,0.5]
[null,"INTERNAL INSTALLATION","NORMAL","WITH SUPPORTS","0-50 cm",{"$f":"+\"RONET\"&databaseCombo[[#This Row],[LarghezzaRete]]&\"0\"","v":"RONET1830"},183,{"$f":"+LEFT(databaseCombo[[#This Row],[TipoInst]],1)","v":"C"},"C2",265.99,330,"DOUBLE",0.254,0.3,25.4,null,0.5]
[null,"INTERNAL INSTALLATION","NORMAL","WITH SUPPORTS","0-50 cm",{"$f":"+\"RONET\"&databaseCombo[[#This Row],[LarghezzaRete]]&\"0\"","v":"RONET2030"},203,{"$f":"+LEFT(databaseCombo[[#This Row],[TipoInst]],1)","v":"C"},"C2",229.99,369,"DOUBLE",0.254,0.3,25.4,null,0.5]
[null,"INTERNAL INSTALLATION","NORMAL","WITH SUPPORTS","0-50 cm",{"$f":"+\"RONET\"&databaseCombo[[#This Row],[LarghezzaRete]]&\"0\"","v":"RONET2230"},223,{"$f":"+LEFT(databaseCombo[[#This Row],[TipoInst]],1)","v":"C"},"C2",368.99,409,"DOUBLE",0.254,0.3,25.4,null,1]
[null,"INTERNAL INSTALLATION","NORMAL","WITH SUPPORTS","0-50 cm",{"$f":"+\"RONET\"&databaseCombo[[#This Row],[LarghezzaRete]]&\"0\"","v":"RONET2530"},253,{"$f":"+LEFT(databaseCombo[[#This Row],[TipoInst]],1)","v":"C"},"C2",449.99,470,"DOUBLE",0.254,0.3,25.4,null,1]
[null,"INTERNAL INSTALLATION",{"$f":"+AmbCorr","v":"CORROSIVE"},"WITH SUPPORTS","0-50 cm",{"$f":"+\"OVERNET\"&databaseCombo[[#This Row],[LarghezzaRete]]&\"0\"&databaseCombo[[#This Row],[Sigla B]]","v":"OVERNET1020B"},102,{"$f":"+LEFT(databaseCombo[[#This Row],[TipoInst]],1)","v":"C"},"C",0,77,{"$f":"+sing","v":"SINGLE"},1,0.3,{"$f":"+NA()","v":{"$error":"#N/A"}},"B",0.5]
[null,"INTERNAL INSTALLATION","CORROSIVE","WITH SUPPORTS","0-50 cm",{"$f":"+\"OVERNET\"&databaseCombo[[#This Row],[LarghezzaRete]]&\"0\"&databaseCombo[[#This Row],[Sigla B]]","v":"OVERNET1220B"},122,{"$f":"+LEFT(databaseCombo[[#This Row],[TipoInst]],1)","v":"C"},"C",73,97,"SINGLE",0.9,0.3,{"$f":"+NA()","v":{"$error":"#N/A"}},"B",0.5]
[null,"INTERNAL INSTALLATION","CORROSIVE","WITH SUPPORTS","0-50 cm",{"$f":"+\"OVERNET\"&databaseCombo[[#This Row],[LarghezzaRete]]&\"0\"&databaseCombo[[#This Row],[Sigla B]]","v":"OVERNET1520B"},152,{"$f":"+LEFT(databaseCombo[[#This Row],[TipoInst]],1)","v":"C"},"C",93,127,"SINGLE",0.7,0.3,{"$f":"+NA()","v":{"$error":"#N/A"}},"B",0.5]
[null,"INTERNAL INSTALLATION","CORROSIVE","WITH SUPPORTS","0-50 cm",{"$f":"+\"OVERNET\"&databaseCombo[[#This Row],[LarghezzaRete]]&\"0\"&databaseCombo[[#This Row],[Sigla B]]","v":"OVERNET1830B"},183,{"$f":"+LEFT(databaseCombo[[#This Row],[TipoInst]],1)","v":"C"},"C",123,158,"SINGLE",0.6,0.3,{"$f":"+NA()","v":{"$error":"#N/A"}},"B",0.5]
[null,"INTERNAL INSTALLATION","CORROSIVE","WITH SUPPORTS","0-50 cm",{"$f":"+\"OVERNET\"&databaseCombo[[#This Row],[LarghezzaRete]]&\"0\"&databaseCombo[[#This Row],[Sigla B]]","v":"OVERNET2030B"},203,{"$f":"+LEFT(databaseCombo[[#This Row],[TipoInst]],1)","v":"C"},"C",153,178,"SINGLE",0.5,0.3,{"$f":"+NA()","v":{"$error":"#N/A"}},"B",0.5]
[null,"INTERNAL INSTALLATION","CORROSIVE","WITH SUPPORTS","0-50 cm",{"$f":"+\"OVERNET\"&databaseCombo[[#This Row],[LarghezzaRete]]&\"0\"&databaseCombo[[#This Row],[Sigla B]]","v":"OVERNET2230B"},223,{"$f":"+LEFT(databaseCombo[[#This Row],[TipoInst]],1)","v":"C"},"C",173,198,"SINGLE",0.4,0.3,{"$f":"+NA()","v":{"$error":"#N/A"}},"B",1]
[null,"INTERNAL INSTALLATION","CORROSIVE","WITH SUPPORTS","0-50 cm",{"$f":"+\"OVERNET\"&databaseCombo[[#This Row],[LarghezzaRete]]&\"0\"&databaseCombo[[#This Row],[Sigla B]]","v":"OVERNET2440B"},244,{"$f":"+LEFT(databaseCombo[[#This Row],[TipoInst]],1)","v":"C"},"C",183,218,"SINGLE",0.3,0.3,{"$f":"+NA()","v":{"$error":"#N/A"}},"B",1]
[null,"INTERNAL INSTALLATION","CORROSIVE","WITH SUPPORTS","50-120 cm",{"$f":"+\"OVERNET\"&databaseCombo[[#This Row],[LarghezzaRete]]&\"0\"&databaseCombo[[#This Row],[Sigla B]]","v":"OVERNET1020B"},102,{"$f":"+LEFT(databaseCombo[[#This Row],[TipoInst]],1)","v":"C"},"C1",0,77,"SINGLE",0.254,1,{"$f":"+NA()","v":{"$error":"#N/A"}},"B",1]
[null,"INTERNAL INSTALLATION","CORROSIVE","WITH SUPPORTS","50-120 cm",{"$f":"+\"OVERNET\"&databaseCombo[[#This Row],[LarghezzaRete]]&\"0\"&databaseCombo[[#This Row],[Sigla B]]","v":"OVERNET1220B"},122,{"$f":"+LEFT(databaseCombo[[#This Row],[TipoInst]],1)","v":"C"},"C1",73,97,"SINGLE",0.254,1,{"$f":"+NA()","v":{"$error":"#N/A"}},"B",1]
[null,"INTERNAL INSTALLATION","CORROSIVE","WITH SUPPORTS","50-120 cm",{"$f":"+\"OVERNET\"&databaseCombo[[#This Row],[LarghezzaRete]]&\"0\"&databaseCombo[[#This Row],[Sigla B]]","v":"OVERNET1520B"},152,{"$f":"+LEFT(databaseCombo[[#This Row],[TipoInst]],1)","v":"C"},"C1",93,123,"SINGLE",0.254,1,{"$f":"+NA()","v":{"$error":"#N/A"}},"B",1]
[null,"INTERNAL INSTALLATION","CORROSIVE","WITH SUPPORTS","50-120 cm",{"$f":"+\"OVERNET\"&databaseCombo[[#This Row],[LarghezzaRete]]&\"0\"&databaseCombo[[#This Row],[Sigla B]]","v":"OVERNET1830B"},183,{"$f":"+LEFT(databaseCombo[[#This Row],[TipoInst]],1)","v":"C"},"C1",119,158,"SINGLE",0.254,1,{"$f":"+NA()","v":{"$error":"#N/A"}},"B",1]
[null,"INTERNAL INSTALLATION","CORROSIVE","WITH SUPPORTS","50-120 cm",{"$f":"+\"OVERNET\"&databaseCombo[[#This Row],[LarghezzaRete]]&\"0\"&databaseCombo[[#This Row],[Sigla B]]","v":"OVERNET2030B"},203,{"$f":"+LEFT(databaseCombo[[#This Row],[TipoInst]],1)","v":"C"},"C1",153,178,"SINGLE",0.254,1,{"$f":"+NA()","v":{"$error":"#N/A"}},"B",1]
[null,"INTERNAL INSTALLATION","CORROSIVE","WITH SUPPORTS","50-120 cm",{"$f":"+\"OVERNET\"&databaseCombo[[#This Row],[LarghezzaRete]]&\"0\"&databaseCombo[[#This Row],[Sigla B]]","v":"OVERNET2230B"},223,{"$f":"+LEFT(databaseCombo[[#This Row],[TipoInst]],1)","v":"C"},"C1",173,198,"SINGLE",0.254,1,{"$f":"+NA()","v":{"$error":"#N/A"}},"B",1]
[null,"INTERNAL INSTALLATION","CORROSIVE","WITH SUPPORTS","50-120 cm",{"$f":"+\"OVERNET\"&databaseCombo[[#This Row],[LarghezzaRete]]&\"0\"&databaseCombo[[#This Row],[Sigla B]]","v":"OVERNET2440B"},244,{"$f":"+LEFT(databaseCombo[[#This Row],[TipoInst]],1)","v":"C"},"C1",193,218,"SINGLE",0.254,1,{"$f":"+NA()","v":{"$error":"#N/A"}},"B",1]
[null,"INTERNAL INSTALLATION","CORROSIVE","WITH SUPPORTS","0-50 cm",{"$f":"+\"OVERNET\"&databaseCombo[[#This Row],[LarghezzaRete]]&\"0\"&databaseCombo[[#This Row],[Sigla B]]","v":"OVERNET1020B"},102,{"$f":"+LEFT(databaseCombo[[#This Row],[TipoInst]],1)","v":"C"},"C2",152,167,{"$f":"+dopp","v":"DOUBLE"},0.254,0.3,25.4,"B",1]
[null,"INTERNAL INSTALLATION","CORROSIVE","WITH SUPPORTS","0-50 cm",{"$f":"+\"OVERNET\"&databaseCombo[[#This Row],[LarghezzaRete]]&\"0\"&databaseCombo[[#This Row],[Sigla B]]","v":"OVERNET1220B"},122,{"$f":"+LEFT(databaseCombo[[#This Row],[TipoInst]],1)","v":"C"},"C2",166.99,208,"DOUBLE",0.254,0.3,25.4,"B",1]
[null,"INTERNAL INSTALLATION","CORROSIVE","WITH SUPPORTS","0-50 cm",{"$f":"+\"OVERNET\"&databaseCombo[[#This Row],[LarghezzaRete]]&\"0\"&databaseCombo[[#This Row],[Sigla B]]","v":"OVERNET1520B"},152,{"$f":"+LEFT(databaseCombo[[#This Row],[TipoInst]],1)","v":"C"},"C2",207.99,269,"DOUBLE",0.254,0.3,25.4,"B",1]
[null,"INTERNAL INSTALLATION","CORROSIVE","WITH SUPPORTS","0-50 cm",{"$f":"+\"OVERNET\"&databaseCombo[[#This Row],[LarghezzaRete]]&\"0\"&databaseCombo[[#This Row],[Sigla B]]","v":"OVERNET1830B"},183,{"$f":"+LEFT(databaseCombo[[#This Row],[TipoInst]],1)","v":"C"},"C2",265.99,330,"DOUBLE",0.254,0.3,25.4,"B",1]
[null,"INTERNAL INSTALLATION","CORROSIVE","WITH SUPPORTS","0-50 cm",{"$f":"+\"OVERNET\"&databaseCombo[[#This Row],[LarghezzaRete]]&\"0\"&databaseCombo[[#This Row],[Sigla B]]","v":"OVERNET2030B"},203,{"$f":"+LEFT(databaseCombo[[#This Row],[TipoInst]],1)","v":"C"},"C2",329.99,369,"DOUBLE",0.254,0.3,25.4,"B",1]
[null,"INTERNAL INSTALLATION","CORROSIVE","WITH SUPPORTS","0-50 cm",{"$f":"+\"OVERNET\"&databaseCombo[[#This Row],[LarghezzaRete]]&\"0\"&databaseCombo[[#This Row],[Sigla B]]","v":"OVERNET2230B"},223,{"$f":"+LEFT(databaseCombo[[#This Row],[TipoInst]],1)","v":"C"},"C2",368.99,409,"DOUBLE",0.254,0.3,25.4,"B",1]
[null,"INTERNAL INSTALLATION","CORROSIVE","WITH SUPPORTS","0-50 cm",{"$f":"+\"OVERNET\"&databaseCombo[[#This Row],[LarghezzaRete]]&\"0\"&databaseCombo[[#This Row],[Sigla B]]","v":"OVERNET2440B"},244,{"$f":"+LEFT(databaseCombo[[#This Row],[TipoInst]],1)","v":"C"},"C2",408.99,450,"DOUBLE",0.254,0.3,25.4,"B",1]
[null,"INTERNAL INSTALLATION","CORROSIVE","WITH SUPPORTS","50-120 cm",{"$f":"+\"OVERNET\"&databaseCombo[[#This Row],[LarghezzaRete]]&\"0\"&databaseCombo[[#This Row],[Sigla B]]","v":"OVERNET1020B"},102,{"$f":"+LEFT(databaseCombo[[#This Row],[TipoInst]],1)","v":"C"},"C2",152,167,"DOUBLE",0.254,0.3,25.4,"B",1]
[null,"INTERNAL INSTALLATION","CORROSIVE","WITH SUPPORTS","50-120 cm",{"$f":"+\"OVERNET\"&databaseCombo[[#This Row],[LarghezzaRete]]&\"0\"&databaseCombo[[#This Row],[Sigla B]]","v":"OVERNET1220B"},122,{"$f":"+LEFT(databaseCombo[[#This Row],[TipoInst]],1)","v":"C"},"C2",166.99,208,"DOUBLE",0.254,0.3,25.4,"B",1]
[null,"INTERNAL INSTALLATION","CORROSIVE","WITH SUPPORTS","50-120 cm",{"$f":"+\"OVERNET\"&databaseCombo[[#This Row],[LarghezzaRete]]&\"0\"&databaseCombo[[#This Row],[Sigla B]]","v":"OVERNET1520B"},152,{"$f":"+LEFT(databaseCombo[[#This Row],[TipoInst]],1)","v":"C"},"C2",207.99,269,"DOUBLE",0.254,0.3,25.4,"B",1]
[null,"INTERNAL INSTALLATION","CORROSIVE","WITH SUPPORTS","50-120 cm",{"$f":"+\"OVERNET\"&databaseCombo[[#This Row],[LarghezzaRete]]&\"0\"&databaseCombo[[#This Row],[Sigla B]]","v":"OVERNET1830B"},183,{"$f":"+LEFT(databaseCombo[[#This Row],[TipoInst]],1)","v":"C"},"C2",265.99,330,"DOUBLE",0.254,0.3,25.4,"B",1]
[null,"INTERNAL INSTALLATION","CORROSIVE","WITH SUPPORTS","50-120 cm",{"$f":"+\"OVERNET\"&databaseCombo[[#This Row],[LarghezzaRete]]&\"0\"&databaseCombo[[#This Row],[Sigla B]]","v":"OVERNET2030B"},203,{"$f":"+LEFT(databaseCombo[[#This Row],[TipoInst]],1)","v":"C"},"C2",329.99,369,"DOUBLE",0.254,0.3,25.4,"B",1]
[null,"INTERNAL INSTALLATION","CORROSIVE","WITH SUPPORTS","50-120 cm",{"$f":"+\"OVERNET\"&databaseCombo[[#This Row],[LarghezzaRete]]&\"0\"&databaseCombo[[#This Row],[Sigla B]]","v":"OVERNET2230B"},223,{"$f":"+LEFT(databaseCombo[[#This Row],[TipoInst]],1)","v":"C"},"C2",368.99,409,"DOUBLE",0.254,0.3,25.4,"B",1]
[null,{"$f":"+interno","v":"INTERNAL INSTALLATION"},"CORROSIVE",{"$f":"+tipoSupporti","v":"WITH SUPPORTS"},"50-120 cm",{"$f":"+\"OVERNET\"&databaseCombo[[#This Row],[LarghezzaRete]]&\"0\"&databaseCombo[[#This Row],[Sigla B]]","v":"OVERNET2440B"},244,{"$f":"+LEFT(databaseCombo[[#This Row],[TipoInst]],1)","v":"C"},"C2",408.99,450,"DOUBLE",0.254,0.3,25.4,"B",1]
[null,"INTERNAL INSTALLATION",{"$f":"+AmbNorm","v":"NORMAL"},"WITH SUPPORTS","50-120 cm",{"$f":"+\"RONET\"&databaseCombo[[#This Row],[LarghezzaRete]]&\"0\"","v":"RONET1020"},102,{"$f":"+LEFT(databaseCombo[[#This Row],[TipoInst]],1)","v":"C"},"C2",152,167,"DOUBLE",0.254,0.3,25.4,null,1]
[null,"INTERNAL INSTALLATION","NORMAL","WITH SUPPORTS","50-120 cm",{"$f":"+\"RONET\"&databaseCombo[[#This Row],[LarghezzaRete]]&\"0\"","v":"RONET1220"},122,{"$f":"+LEFT(databaseCombo[[#This Row],[TipoInst]],1)","v":"C"},"C2",166.99,208,"DOUBLE",0.254,0.3,25.4,null,1]
[null,"INTERNAL INSTALLATION","NORMAL","WITH SUPPORTS","50-120 cm",{"$f":"+\"RONET\"&databaseCombo[[#This Row],[LarghezzaRete]]&\"0\"","v":"RONET1520"},152,{"$f":"+LEFT(databaseCombo[[#This Row],[TipoInst]],1)","v":"C"},"C2",207.99,269,"DOUBLE",0.254,0.3,25.4,null,1]
[null,"INTERNAL INSTALLATION","NORMAL","WITH SUPPORTS","50-120 cm",{"$f":"+\"RONET\"&databaseCombo[[#This Row],[LarghezzaRete]]&\"0\"","v":"RONET1830"},183,{"$f":"+LEFT(databaseCombo[[#This Row],[TipoInst]],1)","v":"C"},"C2",235.99,330,"DOUBLE",0.254,0.3,25.4,null,1]
[null,"INTERNAL INSTALLATION","NORMAL","WITH SUPPORTS","50-120 cm",{"$f":"+\"RONET\"&databaseCombo[[#This Row],[LarghezzaRete]]&\"0\"","v":"RONET2030"},203,{"$f":"+LEFT(databaseCombo[[#This Row],[TipoInst]],1)","v":"C"},"C2",229.99,369,"DOUBLE",0.254,0.3,25.4,null,1]
[null,"INTERNAL INSTALLATION","NORMAL","WITH SUPPORTS","50-120 cm",{"$f":"+\"RONET\"&databaseCombo[[#This Row],[LarghezzaRete]]&\"0\"","v":"RONET2230"},223,{"$f":"+LEFT(databaseCombo[[#This Row],[TipoInst]],1)","v":"C"},"C2",368.99,409,"DOUBLE",0.254,0.3,25.4,null,1]
[null,"INTERNAL INSTALLATION","NORMAL","WITH SUPPORTS","50-120 cm",{"$f":"+\"RONET\"&databaseCombo[[#This Row],[LarghezzaRete]]&\"0\"","v":"RONET2530"},253,{"$f":"+LEFT(databaseCombo[[#This Row],[TipoInst]],1)","v":"C"},"C2",449.99,470,"DOUBLE",0.254,0.3,25.4,null,1]
[null,{"$f":"+esterno","v":"EXTERNAL INSTALLATION"},{"$f":"+AmbCorr","v":"CORROSIVE"},{"$f":"+tipoSandwich","v":"ON TRAPEZOIDAL SHEET METAL"},"0-50 cm",{"$f":"+\"OVERNET\"&databaseCombo[[#This Row],[LarghezzaRete]]&\"0\"&databaseCombo[[#This Row],[Sigla B]]","v":"OVERNET1020B"},102,{"$f":"+LEFT(databaseCombo[[#This Row],[TipoInst]],1)","v":"D"},"D",0,88.99,{"$f":"+sing","v":"SINGLE"},0.5,0.4,{"$f":"+NA()","v":{"$error":"#N/A"}},"B",0.5]
[null,"EXTERNAL INSTALLATION","CORROSIVE","ON TRAPEZOIDAL SHEET METAL","0-50 cm",{"$f":"+\"OVERNET\"&databaseCombo[[#This Row],[LarghezzaRete]]&\"0\"&databaseCombo[[#This Row],[Sigla B]]","v":"OVERNET1220B"},122,{"$f":"+LEFT(databaseCombo[[#This Row],[TipoInst]],1)","v":"D"},"D",89,107.99,"SINGLE",0.5,0.4,{"$f":"+NA()","v":{"$error":"#N/A"}},"B",0.5]
[null,"EXTERNAL INSTALLATION","CORROSIVE","ON TRAPEZOIDAL SHEET METAL","0-50 cm",{"$f":"+\"OVERNET\"&databaseCombo[[#This Row],[LarghezzaRete]]&\"0\"&databaseCombo[[#This Row],[Sigla B]]","v":"OVERNET1520B"},152,{"$f":"+LEFT(databaseCombo[[#This Row],[TipoInst]],1)","v":"D"},"D",108,139.99,"SINGLE",0.5,0.4,{"$f":"+NA()","v":{"$error":"#N/A"}},"B",0.5]
[null,"EXTERNAL INSTALLATION","CORROSIVE","ON TRAPEZOIDAL SHEET METAL","0-50 cm",{"$f":"+\"OVERNET\"&databaseCombo[[#This Row],[LarghezzaRete]]&\"0\"&databaseCombo[[#This Row],[Sigla B]]","v":"OVERNET1830B"},183,{"$f":"+LEFT(databaseCombo[[#This Row],[TipoInst]],1)","v":"D"},"D",140,169.99,"SINGLE",0.5,0.4,{"$f":"+NA()","v":{"$error":"#N/A"}},"B",0.5]
[null,"EXTERNAL INSTALLATION","CORROSIVE","ON TRAPEZOIDAL SHEET METAL","0-50 cm",{"$f":"+\"OVERNET\"&databaseCombo[[#This Row],[LarghezzaRete]]&\"0\"&databaseCombo[[#This Row],[Sigla B]]","v":"OVERNET2030B"},203,{"$f":"+LEFT(databaseCombo[[#This Row],[TipoInst]],1)","v":"D"},"D",170,188.99,"SINGLE",0.5,0.4,{"$f":"+NA()","v":{"$error":"#N/A"}},"B",0.5]
[null,"EXTERNAL INSTALLATION","CORROSIVE","ON TRAPEZOIDAL SHEET METAL","0-50 cm",{"$f":"+\"OVERNET\"&databaseCombo[[#This Row],[LarghezzaRete]]&\"0\"&databaseCombo[[#This Row],[Sigla B]]","v":"OVERNET2230B"},223,{"$f":"+LEFT(databaseCombo[[#This Row],[TipoInst]],1)","v":"D"},"D",189,208.99,"SINGLE",0.5,0.4,{"$f":"+NA()","v":{"$error":"#N/A"}},"B",1]
[null,"EXTERNAL INSTALLATION","CORROSIVE","ON TRAPEZOIDAL SHEET METAL","0-50 cm",{"$f":"+\"OVERNET\"&databaseCombo[[#This Row],[LarghezzaRete]]&\"0\"&databaseCombo[[#This Row],[Sigla B]]","v":"OVERNET2440B"},244,{"$f":"+LEFT(databaseCombo[[#This Row],[TipoInst]],1)","v":"D"},"D",209,230,"SINGLE",0.5,0.4,{"$f":"+NA()","v":{"$error":"#N/A"}},"B",1]
[null,"EXTERNAL INSTALLATION","CORROSIVE","ON TRAPEZOIDAL SHEET METAL","0-50 cm",{"$f":"+\"OVERNET\"&databaseCombo[[#This Row],[LarghezzaRete]]&\"0\"&databaseCombo[[#This Row],[Sigla B]]","v":"OVERNET1020B"},102,{"$f":"+LEFT(databaseCombo[[#This Row],[TipoInst]],1)","v":"D"},"D2",160,178.99,{"$f":"+dopp","v":"DOUBLE"},0.5,0.4,25.4,"B",1]
[null,"EXTERNAL INSTALLATION","CORROSIVE","ON TRAPEZOIDAL SHEET METAL","0-50 cm",{"$f":"+\"OVERNET\"&databaseCombo[[#This Row],[LarghezzaRete]]&\"0\"&databaseCombo[[#This Row],[Sigla B]]","v":"OVERNET1220B"},122,{"$f":"+LEFT(databaseCombo[[#This Row],[TipoInst]],1)","v":"D"},"D2",179,219.99,"DOUBLE",0.5,0.4,25.4,"B",1]
[null,"EXTERNAL INSTALLATION","CORROSIVE","ON TRAPEZOIDAL SHEET METAL","0-50 cm",{"$f":"+\"OVERNET\"&databaseCombo[[#This Row],[LarghezzaRete]]&\"0\"&databaseCombo[[#This Row],[Sigla B]]","v":"OVERNET1520B"},152,{"$f":"+LEFT(databaseCombo[[#This Row],[TipoInst]],1)","v":"D"},"D2",220,280.99,"DOUBLE",0.5,0.4,25.4,"B",1]
[null,"EXTERNAL INSTALLATION","CORROSIVE","ON TRAPEZOIDAL SHEET METAL","0-50 cm",{"$f":"+\"OVERNET\"&databaseCombo[[#This Row],[LarghezzaRete]]&\"0\"&databaseCombo[[#This Row],[Sigla B]]","v":"OVERNET1830B"},183,{"$f":"+LEFT(databaseCombo[[#This Row],[TipoInst]],1)","v":"D"},"D2",281,341.99,"DOUBLE",0.5,0.4,25.4,"B",1]
[null,"EXTERNAL INSTALLATION","CORROSIVE","ON TRAPEZOIDAL SHEET METAL","0-50 cm",{"$f":"+\"OVERNET\"&databaseCombo[[#This Row],[LarghezzaRete]]&\"0\"&databaseCombo[[#This Row],[Sigla B]]","v":"OVERNET2030B"},203,{"$f":"+LEFT(databaseCombo[[#This Row],[TipoInst]],1)","v":"D"},"D2",342,381.99,"DOUBLE",0.5,0.4,25.4,"B",1]
[null,"EXTERNAL INSTALLATION","CORROSIVE","ON TRAPEZOIDAL SHEET METAL","0-50 cm",{"$f":"+\"OVERNET\"&databaseCombo[[#This Row],[LarghezzaRete]]&\"0\"&databaseCombo[[#This Row],[Sigla B]]","v":"OVERNET2230B"},223,{"$f":"+LEFT(databaseCombo[[#This Row],[TipoInst]],1)","v":"D"},"D2",382,422.99,"DOUBLE",0.5,0.4,25.4,"B",1]
[null,"EXTERNAL INSTALLATION","CORROSIVE","ON TRAPEZOIDAL SHEET METAL","0-50 cm",{"$f":"+\"OVERNET\"&databaseCombo[[#This Row],[LarghezzaRete]]&\"0\"&databaseCombo[[#This Row],[Sigla B]]","v":"OVERNET2440B"},244,{"$f":"+LEFT(databaseCombo[[#This Row],[TipoInst]],1)","v":"D"},"D2",423,463,"DOUBLE",0.5,0.4,25.4,"B",1]
[null,"EXTERNAL INSTALLATION","CORROSIVE","ON TRAPEZOIDAL SHEET METAL","0-50 cm",{"$f":"+\"OVERNET\"&databaseCombo[[#This Row],[LarghezzaRete]]&\"0\"&databaseCombo[[#This Row],[Sigla B]]","v":"OVERNET1020B"},102,{"$f":"+LEFT(databaseCombo[[#This Row],[TipoInst]],1)","v":"E"},"E",0,69.989999999999995,{"$f":"+sing","v":"SINGLE"},0.55000000000000004,0.4,{"$f":"+NA()","v":{"$error":"#N/A"}},"B",0.5]
[null,"EXTERNAL INSTALLATION","CORROSIVE","ON TRAPEZOIDAL SHEET METAL","0-50 cm",{"$f":"+\"OVERNET\"&databaseCombo[[#This Row],[LarghezzaRete]]&\"0\"&databaseCombo[[#This Row],[Sigla B]]","v":"OVERNET1220B"},122,{"$f":"+LEFT(databaseCombo[[#This Row],[TipoInst]],1)","v":"E"},"E",70,89.99,"SINGLE",0.55000000000000004,0.4,{"$f":"+NA()","v":{"$error":"#N/A"}},"B",0.5]
[null,"EXTERNAL INSTALLATION","CORROSIVE","ON TRAPEZOIDAL SHEET METAL","0-50 cm",{"$f":"+\"OVERNET\"&databaseCombo[[#This Row],[LarghezzaRete]]&\"0\"&databaseCombo[[#This Row],[Sigla B]]","v":"OVERNET1520B"},152,{"$f":"+LEFT(databaseCombo[[#This Row],[TipoInst]],1)","v":"E"},"E",90,129.99,"SINGLE",0.55000000000000004,0.4,{"$f":"+NA()","v":{"$error":"#N/A"}},"B",0.5]
[null,"EXTERNAL INSTALLATION","CORROSIVE","ON TRAPEZOIDAL SHEET METAL","0-50 cm",{"$f":"+\"OVERNET\"&databaseCombo[[#This Row],[LarghezzaRete]]&\"0\"&databaseCombo[[#This Row],[Sigla B]]","v":"OVERNET1830B"},183,{"$f":"+LEFT(databaseCombo[[#This Row],[TipoInst]],1)","v":"E"},"E",121,150.99,"SINGLE",0.55000000000000004,0.4,{"$f":"+NA()","v":{"$error":"#N/A"}},"B",0.5]
[null,"EXTERNAL INSTALLATION","CORROSIVE","ON TRAPEZOIDAL SHEET METAL","0-50 cm",{"$f":"+\"OVERNET\"&databaseCombo[[#This Row],[LarghezzaRete]]&\"0\"&databaseCombo[[#This Row],[Sigla B]]","v":"OVERNET2030B"},203,{"$f":"+LEFT(databaseCombo[[#This Row],[TipoInst]],1)","v":"E"},"E",151,170.99,"SINGLE",0.55000000000000004,0.4,{"$f":"+NA()","v":{"$error":"#N/A"}},"B",0.5]
[null,"EXTERNAL INSTALLATION","CORROSIVE","ON TRAPEZOIDAL SHEET METAL","0-50 cm",{"$f":"+\"OVERNET\"&databaseCombo[[#This Row],[LarghezzaRete]]&\"0\"&databaseCombo[[#This Row],[Sigla B]]","v":"OVERNET2230B"},223,{"$f":"+LEFT(databaseCombo[[#This Row],[TipoInst]],1)","v":"E"},"E",171,191.99,"SINGLE",0.55000000000000004,0.4,{"$f":"+NA()","v":{"$error":"#N/A"}},"B",1]
[null,"EXTERNAL INSTALLATION","CORROSIVE","ON TRAPEZOIDAL SHEET METAL","0-50 cm",{"$f":"+\"OVERNET\"&databaseCombo[[#This Row],[LarghezzaRete]]&\"0\"&databaseCombo[[#This Row],[Sigla B]]","v":"OVERNET2440B"},244,{"$f":"+LEFT(databaseCombo[[#This Row],[TipoInst]],1)","v":"E"},"E",192,211,"SINGLE",0.55000000000000004,0.4,{"$f":"+NA()","v":{"$error":"#N/A"}},"B",1]
[null,"EXTERNAL INSTALLATION","CORROSIVE","ON TRAPEZOIDAL SHEET METAL","0-50 cm",{"$f":"+\"OVERNET\"&databaseCombo[[#This Row],[LarghezzaRete]]&\"0\"&databaseCombo[[#This Row],[Sigla B]]","v":"OVERNET1020B"},102,{"$f":"+LEFT(databaseCombo[[#This Row],[TipoInst]],1)","v":"E"},"E2",0,161.99,{"$f":"+dopp","v":"DOUBLE"},0.55000000000000004,0.4,25.4,"B",1]
[null,"EXTERNAL INSTALLATION","CORROSIVE","ON TRAPEZOIDAL SHEET METAL","0-50 cm",{"$f":"+\"OVERNET\"&databaseCombo[[#This Row],[LarghezzaRete]]&\"0\"&databaseCombo[[#This Row],[Sigla B]]","v":"OVERNET1220B"},122,{"$f":"+LEFT(databaseCombo[[#This Row],[TipoInst]],1)","v":"E"},"E2",162,201.99,"DOUBLE",0.55000000000000004,0.4,25.4,"B",1]
[null,"EXTERNAL INSTALLATION","CORROSIVE","ON TRAPEZOIDAL SHEET METAL","0-50 cm",{"$f":"+\"OVERNET\"&databaseCombo[[#This Row],[LarghezzaRete]]&\"0\"&databaseCombo[[#This Row],[Sigla B]]","v":"OVERNET1520B"},152,{"$f":"+LEFT(databaseCombo[[#This Row],[TipoInst]],1)","v":"E"},"E2",202,262.99,"DOUBLE",0.55000000000000004,0.4,25.4,"B",1]
[null,"EXTERNAL INSTALLATION","CORROSIVE","ON TRAPEZOIDAL SHEET METAL","0-50 cm",{"$f":"+\"OVERNET\"&databaseCombo[[#This Row],[LarghezzaRete]]&\"0\"&databaseCombo[[#This Row],[Sigla B]]","v":"OVERNET1830B"},183,{"$f":"+LEFT(databaseCombo[[#This Row],[TipoInst]],1)","v":"E"},"E2",263,323.99,"DOUBLE",0.55000000000000004,0.4,25.4,"B",1]
[null,"EXTERNAL INSTALLATION","CORROSIVE","ON TRAPEZOIDAL SHEET METAL","0-50 cm",{"$f":"+\"OVERNET\"&databaseCombo[[#This Row],[LarghezzaRete]]&\"0\"&databaseCombo[[#This Row],[Sigla B]]","v":"OVERNET2030B"},203,{"$f":"+LEFT(databaseCombo[[#This Row],[TipoInst]],1)","v":"E"},"E2",324,363.99,"DOUBLE",0.55000000000000004,0.4,25.4,"B",1]
[null,"EXTERNAL INSTALLATION","CORROSIVE","ON TRAPEZOIDAL SHEET METAL","0-50 cm",{"$f":"+\"OVERNET\"&databaseCombo[[#This Row],[LarghezzaRete]]&\"0\"&databaseCombo[[#This Row],[Sigla B]]","v":"OVERNET2230B"},223,{"$f":"+LEFT(databaseCombo[[#This Row],[TipoInst]],1)","v":"E"},"E2",364,404.99,"DOUBLE",0.55000000000000004,0.4,25.4,"B",1]
[null,"EXTERNAL INSTALLATION","CORROSIVE","ON TRAPEZOIDAL SHEET METAL","0-50 cm",{"$f":"+\"OVERNET\"&databaseCombo[[#This Row],[LarghezzaRete]]&\"0\"&databaseCombo[[#This Row],[Sigla B]]","v":"OVERNET2440B"},244,{"$f":"+LEFT(databaseCombo[[#This Row],[TipoInst]],1)","v":"E"},"E2",405,445.99,"DOUBLE",0.55000000000000004,0.4,25.4,"B",1]
[null,{"$f":"+esterno","v":"EXTERNAL INSTALLATION"},{"$f":"+AmbCorr","v":"CORROSIVE"},{"$f":"+tipoSupporti","v":"WITH SUPPORTS"},"0-50 cm",{"$f":"+\"OVERNET\"&databaseCombo[[#This Row],[LarghezzaRete]]&\"0\"&databaseCombo[[#This Row],[Sigla B]]","v":"OVERNET1020B"},102,{"$f":"+LEFT(databaseCombo[[#This Row],[TipoInst]],1)","v":"A"},"A",0,77,{"$f":"+sing","v":"SINGLE"},1,0.3,{"$error":"#N/A"},"B",0.5]
[null,"EXTERNAL INSTALLATION","CORROSIVE","WITH SUPPORTS","0-50 cm",{"$f":"+\"OVERNET\"&databaseCombo[[#This Row],[LarghezzaRete]]&\"0\"&databaseCombo[[#This Row],[Sigla B]]","v":"OVERNET1220B"},122,{"$f":"+LEFT(databaseCombo[[#This Row],[TipoInst]],1)","v":"A"},"A",73,97,"SINGLE",0.9,0.3,{"$error":"#N/A"},"B",0.5]
[null,"EXTERNAL INSTALLATION","CORROSIVE","WITH SUPPORTS","0-50 cm",{"$f":"+\"OVERNET\"&databaseCombo[[#This Row],[LarghezzaRete]]&\"0\"&databaseCombo[[#This Row],[Sigla B]]","v":"OVERNET1520B"},152,{"$f":"+LEFT(databaseCombo[[#This Row],[TipoInst]],1)","v":"A"},"A",93,127,"SINGLE",0.7,0.3,{"$error":"#N/A"},"B",0.5]
[null,"EXTERNAL INSTALLATION","CORROSIVE","WITH SUPPORTS","0-50 cm",{"$f":"+\"OVERNET\"&databaseCombo[[#This Row],[LarghezzaRete]]&\"0\"&databaseCombo[[#This Row],[Sigla B]]","v":"OVERNET1830B"},183,{"$f":"+LEFT(databaseCombo[[#This Row],[TipoInst]],1)","v":"A"},"A",123,158,"SINGLE",0.6,0.3,{"$error":"#N/A"},"B",0.5]
[null,"EXTERNAL INSTALLATION","CORROSIVE","WITH SUPPORTS","0-50 cm",{"$f":"+\"OVERNET\"&databaseCombo[[#This Row],[LarghezzaRete]]&\"0\"&databaseCombo[[#This Row],[Sigla B]]","v":"OVERNET2030B"},203,{"$f":"+LEFT(databaseCombo[[#This Row],[TipoInst]],1)","v":"A"},"A",153,178,"SINGLE",0.5,0.3,{"$error":"#N/A"},"B",0.5]
[null,"EXTERNAL INSTALLATION","CORROSIVE","WITH SUPPORTS","0-50 cm",{"$f":"+\"OVERNET\"&databaseCombo[[#This Row],[LarghezzaRete]]&\"0\"&databaseCombo[[#This Row],[Sigla B]]","v":"OVERNET2230B"},223,{"$f":"+LEFT(databaseCombo[[#This Row],[TipoInst]],1)","v":"A"},"A",173,198,"SINGLE",0.4,0.3,{"$error":"#N/A"},"B",1]
[null,"EXTERNAL INSTALLATION","CORROSIVE","WITH SUPPORTS","0-50 cm",{"$f":"+\"OVERNET\"&databaseCombo[[#This Row],[LarghezzaRete]]&\"0\"&databaseCombo[[#This Row],[Sigla B]]","v":"OVERNET2440B"},244,{"$f":"+LEFT(databaseCombo[[#This Row],[TipoInst]],1)","v":"A"},"A",183,218,"SINGLE",0.3,0.3,{"$error":"#N/A"},"B",1]
[null,"EXTERNAL INSTALLATION","CORROSIVE","WITH SUPPORTS","0-50 cm",{"$f":"+\"OVERNET\"&databaseCombo[[#This Row],[LarghezzaRete]]&\"0\"&databaseCombo[[#This Row],[Sigla B]]","v":"OVERNET1020B"},102,{"$f":"+LEFT(databaseCombo[[#This Row],[TipoInst]],1)","v":"A"},"A2",152,167,{"$f":"+dopp","v":"DOUBLE"},0.254,0.3,25.4,"B",1]
[null,"EXTERNAL INSTALLATION","CORROSIVE","WITH SUPPORTS","0-50 cm",{"$f":"+\"OVERNET\"&databaseCombo[[#This Row],[LarghezzaRete]]&\"0\"&databaseCombo[[#This Row],[Sigla B]]","v":"OVERNET1220B"},122,{"$f":"+LEFT(databaseCombo[[#This Row],[TipoInst]],1)","v":"A"},"A2",166.99,208,"DOUBLE",0.254,0.3,25.4,"B",1]
[null,"EXTERNAL INSTALLATION","CORROSIVE","WITH SUPPORTS","0-50 cm",{"$f":"+\"OVERNET\"&databaseCombo[[#This Row],[LarghezzaRete]]&\"0\"&databaseCombo[[#This Row],[Sigla B]]","v":"OVERNET1520B"},152,{"$f":"+LEFT(databaseCombo[[#This Row],[TipoInst]],1)","v":"A"},"A2",207.99,269,"DOUBLE",0.254,0.3,25.4,"B",1]
[null,"EXTERNAL INSTALLATION","CORROSIVE","WITH SUPPORTS","0-50 cm",{"$f":"+\"OVERNET\"&databaseCombo[[#This Row],[LarghezzaRete]]&\"0\"&databaseCombo[[#This Row],[Sigla B]]","v":"OVERNET1830B"},183,{"$f":"+LEFT(databaseCombo[[#This Row],[TipoInst]],1)","v":"A"},"A2",265.99,330,"DOUBLE",0.254,0.3,25.4,"B",1]
[null,"EXTERNAL INSTALLATION","CORROSIVE","WITH SUPPORTS","0-50 cm",{"$f":"+\"OVERNET\"&databaseCombo[[#This Row],[LarghezzaRete]]&\"0\"&databaseCombo[[#This Row],[Sigla B]]","v":"OVERNET2030B"},203,{"$f":"+LEFT(databaseCombo[[#This Row],[TipoInst]],1)","v":"A"},"A2",329.99,369,"DOUBLE",0.254,0.3,25.4,"B",1]
[null,"EXTERNAL INSTALLATION","CORROSIVE","WITH SUPPORTS","0-50 cm",{"$f":"+\"OVERNET\"&databaseCombo[[#This Row],[LarghezzaRete]]&\"0\"&databaseCombo[[#This Row],[Sigla B]]","v":"OVERNET2230B"},223,{"$f":"+LEFT(databaseCombo[[#This Row],[TipoInst]],1)","v":"A"},"A2",368.99,409,"DOUBLE",0.254,0.3,25.4,"B",1]
[null,"EXTERNAL INSTALLATION","CORROSIVE","WITH SUPPORTS","0-50 cm",{"$f":"+\"OVERNET\"&databaseCombo[[#This Row],[LarghezzaRete]]&\"0\"&databaseCombo[[#This Row],[Sigla B]]","v":"OVERNET2440B"},244,{"$f":"+LEFT(databaseCombo[[#This Row],[TipoInst]],1)","v":"A"},"A2",408.99,450,"DOUBLE",0.254,0.3,25.4,"B",1]
[null,"EXTERNAL INSTALLATION","CORROSIVE","WITH SUPPORTS","0-50 cm",{"$f":"+\"OVERNET\"&databaseCombo[[#This Row],[LarghezzaRete]]&\"0\"&databaseCombo[[#This Row],[Sigla B]]","v":"OVERNET1020B"},102,{"$f":"+LEFT(databaseCombo[[#This Row],[TipoInst]],1)","v":"B"},"B",0,84,{"$f":"+sing","v":"SINGLE"},1,0.3,{"$error":"#N/A"},"B",0.5]
[null,"EXTERNAL INSTALLATION","CORROSIVE","WITH SUPPORTS","0-50 cm",{"$f":"+\"OVERNET\"&databaseCombo[[#This Row],[LarghezzaRete]]&\"0\"&databaseCombo[[#This Row],[Sigla B]]","v":"OVERNET1220B"},122,{"$f":"+LEFT(databaseCombo[[#This Row],[TipoInst]],1)","v":"B"},"B",82,104,"SINGLE",0.9,0.3,{"$error":"#N/A"},"B",0.5]
[null,"EXTERNAL INSTALLATION","CORROSIVE","WITH SUPPORTS","0-50 cm",{"$f":"+\"OVERNET\"&databaseCombo[[#This Row],[LarghezzaRete]]&\"0\"&databaseCombo[[#This Row],[Sigla B]]","v":"OVERNET1520B"},152,{"$f":"+LEFT(databaseCombo[[#This Row],[TipoInst]],1)","v":"B"},"B",102,134,"SINGLE",0.7,0.3,{"$error":"#N/A"},"B",0.5]
[null,"EXTERNAL INSTALLATION","CORROSIVE","WITH SUPPORTS","0-50 cm",{"$f":"+\"OVERNET\"&databaseCombo[[#This Row],[LarghezzaRete]]&\"0\"&databaseCombo[[#This Row],[Sigla B]]","v":"OVERNET1830B"},183,{"$f":"+LEFT(databaseCombo[[#This Row],[TipoInst]],1)","v":"B"},"B",132,165,"SINGLE",0.6,0.3,{"$error":"#N/A"},"B",0.5]
[null,"EXTERNAL INSTALLATION","CORROSIVE","WITH SUPPORTS","0-50 cm",{"$f":"+\"OVERNET\"&databaseCombo[[#This Row],[LarghezzaRete]]&\"0\"&databaseCombo[[#This Row],[Sigla B]]","v":"OVERNET2030B"},203,{"$f":"+LEFT(databaseCombo[[#This Row],[TipoInst]],1)","v":"B"},"B",163,185,"SINGLE",0.5,0.3,{"$error":"#N/A"},"B",0.5]
[null,"EXTERNAL INSTALLATION","CORROSIVE","WITH SUPPORTS","0-50 cm",{"$f":"+\"OVERNET\"&databaseCombo[[#This Row],[LarghezzaRete]]&\"0\"&databaseCombo[[#This Row],[Sigla B]]","v":"OVERNET2230B"},223,{"$f":"+LEFT(databaseCombo[[#This Row],[TipoInst]],1)","v":"B"},"B",183,205,"SINGLE",0.4,0.3,{"$error":"#N/A"},"B",1]
[null,"EXTERNAL INSTALLATION","CORROSIVE","WITH SUPPORTS","0-50 cm",{"$f":"+\"OVERNET\"&databaseCombo[[#This Row],[LarghezzaRete]]&\"0\"&databaseCombo[[#This Row],[Sigla B]]","v":"OVERNET2440B"},244,{"$f":"+LEFT(databaseCombo[[#This Row],[TipoInst]],1)","v":"B"},"B",193,225,"SINGLE",0.3,0.3,{"$error":"#N/A"},"B",1]
[null,"EXTERNAL INSTALLATION","CORROSIVE","WITH SUPPORTS","0-50 cm",{"$f":"+\"OVERNET\"&databaseCombo[[#This Row],[LarghezzaRete]]&\"0\"&databaseCombo[[#This Row],[Sigla B]]","v":"OVERNET1020B"},102,{"$f":"+LEFT(databaseCombo[[#This Row],[TipoInst]],1)","v":"B"},"B2",157,172,{"$f":"+dopp","v":"DOUBLE"},0.254,0.3,25.4,"B",1]
[null,"EXTERNAL INSTALLATION","CORROSIVE","WITH SUPPORTS","0-50 cm",{"$f":"+\"OVERNET\"&databaseCombo[[#This Row],[LarghezzaRete]]&\"0\"&databaseCombo[[#This Row],[Sigla B]]","v":"OVERNET1220B"},122,{"$f":"+LEFT(databaseCombo[[#This Row],[TipoInst]],1)","v":"B"},"B2",171.99,212,"DOUBLE",0.254,0.3,25.4,"B",1]
[null,"EXTERNAL INSTALLATION","CORROSIVE","WITH SUPPORTS","0-50 cm",{"$f":"+\"OVERNET\"&databaseCombo[[#This Row],[LarghezzaRete]]&\"0\"&databaseCombo[[#This Row],[Sigla B]]","v":"OVERNET1520B"},152,{"$f":"+LEFT(databaseCombo[[#This Row],[TipoInst]],1)","v":"B"},"B2",211.99,272,"DOUBLE",0.254,0.3,25.4,"B",1]
[null,"EXTERNAL INSTALLATION","CORROSIVE","WITH SUPPORTS","0-50 cm",{"$f":"+\"OVERNET\"&databaseCombo[[#This Row],[LarghezzaRete]]&\"0\"&databaseCombo[[#This Row],[Sigla B]]","v":"OVERNET1830B"},183,{"$f":"+LEFT(databaseCombo[[#This Row],[TipoInst]],1)","v":"B"},"B2",271.99,334,"DOUBLE",0.254,0.3,25.4,"B",1]
[null,"EXTERNAL INSTALLATION","CORROSIVE","WITH SUPPORTS","0-50 cm",{"$f":"+\"OVERNET\"&databaseCombo[[#This Row],[LarghezzaRete]]&\"0\"&databaseCombo[[#This Row],[Sigla B]]","v":"OVERNET2030B"},203,{"$f":"+LEFT(databaseCombo[[#This Row],[TipoInst]],1)","v":"B"},"B2",333.99,374,"DOUBLE",0.254,0.3,25.4,"B",1]
[null,"EXTERNAL INSTALLATION","CORROSIVE","WITH SUPPORTS","0-50 cm",{"$f":"+\"OVERNET\"&databaseCombo[[#This Row],[LarghezzaRete]]&\"0\"&databaseCombo[[#This Row],[Sigla B]]","v":"OVERNET2230B"},223,{"$f":"+LEFT(databaseCombo[[#This Row],[TipoInst]],1)","v":"B"},"B2",373.99,414,"DOUBLE",0.254,0.3,25.4,"B",1]
[null,"EXTERNAL INSTALLATION","CORROSIVE","WITH SUPPORTS","0-50 cm",{"$f":"+\"OVERNET\"&databaseCombo[[#This Row],[LarghezzaRete]]&\"0\"&databaseCombo[[#This Row],[Sigla B]]","v":"OVERNET2440B"},244,{"$f":"+LEFT(databaseCombo[[#This Row],[TipoInst]],1)","v":"B"},"B2",413.99,456,"DOUBLE",0.254,0.3,25.4,"B",1]
[null,"EXTERNAL INSTALLATION","CORROSIVE","WITH SUPPORTS","0-50 cm",{"$f":"+\"OVERNET\"&databaseCombo[[#This Row],[LarghezzaRete]]&\"0\"&databaseCombo[[#This Row],[Sigla B]]","v":"OVERNET1020B"},102,{"$f":"+LEFT(databaseCombo[[#This Row],[TipoInst]],1)","v":"C"},"C",0,77,{"$f":"+sing","v":"SINGLE"},1,0.3,{"$error":"#N/A"},"B",0.5]
[null,"EXTERNAL INSTALLATION","CORROSIVE","WITH SUPPORTS","0-50 cm",{"$f":"+\"OVERNET\"&databaseCombo[[#This Row],[LarghezzaRete]]&\"0\"&databaseCombo[[#This Row],[Sigla B]]","v":"OVERNET1220B"},122,{"$f":"+LEFT(databaseCombo[[#This Row],[TipoInst]],1)","v":"C"},"C",73,97,"SINGLE",0.9,0.3,{"$error":"#N/A"},"B",0.5]
[null,"EXTERNAL INSTALLATION","CORROSIVE","WITH SUPPORTS","0-50 cm",{"$f":"+\"OVERNET\"&databaseCombo[[#This Row],[LarghezzaRete]]&\"0\"&databaseCombo[[#This Row],[Sigla B]]","v":"OVERNET1520B"},152,{"$f":"+LEFT(databaseCombo[[#This Row],[TipoInst]],1)","v":"C"},"C",93,127,"SINGLE",0.7,0.3,{"$error":"#N/A"},"B",0.5]
[null,"EXTERNAL INSTALLATION","CORROSIVE","WITH SUPPORTS","0-50 cm",{"$f":"+\"OVERNET\"&databaseCombo[[#This Row],[LarghezzaRete]]&\"0\"&databaseCombo[[#This Row],[Sigla B]]","v":"OVERNET1830B"},183,{"$f":"+LEFT(databaseCombo[[#This Row],[TipoInst]],1)","v":"C"},"C",123,158,"SINGLE",0.6,0.3,{"$error":"#N/A"},"B",0.5]
[null,"EXTERNAL INSTALLATION","CORROSIVE","WITH SUPPORTS","0-50 cm",{"$f":"+\"OVERNET\"&databaseCombo[[#This Row],[LarghezzaRete]]&\"0\"&databaseCombo[[#This Row],[Sigla B]]","v":"OVERNET2030B"},203,{"$f":"+LEFT(databaseCombo[[#This Row],[TipoInst]],1)","v":"C"},"C",153,178,"SINGLE",0.5,0.3,{"$error":"#N/A"},"B",0.5]
[null,"EXTERNAL INSTALLATION","CORROSIVE","WITH SUPPORTS","0-50 cm",{"$f":"+\"OVERNET\"&databaseCombo[[#This Row],[LarghezzaRete]]&\"0\"&databaseCombo[[#This Row],[Sigla B]]","v":"OVERNET2230B"},223,{"$f":"+LEFT(databaseCombo[[#This Row],[TipoInst]],1)","v":"C"},"C",173,198,"SINGLE",0.4,0.3,{"$error":"#N/A"},"B",1]
[null,"EXTERNAL INSTALLATION","CORROSIVE","WITH SUPPORTS","0-50 cm",{"$f":"+\"OVERNET\"&databaseCombo[[#This Row],[LarghezzaRete]]&\"0\"&databaseCombo[[#This Row],[Sigla B]]","v":"OVERNET2440B"},244,{"$f":"+LEFT(databaseCombo[[#This Row],[TipoInst]],1)","v":"C"},"C",183,218,"SINGLE",0.3,0.3,{"$error":"#N/A"},"B",1]
[null,"EXTERNAL INSTALLATION","CORROSIVE","WITH SUPPORTS","0-50 cm",{"$f":"+\"OVERNET\"&databaseCombo[[#This Row],[LarghezzaRete]]&\"0\"&databaseCombo[[#This Row],[Sigla B]]","v":"OVERNET1020B"},102,{"$f":"+LEFT(databaseCombo[[#This Row],[TipoInst]],1)","v":"C"},"C2",152,167,{"$f":"+dopp","v":"DOUBLE"},0.254,0.3,25.4,"B",1]
[null,"EXTERNAL INSTALLATION","CORROSIVE","WITH SUPPORTS","0-50 cm",{"$f":"+\"OVERNET\"&databaseCombo[[#This Row],[LarghezzaRete]]&\"0\"&databaseCombo[[#This Row],[Sigla B]]","v":"OVERNET1220B"},122,{"$f":"+LEFT(databaseCombo[[#This Row],[TipoInst]],1)","v":"C"},"C2",166.99,208,"DOUBLE",0.254,0.3,25.4,"B",1]
[null,"EXTERNAL INSTALLATION","CORROSIVE","WITH SUPPORTS","0-50 cm",{"$f":"+\"OVERNET\"&databaseCombo[[#This Row],[LarghezzaRete]]&\"0\"&databaseCombo[[#This Row],[Sigla B]]","v":"OVERNET1520B"},152,{"$f":"+LEFT(databaseCombo[[#This Row],[TipoInst]],1)","v":"C"},"C2",207.99,269,"DOUBLE",0.254,0.3,25.4,"B",1]
[null,"EXTERNAL INSTALLATION","CORROSIVE","WITH SUPPORTS","0-50 cm",{"$f":"+\"OVERNET\"&databaseCombo[[#This Row],[LarghezzaRete]]&\"0\"&databaseCombo[[#This Row],[Sigla B]]","v":"OVERNET1830B"},183,{"$f":"+LEFT(databaseCombo[[#This Row],[TipoInst]],1)","v":"C"},"C2",265.99,330,"DOUBLE",0.254,0.3,25.4,"B",1]
[null,"EXTERNAL INSTALLATION","CORROSIVE","WITH SUPPORTS","0-50 cm",{"$f":"+\"OVERNET\"&databaseCombo[[#This Row],[LarghezzaRete]]&\"0\"&databaseCombo[[#This Row],[Sigla B]]","v":"OVERNET2030B"},203,{"$f":"+LEFT(databaseCombo[[#This Row],[TipoInst]],1)","v":"C"},"C2",329.99,369,"DOUBLE",0.254,0.3,25.4,"B",1]
[null,"EXTERNAL INSTALLATION","CORROSIVE","WITH SUPPORTS","0-50 cm",{"$f":"+\"OVERNET\"&databaseCombo[[#This Row],[LarghezzaRete]]&\"0\"&databaseCombo[[#This Row],[Sigla B]]","v":"OVERNET2230B"},223,{"$f":"+LEFT(databaseCombo[[#This Row],[TipoInst]],1)","v":"C"},"C2",368.99,409,"DOUBLE",0.254,0.3,25.4,"B",1]
[null,"EXTERNAL INSTALLATION","CORROSIVE","WITH SUPPORTS","0-50 cm",{"$f":"+\"OVERNET\"&databaseCombo[[#This Row],[LarghezzaRete]]&\"0\"&databaseCombo[[#This Row],[Sigla B]]","v":"OVERNET2440B"},244,{"$f":"+LEFT(databaseCombo[[#This Row],[TipoInst]],1)","v":"C"},"C2",408.99,450,"DOUBLE",0.254,0.3,25.4,"B",1]
[null,{"$f":"+esterno","v":"EXTERNAL INSTALLATION"},"CORROSIVE",{"$f":"+tipoSupporti","v":"WITH SUPPORTS"},"50-120 cm","OVERNET1020B",102,{"$f":"+LEFT(databaseCombo[[#This Row],[TipoInst]],1)","v":"A"},"A1",0,77,"SINGOLA",0.254,1,{"$error":"#N/A"},"B",1]
[null,"EXTERNAL INSTALLATION","CORROSIVE","WITH SUPPORTS","50-120 cm","OVERNET1220B",122,{"$f":"+LEFT(databaseCombo[[#This Row],[TipoInst]],1)","v":"A"},"A1",73,97,"SINGOLA",0.254,1,{"$error":"#N/A"},"B",1]
[null,"EXTERNAL INSTALLATION","CORROSIVE","WITH SUPPORTS","50-120 cm","OVERNET1520B",152,{"$f":"+LEFT(databaseCombo[[#This Row],[TipoInst]],1)","v":"A"},"A1",93,123,"SINGOLA",0.254,1,{"$error":"#N/A"},"B",1]
[null,"EXTERNAL INSTALLATION","CORROSIVE","WITH SUPPORTS","50-120 cm","OVERNET1830B",183,{"$f":"+LEFT(databaseCombo[[#This Row],[TipoInst]],1)","v":"A"},"A1",119,158,"SINGOLA",0.254,1,{"$error":"#N/A"},"B",1]
[null,"EXTERNAL INSTALLATION","CORROSIVE","WITH SUPPORTS","50-120 cm","OVERNET2030B",203,{"$f":"+LEFT(databaseCombo[[#This Row],[TipoInst]],1)","v":"A"},"A1",153,178,"SINGOLA",0.254,1,{"$error":"#N/A"},"B",1]
[null,"EXTERNAL INSTALLATION","CORROSIVE","WITH SUPPORTS","50-120 cm","OVERNET2230B",223,{"$f":"+LEFT(databaseCombo[[#This Row],[TipoInst]],1)","v":"A"},"A1",173,198,"SINGOLA",0.254,1,{"$error":"#N/A"},"B",1]
[null,"EXTERNAL INSTALLATION","CORROSIVE","WITH SUPPORTS","50-120 cm","OVERNET2440B",244,{"$f":"+LEFT(databaseCombo[[#This Row],[TipoInst]],1)","v":"A"},"A1",193,218,"SINGOLA",0.254,1,{"$error":"#N/A"},"B",1]
[null,"EXTERNAL INSTALLATION","CORROSIVE","WITH SUPPORTS","50-120 cm","OVERNET1020B",102,{"$f":"+LEFT(databaseCombo[[#This Row],[TipoInst]],1)","v":"B"},"B1",0,84,"SINGOLA",0.254,1,{"$error":"#N/A"},"B",1]
[null,"EXTERNAL INSTALLATION","CORROSIVE","WITH SUPPORTS","50-120 cm","OVERNET1220B",122,{"$f":"+LEFT(databaseCombo[[#This Row],[TipoInst]],1)","v":"B"},"B1",82,104,"SINGOLA",0.254,1,{"$error":"#N/A"},"B",1]
[null,"EXTERNAL INSTALLATION","CORROSIVE","WITH SUPPORTS","50-120 cm","OVERNET1520B",152,{"$f":"+LEFT(databaseCombo[[#This Row],[TipoInst]],1)","v":"B"},"B1",102,134,"SINGOLA",0.254,1,{"$error":"#N/A"},"B",1]
[null,"EXTERNAL INSTALLATION","CORROSIVE","WITH SUPPORTS","50-120 cm","OVERNET1830B",183,{"$f":"+LEFT(databaseCombo[[#This Row],[TipoInst]],1)","v":"B"},"B1",132,165,"SINGOLA",0.254,1,{"$error":"#N/A"},"B",1]
[null,"EXTERNAL INSTALLATION","CORROSIVE","WITH SUPPORTS","50-120 cm","OVERNET2030B",203,{"$f":"+LEFT(databaseCombo[[#This Row],[TipoInst]],1)","v":"B"},"B1",163,185,"SINGOLA",0.254,1,{"$error":"#N/A"},"B",1]
[null,"EXTERNAL INSTALLATION","CORROSIVE","WITH SUPPORTS","50-120 cm","OVERNET2230B",223,{"$f":"+LEFT(databaseCombo[[#This Row],[TipoInst]],1)","v":"B"},"B1",183,205,"SINGOLA",0.254,1,{"$error":"#N/A"},"B",1]
[null,"EXTERNAL INSTALLATION","CORROSIVE","WITH SUPPORTS","50-120 cm","OVERNET2440B",244,{"$f":"+LEFT(databaseCombo[[#This Row],[TipoInst]],1)","v":"B"},"B1",203,225,"SINGOLA",0.254,1,{"$error":"#N/A"},"B",1]
[null,"EXTERNAL INSTALLATION","CORROSIVE","WITH SUPPORTS","50-120 cm","OVERNET1020B",102,{"$f":"+LEFT(databaseCombo[[#This Row],[TipoInst]],1)","v":"C"},"C1",0,77,"SINGOLA",0.254,1,{"$error":"#N/A"},"B",1]
[null,"EXTERNAL INSTALLATION","CORROSIVE","WITH SUPPORTS","50-120 cm","OVERNET1220B",122,{"$f":"+LEFT(databaseCombo[[#This Row],[TipoInst]],1)","v":"C"},"C1",73,97,"SINGOLA",0.254,1,{"$error":"#N/A"},"B",1]
[null,"EXTERNAL INSTALLATION","CORROSIVE","WITH SUPPORTS","50-120 cm","OVERNET1520B",152,{"$f":"+LEFT(databaseCombo[[#This Row],[TipoInst]],1)","v":"C"},"C1",93,123,"SINGOLA",0.254,1,{"$error":"#N/A"},"B",1]
[null,"EXTERNAL INSTALLATION","CORROSIVE","WITH SUPPORTS","50-120 cm","OVERNET1830B",183,{"$f":"+LEFT(databaseCombo[[#This Row],[TipoInst]],1)","v":"C"},"C1",119,158,"SINGOLA",0.254,1,{"$error":"#N/A"},"B",1]
[null,"EXTERNAL INSTALLATION","CORROSIVE","WITH SUPPORTS","50-120 cm","OVERNET2030B",203,{"$f":"+LEFT(databaseCombo[[#This Row],[TipoInst]],1)","v":"C"},"C1",153,178,"SINGOLA",0.254,1,{"$error":"#N/A"},"B",1]
[null,"EXTERNAL INSTALLATION","CORROSIVE","WITH SUPPORTS","50-120 cm","OVERNET2230B",223,{"$f":"+LEFT(databaseCombo[[#This Row],[TipoInst]],1)","v":"C"},"C1",173,198,"SINGOLA",0.254,1,{"$error":"#N/A"},"B",1]
[null,"EXTERNAL INSTALLATION","CORROSIVE","WITH SUPPORTS","50-120 cm","OVERNET2440B",244,{"$f":"+LEFT(databaseCombo[[#This Row],[TipoInst]],1)","v":"C"},"C1",193,218,"SINGOLA",0.254,1,{"$error":"#N/A"},"B",1]

{"sheet":"dbFissaggi","index":4,"n_rows":115,"n_cols":25,"rows_kept":115,"cut":false,"hidden":true,"merged":[]}
["Schema","supporti","Materiale","accessorio","FixSup","valFixSup","ExtraFix","FissaggioLat","FreqIntFix","raddoppio","Resume",null,null,null,{"$f":"+schemaSel","v":"A"},{"$f":"+Y7","v":"SKREVO7580"}]
["A",{"$f":"+tipoSupporti","v":"WITH SUPPORTS"},{"$f":"+concrete","v":"CONCRETE"},{"$f":"+nastroFor3","v":"LBB4030 40X3 MM"},"LBB3040","Lung",0,"SKREVO7580",1,0,{"$f":"dbFissaggi[[#This Row],[FissaggioLat]]","v":"SKREVO7580"},null,{"$f":"+_xlfn.UNIQUE(dbFissaggi[FissaggioLat])","v":"SKREVO7580"},null,{"$f":"+instSupSel","v":"WITH SUPPORTS"},"non muovere VBA"]
["A1","WITH SUPPORTS","CONCRETE","LBB4030 40X3 MM","LBB3040","Lung",0,"SKREVO7580",1,0,{"$f":"dbFissaggi[[#This Row],[FissaggioLat]]","v":"SKREVO7580"},null,"SKREVO75100",null,{"$f":"IF(OR(tipSubstruSel=metal,tipSubstruSel=concrete,tipSubstruSel=timber),tipSubstruSel,\"TRAP\")","v":"CONCRETE"}]
["A2","WITH SUPPORTS","CONCRETE","LBB4030 40X3 MM","LBB3040","Lung",0,"SKREVO7580",1,0,{"$f":"dbFissaggi[[#This Row],[FissaggioLat]]","v":"SKREVO7580"},null,"SBS6360",null,{"$f":"IF(tipoAcceSel=\"\",\"OVERNETBRAR\",tipoAcceSel)","v":"LBB4030 40X3 MM"}]
["B","WITH SUPPORTS","CONCRETE","LBB4030 40X3 MM","LBB3040","Lung",0,"SKREVO7580",1,0,{"$f":"dbFissaggi[[#This Row],[FissaggioLat]]","v":"SKREVO7580"},null,"SBS6385"]
["B1","WITH SUPPORTS","CONCRETE","LBB4030 40X3 MM","LBB3040","Lung",0,"SKREVO7580",1,0,{"$f":"dbFissaggi[[#This Row],[FissaggioLat]]","v":"SKREVO7580"},null,"HBSPEVO680",null,"Schema","Supporto","Materiale","Accessorio","FixSup","valFixSup","ExtraFix","FissaggioLat","FreqIntFix","raddoppio","Resume"]
["B2","WITH SUPPORTS","CONCRETE","LBB4030 40X3 MM","LBB3040","Lung",0,"SKREVO7580",1,0,{"$f":"dbFissaggi[[#This Row],[FissaggioLat]]","v":"SKREVO7580"},null,"HBS690",null,{"$f":"_xlfn.UNIQUE(_xlfn._xlws.FILTER(_xlfn.CHOOSECOLS(dbFissaggi[],1,2,3,4,5,6,7,8,9,10,11),((dbFissaggi[Schema]=O1)*(dbFissaggi[supporti]=O2)*(dbFissaggi[Materiale]=O3)*(dbFissaggi[accessorio]=O4))))","v":"A"},"WITH SUPPORTS","CONCRETE","LBB4030 40X3 MM","LBB3040","Lung",0,"SKREVO7580",1,0,"SKREVO7580"]
["C","WITH SUPPORTS","CONCRETE","LBB4030 40X3 MM","LBB3040","Lung",0,"SKREVO7580",1,0,{"$f":"dbFissaggi[[#This Row],[FissaggioLat]]","v":"SKREVO7580"},null,"HBS6100"]
["C1","WITH SUPPORTS","CONCRETE","LBB4030 40X3 MM","LBB3040","Lung",0,"SKREVO7580",1,0,{"$f":"dbFissaggi[[#This Row],[FissaggioLat]]","v":"SKREVO7580"},null,"PIASTRA"]
["C2","WITH SUPPORTS","CONCRETE","LBB4030 40X3 MM","LBB3040","Lung",0,"SKREVO7580",1,0,{"$f":"dbFissaggi[[#This Row],[FissaggioLat]]","v":"SKREVO7580"}]
["A","WITH SUPPORTS","CONCRETE",{"$f":"+listello","v":"BATTEN 40X50 MM"},0,0,0,"SKREVO75100",1,0,{"$f":"dbFissaggi[[#This Row],[FissaggioLat]]","v":"SKREVO75100"}]
["A1","WITH SUPPORTS","CONCRETE","BATTEN 40X50 MM",0,0,0,"SKREVO75100",1,0,{"$f":"dbFissaggi[[#This Row],[FissaggioLat]]","v":"SKREVO75100"}]
["A2","WITH SUPPORTS","CONCRETE","BATTEN 40X50 MM",0,0,0,"SKREVO75100",1,0,{"$f":"dbFissaggi[[#This Row],[FissaggioLat]]","v":"SKREVO75100"}]
["B","WITH SUPPORTS","CONCRETE","BATTEN 40X50 MM",0,0,0,"SKREVO75100",1,0,{"$f":"dbFissaggi[[#This Row],[FissaggioLat]]","v":"SKREVO75100"}]
["B1","WITH SUPPORTS","CONCRETE","BATTEN 40X50 MM",0,0,0,"SKREVO75100",1,0,{"$f":"dbFissaggi[[#This Row],[FissaggioLat]]","v":"SKREVO75100"}]
["B2","WITH SUPPORTS","CONCRETE","BATTEN 40X50 MM",0,0,0,"SKREVO75100",1,0,{"$f":"dbFissaggi[[#This Row],[FissaggioLat]]","v":"SKREVO75100"}]
["C","WITH SUPPORTS","CONCRETE","BATTEN 40X50 MM",0,0,0,"SKREVO75100",1,0,{"$f":"dbFissaggi[[#This Row],[FissaggioLat]]","v":"SKREVO75100"}]
["C1","WITH SUPPORTS","CONCRETE","BATTEN 40X50 MM",0,0,0,"SKREVO75100",1,0,{"$f":"dbFissaggi[[#This Row],[FissaggioLat]]","v":"SKREVO75100"}]
["C2","WITH SUPPORTS","CONCRETE","BATTEN 40X50 MM",0,0,0,"SKREVO75100",1,0,{"$f":"dbFissaggi[[#This Row],[FissaggioLat]]","v":"SKREVO75100"}]
["A","WITH SUPPORTS","CONCRETE",{"$f":"+omega","v":"OMEGA \"L\" 30X30X2 MM"},0,0,0,"SKREVO7580",1,0,{"$f":"dbFissaggi[[#This Row],[FissaggioLat]]","v":"SKREVO7580"}]
["A1","WITH SUPPORTS","CONCRETE","OMEGA \"L\" 30X30X2 MM",0,0,0,"SKREVO7580",1,0,{"$f":"dbFissaggi[[#This Row],[FissaggioLat]]","v":"SKREVO7580"}]
["A2","WITH SUPPORTS","CONCRETE","OMEGA \"L\" 30X30X2 MM",0,0,0,"SKREVO7580",1,0,{"$f":"dbFissaggi[[#This Row],[FissaggioLat]]","v":"SKREVO7580"}]
["B","WITH SUPPORTS","CONCRETE","OMEGA \"L\" 30X30X2 MM",0,0,0,"SKREVO7580",1,0,{"$f":"dbFissaggi[[#This Row],[FissaggioLat]]","v":"SKREVO7580"}]
["B1","WITH SUPPORTS","CONCRETE","OMEGA \"L\" 30X30X2 MM",0,0,0,"SKREVO7580",1,0,{"$f":"dbFissaggi[[#This Row],[FissaggioLat]]","v":"SKREVO7580"}]
["B2","WITH SUPPORTS","CONCRETE","OMEGA \"L\" 30X30X2 MM",0,0,0,"SKREVO7580",1,0,{"$f":"dbFissaggi[[#This Row],[FissaggioLat]]","v":"SKREVO7580"}]
["C","WITH SUPPORTS","CONCRETE","OMEGA \"L\" 30X30X2 MM",0,0,0,"SKREVO7580",1,0,{"$f":"dbFissaggi[[#This Row],[FissaggioLat]]","v":"SKREVO7580"}]
["C1","WITH SUPPORTS","CONCRETE","OMEGA \"L\" 30X30X2 MM",0,0,0,"SKREVO7580",1,0,{"$f":"dbFissaggi[[#This Row],[FissaggioLat]]","v":"SKREVO7580"}]
["C2","WITH SUPPORTS","CONCRETE","OMEGA \"L\" 30X30X2 MM",0,0,0,"SKREVO7580",1,0,{"$f":"dbFissaggi[[#This Row],[FissaggioLat]]","v":"SKREVO7580"}]
["A","WITH SUPPORTS","CONCRETE",{"$f":"+nastroFor2","v":"STEEL FLAT STRIP 30x3 mm"},0,"Lung",0,"SKREVO7580",1,0,{"$f":"dbFissaggi[[#This Row],[FissaggioLat]]","v":"SKREVO7580"}]
["A1","WITH SUPPORTS","CONCRETE","STEEL FLAT STRIP 30x3 mm",0,"Lung",0,"SKREVO7580",1,0,{"$f":"dbFissaggi[[#This Row],[FissaggioLat]]","v":"SKREVO7580"}]
["A2","WITH SUPPORTS","CONCRETE","STEEL FLAT STRIP 30x3 mm",0,"Lung",0,"SKREVO7580",1,0,{"$f":"dbFissaggi[[#This Row],[FissaggioLat]]","v":"SKREVO7580"}]
["B","WITH SUPPORTS","CONCRETE","STEEL FLAT STRIP 30x3 mm",0,"Lung",0,"SKREVO7580",1,0,{"$f":"dbFissaggi[[#This Row],[FissaggioLat]]","v":"SKREVO7580"}]
["B1","WITH SUPPORTS","CONCRETE","STEEL FLAT STRIP 30x3 mm",0,"Lung",0,"SKREVO7580",1,0,{"$f":"dbFissaggi[[#This Row],[FissaggioLat]]","v":"SKREVO7580"}]
["B2",{"$f":"+tipoSupporti","v":"WITH SUPPORTS"},"CONCRETE","STEEL FLAT STRIP 30x3 mm",0,"Lung",0,"SKREVO7580",1,0,{"$f":"dbFissaggi[[#This Row],[FissaggioLat]]","v":"SKREVO7580"}]
["C","WITH SUPPORTS","CONCRETE","STEEL FLAT STRIP 30x3 mm",0,"Lung",0,"SKREVO7580",1,0,{"$f":"dbFissaggi[[#This Row],[FissaggioLat]]","v":"SKREVO7580"}]
["C1","WITH SUPPORTS","CONCRETE","STEEL FLAT STRIP 30x3 mm",0,"Lung",0,"SKREVO7580",1,0,{"$f":"dbFissaggi[[#This Row],[FissaggioLat]]","v":"SKREVO7580"}]
["C2","WITH SUPPORTS","CONCRETE","STEEL FLAT STRIP 30x3 mm",0,"Lung",0,"SKREVO7580",1,0,{"$f":"dbFissaggi[[#This Row],[FissaggioLat]]","v":"SKREVO7580"}]
["A","WITH SUPPORTS",{"$f":"+metal","v":"STEEL"},{"$f":"+nastroFor3","v":"LBB4030 40X3 MM"},"LBB3040","Lung",0,"SBS6360",1,0,"MMS6335NET"]
["A1","WITH SUPPORTS","STEEL","LBB4030 40X3 MM","LBB3040","Lung",0,"SBS6360",1,0,"MMS6335NET"]
["A2","WITH SUPPORTS","STEEL","LBB4030 40X3 MM","LBB3040","Lung",0,"SBS6360",1,0,"MMS6335NET"]
["B","WITH SUPPORTS","STEEL","LBB4030 40X3 MM","LBB3040","Lung",0,"SBS6360",1,0,"MMS6335NET"]
["B1","WITH SUPPORTS","STEEL","LBB4030 40X3 MM","LBB3040","Lung",0,"SBS6360",1,0,"MMS6335NET"]
["B2","WITH SUPPORTS","STEEL","LBB4030 40X3 MM","LBB3040","Lung",0,"SBS6360",1,0,"MMS6335NET"]
["C","WITH SUPPORTS","STEEL","LBB4030 40X3 MM","LBB3040","Lung",0,"SBS6360",1,0,"MMS6335NET"]
["C1","WITH SUPPORTS","STEEL","LBB4030 40X3 MM","LBB3040","Lung",0,"SBS6360",1,0,"MMS6335NET"]
["C2","WITH SUPPORTS","STEEL","LBB4030 40X3 MM","LBB3040","Lung",0,"SBS6360",1,0,"MMS6335NET"]
["A","WITH SUPPORTS","STEEL",{"$f":"+listello","v":"BATTEN 40X50 MM"},0,0,0,"SBS6385",1,0,{"$f":"dbFissaggi[[#This Row],[FissaggioLat]]","v":"SBS6385"}]
["A1","WITH SUPPORTS","STEEL","BATTEN 40X50 MM",0,0,0,"SBS6385",1,0,{"$f":"dbFissaggi[[#This Row],[FissaggioLat]]","v":"SBS6385"}]
["A2","WITH SUPPORTS","STEEL","BATTEN 40X50 MM",0,0,0,"SBS6385",1,0,{"$f":"dbFissaggi[[#This Row],[FissaggioLat]]","v":"SBS6385"}]
["B","WITH SUPPORTS","STEEL","BATTEN 40X50 MM",0,0,0,"SBS6385",1,0,{"$f":"dbFissaggi[[#This Row],[FissaggioLat]]","v":"SBS6385"}]
["B1","WITH SUPPORTS","STEEL","BATTEN 40X50 MM",0,0,0,"SBS6385",1,0,{"$f":"dbFissaggi[[#This Row],[FissaggioLat]]","v":"SBS6385"}]
["B2","WITH SUPPORTS","STEEL","BATTEN 40X50 MM",0,0,0,"SBS6385",1,0,{"$f":"dbFissaggi[[#This Row],[FissaggioLat]]","v":"SBS6385"}]
["C","WITH SUPPORTS","STEEL","BATTEN 40X50 MM",0,0,0,"SBS6385",1,0,{"$f":"dbFissaggi[[#This Row],[FissaggioLat]]","v":"SBS6385"}]
["C1","WITH SUPPORTS","STEEL","BATTEN 40X50 MM",0,0,0,"SBS6385",1,0,{"$f":"dbFissaggi[[#This Row],[FissaggioLat]]","v":"SBS6385"}]
["C2","WITH SUPPORTS","STEEL","BATTEN 40X50 MM",0,0,0,"SBS6385",1,0,{"$f":"dbFissaggi[[#This Row],[FissaggioLat]]","v":"SBS6385"}]
["A","WITH SUPPORTS","STEEL",{"$f":"+omega","v":"OMEGA \"L\" 30X30X2 MM"},0,0,0,"SBS6360",1,0,"MMS6335NET"]
["A1","WITH SUPPORTS","STEEL","OMEGA \"L\" 30X30X2 MM",0,0,0,"SBS6360",1,0,"MMS6335NET"]
["A2","WITH SUPPORTS","STEEL","OMEGA \"L\" 30X30X2 MM",0,0,0,"SBS6360",1,0,"MMS6335NET"]
["B","WITH SUPPORTS","STEEL","OMEGA \"L\" 30X30X2 MM",0,0,0,"SBS6360",1,0,"MMS6335NET"]
["B1","WITH SUPPORTS","STEEL","OMEGA \"L\" 30X30X2 MM",0,0,0,"SBS6360",1,0,"MMS6335NET"]
["B2","WITH SUPPORTS","STEEL","OMEGA \"L\" 30X30X2 MM",0,0,0,"SBS6360",1,0,"MMS6335NET"]
["C","WITH SUPPORTS","STEEL","OMEGA \"L\" 30X30X2 MM",0,0,0,"SBS6360",1,0,"MMS6335NET"]
["C1","WITH SUPPORTS","STEEL","OMEGA \"L\" 30X30X2 MM",0,0,0,"SBS6360",1,0,"MMS6335NET"]
["C2","WITH SUPPORTS","STEEL","OMEGA \"L\" 30X30X2 MM",0,0,0,"SBS6360",1,0,"MMS6335NET"]
["A","WITH SUPPORTS","STEEL",{"$f":"+nastroFor2","v":"STEEL FLAT STRIP 30x3 mm"},0,"Lung",0,"SBS6360",1,0,"MMS6335NET"]
["A1",{"$f":"+tipoSupporti","v":"WITH SUPPORTS"},"STEEL","STEEL FLAT STRIP 30x3 mm",0,"Lung",0,"SBS6360",1,0,"MMS6335NET"]
["A2","WITH SUPPORTS","STEEL","STEEL FLAT STRIP 30x3 mm",0,"Lung",0,"SBS6360",1,0,"MMS6335NET"]
["B","WITH SUPPORTS","STEEL","STEEL FLAT STRIP 30x3 mm",0,"Lung",0,"SBS6360",1,0,"MMS6335NET"]
["B1","WITH SUPPORTS","STEEL","STEEL FLAT STRIP 30x3 mm",0,"Lung",0,"SBS6360",1,0,"MMS6335NET"]
["B2","WITH SUPPORTS","STEEL","STEEL FLAT STRIP 30x3 mm",0,"Lung",0,"SBS6360",1,0,"MMS6335NET"]
["C","WITH SUPPORTS","STEEL","STEEL FLAT STRIP 30x3 mm",0,"Lung",0,"SBS6360",1,0,"MMS6335NET"]
["C1","WITH SUPPORTS","STEEL","STEEL FLAT STRIP 30x3 mm",0,"Lung",0,"SBS6360",1,0,"MMS6335NET"]
["C2","WITH SUPPORTS","STEEL","STEEL FLAT STRIP 30x3 mm",0,"Lung",0,"SBS6360",1,0,"MMS6335NET"]
["A","WITH SUPPORTS",{"$f":"+timber","v":"TIMBER"},{"$f":"+nastroFor3","v":"LBB4030 40X3 MM"},"LBB3040","Lung",0,"HBSPEVO680",1,0,{"$f":"dbFissaggi[[#This Row],[FissaggioLat]]","v":"HBSPEVO680"}]
["A1","WITH SUPPORTS","TIMBER","LBB4030 40X3 MM","LBB3040","Lung",0,"HBSPEVO680",1,0,{"$f":"dbFissaggi[[#This Row],[FissaggioLat]]","v":"HBSPEVO680"}]
["A2","WITH SUPPORTS","TIMBER","LBB4030 40X3 MM","LBB3040","Lung",0,"HBSPEVO680",1,0,{"$f":"dbFissaggi[[#This Row],[FissaggioLat]]","v":"HBSPEVO680"}]
["B","WITH SUPPORTS","TIMBER","LBB4030 40X3 MM","LBB3040","Lung",0,"HBSPEVO680",1,0,{"$f":"dbFissaggi[[#This Row],[FissaggioLat]]","v":"HBSPEVO680"}]
["B1","WITH SUPPORTS","TIMBER","LBB4030 40X3 MM","LBB3040","Lung",0,"HBSPEVO680",1,0,{"$f":"dbFissaggi[[#This Row],[FissaggioLat]]","v":"HBSPEVO680"}]
["B2","WITH SUPPORTS","TIMBER","LBB4030 40X3 MM","LBB3040","Lung",0,"HBSPEVO680",1,0,{"$f":"dbFissaggi[[#This Row],[FissaggioLat]]","v":"HBSPEVO680"}]
["C","WITH SUPPORTS","TIMBER","LBB4030 40X3 MM","LBB3040","Lung",0,"HBSPEVO680",1,0,{"$f":"dbFissaggi[[#This Row],[FissaggioLat]]","v":"HBSPEVO680"}]
["C1","WITH SUPPORTS","TIMBER","LBB4030 40X3 MM","LBB3040","Lung",0,"HBSPEVO680",1,0,{"$f":"dbFissaggi[[#This Row],[FissaggioLat]]","v":"HBSPEVO680"}]
["C2","WITH SUPPORTS","TIMBER","LBB4030 40X3 MM","LBB3040","Lung",0,"HBSPEVO680",1,0,{"$f":"dbFissaggi[[#This Row],[FissaggioLat]]","v":"HBSPEVO680"}]
["A","WITH SUPPORTS","TIMBER",{"$f":"+listello","v":"BATTEN 40X50 MM"},0,0,0,"HBS690",1,0,{"$f":"dbFissaggi[[#This Row],[FissaggioLat]]","v":"HBS690"}]
["A1","WITH SUPPORTS","TIMBER","BATTEN 40X50 MM",0,0,0,"HBS690",1,0,{"$f":"dbFissaggi[[#This Row],[FissaggioLat]]","v":"HBS690"}]
["A2","WITH SUPPORTS","TIMBER","BATTEN 40X50 MM",0,0,0,"HBS690",1,0,{"$f":"dbFissaggi[[#This Row],[FissaggioLat]]","v":"HBS690"}]
["B","WITH SUPPORTS","TIMBER","BATTEN 40X50 MM",0,0,0,"HBS690",1,0,{"$f":"dbFissaggi[[#This Row],[FissaggioLat]]","v":"HBS690"}]
["B1","WITH SUPPORTS","TIMBER","BATTEN 40X50 MM",0,0,0,"HBS690",1,0,{"$f":"dbFissaggi[[#This Row],[FissaggioLat]]","v":"HBS690"}]
["B2","WITH SUPPORTS","TIMBER","BATTEN 40X50 MM",0,0,0,"HBS690",1,0,{"$f":"dbFissaggi[[#This Row],[FissaggioLat]]","v":"HBS690"}]
["C","WITH SUPPORTS","TIMBER","BATTEN 40X50 MM",0,0,0,"HBS6100",1,0,{"$f":"dbFissaggi[[#This Row],[FissaggioLat]]","v":"HBS6100"}]
["C1","WITH SUPPORTS","TIMBER","BATTEN 40X50 MM",0,0,0,"HBS6100",1,0,{"$f":"dbFissaggi[[#This Row],[FissaggioLat]]","v":"HBS6100"}]
["C2","WITH SUPPORTS","TIMBER","BATTEN 40X50 MM",0,0,0,"HBS6100",1,0,{"$f":"dbFissaggi[[#This Row],[FissaggioLat]]","v":"HBS6100"}]
["A","WITH SUPPORTS","TIMBER",{"$f":"+omega","v":"OMEGA \"L\" 30X30X2 MM"},0,0,0,"HBSPEVO680",1,0,{"$f":"dbFissaggi[[#This Row],[FissaggioLat]]","v":"HBSPEVO680"}]
["A1","WITH SUPPORTS","TIMBER","OMEGA \"L\" 30X30X2 MM",0,0,0,"HBSPEVO680",1,0,{"$f":"dbFissaggi[[#This Row],[FissaggioLat]]","v":"HBSPEVO680"}]
["A2","WITH SUPPORTS","TIMBER","OMEGA \"L\" 30X30X2 MM",0,0,0,"HBSPEVO680",1,0,{"$f":"dbFissaggi[[#This Row],[FissaggioLat]]","v":"HBSPEVO680"}]
["B","WITH SUPPORTS","TIMBER","OMEGA \"L\" 30X30X2 MM",0,0,0,"HBSPEVO680",1,0,{"$f":"dbFissaggi[[#This Row],[FissaggioLat]]","v":"HBSPEVO680"}]
["B1","WITH SUPPORTS","TIMBER","OMEGA \"L\" 30X30X2 MM",0,0,0,"HBSPEVO680",1,0,{"$f":"dbFissaggi[[#This Row],[FissaggioLat]]","v":"HBSPEVO680"}]
["B2","WITH SUPPORTS","TIMBER","OMEGA \"L\" 30X30X2 MM",0,0,0,"HBSPEVO680",1,0,{"$f":"dbFissaggi[[#This Row],[FissaggioLat]]","v":"HBSPEVO680"}]
["C",{"$f":"+tipoSupporti","v":"WITH SUPPORTS"},"TIMBER","OMEGA \"L\" 30X30X2 MM",0,0,0,"HBSPEVO680",1,0,{"$f":"dbFissaggi[[#This Row],[FissaggioLat]]","v":"HBSPEVO680"}]
["C1","WITH SUPPORTS","TIMBER","OMEGA \"L\" 30X30X2 MM",0,0,0,"HBSPEVO680",1,0,{"$f":"dbFissaggi[[#This Row],[FissaggioLat]]","v":"HBSPEVO680"}]
["C2","WITH SUPPORTS","TIMBER","OMEGA \"L\" 30X30X2 MM",0,0,0,"HBSPEVO680",1,0,{"$f":"dbFissaggi[[#This Row],[FissaggioLat]]","v":"HBSPEVO680"}]
["A","WITH SUPPORTS","TIMBER",{"$f":"+nastroFor2","v":"STEEL FLAT STRIP 30x3 mm"},0,"Lung",0,"HBSPEVO680",1,0,{"$f":"dbFissaggi[[#This Row],[FissaggioLat]]","v":"HBSPEVO680"}]
["A1","WITH SUPPORTS","TIMBER","STEEL FLAT STRIP 30x3 mm",0,"Lung",0,"HBSPEVO680",1,0,{"$f":"dbFissaggi[[#This Row],[FissaggioLat]]","v":"HBSPEVO680"}]
["A2","WITH SUPPORTS","TIMBER","STEEL FLAT STRIP 30x3 mm",0,"Lung",0,"HBSPEVO680",1,0,{"$f":"dbFissaggi[[#This Row],[FissaggioLat]]","v":"HBSPEVO680"}]
["B","WITH SUPPORTS","TIMBER","STEEL FLAT STRIP 30x3 mm",0,"Lung",0,"HBSPEVO680",1,0,{"$f":"dbFissaggi[[#This Row],[FissaggioLat]]","v":"HBSPEVO680"}]
["B1","WITH SUPPORTS","TIMBER","STEEL FLAT STRIP 30x3 mm",0,"Lung",0,"HBSPEVO680",1,0,{"$f":"dbFissaggi[[#This Row],[FissaggioLat]]","v":"HBSPEVO680"}]
["B2","WITH SUPPORTS","TIMBER","STEEL FLAT STRIP 30x3 mm",0,"Lung",0,"HBSPEVO680",1,0,{"$f":"dbFissaggi[[#This Row],[FissaggioLat]]","v":"HBSPEVO680"}]
["C","WITH SUPPORTS","TIMBER","STEEL FLAT STRIP 30x3 mm",0,"Lung",0,"HBSPEVO680",1,0,{"$f":"dbFissaggi[[#This Row],[FissaggioLat]]","v":"HBSPEVO680"}]
["C1","WITH SUPPORTS","TIMBER","STEEL FLAT STRIP 30x3 mm",0,"Lung",0,"HBSPEVO680",1,0,{"$f":"dbFissaggi[[#This Row],[FissaggioLat]]","v":"HBSPEVO680"}]
["C2","WITH SUPPORTS","TIMBER","STEEL FLAT STRIP 30x3 mm",0,"Lung",0,"HBSPEVO680",1,0,{"$f":"dbFissaggi[[#This Row],[FissaggioLat]]","v":"HBSPEVO680"}]
["D",{"$f":"+tipoSandwich","v":"ON TRAPEZOIDAL SHEET METAL"},"TRAP","OVERNETBRAR","RIV7723",0,"OVERNETEPDM","PIASTRA",2,0,{"$f":"dbFissaggi[[#This Row],[accessorio]]&\" + \"&dbFissaggi[[#This Row],[FixSup]]","v":"OVERNETBRAR + RIV7723"}]
["D1","ON TRAPEZOIDAL SHEET METAL","TRAP","OVERNETBRAR","RIV7728",0,"OVERNETEPDM","PIASTRA",2,0,{"$f":"dbFissaggi[[#This Row],[accessorio]]&\" + \"&dbFissaggi[[#This Row],[FixSup]]","v":"OVERNETBRAR + RIV7728"}]
["D2","ON TRAPEZOIDAL SHEET METAL","TRAP","OVERNETBRAR","RIV7728",0,"OVERNETEPDM","PIASTRA",2,0,{"$f":"dbFissaggi[[#This Row],[accessorio]]&\" + \"&dbFissaggi[[#This Row],[FixSup]]","v":"OVERNETBRAR + RIV7728"}]
["E","ON TRAPEZOIDAL SHEET METAL","TRAP","OVERNETBRAR","RIV7728",0,"OVERNETEPDM","PIASTRA",2,0,{"$f":"dbFissaggi[[#This Row],[accessorio]]&\" + \"&dbFissaggi[[#This Row],[FixSup]]","v":"OVERNETBRAR + RIV7728"}]
["E1","ON TRAPEZOIDAL SHEET METAL","TRAP","OVERNETBRAR","RIV7728",0,"OVERNETEPDM","PIASTRA",2,0,{"$f":"dbFissaggi[[#This Row],[accessorio]]&\" + \"&dbFissaggi[[#This Row],[FixSup]]","v":"OVERNETBRAR + RIV7728"}]
["E2","ON TRAPEZOIDAL SHEET METAL","TRAP","OVERNETBRAR","RIV7728",0,"OVERNETEPDM","PIASTRA",2,0,{"$f":"dbFissaggi[[#This Row],[accessorio]]&\" + \"&dbFissaggi[[#This Row],[FixSup]]","v":"OVERNETBRAR + RIV7728"}]

{"sheet":"dbMat","index":5,"n_rows":365,"n_cols":25,"rows_kept":365,"cut":false,"hidden":true,"merged":[]}
["code","Qt","Sconto","Qtmin","QtconMin","Peso","SubWeight","rif1","rif2",{"$nulls":7},"Indice","Fissaggi","Accessori","Qt ACC","Fissaggi","Qt Fix",null,"OVERSPRING","OVERSTAPLE"]
["OVERNET1020B",{"$f":"+OFFSET(listaReti!$B$2,0,dbMat[[#This Row],[rif1]])+OFFSET(listaReti!$B$2,0,dbMat[[#This Row],[rif2]])","v":0},{"$f":"IF(isRbUser=TRUE,disc,0)","v":0},1,{"$f":"+_xlfn.CEILING.MATH(dbMat[[#This Row],[Qt]],dbMat[[#This Row],[Qtmin]])","v":0},22,{"$f":"+dbMat[[#This Row],[QtconMin]]*dbMat[[#This Row],[Peso]]","v":0},0,18,{"$nulls":4},2,11,{"$f":"IF(INDEX(listaRetiRange,N2,O2):INDEX(listaRetiRange,N3,O3)=\"\",\"\",(INDEX(listaRetiRange,N2,O2):INDEX(listaRetiRange,N3,O3)))","v":"OVERNET1020B"},0,0,0,0,0,0,"limite",{"$f":"+SUM(X3:X400)","v":0},{"$f":"+SUM(Y3:Y400)","v":0}]
["OVERNET1220B",{"$f":"+OFFSET(listaReti!$B$2,0,dbMat[[#This Row],[rif1]])+OFFSET(listaReti!$B$2,0,dbMat[[#This Row],[rif2]])","v":0},0,1,{"$f":"+_xlfn.CEILING.MATH(dbMat[[#This Row],[Qt]],dbMat[[#This Row],[Qtmin]])","v":0},25,{"$f":"+dbMat[[#This Row],[QtconMin]]*dbMat[[#This Row],[Peso]]","v":0},{"$f":"38+H2","v":38},{"$f":"+dbMat[[#This Row],[rif1]]+18","v":56},null,null,null,7,14,{"$f":"+O2+M3","v":18},1,"",0,"",0,"",0,"limite"]
["OVERNET1520B",{"$f":"+OFFSET(listaReti!$B$2,0,dbMat[[#This Row],[rif1]])+OFFSET(listaReti!$B$2,0,dbMat[[#This Row],[rif2]])","v":0},0,1,{"$f":"+_xlfn.CEILING.MATH(dbMat[[#This Row],[Qt]],dbMat[[#This Row],[Qtmin]])","v":0},30,{"$f":"+dbMat[[#This Row],[QtconMin]]*dbMat[[#This Row],[Peso]]","v":0},{"$f":"38+H3","v":76},{"$f":"+dbMat[[#This Row],[rif1]]+18","v":94},{"$nulls":6},"","",0,"",0,"",0,"limite"]
["OVERNET1830B",{"$f":"+OFFSET(listaReti!$B$2,0,dbMat[[#This Row],[rif1]])+OFFSET(listaReti!$B$2,0,dbMat[[#This Row],[rif2]])","v":0},0,1,{"$f":"+_xlfn.CEILING.MATH(dbMat[[#This Row],[Qt]],dbMat[[#This Row],[Qtmin]])","v":0},36,{"$f":"+dbMat[[#This Row],[QtconMin]]*dbMat[[#This Row],[Peso]]","v":0},114,{"$f":"+dbMat[[#This Row],[rif1]]+18","v":132},{"$nulls":6},"","",0,"",0,"",0,"limite"]
["OVERNET2030B",{"$f":"+OFFSET(listaReti!$B$2,0,dbMat[[#This Row],[rif1]])+OFFSET(listaReti!$B$2,0,dbMat[[#This Row],[rif2]])","v":0},0,1,{"$f":"+_xlfn.CEILING.MATH(dbMat[[#This Row],[Qt]],dbMat[[#This Row],[Qtmin]])","v":0},40,{"$f":"+dbMat[[#This Row],[QtconMin]]*dbMat[[#This Row],[Peso]]","v":0},152,{"$f":"+dbMat[[#This Row],[rif1]]+18","v":170},{"$nulls":6},"","",0,"",0,"",0,"limite"]
["OVERNET2230B",{"$f":"+OFFSET(listaReti!$B$2,0,dbMat[[#This Row],[rif1]])+OFFSET(listaReti!$B$2,0,dbMat[[#This Row],[rif2]])","v":0},0,1,{"$f":"+_xlfn.CEILING.MATH(dbMat[[#This Row],[Qt]],dbMat[[#This Row],[Qtmin]])","v":0},45,{"$f":"+dbMat[[#This Row],[QtconMin]]*dbMat[[#This Row],[Peso]]","v":0},190,{"$f":"+dbMat[[#This Row],[rif1]]+18","v":208},{"$nulls":6},"","",0,"",0,"",0,"limite"]
["OVERNET2440B",{"$f":"+OFFSET(listaReti!$B$2,0,dbMat[[#This Row],[rif1]])+OFFSET(listaReti!$B$2,0,dbMat[[#This Row],[rif2]])","v":0},0,1,{"$f":"+_xlfn.CEILING.MATH(dbMat[[#This Row],[Qt]],dbMat[[#This Row],[Qtmin]])","v":0},50,{"$f":"+dbMat[[#This Row],[QtconMin]]*dbMat[[#This Row],[Peso]]","v":0},228,{"$f":"+dbMat[[#This Row],[rif1]]+18","v":246},{"$nulls":6},"","",0,"",0,"",0,"limite"]
["RONET1020",{"$f":"+OFFSET(listaReti!$B$2,0,dbMat[[#This Row],[rif1]])+OFFSET(listaReti!$B$2,0,dbMat[[#This Row],[rif2]])","v":0},0,1,{"$f":"+_xlfn.CEILING.MATH(dbMat[[#This Row],[Qt]],dbMat[[#This Row],[Qtmin]])","v":0},22.515999999999998,{"$f":"+dbMat[[#This Row],[QtconMin]]*dbMat[[#This Row],[Peso]]","v":0},{"$f":"38+H8","v":266},{"$f":"+dbMat[[#This Row],[rif1]]+18","v":284},{"$nulls":6},"","",0,"",0,"",0,"limite"]
["RONET1220",{"$f":"+OFFSET(listaReti!$B$2,0,dbMat[[#This Row],[rif1]])+OFFSET(listaReti!$B$2,0,dbMat[[#This Row],[rif2]])","v":0},0,1,{"$f":"+_xlfn.CEILING.MATH(dbMat[[#This Row],[Qt]],dbMat[[#This Row],[Qtmin]])","v":0},25.489000000000001,{"$f":"+dbMat[[#This Row],[QtconMin]]*dbMat[[#This Row],[Peso]]","v":0},304,{"$f":"+dbMat[[#This Row],[rif1]]+18","v":322},{"$nulls":6},"","",0,"",0,"",0,"limite"]
["RONET1520",{"$f":"+OFFSET(listaReti!$B$2,0,dbMat[[#This Row],[rif1]])+OFFSET(listaReti!$B$2,0,dbMat[[#This Row],[rif2]])","v":0},0,1,{"$f":"+_xlfn.CEILING.MATH(dbMat[[#This Row],[Qt]],dbMat[[#This Row],[Qtmin]])","v":0},30.239000000000001,{"$f":"+dbMat[[#This Row],[QtconMin]]*dbMat[[#This Row],[Peso]]","v":0},342,{"$f":"+dbMat[[#This Row],[rif1]]+18","v":360},{"$nulls":6},"","",0,"",0,"",0,"limite"]
["RONET1830",{"$f":"+OFFSET(listaReti!$B$2,0,dbMat[[#This Row],[rif1]])+OFFSET(listaReti!$B$2,0,dbMat[[#This Row],[rif2]])","v":0},0,1,{"$f":"+_xlfn.CEILING.MATH(dbMat[[#This Row],[Qt]],dbMat[[#This Row],[Qtmin]])","v":0},36.5,{"$f":"+dbMat[[#This Row],[QtconMin]]*dbMat[[#This Row],[Peso]]","v":0},380,{"$f":"+dbMat[[#This Row],[rif1]]+18","v":398},{"$nulls":6},"","",0,"",0,"",0,"limite"]
["RONET2030",{"$f":"+OFFSET(listaReti!$B$2,0,dbMat[[#This Row],[rif1]])+OFFSET(listaReti!$B$2,0,dbMat[[#This Row],[rif2]])","v":0},0,1,{"$f":"+_xlfn.CEILING.MATH(dbMat[[#This Row],[Qt]],dbMat[[#This Row],[Qtmin]])","v":0},40,{"$f":"+dbMat[[#This Row],[QtconMin]]*dbMat[[#This Row],[Peso]]","v":0},418,{"$f":"+dbMat[[#This Row],[rif1]]+18","v":436},{"$nulls":6},"","",0,"",0,"",0,"limite"]
["RONET2230",{"$f":"+OFFSET(listaReti!$B$2,0,dbMat[[#This Row],[rif1]])+OFFSET(listaReti!$B$2,0,dbMat[[#This Row],[rif2]])","v":0},0,1,{"$f":"+_xlfn.CEILING.MATH(dbMat[[#This Row],[Qt]],dbMat[[#This Row],[Qtmin]])","v":0},43.5,{"$f":"+dbMat[[#This Row],[QtconMin]]*dbMat[[#This Row],[Peso]]","v":0},456,{"$f":"+dbMat[[#This Row],[rif1]]+18","v":474},{"$nulls":6},"","",0,"",0,"",0,"limite"]
["RONET2530",{"$f":"+OFFSET(listaReti!$B$2,0,dbMat[[#This Row],[rif1]])+OFFSET(listaReti!$B$2,0,dbMat[[#This Row],[rif2]])","v":0},0,1,{"$f":"+_xlfn.CEILING.MATH(dbMat[[#This Row],[Qt]],dbMat[[#This Row],[Qtmin]])","v":0},40,{"$f":"+dbMat[[#This Row],[QtconMin]]*dbMat[[#This Row],[Peso]]","v":0},494,{"$f":"+dbMat[[#This Row],[rif1]]+18","v":512},null,null,null,18,2,{"$f":"+M15+O2","v":29},{"$f":"IF(INDEX(listaRetiRange,N15,O15):INDEX(listaRetiRange,N16,O16)=\"\",\"\",(INDEX(listaRetiRange,N15,O15):INDEX(listaRetiRange,N16,O16)))","v":"OVERNET1020B"},0,0,0,0,0,0,"limite",0,0]
["OVERNETBRAR",{"$f":"+B30","v":0},{"$f":"IF(isRbUser=TRUE,discFix,0)","v":0},100,{"$f":"+_xlfn.CEILING.MATH(dbMat[[#This Row],[Qt]],dbMat[[#This Row],[Qtmin]])","v":0},0.04,{"$f":"+dbMat[[#This Row],[QtconMin]]*dbMat[[#This Row],[Peso]]","v":0},{"$nulls":4},2,7,14,{"$f":"+O15+M16+L16","v":38},2,"",0,"",0,"",0,"limite","",""]
["OVERNETEPDM",{"$f":"+B16","v":0},0,100,{"$f":"+_xlfn.CEILING.MATH(dbMat[[#This Row],[Qt]],dbMat[[#This Row],[Qtmin]])","v":0},2.2000000000000001E-3,{"$f":"+dbMat[[#This Row],[QtconMin]]*dbMat[[#This Row],[Peso]]","v":0},{"$nulls":8},"","",0,"",0,"",0,"limite","",""]
["RIV7728",{"$f":"+B16*2","v":0},0,300,{"$f":"+_xlfn.CEILING.MATH(dbMat[[#This Row],[Qt]],dbMat[[#This Row],[Qtmin]])","v":0},7.1000000000000004E-3,{"$f":"+dbMat[[#This Row],[QtconMin]]*dbMat[[#This Row],[Peso]]","v":0},{"$nulls":8},"","",0,"",0,"",0,"limite","",""]
["HBSPEVO680",{"$f":"SUMIF($U:$U, dbMat[[#This Row],[code]], $R:$R)","v":0},0,100,{"$f":"+_xlfn.CEILING.MATH(dbMat[[#This Row],[Qt]],dbMat[[#This Row],[Qtmin]])","v":0},1.11E-2,{"$f":"+dbMat[[#This Row],[QtconMin]]*dbMat[[#This Row],[Peso]]","v":0},{"$nulls":8},"","",0,"",0,"",0,"limite","",""]
["HBS690",{"$f":"SUMIF($U:$U, dbMat[[#This Row],[code]], $R:$R)","v":0},0,100,{"$f":"+_xlfn.CEILING.MATH(dbMat[[#This Row],[Qt]],dbMat[[#This Row],[Qtmin]])","v":0},1.0999999999999999E-2,{"$f":"+dbMat[[#This Row],[QtconMin]]*dbMat[[#This Row],[Peso]]","v":0},{"$nulls":8},"","",0,"",0,"",0,"limite","",""]
["HBS6100",{"$f":"SUMIF($U:$U, dbMat[[#This Row],[code]], $R:$R)","v":0},0,100,{"$f":"+_xlfn.CEILING.MATH(dbMat[[#This Row],[Qt]],dbMat[[#This Row],[Qtmin]])","v":0},1.35E-2,{"$f":"+dbMat[[#This Row],[QtconMin]]*dbMat[[#This Row],[Peso]]","v":0},{"$nulls":8},"","",0,"",0,"",0,"limite","",""]
["SKREVO7580",{"$f":"SUMIF($U:$U, dbMat[[#This Row],[code]], $R:$R)","v":0},0,50,{"$f":"+_xlfn.CEILING.MATH(dbMat[[#This Row],[Qt]],dbMat[[#This Row],[Qtmin]])","v":0},2.23E-2,{"$f":"+dbMat[[#This Row],[QtconMin]]*dbMat[[#This Row],[Peso]]","v":0},{"$nulls":8},"","",0,"",0,"",0,"limite","",""]
["SKREVO75100",{"$f":"SUMIF($U:$U, dbMat[[#This Row],[code]], $R:$R)","v":0},0,50,{"$f":"+_xlfn.CEILING.MATH(dbMat[[#This Row],[Qt]],dbMat[[#This Row],[Qtmin]])","v":0},2.58E-2,{"$f":"+dbMat[[#This Row],[QtconMin]]*dbMat[[#This Row],[Peso]]","v":0},{"$nulls":8},"","",0,"",0,"",0,"limite","",""]
["MMS6335NET",{"$f":"SUMIF($U:$U, dbMat[[#This Row],[code]], $V:$V)","v":0},0,200,{"$f":"+_xlfn.CEILING.MATH(dbMat[[#This Row],[Qt]],dbMat[[#This Row],[Qtmin]])","v":0},1.15E-2,{"$f":"+dbMat[[#This Row],[QtconMin]]*dbMat[[#This Row],[Peso]]","v":0},{"$nulls":8},"","",0,"",0,"",0,"limite","",""]
["SBS6385",{"$f":"SUMIF($U:$U, dbMat[[#This Row],[code]], $V:$V)","v":0},0,100,{"$f":"+_xlfn.CEILING.MATH(dbMat[[#This Row],[Qt]],dbMat[[#This Row],[Qtmin]])","v":0},1.52E-2,{"$f":"+dbMat[[#This Row],[QtconMin]]*dbMat[[#This Row],[Peso]]","v":0},{"$nulls":8},"","",0,"",0,"",0,"limite","",""]
["OVERSPRING",{"$f":"+X2","v":0},0,450,{"$f":"+_xlfn.CEILING.MATH(dbMat[[#This Row],[Qt]],dbMat[[#This Row],[Qtmin]])","v":0},0.05,{"$f":"+dbMat[[#This Row],[QtconMin]]*dbMat[[#This Row],[Peso]]","v":0},{"$nulls":8},"","",0,"",0,"",0,"limite","",""]
["OVERSTAPLE",{"$f":"+Y2","v":0},0,1000,{"$f":"+_xlfn.CEILING.MATH(dbMat[[#This Row],[Qt]],dbMat[[#This Row],[Qtmin]])","v":0},0.01,{"$f":"+dbMat[[#This Row],[QtconMin]]*dbMat[[#This Row],[Peso]]","v":0},{"$nulls":8},"","",0,"",0,"",0,"limite","",""]
["WREN",0,0,1,{"$f":"+_xlfn.CEILING.MATH(dbMat[[#This Row],[Qt]],dbMat[[#This Row],[Qtmin]])","v":0},0.5,{"$f":"+dbMat[[#This Row],[QtconMin]]*dbMat[[#This Row],[Peso]]","v":0},{"$nulls":5},20,2,{"$f":"+O15+M28","v":49},{"$f":"IF(INDEX(listaRetiRange,N28,O28):INDEX(listaRetiRange,N29,O29)=\"\",\"\",(INDEX(listaRetiRange,N28,O28):INDEX(listaRetiRange,N29,O29)))","v":"OVERNET1220B"},0,0,0,0,0,0,"limite"]
["LBB4030",{"$f":"_xlfn.CEILING.MATH((SUMIF($S:$S, nastroFor3, $T:$T))/50,1)","v":0},0,1,{"$f":"+_xlfn.CEILING.MATH(dbMat[[#This Row],[Qt]],dbMat[[#This Row],[Qtmin]])","v":0},44,{"$f":"+dbMat[[#This Row],[QtconMin]]*dbMat[[#This Row],[Peso]]","v":0},{"$nulls":5},7,14,{"$f":"+O28+M29","v":56},1,"",0,"",0,"",0,"limite"]
["PIASTRA",{"$f":"SUMIF($U:$U,A30, $R:$R)","v":0},{"$nulls":13},"","",0,"",0,"",0,"limite"]
[{"$nulls":15},"","",0,"",0,"",0,"limite"]
["Codice ","Qt","Sconto","Peso",null,{"$f":"IF(AND(_xlfn.UNIQUE(Q:R)=\"\",_xlfn.UNIQUE(Q:R)=\"0\"),\"\",_xlfn.UNIQUE(Q:R))","v":"Indice"},"Fissaggi",{"$nulls":8},"","",0,"",0,"",0,"limite"]
[{"$f":"IFERROR(+_xlfn._xlws.FILTER(_xlfn.CHOOSECOLS(dbMat[],1,5,3,7),dbMat[Qt]<>0),0)","v":0},{"$nulls":4},0,0,{"$nulls":8},"","",0,"",0,"",0,"limite"]
[{"$nulls":5},"",0,{"$nulls":8},"","",0,"",0,"",0,"limite"]
[{"$nulls":5},0,0,{"$nulls":8},"","",0,"",0,"",0,"limite"]
[{"$nulls":15},"","",0,"",0,"",0,"limite"]
[{"$nulls":15},"","",0,"",0,"",0,"limite"]
[{"$nulls":15},"","",0,"",0,"",0,"limite"]
[{"$nulls":15},"","",0,"",0,"",0,"limite"]
[{"$nulls":15},"","",0,"",0,"",0,"limite"]
[{"$nulls":12},18,2,{"$f":"+M41+O28","v":67},{"$f":"IF(INDEX(listaRetiRange,N41,O41):INDEX(listaRetiRange,N42,O42)=\"\",\"\",(INDEX(listaRetiRange,N41,O41):INDEX(listaRetiRange,N42,O42)))","v":"OVERNET1220B"},0,0,0,0,0,0,"limite",0,0]
[{"$nulls":11},2,7,14,{"$f":"+O41+M42+L42","v":76},2,"",0,"",0,"",0,"limite","",""]
[{"$nulls":15},"","",0,"",0,"",0,"limite","",""]
[{"$nulls":15},"","",0,"",0,"",0,"limite","",""]
[{"$nulls":15},"","",0,"",0,"",0,"limite","",""]
[{"$nulls":15},"","",0,"",0,"",0,"limite","",""]
[{"$nulls":15},"","",0,"",0,"",0,"limite","",""]
[{"$nulls":15},"","",0,"",0,"",0,"limite","",""]
[{"$nulls":15},"","",0,"",0,"",0,"limite","",""]
[{"$nulls":15},"","",0,"",0,"",0,"limite","",""]
[{"$nulls":15},"","",0,"",0,"",0,"limite","",""]
[{"$nulls":15},"","",0,"",0,"",0,"limite","",""]
[{"$nulls":15},"","",0,"",0,"",0,"limite","",""]
[{"$nulls":12},20,2,{"$f":"+O41+M54","v":87},{"$f":"IF(INDEX(listaRetiRange,N54,O54):INDEX(listaRetiRange,N55,O55)=\"\",\"\",(INDEX(listaRetiRange,N54,O54):INDEX(listaRetiRange,N55,O55)))","v":"OVERNET1520B"},0,0,0,0,0,0,"limite"]
[{"$nulls":12},7,14,{"$f":"+O54+M55","v":94},1,"",0,"",0,"",0,"limite"]
[{"$nulls":15},"","",0,"",0,"",0,"limite"]
[{"$nulls":15},"","",0,"",0,"",0,"limite"]
[{"$nulls":15},"","",0,"",0,"",0,"limite"]
[{"$nulls":15},"","",0,"",0,"",0,"limite"]
[{"$nulls":15},"","",0,"",0,"",0,"limite"]
[{"$nulls":15},"","",0,"",0,"",0,"limite"]
[{"$nulls":15},"","",0,"",0,"",0,"limite"]
[{"$f":"+omega","v":"OMEGA \"L\" 30X30X2 MM"},{"$f":"SUMIF($S:$S,A63, $T:$T)","v":0},{"$nulls":13},"","",0,"",0,"",0,"limite"]
[{"$f":"+nastroFor2","v":"STEEL FLAT STRIP 30x3 mm"},{"$f":"SUMIF($S:$S,A64, $T:$T)","v":0},{"$nulls":13},"","",0,"",0,"",0,"limite"]
[{"$f":"+listello","v":"BATTEN 40X50 MM"},0,{"$nulls":13},"","",0,"",0,"",0,"limite"]
[{"$nulls":15},"","",0,"",0,"",0,"limite"]
[{"$nulls":12},18,2,{"$f":"+M67+O54","v":105},{"$f":"IF(INDEX(listaRetiRange,N67,O67):INDEX(listaRetiRange,N68,O68)=\"\",\"\",(INDEX(listaRetiRange,N67,O67):INDEX(listaRetiRange,N68,O68)))","v":"OVERNET1520B"},0,0,0,0,0,0,"limite",0,0]
[{"$f":"IFERROR(+_xlfn._xlws.FILTER(_xlfn.CHOOSECOLS(A63:B65,1,2),B63:B65<>0),0)","v":0},{"$nulls":10},2,7,14,{"$f":"+O67+M68+L68","v":114},2,"",0,"",0,"",0,"limite","",""]
[{"$nulls":15},"","",0,"",0,"",0,"limite","",""]
[{"$nulls":15},"","",0,"",0,"",0,"limite","",""]
[{"$nulls":15},"","",0,"",0,"",0,"limite","",""]
[{"$nulls":15},"","",0,"",0,"",0,"limite","",""]
[{"$nulls":15},"","",0,"",0,"",0,"limite","",""]
[{"$nulls":15},"","",0,"",0,"",0,"limite","",""]
[{"$nulls":15},"","",0,"",0,"",0,"limite","",""]
[{"$nulls":15},"","",0,"",0,"",0,"limite","",""]
[{"$nulls":15},"","",0,"",0,"",0,"limite","",""]
[{"$nulls":15},"","",0,"",0,"",0,"limite","",""]
[{"$nulls":15},"","",0,"",0,"",0,"limite","",""]
[{"$nulls":12},20,2,{"$f":"+O67+M80","v":125},{"$f":"IF(INDEX(listaRetiRange,N80,O80):INDEX(listaRetiRange,N81,O81)=\"\",\"\",(INDEX(listaRetiRange,N80,O80):INDEX(listaRetiRange,N81,O81)))","v":"OVERNET1830B"},0,0,0,0,0,0,"limite"]
[{"$nulls":12},7,14,{"$f":"+O80+M81","v":132},1,"",0,"",0,"",0,"limite"]
[{"$nulls":15},"","",0,"",0,"",0,"limite"]
[{"$nulls":15},"","",0,"",0,"",0,"limite"]
[{"$nulls":15},"","",0,"",0,"",0,"limite"]
[{"$nulls":15},"","",0,"",0,"",0,"limite"]
[{"$nulls":15},"","",0,"",0,"",0,"limite"]
[{"$nulls":15},"","",0,"",0,"",0,"limite"]
[{"$nulls":15},"","",0,"",0,"",0,"limite"]
[{"$nulls":15},"","",0,"",0,"",0,"limite"]
[{"$nulls":15},"","",0,"",0,"",0,"limite"]
[{"$nulls":15},"","",0,"",0,"",0,"limite"]
[{"$nulls":15},"","",0,"",0,"",0,"limite"]
[{"$nulls":12},18,2,{"$f":"+M93+O80","v":143},{"$f":"IF(INDEX(listaRetiRange,N93,O93):INDEX(listaRetiRange,N94,O94)=\"\",\"\",(INDEX(listaRetiRange,N93,O93):INDEX(listaRetiRange,N94,O94)))","v":"OVERNET1830B"},0,0,0,0,0,0,"limite",0,0]
[{"$nulls":11},2,7,14,{"$f":"+O93+M94+L94","v":152},2,"",0,"",0,"",0,"limite","",""]
[{"$nulls":15},"","",0,"",0,"",0,"limite","",""]
[{"$nulls":15},"","",0,"",0,"",0,"limite","",""]
[{"$nulls":15},"","",0,"",0,"",0,"limite","",""]
[{"$nulls":15},"","",0,"",0,"",0,"limite","",""]
[{"$nulls":15},"","",0,"",0,"",0,"limite","",""]
[{"$nulls":15},"","",0,"",0,"",0,"limite","",""]
[{"$nulls":15},"","",0,"",0,"",0,"limite","",""]
[{"$nulls":15},"","",0,"",0,"",0,"limite","",""]
[{"$nulls":15},"","",0,"",0,"",0,"limite","",""]
[{"$nulls":15},"","",0,"",0,"",0,"limite","",""]
[{"$nulls":15},"","",0,"",0,"",0,"limite","",""]
[{"$nulls":12},20,2,{"$f":"+O93+M106","v":163},{"$f":"IF(INDEX(listaRetiRange,N106,O106):INDEX(listaRetiRange,N107,O107)=\"\",\"\",(INDEX(listaRetiRange,N106,O106):INDEX(listaRetiRange,N107,O107)))","v":"OVERNET2030B"},0,0,0,0,0,0,"limite"]
[{"$nulls":12},7,14,{"$f":"+O106+M107","v":170},1,"",0,"",0,"",0,"limite"]
[{"$nulls":15},"","",0,"",0,"",0,"limite"]
[{"$nulls":15},"","",0,"",0,"",0,"limite"]
[{"$nulls":15},"","",0,"",0,"",0,"limite"]
[{"$nulls":15},"","",0,"",0,"",0,"limite"]
[{"$nulls":15},"","",0,"",0,"",0,"limite"]
[{"$nulls":15},"","",0,"",0,"",0,"limite"]
[{"$nulls":15},"","",0,"",0,"",0,"limite"]
[{"$nulls":15},"","",0,"",0,"",0,"limite"]
[{"$nulls":15},"","",0,"",0,"",0,"limite"]
[{"$nulls":15},"","",0,"",0,"",0,"limite"]
[{"$nulls":15},"","",0,"",0,"",0,"limite"]
[{"$nulls":12},18,2,{"$f":"+M119+O106","v":181},{"$f":"IF(INDEX(listaRetiRange,N119,O119):INDEX(listaRetiRange,N120,O120)=\"\",\"\",(INDEX(listaRetiRange,N119,O119):INDEX(listaRetiRange,N120,O120)))","v":"OVERNET2030B"},0,0,0,0,0,0,"limite",0,0]
[{"$nulls":11},2,7,14,{"$f":"+O119+M120+L120","v":190},2,"",0,"",0,"",0,"limite","",""]
[{"$nulls":15},"","",0,"",0,"",0,"limite","",""]
[{"$nulls":15},"","",0,"",0,"",0,"limite","",""]
[{"$nulls":15},"","",0,"",0,"",0,"limite","",""]
[{"$nulls":15},"","",0,"",0,"",0,"limite","",""]
[{"$nulls":15},"","",0,"",0,"",0,"limite","",""]
[{"$nulls":15},"","",0,"",0,"",0,"limite","",""]
[{"$nulls":15},"","",0,"",0,"",0,"limite","",""]
[{"$nulls":15},"","",0,"",0,"",0,"limite","",""]
[{"$nulls":15},"","",0,"",0,"",0,"limite","",""]
[{"$nulls":15},"","",0,"",0,"",0,"limite","",""]
[{"$nulls":15},"","",0,"",0,"",0,"limite","",""]
[{"$nulls":12},20,2,{"$f":"+O119+M132","v":201},{"$f":"IF(INDEX(listaRetiRange,N132,O132):INDEX(listaRetiRange,N133,O133)=\"\",\"\",(INDEX(listaRetiRange,N132,O132):INDEX(listaRetiRange,N133,O133)))","v":"OVERNET2230B"},0,0,0,0,0,0,"limite"]
[{"$nulls":12},7,14,{"$f":"+O132+M133","v":208},1,"",0,"",0,"",0,"limite"]
[{"$nulls":15},"","",0,"",0,"",0,"limite"]
[{"$nulls":15},"","",0,"",0,"",0,"limite"]
[{"$nulls":15},"","",0,"",0,"",0,"limite"]
[{"$nulls":15},"","",0,"",0,"",0,"limite"]
[{"$nulls":15},"","",0,"",0,"",0,"limite"]
[{"$nulls":15},"","",0,"",0,"",0,"limite"]
[{"$nulls":15},"","",0,"",0,"",0,"limite"]
[{"$nulls":15},"","",0,"",0,"",0,"limite"]
[{"$nulls":15},"","",0,"",0,"",0,"limite"]
[{"$nulls":15},"","",0,"",0,"",0,"limite"]
[{"$nulls":15},"","",0,"",0,"",0,"limite"]
[{"$nulls":12},18,2,{"$f":"+M145+O132","v":219},{"$f":"IF(INDEX(listaRetiRange,N145,O145):INDEX(listaRetiRange,N146,O146)=\"\",\"\",(INDEX(listaRetiRange,N145,O145):INDEX(listaRetiRange,N146,O146)))","v":"OVERNET2230B"},0,0,0,0,0,0,"limite",0,0]
[{"$nulls":11},2,7,14,{"$f":"+O145+M146+L146","v":228},2,"",0,"",0,"",0,"limite","",""]
[{"$nulls":15},"","",0,"",0,"",0,"limite","",""]
[{"$nulls":15},"","",0,"",0,"",0,"limite","",""]
[{"$nulls":15},"","",0,"",0,"",0,"limite","",""]
[{"$nulls":15},"","",0,"",0,"",0,"limite","",""]
[{"$nulls":15},"","",0,"",0,"",0,"limite","",""]
[{"$nulls":15},"","",0,"",0,"",0,"limite","",""]
[{"$nulls":15},"","",0,"",0,"",0,"limite","",""]
[{"$nulls":15},"","",0,"",0,"",0,"limite","",""]
[{"$nulls":15},"","",0,"",0,"",0,"limite","",""]
[{"$nulls":15},"","",0,"",0,"",0,"limite","",""]
[{"$nulls":15},"","",0,"",0,"",0,"limite","",""]
[{"$nulls":12},20,2,{"$f":"+O145+M158","v":239},{"$f":"IF(INDEX(listaRetiRange,N158,O158):INDEX(listaRetiRange,N159,O159)=\"\",\"\",(INDEX(listaRetiRange,N158,O158):INDEX(listaRetiRange,N159,O159)))","v":"OVERNET2440B"},0,0,0,0,0,0,"limite"]
[{"$nulls":12},7,14,{"$f":"+O158+M159","v":246},1,"",0,"",0,"",0,"limite"]
[{"$nulls":15},"","",0,"",0,"",0,"limite"]
[{"$nulls":15},"","",0,"",0,"",0,"limite"]
[{"$nulls":15},"","",0,"",0,"",0,"limite"]
[{"$nulls":15},"","",0,"",0,"",0,"limite"]
[{"$nulls":15},"","",0,"",0,"",0,"limite"]
[{"$nulls":15},"","",0,"",0,"",0,"limite"]
[{"$nulls":15},"","",0,"",0,"",0,"limite"]
[{"$nulls":15},"","",0,"",0,"",0,"limite"]
[{"$nulls":15},"","",0,"",0,"",0,"limite"]
[{"$nulls":15},"","",0,"",0,"",0,"limite"]
[{"$nulls":15},"","",0,"",0,"",0,"limite"]
[{"$nulls":12},18,2,{"$f":"+M171+O158","v":257},{"$f":"IF(INDEX(listaRetiRange,N171,O171):INDEX(listaRetiRange,N172,O172)=\"\",\"\",(INDEX(listaRetiRange,N171,O171):INDEX(listaRetiRange,N172,O172)))","v":"OVERNET2440B"},0,0,0,0,0,0,"limite",0,0]
[{"$nulls":11},2,7,14,{"$f":"+O171+M172+L172","v":266},2,"",0,"",0,"",0,"limite","",""]
[{"$nulls":15},"","",0,"",0,"",0,"limite","",""]
[{"$nulls":15},"","",0,"",0,"",0,"limite","",""]
[{"$nulls":15},"","",0,"",0,"",0,"limite","",""]
[{"$nulls":15},"","",0,"",0,"",0,"limite","",""]
[{"$nulls":15},"","",0,"",0,"",0,"limite","",""]
[{"$nulls":15},"","",0,"",0,"",0,"limite","",""]
[{"$nulls":15},"","",0,"",0,"",0,"limite","",""]
[{"$nulls":15},"","",0,"",0,"",0,"limite","",""]
[{"$nulls":15},"","",0,"",0,"",0,"limite","",""]
[{"$nulls":15},"","",0,"",0,"",0,"limite","",""]
[{"$nulls":15},"","",0,"",0,"",0,"limite","",""]
[{"$nulls":12},20,2,{"$f":"+O171+M184","v":277},{"$f":"IF(INDEX(listaRetiRange,N184,O184):INDEX(listaRetiRange,N185,O185)=\"\",\"\",(INDEX(listaRetiRange,N184,O184):INDEX(listaRetiRange,N185,O185)))","v":"RONET1020"},0,0,0,0,0,0,"limite"]
[{"$nulls":12},7,14,{"$f":"+O184+M185","v":284},1,"",0,"",0,"",0,"limite"]
[{"$nulls":15},"","",0,"",0,"",0,"limite"]
[{"$nulls":15},"","",0,"",0,"",0,"limite"]
[{"$nulls":15},"","",0,"",0,"",0,"limite"]
[{"$nulls":15},"","",0,"",0,"",0,"limite"]
[{"$nulls":15},"","",0,"",0,"",0,"limite"]
[{"$nulls":15},"","",0,"",0,"",0,"limite"]
[{"$nulls":15},"","",0,"",0,"",0,"limite"]
[{"$nulls":15},"","",0,"",0,"",0,"limite"]
[{"$nulls":15},"","",0,"",0,"",0,"limite"]
[{"$nulls":15},"","",0,"",0,"",0,"limite"]
[{"$nulls":15},"","",0,"",0,"",0,"limite"]
[{"$nulls":12},18,2,{"$f":"+M197+O184","v":295},{"$f":"IF(INDEX(listaRetiRange,N197,O197):INDEX(listaRetiRange,N198,O198)=\"\",\"\",(INDEX(listaRetiRange,N197,O197):INDEX(listaRetiRange,N198,O198)))","v":"RONET1020"},0,0,0,0,0,0,"limite",0,0]
[{"$nulls":11},2,7,14,{"$f":"+O197+M198+L198","v":304},2,"",0,"",0,"",0,"limite","",""]
[{"$nulls":15},"","",0,"",0,"",0,"limite","",""]
[{"$nulls":15},"","",0,"",0,"",0,"limite","",""]
[{"$nulls":15},"","",0,"",0,"",0,"limite","",""]
[{"$nulls":15},"","",0,"",0,"",0,"limite","",""]
[{"$nulls":15},"","",0,"",0,"",0,"limite","",""]
[{"$nulls":15},"","",0,"",0,"",0,"limite","",""]
[{"$nulls":15},"","",0,"",0,"",0,"limite","",""]
[{"$nulls":15},"","",0,"",0,"",0,"limite","",""]
[{"$nulls":15},"","",0,"",0,"",0,"limite","",""]
[{"$nulls":15},"","",0,"",0,"",0,"limite","",""]
[{"$nulls":15},"","",0,"",0,"",0,"limite","",""]
[{"$nulls":12},20,2,{"$f":"+O197+M210","v":315},{"$f":"IF(INDEX(listaRetiRange,N210,O210):INDEX(listaRetiRange,N211,O211)=\"\",\"\",(INDEX(listaRetiRange,N210,O210):INDEX(listaRetiRange,N211,O211)))","v":"RONET1220"},0,0,0,0,0,0,"limite"]
[{"$nulls":12},7,14,{"$f":"+O210+M211","v":322},1,"",0,"",0,"",0,"limite"]
[{"$nulls":15},"","",0,"",0,"",0,"limite"]
[{"$nulls":15},"","",0,"",0,"",0,"limite"]
[{"$nulls":15},"","",0,"",0,"",0,"limite"]
[{"$nulls":15},"","",0,"",0,"",0,"limite"]
[{"$nulls":15},"","",0,"",0,"",0,"limite"]
[{"$nulls":15},"","",0,"",0,"",0,"limite"]
[{"$nulls":15},"","",0,"",0,"",0,"limite"]
[{"$nulls":15},"","",0,"",0,"",0,"limite"]
[{"$nulls":15},"","",0,"",0,"",0,"limite"]
[{"$nulls":15},"","",0,"",0,"",0,"limite"]
[{"$nulls":15},"","",0,"",0,"",0,"limite"]
[{"$nulls":12},18,2,{"$f":"+M223+O210","v":333},{"$f":"IF(INDEX(listaRetiRange,N223,O223):INDEX(listaRetiRange,N224,O224)=\"\",\"\",(INDEX(listaRetiRange,N223,O223):INDEX(listaRetiRange,N224,O224)))","v":"RONET1220"},0,0,0,0,0,0,"limite",0,0]
[{"$nulls":11},2,7,14,{"$f":"+O223+M224+L224","v":342},2,"",0,"",0,"",0,"limite","",""]
[{"$nulls":15},"","",0,"",0,"",0,"limite","",""]
[{"$nulls":15},"","",0,"",0,"",0,"limite","",""]
[{"$nulls":15},"","",0,"",0,"",0,"limite","",""]
[{"$nulls":15},"","",0,"",0,"",0,"limite","",""]
[{"$nulls":15},"","",0,"",0,"",0,"limite","",""]
[{"$nulls":15},"","",0,"",0,"",0,"limite","",""]
[{"$nulls":15},"","",0,"",0,"",0,"limite","",""]
[{"$nulls":15},"","",0,"",0,"",0,"limite","",""]
[{"$nulls":15},"","",0,"",0,"",0,"limite","",""]
[{"$nulls":15},"","",0,"",0,"",0,"limite","",""]
[{"$nulls":15},"","",0,"",0,"",0,"limite","",""]
[{"$nulls":12},20,2,{"$f":"+O223+M236","v":353},{"$f":"IF(INDEX(listaRetiRange,N236,O236):INDEX(listaRetiRange,N237,O237)=\"\",\"\",(INDEX(listaRetiRange,N236,O236):INDEX(listaRetiRange,N237,O237)))","v":"RONET1520"},0,0,0,0,0,0,"limite"]
[{"$nulls":12},7,14,{"$f":"+O236+M237","v":360},1,"",0,"",0,"",0,"limite"]
[{"$nulls":15},"","",0,"",0,"",0,"limite"]
[{"$nulls":15},"","",0,"",0,"",0,"limite"]
[{"$nulls":15},"","",0,"",0,"",0,"limite"]
[{"$nulls":15},"","",0,"",0,"",0,"limite"]
[{"$nulls":15},"","",0,"",0,"",0,"limite"]
[{"$nulls":15},"","",0,"",0,"",0,"limite"]
[{"$nulls":15},"","",0,"",0,"",0,"limite"]
[{"$nulls":15},"","",0,"",0,"",0,"limite"]
[{"$nulls":15},"","",0,"",0,"",0,"limite"]
[{"$nulls":15},"","",0,"",0,"",0,"limite"]
[{"$nulls":15},"","",0,"",0,"",0,"limite"]
[{"$nulls":12},18,2,{"$f":"+M249+O236","v":371},{"$f":"IF(INDEX(listaRetiRange,N249,O249):INDEX(listaRetiRange,N250,O250)=\"\",\"\",(INDEX(listaRetiRange,N249,O249):INDEX(listaRetiRange,N250,O250)))","v":"RONET1520"},0,0,0,0,0,0,"limite",0,0]
[{"$nulls":11},2,7,14,{"$f":"+O249+M250+L250","v":380},2,"",0,"",0,"",0,"limite","",""]
[{"$nulls":15},"","",0,"",0,"",0,"limite","",""]
[{"$nulls":15},"","",0,"",0,"",0,"limite","",""]
[{"$nulls":15},"","",0,"",0,"",0,"limite","",""]
[{"$nulls":15},"","",0,"",0,"",0,"limite","",""]
[{"$nulls":15},"","",0,"",0,"",0,"limite","",""]
[{"$nulls":15},"","",0,"",0,"",0,"limite","",""]
[{"$nulls":15},"","",0,"",0,"",0,"limite","",""]
[{"$nulls":15},"","",0,"",0,"",0,"limite","",""]
[{"$nulls":15},"","",0,"",0,"",0,"limite","",""]
[{"$nulls":15},"","",0,"",0,"",0,"limite","",""]
[{"$nulls":15},"","",0,"",0,"",0,"limite","",""]
[{"$nulls":12},20,2,{"$f":"+O249+M262","v":391},{"$f":"IF(INDEX(listaRetiRange,N262,O262):INDEX(listaRetiRange,N263,O263)=\"\",\"\",(INDEX(listaRetiRange,N262,O262):INDEX(listaRetiRange,N263,O263)))","v":"RONET1830"},0,0,0,0,0,0,"limite"]
[{"$nulls":12},7,14,{"$f":"+O262+M263","v":398},1,"",0,"",0,"",0,"limite"]
[{"$nulls":15},"","",0,"",0,"",0,"limite"]
[{"$nulls":15},"","",0,"",0,"",0,"limite"]
[{"$nulls":15},"","",0,"",0,"",0,"limite"]
[{"$nulls":15},"","",0,"",0,"",0,"limite"]
[{"$nulls":15},"","",0,"",0,"",0,"limite"]
[{"$nulls":15},"","",0,"",0,"",0,"limite"]
[{"$nulls":15},"","",0,"",0,"",0,"limite"]
[{"$nulls":15},"","",0,"",0,"",0,"limite"]
[{"$nulls":15},"","",0,"",0,"",0,"limite"]
[{"$nulls":15},"","",0,"",0,"",0,"limite"]
[{"$nulls":15},"","",0,"",0,"",0,"limite"]
[{"$nulls":12},18,2,{"$f":"+M275+O262","v":409},{"$f":"IF(INDEX(listaRetiRange,N275,O275):INDEX(listaRetiRange,N276,O276)=\"\",\"\",(INDEX(listaRetiRange,N275,O275):INDEX(listaRetiRange,N276,O276)))","v":"RONET1830"},0,0,0,0,0,0,"limite",0,0]
[{"$nulls":11},2,7,14,{"$f":"+O275+M276+L276","v":418},2,"",0,"",0,"",0,"limite","",""]
[{"$nulls":15},"","",0,"",0,"",0,"limite","",""]
[{"$nulls":15},"","",0,"",0,"",0,"limite","",""]
[{"$nulls":15},"","",0,"",0,"",0,"limite","",""]
[{"$nulls":15},"","",0,"",0,"",0,"limite","",""]
[{"$nulls":15},"","",0,"",0,"",0,"limite","",""]
[{"$nulls":15},"","",0,"",0,"",0,"limite","",""]
[{"$nulls":15},"","",0,"",0,"",0,"limite","",""]
[{"$nulls":15},"","",0,"",0,"",0,"limite","",""]
[{"$nulls":15},"","",0,"",0,"",0,"limite","",""]
[{"$nulls":15},"","",0,"",0,"",0,"limite","",""]
[{"$nulls":15},"","",0,"",0,"",0,"limite","",""]
[{"$nulls":12},20,2,{"$f":"+O275+M288","v":429},{"$f":"IF(INDEX(listaRetiRange,N288,O288):INDEX(listaRetiRange,N289,O289)=\"\",\"\",(INDEX(listaRetiRange,N288,O288):INDEX(listaRetiRange,N289,O289)))","v":"RONET2030"},0,0,0,0,0,0,"limite"]
[{"$nulls":12},7,14,{"$f":"+O288+M289","v":436},1,"",0,"",0,"",0,"limite"]
[{"$nulls":15},"","",0,"",0,"",0,"limite"]
[{"$nulls":15},"","",0,"",0,"",0,"limite"]
[{"$nulls":15},"","",0,"",0,"",0,"limite"]
[{"$nulls":15},"","",0,"",0,"",0,"limite"]
[{"$nulls":15},"","",0,"",0,"",0,"limite"]
[{"$nulls":15},"","",0,"",0,"",0,"limite"]
[{"$nulls":15},"","",0,"",0,"",0,"limite"]
[{"$nulls":15},"","",0,"",0,"",0,"limite"]
[{"$nulls":15},"","",0,"",0,"",0,"limite"]
[{"$nulls":15},"","",0,"",0,"",0,"limite"]
[{"$nulls":15},"","",0,"",0,"",0,"limite"]
[{"$nulls":12},18,2,{"$f":"+M301+O288","v":447},{"$f":"IF(INDEX(listaRetiRange,N301,O301):INDEX(listaRetiRange,N302,O302)=\"\",\"\",(INDEX(listaRetiRange,N301,O301):INDEX(listaRetiRange,N302,O302)))","v":"RONET2030"},0,0,0,0,0,0,"limite",0,0]
[{"$nulls":11},2,7,14,{"$f":"+O301+M302+L302","v":456},2,"",0,"",0,"",0,"limite","",""]
[{"$nulls":15},"","",0,"",0,"",0,"limite","",""]
[{"$nulls":15},"","",0,"",0,"",0,"limite","",""]
[{"$nulls":15},"","",0,"",0,"",0,"limite","",""]
[{"$nulls":15},"","",0,"",0,"",0,"limite","",""]
[{"$nulls":15},"","",0,"",0,"",0,"limite","",""]
[{"$nulls":15},"","",0,"",0,"",0,"limite","",""]
[{"$nulls":15},"","",0,"",0,"",0,"limite","",""]
[{"$nulls":15},"","",0,"",0,"",0,"limite","",""]
[{"$nulls":15},"","",0,"",0,"",0,"limite","",""]
[{"$nulls":15},"","",0,"",0,"",0,"limite","",""]
[{"$nulls":15},"","",0,"",0,"",0,"limite","",""]
[{"$nulls":12},20,2,{"$f":"+O301+M314","v":467},{"$f":"IF(INDEX(listaRetiRange,N314,O314):INDEX(listaRetiRange,N315,O315)=\"\",\"\",(INDEX(listaRetiRange,N314,O314):INDEX(listaRetiRange,N315,O315)))","v":"RONET2230"},0,0,0,0,0,0,"limite"]
[{"$nulls":12},7,14,{"$f":"+O314+M315","v":474},1,"",0,"",0,"",0,"limite"]
[{"$nulls":15},"","",0,"",0,"",0,"limite"]
[{"$nulls":15},"","",0,"",0,"",0,"limite"]
[{"$nulls":15},"","",0,"",0,"",0,"limite"]
[{"$nulls":15},"","",0,"",0,"",0,"limite"]
[{"$nulls":15},"","",0,"",0,"",0,"limite"]
[{"$nulls":15},"","",0,"",0,"",0,"limite"]
[{"$nulls":15},"","",0,"",0,"",0,"limite"]
[{"$nulls":15},"","",0,"",0,"",0,"limite"]
[{"$nulls":15},"","",0,"",0,"",0,"limite"]
[{"$nulls":15},"","",0,"",0,"",0,"limite"]
[{"$nulls":15},"","",0,"",0,"",0,"limite"]
[{"$nulls":12},18,2,{"$f":"+M327+O314","v":485},{"$f":"IF(INDEX(listaRetiRange,N327,O327):INDEX(listaRetiRange,N328,O328)=\"\",\"\",(INDEX(listaRetiRange,N327,O327):INDEX(listaRetiRange,N328,O328)))","v":"RONET2230"},0,0,0,0,0,0,"limite",0,0]
[{"$nulls":11},2,7,14,{"$f":"+O327+M328+L328","v":494},2,"",0,"",0,"",0,"limite","",""]
[{"$nulls":15},"","",0,"",0,"",0,"limite","",""]
[{"$nulls":15},"","",0,"",0,"",0,"limite","",""]
[{"$nulls":15},"","",0,"",0,"",0,"limite","",""]
[{"$nulls":15},"","",0,"",0,"",0,"limite","",""]
[{"$nulls":15},"","",0,"",0,"",0,"limite","",""]
[{"$nulls":15},"","",0,"",0,"",0,"limite","",""]
[{"$nulls":15},"","",0,"",0,"",0,"limite","",""]
[{"$nulls":15},"","",0,"",0,"",0,"limite","",""]
[{"$nulls":15},"","",0,"",0,"",0,"limite","",""]
[{"$nulls":15},"","",0,"",0,"",0,"limite","",""]
[{"$nulls":15},"","",0,"",0,"",0,"limite","",""]
[{"$nulls":12},20,2,{"$f":"+O327+M340","v":505},{"$f":"IF(INDEX(listaRetiRange,N340,O340):INDEX(listaRetiRange,N341,O341)=\"\",\"\",(INDEX(listaRetiRange,N340,O340):INDEX(listaRetiRange,N341,O341)))","v":"RONET2530"},0,0,0,0,0,0,"limite"]
[{"$nulls":12},7,14,{"$f":"+O340+M341","v":512},1,"",0,"",0,"",0,"limite"]
[{"$nulls":15},"","",0,"",0,"",0,"limite"]
[{"$nulls":15},"","",0,"",0,"",0,"limite"]
[{"$nulls":15},"","",0,"",0,"",0,"limite"]
[{"$nulls":15},"","",0,"",0,"",0,"limite"]
[{"$nulls":15},"","",0,"",0,"",0,"limite"]
[{"$nulls":15},"","",0,"",0,"",0,"limite"]
[{"$nulls":15},"","",0,"",0,"",0,"limite"]
[{"$nulls":15},"","",0,"",0,"",0,"limite"]
[{"$nulls":15},"","",0,"",0,"",0,"limite"]
[{"$nulls":15},"","",0,"",0,"",0,"limite"]
[{"$nulls":15},"","",0,"",0,"",0,"limite"]
[{"$nulls":12},18,2,{"$f":"+M353+O340","v":523},{"$f":"IF(INDEX(listaRetiRange,N353,O353):INDEX(listaRetiRange,N354,O354)=\"\",\"\",(INDEX(listaRetiRange,N353,O353):INDEX(listaRetiRange,N354,O354)))","v":"RONET2530"},0,0,0,0,0,0,"limite",0,0]
[{"$nulls":11},2,7,14,{"$f":"+O353+M354+L354","v":532},2,"",0,"",0,"",0,"limite","",""]
[{"$nulls":15},"","",0,"",0,"",0,"limite","",""]
[{"$nulls":15},"","",0,"",0,"",0,"limite","",""]
[{"$nulls":15},"","",0,"",0,"",0,"limite","",""]
[{"$nulls":15},"","",0,"",0,"",0,"limite","",""]
[{"$nulls":15},"","",0,"",0,"",0,"limite","",""]
[{"$nulls":15},"","",0,"",0,"",0,"limite","",""]
[{"$nulls":15},"","",0,"",0,"",0,"limite","",""]
[{"$nulls":15},"","",0,"",0,"",0,"limite","",""]
[{"$nulls":15},"","",0,"",0,"",0,"limite","",""]
[{"$nulls":15},"","",0,"",0,"",0,"limite","",""]
[{"$nulls":15},"","",0,"",0,"",0,"limite","",""]

{"sheet":"gestImg","index":6,"n_rows":13,"n_cols":23,"rows_kept":13,"cut":false,"hidden":true,"merged":[]}
["A","largABC","fixA"]
["B","largABC","fixB",{"$nulls":14},{"$f":"\"mis\"&interasse&\"mm\"","v":"mis225mm"},"timber",null,null,"0-50 cm","altMin"]
["C","largABC","fixC",{"$nulls":14},"mis112mm","concrete",null,null,"50-120 cm","altMax"]
["D","largX","fixD",{"$nulls":14},"mis200mm","metal",null,null,"0-120 cm","altAll"]
["E","largY","fixE",{"$nulls":14},"mis250mm"]
[{"$nulls":17},"mis305mm"]
[null,null,"gestione Immagini",{"$nulls":14},"mis333mm"]
[{"$nulls":17},"mis350mm",null,null,null,{"$f":"+VLOOKUP(dBase!U4,V2:W4,2,FALSE)","v":"altMin"}]
[{"$nulls":4},{"$f":"+IF(OR(schemaSel=schemaD,schemaSel=schemaE),\"frameDE\",\"frameABC\")","v":"frameABC"},{"$nulls":12},"disSchemaE"]
[null,null,{"$f":"+_xlfn.XLOOKUP(schemaSel,A1:A5,B1:B5)","v":"largABC"},"interno",{"$f":"\"schema\"&_xlfn.ANCHORARRAY(dBase!V4)","v":"schemaA"},{"$f":"+IF(schemaSel=schemaE,gestImg!R2:R9,gestImg!S2:S4)","v":"timber"},{"$f":"_xlfn.IFNA(+_xlfn.XLOOKUP(dBase!U4,gestImg!$V$2:$V$4,gestImg!$W$2:$W$4),\"\")&H10","v":"altMin"},{"$f":"+IF(G11=\"\",\"Solo\",\"\")","v":""},{"$f":"IF(dBase!R3=esterno,\"\",\"AmbCorr\")","v":"AmbCorr"},null,"listello",null,{"$f":"_xlfn.IFS(dBase!$T4=tipoSandwich,\"tipoSandwich\",dBase!$T4=\"\",\"\",dBase!$T4=tipoSupporti,\"\")","v":""},null,{"$f":"+IF(OR(dBase!AI4=sing,dBase!AI5=sing),\"sing\",\"nascSing\")","v":"nascSing"},null,{"$f":"+_xlfn.XLOOKUP(schemaSel,A1:A5,C1:C5)","v":"fixA"},null,null,"lucer"]
[null,null,null,"esterno","schemaB","concrete",{"$f":"_xlfn.IFNA(+_xlfn.XLOOKUP(dBase!U5,gestImg!$V$2:$V$4,gestImg!$W$2:$W$4),\"\")","v":"altMax"},null,{"$f":"IF(dBase!S5=AmbCorr,\"AmbNorm\",\"\")","v":"AmbNorm"},null,"omega",null,{"$f":"_xlfn.IFS(dBase!$T5=tipoSandwich,\"tipoSandwich\",dBase!$T5=\"\",\"\",dBase!$T5=tipoSupporti,\"tipoSupporti\")","v":""},null,{"$f":"+IF(OR(dBase!AI4=sing,dBase!AI5=sing),\"sing\",\"nascSing\")","v":"nascSing"},null,{"$f":"+_xlfn.XLOOKUP(schemaSel,A1:A5,C1:C5)&\"Fra\"","v":"fixAFra"},null,null,"lung"]
[{"$nulls":4},"schemaC","metal",{"$f":"_xlfn.IFNA(+_xlfn.XLOOKUP(dBase!U6,gestImg!$V$2:$V$4,gestImg!$W$2:$W$4),\"\")","v":""},null,null,null,"nastroFor2",null,{"$f":"+IF(AND(M10=\"\",M11=\"\"),\"soloSupporti\",\"\")","v":"soloSupporti"},null,{"$f":"+IF(OR(dBase!AI4=dopp,dBase!AI5=dopp),\"dopp\",\"nascDopp\")","v":"nascDopp"}]
[{"$nulls":10},"nastroFor3",null,null,null,{"$f":"+IF(OR(dBase!AI4=dopp,dBase!AI5=dopp),\"dopp\",\"nascDopp\")","v":"nascDopp"}]

{"sheet":"SupGen","index":7,"n_rows":53,"n_cols":16,"rows_kept":53,"cut":false,"hidden":true,"merged":[]}
[null,null,"Supporti","Fissaggi",{"$f":"+tradN(472)","v":"ENVIRONMENT TYPE"},null,null,"Interassi",{"$nulls":6},"rothoblaas.com","Verifica Mail"]
[{"$f":"tradN(467)","v":"INTERNAL INSTALLATION"},{"$f":"+tradN(469)","v":"WITH SUPPORTS"},{"$f":"+tradN(20)","v":"CONCRETE"},{"$f":"IF(OR(schemaSel=schemaD,schemaSel=schemaE),\"\",tradN(289))","v":"LBB4030 40X3 MM"},{"$f":"+tradN(473)","v":"NORMAL"},null,{"$f":"+IF(schemaSel<>schemaE,1,_xlfn.XLOOKUP(tipSubstruSel,interasse,SupGen!I2:I8))","v":1},225,{"$f":"+(225*2)/1000","v":0.45},{"$f":"+tradN(478)","v":"SINGLE"},{"$f":"+_xlfn.FLOOR.MATH(0.55/(mis225mm/1000),1)","v":2},{"$f":"+IF(OR(schemaSel=\"A\",schemaSel=\"B\",schemaSel=\"C\"),accessorio,\"\")","v":"LBB4030 40X3 MM"},"IntFixDopp",0.254,{"$f":"+IF(O1=\"rothoblaas.com\",TRUE,FALSE)","v":true},{"$f":"IF(OR(O5=\"\",O3=\"\",O4=\"\",O5=O7),FALSE,LOWER(TRIM(MID(O5,FIND(\"@\",O5)+1,LEN(O5))))=\"rothoblaas.com\")","v":false}]
[{"$f":"+tradN(468)","v":"EXTERNAL INSTALLATION"},{"$f":"+tradN(470)","v":"ON TRAPEZOIDAL SHEET METAL"},{"$f":"+tradN(21)","v":"STEEL"},{"$f":"tradN(288)","v":"OMEGA \"L\" 30X30X2 MM"},{"$f":"+tradN(474)","v":"CORROSIVE"},null,{"$f":"_xlfn.IFNA(IF(_xlfn.XLOOKUP(tipSubstruSel,interasse,K2:K8)>1,TRUE,FALSE),TRUE)","v":true},112,{"$f":"(mis112mm*4)/1000","v":0.44800000000000001},{"$f":"+tradN(479)","v":"DOUBLE"},{"$f":"+_xlfn.FLOOR.MATH(0.55/(mis112mm/1000),1)","v":4},"OMEGA \"L\" 30X30X2 MM","intStaple",{"$f":"25.4/100","v":0.254},null,"Paese"]
[null,null,{"$f":"+tradN(19)","v":"TIMBER"},{"$f":"tradN(490)&\" 30x3 mm\"","v":"STEEL FLAT STRIP 30x3 mm"},null,null,null,200,{"$f":"(mis200mm*2)/1000","v":0.4},null,{"$f":"+_xlfn.FLOOR.MATH(0.55/(mis200mm/1000),1)","v":2},"STEEL FLAT STRIP 30x3 mm","intSpring",0.50800000000000001,null,"CAP"]
[null,null,null,{"$f":"UPPER(tradN(287))","v":"BATTEN 40X50 MM"},null,null,null,250,0.5,null,{"$f":"+_xlfn.FLOOR.MATH(0.55/(mis250mm/1000),1)","v":2},"BATTEN 40X50 MM",null,null,null,"E-Mail aggiunto"]
[{"$nulls":7},305,0.30499999999999999,null,{"$f":"+_xlfn.FLOOR.MATH(0.55/(mis305mm/1000),1)","v":1},null,null,null,{"$f":"+IF(O5=\"\",O7,IF(P2=TRUE,O5,O7))","v":"dpt-tecd-tcsafe@rothoblaas.com "},"E-Mail Default NON TOCCARE"]
[{"$nulls":7},333,0.33300000000000002,null,{"$f":"+_xlfn.FLOOR.MATH(0.55/(mis333mm/1000),1)","v":1},null,null,null,"dpt-tecd-tcsafe@rothoblaas.com ","Email Ufficio Tecnico"]
[null,null,25,{"$nulls":4},350,0.35,null,{"$f":"+_xlfn.FLOOR.MATH(0.55/(mis350mm/1000),1)","v":1},null,null,null,{"$f":"+tradN(491)","v":"CONSIDER THE WIDTH FROM THE CENTER OF THE FIRST USEFUL HIP FOR BOTH SIDES"}]
[]
[{"$nulls":7},"A","matSupList",{"$f":"+tradN(7)","v":"SUBSTRUCTURE"}]
[{"$nulls":7},"B","matSupList",{"$f":"+tradN(7)","v":"SUBSTRUCTURE"}]
[{"$nulls":7},"C","matSupList",{"$f":"+tradN(7)","v":"SUBSTRUCTURE"}]
[null,"Testi per Bottoni",null,"Valori Vuoto Inserimento",null,null,null,"D",{"$f":"+NA()","v":{"$error":"#N/A"}},{"$f":"+NA()","v":{"$error":"#N/A"}}]
[null,{"$f":"IF(O1=\"rothoblaas.com\",+tradN(347),tradN(505))","v":"EXPORT E-SERVICE/MARGIN"},null,{"$f":"OR(noLucer=\"\",misLarg=\"\",misLung=\"\",sdoppSel=\"\")","v":true},null,null,null,"E","interasse",{"$f":"\"[i] \"&tradN(184)&\" \"&\"[mm]\"","v":"[i] PANEL HIPS SPAN [mm]"}]
[null,{"$f":"+tradN(217)","v":"DELETE ALL"}]
[null,{"$f":"+\"+ \"& tradN(486)","v":"+ ADD SKYLIGHT"},{"$nulls":5},{"$f":"_xlfn.IFNA(INDIRECT(_xlfn.XLOOKUP(schemaSel,H10:H14,I10:I14)),\"\")","v":"CONCRETE"},{"$f":"_xlfn.IFNA(_xlfn.XLOOKUP(schemaSel,H10:H14,J10:J14),\"\")","v":"SUBSTRUCTURE"}]
[null,{"$f":"+tradN(465)","v":"CANCEL"},{"$nulls":5},"STEEL",{"$nulls":6},{"$f":"+tradN(492)","v":"FASTENING ACCESSORY"}]
[null,{"$f":"+tradN(477)","v":"SKYLIGHT GEOMETRIC DATA"},{"$nulls":5},"TIMBER",{"$nulls":6},{"$f":"+tradN(493)&\" /\"&_xlfn.UNICHAR(10)&tradN(494)","v":"DEPTH ANCHORAGE /\nDISTANCE FROM EDGE"}]
["OVERNET1020B",{"$f":"+tradN(191)","v":"PERPENDICULAR TO HIPS"},null,null,{"$f":"+tradN(7)","v":"SUBSTRUCTURE"},{"$nulls":9},{"$f":"+tradN(494)","v":"DISTANCE FROM EDGE"}]
["OVERNET1220B",{"$f":"+tradN(190)","v":"PARALLEL TO HIPS"},{"$nulls":12},{"$f":"+tradN(495)","v":"TYPE OF SCREW"}]
["OVERNET1520B"]
["OVERNET1830B"]
["OVERNET2030B",{"$nulls":13},{"$f":"+Trads!A508","v":"Please send us your best offer for the following products as per attachment"}]
["OVERNET2230B"]
["OVERNET2440B"]
["RONET1020",{"$nulls":4},{"$f":"+IF(isRbUser=FALSE,Home!$AC$2,Home!$AC$7)","v":"DISCOUNT "}]
["RONET1220"]
["RONET1520"]
["RONET1830"]
["RONET2030"]
["RONET2230"]
["RONET2530"]
[]
[]
[{"$f":"tradN(488)","v":"ATTENTION! THERE IS A NEW VERSION"}]
[{"$f":"+tradN(489)","v":"YOU ARE USING THE LATEST AVAILABLE VERSION"}]
[{"$nulls":4},"Active_Change",{"$nulls":4},"Btn"]
[{"$nulls":4},"linguaSel",{"$nulls":4},"cancellaGeneralData"]
[{"$nulls":4},"tipoInstSel",{"$nulls":4},"toGeometricData"]
[{"$nulls":4},"tipoAmbSel",{"$nulls":4},"cancellaInserimento"]
[{"$nulls":4},"instSupSel",{"$nulls":4},"Add+"]
[{"$nulls":4},"distCalpSel",{"$nulls":4},"cancellaSkylights"]
[{"$nulls":4},"schemaSel",{"$nulls":4},"toDiscount"]
[{"$nulls":4},"tipSubstruSel",{"$nulls":4},"exportEservice"]
[{"$nulls":4},"tipoAcceSel",{"$nulls":4},"SchermoIntero"]
[{"$nulls":4},"fixSel",{"$nulls":4},"RiduciSchermo"]
[{"$nulls":4},"noLucer",{"$nulls":4},"CancellaRiga"]
[{"$nulls":4},"misLarg",{"$nulls":4},"btnShow"]
[{"$nulls":4},"misLung"]
[{"$nulls":4},"sdoppSel"]
[{"$nulls":4},"reteSel"]
[{"$nulls":4},"disc"]
[{"$nulls":4},"discFix"]

{"sheet":"Dwh_mig","index":8,"n_rows":148,"n_cols":9,"rows_kept":148,"cut":false,"hidden":true,"merged":[]}
[]
["Descrizione Indice",{"$f":"+_xlfn.XLOOKUP(Home!E7,IF(ISREF(ITA),Dwh_mig!G3:G28,Dwh_mig!A3:A28),Dwh_mig!B3:B28)","v":8},"Codice Lingua Sistema"]
["Italiano",1,1040,{"$error":"#VALUE!"},{"$f":"_FV(D3,\"Immagine\")","v":{"$error":"#VALUE!"}},null,"Italiano",null,{"$f":"IF(ISREF(ITA),Dwh_mig!G3:G28,Dwh_mig!A3:A28)","v":"Italiano"}]
["čeština",2,1029,{"$error":"#VALUE!"},{"$f":"_FV(D4,\"Immagine\")","v":{"$error":"#VALUE!"}},null,"čeština",null,"čeština"]
["汉语",3,2052,{"$error":"#VALUE!"},{"$f":"_FV(D5,\"Immagine\")","v":{"$error":"#VALUE!"}},null,"汉语",null,"汉语"]
["Hrvatski",4,1050,{"$error":"#VALUE!"},{"$f":"_FV(D6,\"Immagine\")","v":{"$error":"#VALUE!"}},null,"Hrvatski",null,"Hrvatski"]
["Français",5,1036,{"$error":"#VALUE!"},{"$f":"_FV(D7,\"Immagine\")","v":{"$error":"#VALUE!"}},null,"Français",null,"Français"]
["日本",6,1041,{"$error":"#VALUE!"},{"$f":"_FV(D8,\"Immagine\")","v":{"$error":"#VALUE!"}},null,"日本",null,"日本"]
["Γκρέγκο",7,1032,{"$error":"#VALUE!"},{"$f":"_FV(D9,\"Immagine\")","v":{"$error":"#VALUE!"}},null,"Γκρέγκο",null,"Γκρέγκο"]
["English",8,1033,{"$error":"#VALUE!"},{"$f":"_FV(D10,\"Immagine\")","v":{"$error":"#VALUE!"}},null,"English",null,"English"]
["Latvietis",9,1062,{"$error":"#VALUE!"},{"$f":"_FV(D11,\"Immagine\")","v":{"$error":"#VALUE!"}},null,"Latvietis",null,"Latvietis"]
["Polski",10,1045,{"$error":"#VALUE!"},{"$f":"_FV(D12,\"Immagine\")","v":{"$error":"#VALUE!"}},null,"Polski",null,"Polski"]
["Português",11,2070,{"$error":"#VALUE!"},{"$f":"_FV(D13,\"Immagine\")","v":{"$error":"#VALUE!"}},null,"Português",null,"Português"]
["Română",12,1048,{"$error":"#VALUE!"},{"$f":"_FV(D14,\"Immagine\")","v":{"$error":"#VALUE!"}},null,"Română",null,"Română"]
["Русский",13,1049,{"$error":"#VALUE!"},{"$f":"_FV(D15,\"Immagine\")","v":{"$error":"#VALUE!"}},null,"Русский",null,"Русский"]
["Slovenčina",14,1051,{"$error":"#VALUE!"},{"$f":"_FV(D16,\"Immagine\")","v":{"$error":"#VALUE!"}},null,"Slovenčina",null,"Slovenčina"]
["Slovenščina",15,1060,{"$error":"#VALUE!"},{"$f":"_FV(D17,\"Immagine\")","v":{"$error":"#VALUE!"}},null,"Slovenščina",null,"Slovenščina"]
["Español",16,1034,{"$error":"#VALUE!"},{"$f":"_FV(D18,\"Immagine\")","v":{"$error":"#VALUE!"}},null,"Español",null,"Español"]
["Svenska",17,1053,{"$error":"#VALUE!"},{"$f":"_FV(D19,\"Immagine\")","v":{"$error":"#VALUE!"}},null,"Svenska",null,"Svenska"]
["Deutsch",18,1031,{"$error":"#VALUE!"},{"$f":"_FV(D20,\"Immagine\")","v":{"$error":"#VALUE!"}},null,"Deutsch",null,"Deutsch"]
["Türkçe",19,1055,{"$error":"#VALUE!"},{"$f":"_FV(D21,\"Immagine\")","v":{"$error":"#VALUE!"}},null,"Türkçe",null,"Türkçe"]
["Magyar Nyelv",20,1038,{"$error":"#VALUE!"},{"$f":"_FV(D22,\"Immagine\")","v":{"$error":"#VALUE!"}},null,"Magyar Nyelv",null,"Magyar Nyelv"]
[null,21,{"$nulls":6},0]
[null,22,{"$nulls":6},0]
[null,23,{"$nulls":6},0]
[null,24,{"$nulls":6},0]
[null,25,{"$nulls":6},0]
[null,26,{"$nulls":6},0]
[]
[]
[]
[]
[]
[]
["Safety Net Calculator 1.31"]
{"$rows_empty":10}
["Border Calculator","1.27","RB","Border Calculator 1.27 RB.xlsm","Border Calculator 1.27"]
["GUARD Calculator","1.88","RB","GUARD Calculator 1.88 RB.xlsm","GUARD Calculator 1.88"]
["H-RAIL Caluclator","1.33","RB","H-RAIL Caluclator 1.33 RB.xlsm","H-RAIL Caluclator 1.33"]
["LADSTEP_VERTIGRIP Calculator","2.75","RB","LADSTEP_VERTIGRIP Calculator 2.75 RB.xlsm","LADSTEP_VERTIGRIP Calculator 2.75"]
["LiLi Tool Calculator","3.5","RB","LiLi Tool Calculator 3.5 RB.xlsm","LiLi Tool Calculator 3.5"]
["SAFENET_ROLLNET Calculator","1.46","RB","SAFENET_ROLLNET Calculator 1.46 RB.xlsm","SAFENET_ROLLNET Calculator 1.46"]
["LifeLine Software Rothoblaas V.","1.4","","LifeLine Software Rothoblaas V.1.4.xlsm","LifeLine Software Rothoblaas V. 1.4"]
["Safety Net Calculator","1.3","RB","Safety Net Calculator 1.3 RB.xlsm","Safety Net Calculator 1.3"]
["StepUp Calculator","1.0","RB","StepUp Calculator 1.0 RB.xlsm","StepUp Calculator 1.0"]
{"$rows_empty":48}
["\t\t\tfunction doUpgradeNav() {"]
["\t\t\t\twindow.open('https://www.microsoft.com/edge'"," '_blank');"]
["\t\t\t}"]
["\t\t\tfunction doContinueNav() {"]
["\t\t\t\tvar oneDayMs = 86400000;"]
["\t\t\t\tvar inOneDay = new Date(Date.now() + oneDayMs).toUTCString();"]
["\t\t\t\tvar domain = window.location.hostname.split('.').slice(-2).join('.');"]
["\t\t\t\tdocument.cookie = \"NoUBRedir=1; Expires=\" + inOneDay + \"; Domain=\" + domain + \"; Path=/; SameSite=None\";"]
["\t\t\t\tvar sourceRegex = new RegExp(\"Source=([^&]*)\");"]
["\t\t\t\tvar results = sourceRegex.exec(window.location.href);"]
["\t\t\t\tvar sourceUrl = window.location.protocol + '//' + window.location.hostname;"]
["\t\t\t\tif (results !== null) {"]
["\t\t\t\t\ttry {"]
["\t\t\t\t\t\tvar sourceUrlObject = new URL(decodeURIComponent(results[1]));"]
["\t\t\t\t\t\tif (sourceUrlObject.protocol === 'https:' && sourceUrlObject.host === window.location.host) {"]
["\t\t\t\t\t\t\tsourceUrl = sourceUrlObject.toString();"]
["\t\t\t\t\t\t}"]
["\t\t\t\t\t} catch {}"]
["\t\t\t\t}"]
["\t\t\t\twindow.location.href = sourceUrl;"]
["\t\t\t}"]
["\t\t\tfunction isIE(ua) {"]
["\t\t\t\treturn (ua.indexOf(\"MSIE\") !== -1) || ((ua.indexOf(\"Trident\") !== -1) && (ua.indexOf(\"rv:11\") !== -1));"]
["\t\t\t}"]
["\t\t\tif (navigator && navigator.userAgent && !isIE(navigator.userAgent)) {"]
["\t\t\t\tdoContinueNav();"]
["\t\t\t}"]
["\t\t// ]]>"]
["</script></head>"]
["\t<body>"]
["\t\t<div class=\"centered\">"]
["\t\t\t<img class=\"headerImg\" src=\"/_layouts/15/images/browserSupport.png?rev=50\" complete=\"complete\" alt=\"Illustrazione del messaggio di errore: uomo in piedi accanto a un monitor che visualizza un&#39;icona di errore.\" title=\"Illustrazione del messaggio di errore: uomo in piedi accanto a un monitor che visualizza un&#39;icona di errore.\" src=\"\" />"]
["\t\t</div>"]
["\t\t<h2 class=\"bodyText centered\">Ãˆ il momento di aggiornare il browser</h2>"]
["\t\t<p class=\"bodySubtext centered\">"]
["\t\t\t"]
["\t\t\t"]
["\t\t\t\tSharePoint e OneDrive usano la nuova tecnologia del browser e funzionano al meglio nei browser piÃ¹ recenti."]
["\t\t\t"]
["\t\t</p>"]
["\t\t<div class=\"buttonRow centered\">"]
["\t\t\t<button onclick=\"doUpgradeNav()\">Aggiorna browser</button>"]
["\t\t\t"]
["\t\t</div>"]
["\t</body>"]
["</html>"]

{"sheet":"Trads","index":9,"n_rows":2000,"n_cols":2,"rows_kept":2000,"cut":false,"hidden":true,"merged":[]}
[{"$f":"INDEX(tradsDB,,indiciLingua)","v":"English"},{"$f":"+_xlfn.SEQUENCE(2000)","v":1}]
["SUPPORT",2]
["Price List",3]
["Language",4]
["Currency",5]
["Project Ref.",6]
["SUBSTRUCTURE",7]
["MAIN SUPPORT",8]
["COMPONENTS OF",9]
["INTERMEDIATE TYPE",10]
["INTERMEDIATE",11]
["Code",12]
["CORNER TYPE",13]
["SHUTTLE TYPE",14]
["NO. OF SHUTTLES",15]
["NO. OF SHUTTLES FOR LIFE LINES",16]
["PASSING THROUGH",17]
["NOT PASSING TROUGH",18]
["TIMBER",19]
["CONCRETE",20]
["STEEL",21]
["Description",22]
["No.",23]
["Lord Price",24]
["Lord Subtotal",25]
["Discount",26]
["ACCESSORIES",27]
["LADDER TYPE",28]
["Normative",29]
["WITH CAGE",30]
["WITHOUT CAGE",31]
["NO",32]
["YES",33]
["Net Price",34]
["HEIGHT TO REACH",35]
["BRACKET SIZE",36]
["FINAL PROTECTION",37]
["REMOVABLE EXTENSION",38]
["LANDING PLATFORM",39]
["500x500 LANDING",40]
["500x750 LANDING",41]
["LANDING PROTECTION",42]
["REST PLATFORM",43]
["FOLDABLE PLATFORM",44]
["FOLDABLE FOR VLL",45]
["PLATFORM NORMATIVE",46]
["SECURITY CLOSURE",47]
["FEET TYPE",48]
["ADJUSTABLE FEET",49]
["HINGED FEET",50]
["HOOK FOR LADDERS",51]
["HANDLES",52]
["LADDER MODULS",53]
["PCS",54]
["Group",55]
["CAGE BARS",56]
["RINGS",57]
["BRACKETS",58]
["JUNCTIONS",59]
["CAPS",60]
["LABEL",61]
["FASTENINGS",62]
["BRACKETS FIXINGS",63]
["INTERMEDIATE FIXING",64]
["LABEL LANGUAGE",65]
["UPPER EXTENSION",66]
["INTERMEDIATE SPAN",67]
["SPAN 5 MT (SUGGESTED)",68]
["NO INTERMEDIATE",69]
["No. 1 INTERMEDIATE",70]
["No. 2 INTERMEDIATES",71]
["No. 3 INTERMEDIATES",72]
["No. 4 INTERMEDIATES",73]
["No. 5 INTERMEDIATES",74]
["INCLUDED SHUTTLE",75]
["HANDLES",76]
["BASE FIXINGS",77]
["LADDER REINFORCEMENT",78]
["TOTAL",79]
["Total Net Price",80]
["Client data",81]
["Client Number",82]
["Semiramis Code",83]
["Client Name",84]
["Email",85]
["Phone",86]
["Website",87]
["Technical Salesman",88]
["VAT Number",89]
["IBAN Code",90]
["SWIFT Code",91]
["Billing Address",92]
["Street",93]
["City",94]
["ZIP Code",95]
["Country",96]
["Province",97]
["Delivery Address",98]
["Price List and Currency",99]
["Turnover",100]
["PRODUCT LINE",101]
["SINGLE ANCHOR POINTS",102]
["LIFE LINES",103]
["SUPPORTS",104]
["LIFE LINES COMPONENTS",105]
["FALL PROTECTION",106]
["COLLECTIVE PROTECTION",107]
["PPE - PERSONAL PROTECTION EQUIPMENT",108]
["OTHER LIFE LINES",109]
["STEEL WIRE",110]
["Exchange Rate:",111]
["Payment",112]
["ORDER",113]
["Ref.",114]
["Date",115]
["Mobile",116]
["Reference person",117]
["Line",118]
["Qt.",119]
["SubTotal",120]
["Weight",121]
["Notes",122]
["Client",123]
["SAFETY NETS",124]
["RAILING GUARDS",125]
["LADDERS HOOKS",126]
["HELMETS",127]
["HARNESSES",128]
["LANYARDS",129]
["DISCENSORS",130]
["RETRACTABLE DEVICES",131]
["POSITIONING",132]
["ANCHORS",133]
["CONNECTORS",134]
["TRIPODS",135]
["BIPODS",136]
["GLOVES",137]
["EARS",138]
["EYES",139]
["FIXINGS",140]
["FASTENINGS SYSTEMS",141]
["Handrail",142]
["Straight",143]
["Inclined",144]
["Toeboard",145]
["Price List/m",146]
["Language",147]
["BALLASTED",148]
["Upright",149]
["Straight",150]
["Intermediate Bar",151]
["Upright height",152]
["Reference Normative",153]
["Guardrail composition",154]
["Total length of guardrail",155]
["Corners",156]
["Wall fixings",157]
["Not wall ends",158]
["Gate Kit",159]
["Alu version",160]
["Upright type",161]
["Rounding ml",162]
["Uprights span",163]
["Uprights no.",164]
["Input Uprights no.",165]
["Width",166]
["Total Weight",167]
["Order managment cost",168]
["Total Lord Price",169]
["Shipping Cost",170]
["Net Price/m",171]
["Material cost + shipping and managment",172]
["Material Cost + other costs/m",173]
["Waterproofing Kit",174]
["% Shimming wedge/Uprights",175]
["Extra distance",176]
["Vertical Base Type",177]
["Project Data",178]
["Plastic version",179]
["Paper",180]
["Online",181]
["Manual",182]
["to be sent",183]
["Panel hips span",184]
["Fixings included",185]
["EPDM washer",186]
["TYPE OF LOCK",187]
["LOCKING DOOR",188]
["DETACHABLE LADDER",189]
["Parallel to hips",190]
["Perpendicular to hips",191]
["RESTING SYSTEM",192]
["SPLITTING MODULE",193]
["RIGHT",194]
["LEFT",195]
["DIRECTION OF FIRST SPLITTING",196]
["FIRST REMOVABLE MODULE",197]
["TYPE VERSION STEEL",198]
["STAINLESS STEEL A2",199]
["STAINLESS STEEL A4",200]
["REMOVABLE",201]
["FIXED",202]
["INTERMEDIATE THROUGH",203]
["INSUFFICIENT HEIGHT",204]
["DETAILS",205]
["WITH PROTECTION",206]
["Attention: without final extension",207]
["Final stretch",208]
["Last split",209]
["Intermediate Section",210]
["Intermediate splitting",211]
["Initial section",212]
["Option de base",213]
["Landing Height",214]
["Insufficient Project Data!!!",215]
["Thickness of Insulation",216]
["DELETE ALL",217]
["INVOICE CURRENCY IS IN",218]
["LOCAL CURRENCY IS INDICATIVE ONLY",219]
["FALL ARREST SYSTEMS",220]
["LIFELINES AND RAIL SYSTEMS",221]
["SINGLE POINTS ",222]
["BRACKETS AND ACCESSORIES",223]
["Single article",224]
["Product group",225]
["Payment conditions",226]
["TS signature",227]
["ASM signature",228]
["Customer Signature",229]
["Fill in the field in the CRM sheet",230]
["FIXINGS",231]
["FIXING SYSTEMS",232]
["AIRTIGHTNESS AND WATERPROOFING",233]
["VAPOR MEMBRANES AND BARRIERS, TAPES, ACCESSORIES",234]
["TEMPORARY DEVICES",235]
["WIRE",236]
["LIFE LINE NOT RB",237]
["ANCHOR POINTS NOT RB",238]
["TEMPORARY FALL PROTECTION NETS",239]
["OTHER",240]
["HELMETS",241]
["HARNESSES",242]
["FALL ARREST",243]
["POSITIONING",244]
["DESCENDERS / ASCENT SYSTEMS",245]
["KIT",246]
["ROPES",247]
["RETRACTABLE DEVICES",248]
["TEMPORARY ANCHORAGES",249]
["CONNECTORS",250]
["PULLEY",251]
["TRIPODS",252]
["CRANE",253]
["AND",254]
["SCREWABLE ANCHOR",255]
["MECHANICAL ANCHORS",256]
["RESINS AND GLUES",257]
["THREADED BARS",258]
["BESPOKEN DOUBLE THREADED BARS",259]
["BRACING",260]
["% addiotional grub screws",261]
["OBSTACLE DEPTH",262]
["KERB THICKNESS",263]
["DESCENT LADDER",264]
["(E) Greater than 450 mm",265]
["Less than",266]
["On request LANDING Greater than 750 mm",267]
["On request",268]
["Option Default",269]
["Protection required",270]
["Shape",271]
["Rectangular",272]
["Circular",273]
["Radius",274]
["Width",275]
["Length",276]
["Surface (sqm)",277]
["Code for request",278]
["Dimensions",279]
["Total surface (sqm)",280]
["Subtotal surface (sqm)",281]
["List price/sqm",282]
["Net price/sqm",283]
["Material cost + other expenses/sqm",284]
["Installation type",285]
["Scheme",286]
["Batten 40x50 mm",287]
["Omega \"L\" 30x30x2 mm",288]
["LBB4030 40x3 mm",289]
["Fixing accessory",290]
["PRODUCT ON REQUEST",291]
["SYSTEM TYPE",292]
["Support height",293]
["Ladder",294]
["With anchors",295]
["With ballast",296]
["Floor + guardrail",297]
["Useful",298]
["Height",299]
["Horizontal lifeline",300]
["Steps",301]
["Fill in",302]
["Material",303]
["On cover with Shed",304]
["On flat roof",305]
["On roof with sandwich panels",306]
["Arrow/height Shed",307]
["Distance between beams Y",308]
["Walkway direction",309]
["Distance from wall",310]
["Bracket spacing",311]
["Side access",312]
["Frontal access",313]
["Side railings",314]
["Single side",315]
["Both sides",316]
["Type of access",317]
["Shed",318]
["TOTAL LADDER HEIGHT",319]
["PENULTIMATE INTERMEDIATE SECTION",320]
["Splitting",321]
["LANDING GATE",322]
["FIXING ON SHEET METAL",323]
["DOUBLE CLOSURE",324]
["EXIT STEP",325]
["WATERPROOFING",326]
["NUMBER OF ACCESSES",327]
["TRANSPORT AND MANAGEMENT",328]
["HIDE/UNHIDE CODES",329]
["End",330]
["Loop",331]
["Angle",332]
["Coordinates",333]
["Position Support #",334]
["Start",335]
["Shared Start",336]
["From Support #",337]
["To Support #",338]
["Direction",339]
["Lenght",340]
["Angle°",341]
["Measured length",342]
["Start from Last",343]
["Pay attention to the number of uprights",344]
["HOT GALVANIZED",345]
["Arrival and Restart",346]
["Export E-Service/Margin",347]
["Terminals",348]
["All the supports",349]
["no. Supports",350]
["SHUTTLE MATERIAL",351]
["Copy Discount",352]
["SYSTEM NOT COMPLETE OF ENDS",353]
["CLT",354]
["HOLLOW CORE",355]
["TRAPEZOIDAL SHEET",356]
["Minimum thicknesses",357]
["WORKING METHOD",358]
["SUSPENSION",359]
["FALL ARREST",360]
["RESTRAINT",361]
["External",362]
["Internal",363]
["DOUBLE OPENING",364]
["Position Label",365]
["Angle Label",366]
["DELETE DRAWING",367]
["Labels Position",368]
["Fixing not included",369]
["lives",370]
["bolt",371]
["Press",372]
["Technical report",373]
["Necessary pre -installed shuttle",374]
["Double terminal",375]
["N. Intermediate",376]
["Grease to add",377]
["Partial Length",378]
["Fixed Span",379]
["Alternative",380]
["Offer",381]
["Total offer",382]
["Seam height",383]
["Absorber",384]
["Tensioner",385]
["Forced intermediate",386]
["Shared end",387]
["Start // to the facade",388]
["Start ⊥ to the facade",389]
["Intermediate",390]
["Terminal",391]
["End // to the facade",392]
["End ⊥ to the facade",393]
["Extra options",394]
["Address",395]
["Construction site",396]
["Personal protective equipment",397]
["Offer request form",398]
["Offer delivery date",399]
["Aluminum",400]
["Anodized aluminum",401]
["Painted aluminum",402]
["Color (RAL)",403]
["Update offer number",404]
["ribs distance",405]
["Last day for the delivery of the offer",406]
["What graphic support/documentation are required in addition to the advice?",407]
["Draft drawing",408]
["Executive project stamped by Rothoblaas",409]
["Executive project but stamped with external engineer",410]
["Commercial offer only",411]
["For any customized products, it is required:",412]
["External production against the customer",413]
["Made by Rothoblaas",414]
["Made and certified by Rothoblaaas",415]
["With attached graphic documentation",416]
["With attached photographic documentation",417]
["An offer is required as an attached document which must be delivered no later than",418]
["I also attach",419]
["graphic documentation",420]
["photographic documentation",421]
["Existing supplier",422]
["Another supplier",423]
["Link to the product page",424]
["Reference price",425]
["Manual in language",426]
["In case of order",427]
["Also for quote",428]
["Best regards",429]
["Discounts table",430]
["Particular discount",431]
["Are you sure to continue?",432]
["Copy address",433]
["Pay attention to the code entered",434]
["Wrong code",435]
["Good morning",436]
["Send order in attachment",437]
["Change Discounts",438]
["Enter Password",439]
["curved",440]
["reclining",441]
["ballast type",442]
["ballast frame",443]
["empty",444]
["filled",445]
["List of Materials",446]
["Membrane protection",447]
["first terminal",448]
["second terminal",449]
["gate",450]
["on the wall",451]
["closing cap",452]
["counting by traits",453]
["counting by totals",454]
["Module Length",455]
["starting from the wall",456]
["Country",457]
["Overweight",458]
["Excessive Volume",459]
["Ask Customer Service",460]
["Country cost not available",461]
["Remember to consider this shipping cost:",462]
["To consider the shipping costs, ask Customer Service",463]
["Solution not available",464]
["Cancel",465]
["OK",466]
["Internal Installation",467]
["External Installation",468]
["With Supports",469]
["On Trapezoidal Sheet Metal",470]
["Installation",471]
["Environment Type",472]
["Normal",473]
["Corrosive",474]
["Distance from floor level",475]
["Number of Skylights",476]
["Skylight geometric data",477]
["Single",478]
["Double",479]
["internal corners",480]
["external corners",481]
["General project data",482]
["Safety net composition",483]
["Fall arrest net model chosen",484]
["Installation of Fall Protection Net",485]
["Add Skylight",486]
["Possible options for local ballast",487]
["Attention! There is a new version",488]
["You are using the latest available version",489]
["Steel Flat strip",490]
["consider the width from the center of the first useful hip for both sides",491]
["fastening accessory",492]
["depth anchorage",493]
["distance from edge",494]
["Type of screw",495]
[0,496]
[0,497]
[0,498]
[0,499]
["Always verify material quantities prior to ordering and installation",500]
["This file can only be opened with:",501]
["Your version looks like this:",502]
["Excel will close.",503]
["\"Unsupported version\"",504]
["Send Request",505]
["Progress bar",506]
["You can see the video tutorial by clicking here",507]
["Please send us your best offer for the following products as per attachment",508]
["You can download the new version by clicking on this link",509]
["Contact our local representative for more information regarding the calculator or the product",510]
[0,511]
[0,512]
[0,513]
[0,514]
[0,515]
[0,516]
[0,517]
[0,518]
[0,519]
[0,520]
[0,521]
[0,522]
[0,523]
[0,524]
[0,525]
[0,526]
[0,527]
[0,528]
[0,529]
[0,530]
[0,531]
[0,532]
[0,533]
[0,534]
[0,535]
[0,536]
[0,537]
[0,538]
[0,539]
[0,540]
[0,541]
[0,542]
[0,543]
[0,544]
[0,545]
[0,546]
[0,547]
[0,548]
[0,549]
[0,550]
[0,551]
[0,552]
[0,553]
[0,554]
[0,555]
[0,556]
[0,557]
[0,558]
[0,559]
[0,560]
[0,561]
[0,562]
[0,563]
[0,564]
[0,565]
[0,566]
[0,567]
[0,568]
[0,569]
[0,570]
[0,571]
[0,572]
[0,573]
[0,574]
[0,575]
[0,576]
[0,577]
[0,578]
[0,579]
[0,580]
[0,581]
[0,582]
[0,583]
[0,584]
[0,585]
[0,586]
[0,587]
[0,588]
[0,589]
[0,590]
[0,591]
[0,592]
[0,593]
[0,594]
[0,595]
[0,596]
[0,597]
[0,598]
[0,599]
[0,600]
["PATROL LIFE LINE CALCULATOR",601]
["Forces and deflection of the system",602]
["Assorber-Tensioner",603]
["It is not recommended to have a lifeline with angles of less than 90°. In such cases, it is recommended to split the lifeline at that point.",604]
["Max number of users",605]
["Installation manual loads (EN795)",606]
["Span",607]
["Max Deflection Cable",608]
["Fmax",609]
["Max length span",610]
["Load applied on span within this segment",611]
["Reaction on anchor elements of the multi-span rope",612]
["Curve",613]
["Max design load",614]
["Span rope deflection with respect to joining end constraints",615]
["Loaded Span",616]
["Deflection ",617]
["Module",618]
[" m for rope elongation already considered",619]
["It is not recommended to have a lifeline with angles of less than 90°. In such cases, it is recommended to split the lifeline at that point.",620]
["Draw the segments of your life line",621]
["Fixings and anchors must be the same in all anchor points.",622]
["Before the construction, all calculation must be verified and approved by the responsible designer.",623]
["NOTES",624]
["Mechanical resistance values and geometry refer to product certification.",625]
["Verification of anchoring systems resistance must be realized apart.",626]
["All calculations must be verified and approved by the responsible designer prior to execution. The designer are responsible to verify, at each use, the conformity of the data to the regulations in force and to the project. The ultimate responsibility for choosing the appropriate product for a specific application lies with the designer.",627]
["The results obtained in this sheet are of an indicative nature and should be considered as a technical-commercial service within the Rotho Blaas srl sales activity. The number and thickness of the inserts must be determined by the responsible designer who is required to check the accuracy of the results deriving from the processing of the data entered. Rotho Blaas srl does not guarantee compliance with current legislation and the design of the calculations made through this spreadsheet. In particular, following the amendment of the pertinent provisions such as, for example standards, approvals, etc. the program may become, in part or in whole, invalid. Rotho Blaas srl does not guarantee and will not be responsible for direct or indirect damages or consequences or other, in any way (warranty for defects, warranty for malfunction, product or legal responsibility, etc.). The User declares to use the spreadsheet as a professional with the obligation and responsibility to verify that the spreadsheet meets his specific needs.",628]
["anchors at the loaded span",629]
["anchors at the unloaded span",630]
["Intermediate of segment",631]
["End the lifeline with End or Loop",632]
["on the Desktop",633]
[0,634]
[0,635]
[0,636]
[0,637]
[0,638]
[0,639]
[0,640]
[0,641]
[0,642]
[0,643]
[0,644]
[0,645]
[0,646]
[0,647]
[0,648]
[0,649]
[0,650]
[0,651]
[0,652]
[0,653]
[0,654]
[0,655]
[0,656]
[0,657]
[0,658]
[0,659]
[0,660]
[0,661]
[0,662]
[0,663]
[0,664]
[0,665]
[0,666]
[0,667]
[0,668]
[0,669]
[0,670]
[0,671]
[0,672]
[0,673]
[0,674]
[0,675]
[0,676]
[0,677]
[0,678]
[0,679]
[0,680]
[0,681]
[0,682]
[0,683]
[0,684]
[0,685]
[0,686]
[0,687]
[0,688]
[0,689]
[0,690]
[0,691]
[0,692]
[0,693]
[0,694]
[0,695]
[0,696]
[0,697]
[0,698]
[0,699]
[0,700]
[0,701]
[0,702]
[0,703]
[0,704]
[0,705]
[0,706]
[0,707]
[0,708]
[0,709]
[0,710]
[0,711]
[0,712]
[0,713]
[0,714]
[0,715]
[0,716]
[0,717]
[0,718]
[0,719]
[0,720]
[0,721]
[0,722]
[0,723]
[0,724]
[0,725]
[0,726]
[0,727]
[0,728]
[0,729]
[0,730]
[0,731]
[0,732]
[0,733]
[0,734]
[0,735]
[0,736]
[0,737]
[0,738]
[0,739]
[0,740]
[0,741]
[0,742]
[0,743]
[0,744]
[0,745]
[0,746]
[0,747]
[0,748]
[0,749]
[0,750]
[0,751]
[0,752]
[0,753]
[0,754]
[0,755]
[0,756]
[0,757]
[0,758]
[0,759]
[0,760]
[0,761]
[0,762]
[0,763]
[0,764]
[0,765]
[0,766]
[0,767]
[0,768]
[0,769]
[0,770]
[0,771]
[0,772]
[0,773]
[0,774]
[0,775]
[0,776]
[0,777]
[0,778]
[0,779]
[0,780]
[0,781]
[0,782]
[0,783]
[0,784]
[0,785]
[0,786]
[0,787]
[0,788]
[0,789]
[0,790]
[0,791]
[0,792]
[0,793]
[0,794]
[0,795]
[0,796]
[0,797]
[0,798]
[0,799]
[0,800]
[0,801]
[0,802]
[0,803]
[0,804]
[0,805]
[0,806]
[0,807]
[0,808]
[0,809]
[0,810]
[0,811]
[0,812]
[0,813]
[0,814]
[0,815]
[0,816]
[0,817]
[0,818]
[0,819]
[0,820]
[0,821]
[0,822]
[0,823]
[0,824]
[0,825]
[0,826]
[0,827]
[0,828]
[0,829]
[0,830]
[0,831]
[0,832]
[0,833]
[0,834]
[0,835]
[0,836]
[0,837]
[0,838]
[0,839]
[0,840]
[0,841]
[0,842]
[0,843]
[0,844]
[0,845]
[0,846]
[0,847]
[0,848]
[0,849]
[0,850]
[0,851]
[0,852]
[0,853]
[0,854]
[0,855]
[0,856]
[0,857]
[0,858]
[0,859]
[0,860]
[0,861]
[0,862]
[0,863]
[0,864]
[0,865]
[0,866]
[0,867]
[0,868]
[0,869]
[0,870]
[0,871]
[0,872]
[0,873]
[0,874]
[0,875]
[0,876]
[0,877]
[0,878]
[0,879]
[0,880]
[0,881]
[0,882]
[0,883]
[0,884]
[0,885]
[0,886]
[0,887]
[0,888]
[0,889]
[0,890]
[0,891]
[0,892]
[0,893]
[0,894]
[0,895]
[0,896]
[0,897]
[0,898]
[0,899]
[0,900]
[0,901]
[0,902]
[0,903]
[0,904]
[0,905]
[0,906]
[0,907]
[0,908]
[0,909]
[0,910]
[0,911]
[0,912]
[0,913]
[0,914]
[0,915]
[0,916]
[0,917]
[0,918]
[0,919]
[0,920]
[0,921]
[0,922]
[0,923]
[0,924]
[0,925]
[0,926]
[0,927]
[0,928]
[0,929]
[0,930]
[0,931]
[0,932]
[0,933]
[0,934]
[0,935]
[0,936]
[0,937]
[0,938]
[0,939]
[0,940]
[0,941]
[0,942]
[0,943]
[0,944]
[0,945]
[0,946]
[0,947]
[0,948]
[0,949]
[0,950]
[0,951]
[0,952]
[0,953]
[0,954]
[0,955]
[0,956]
[0,957]
[0,958]
[0,959]
[0,960]
[0,961]
[0,962]
[0,963]
[0,964]
[0,965]
[0,966]
[0,967]
[0,968]
[0,969]
[0,970]
[0,971]
[0,972]
[0,973]
[0,974]
[0,975]
[0,976]
[0,977]
[0,978]
[0,979]
[0,980]
[0,981]
[0,982]
[0,983]
[0,984]
[0,985]
[0,986]
[0,987]
[0,988]
[0,989]
[0,990]
[0,991]
[0,992]
[0,993]
[0,994]
[0,995]
[0,996]
[0,997]
[0,998]
[0,999]
[0,1000]
[0,1001]
[0,1002]
[0,1003]
[0,1004]
[0,1005]
[0,1006]
[0,1007]
[0,1008]
[0,1009]
[0,1010]
[0,1011]
[0,1012]
[0,1013]
[0,1014]
[0,1015]
[0,1016]
[0,1017]
[0,1018]
[0,1019]
[0,1020]
[0,1021]
[0,1022]
[0,1023]
[0,1024]
[0,1025]
[0,1026]
[0,1027]
[0,1028]
[0,1029]
[0,1030]
[0,1031]
[0,1032]
[0,1033]
[0,1034]
[0,1035]
[0,1036]
[0,1037]
[0,1038]
[0,1039]
[0,1040]
[0,1041]
[0,1042]
[0,1043]
[0,1044]
[0,1045]
[0,1046]
[0,1047]
[0,1048]
[0,1049]
[0,1050]
[0,1051]
[0,1052]
[0,1053]
[0,1054]
[0,1055]
[0,1056]
[0,1057]
[0,1058]
[0,1059]
[0,1060]
[0,1061]
[0,1062]
[0,1063]
[0,1064]
[0,1065]
[0,1066]
[0,1067]
[0,1068]
[0,1069]
[0,1070]
[0,1071]
[0,1072]
[0,1073]
[0,1074]
[0,1075]
[0,1076]
[0,1077]
[0,1078]
[0,1079]
[0,1080]
[0,1081]
[0,1082]
[0,1083]
[0,1084]
[0,1085]
[0,1086]
[0,1087]
[0,1088]
[0,1089]
[0,1090]
[0,1091]
[0,1092]
[0,1093]
[0,1094]
[0,1095]
[0,1096]
[0,1097]
[0,1098]
[0,1099]
[0,1100]
[0,1101]
[0,1102]
[0,1103]
[0,1104]
[0,1105]
[0,1106]
[0,1107]
[0,1108]
[0,1109]
[0,1110]
[0,1111]
[0,1112]
[0,1113]
[0,1114]
[0,1115]
[0,1116]
[0,1117]
[0,1118]
[0,1119]
[0,1120]
[0,1121]
[0,1122]
[0,1123]
[0,1124]
[0,1125]
[0,1126]
[0,1127]
[0,1128]
[0,1129]
[0,1130]
[0,1131]
[0,1132]
[0,1133]
[0,1134]
[0,1135]
[0,1136]
[0,1137]
[0,1138]
[0,1139]
[0,1140]
[0,1141]
[0,1142]
[0,1143]
[0,1144]
[0,1145]
[0,1146]
[0,1147]
[0,1148]
[0,1149]
[0,1150]
[0,1151]
[0,1152]
[0,1153]
[0,1154]
[0,1155]
[0,1156]
[0,1157]
[0,1158]
[0,1159]
[0,1160]
[0,1161]
[0,1162]
[0,1163]
[0,1164]
[0,1165]
[0,1166]
[0,1167]
[0,1168]
[0,1169]
[0,1170]
[0,1171]
[0,1172]
[0,1173]
[0,1174]
[0,1175]
[0,1176]
[0,1177]
[0,1178]
[0,1179]
[0,1180]
[0,1181]
[0,1182]
[0,1183]
[0,1184]
[0,1185]
[0,1186]
[0,1187]
[0,1188]
[0,1189]
[0,1190]
[0,1191]
[0,1192]
[0,1193]
[0,1194]
[0,1195]
[0,1196]
[0,1197]
[0,1198]
[0,1199]
[0,1200]
[0,1201]
[0,1202]
[0,1203]
[0,1204]
[0,1205]
[0,1206]
[0,1207]
[0,1208]
[0,1209]
[0,1210]
[0,1211]
[0,1212]
[0,1213]
[0,1214]
[0,1215]
[0,1216]
[0,1217]
[0,1218]
[0,1219]
[0,1220]
[0,1221]
[0,1222]
[0,1223]
[0,1224]
[0,1225]
[0,1226]
[0,1227]
[0,1228]
[0,1229]
[0,1230]
[0,1231]
[0,1232]
[0,1233]
[0,1234]
[0,1235]
[0,1236]
[0,1237]
[0,1238]
[0,1239]
[0,1240]
[0,1241]
[0,1242]
[0,1243]
[0,1244]
[0,1245]
[0,1246]
[0,1247]
[0,1248]
[0,1249]
[0,1250]
[0,1251]
[0,1252]
[0,1253]
[0,1254]
[0,1255]
[0,1256]
[0,1257]
[0,1258]
[0,1259]
[0,1260]
[0,1261]
[0,1262]
[0,1263]
[0,1264]
[0,1265]
[0,1266]
[0,1267]
[0,1268]
[0,1269]
[0,1270]
[0,1271]
[0,1272]
[0,1273]
[0,1274]
[0,1275]
[0,1276]
[0,1277]
[0,1278]
[0,1279]
[0,1280]
[0,1281]
[0,1282]
[0,1283]
[0,1284]
[0,1285]
[0,1286]
[0,1287]
[0,1288]
[0,1289]
[0,1290]
[0,1291]
[0,1292]
[0,1293]
[0,1294]
[0,1295]
[0,1296]
[0,1297]
[0,1298]
[0,1299]
[0,1300]
[0,1301]
[0,1302]
[0,1303]
[0,1304]
[0,1305]
[0,1306]
[0,1307]
[0,1308]
[0,1309]
[0,1310]
[0,1311]
[0,1312]
[0,1313]
[0,1314]
[0,1315]
[0,1316]
[0,1317]
[0,1318]
[0,1319]
[0,1320]
[0,1321]
[0,1322]
[0,1323]
[0,1324]
[0,1325]
[0,1326]
[0,1327]
[0,1328]
[0,1329]
[0,1330]
[0,1331]
[0,1332]
[0,1333]
[0,1334]
[0,1335]
[0,1336]
[0,1337]
[0,1338]
[0,1339]
[0,1340]
[0,1341]
[0,1342]
[0,1343]
[0,1344]
[0,1345]
[0,1346]
[0,1347]
[0,1348]
[0,1349]
[0,1350]
[0,1351]
[0,1352]
[0,1353]
[0,1354]
[0,1355]
[0,1356]
[0,1357]
[0,1358]
[0,1359]
[0,1360]
[0,1361]
[0,1362]
[0,1363]
[0,1364]
[0,1365]
[0,1366]
[0,1367]
[0,1368]
[0,1369]
[0,1370]
[0,1371]
[0,1372]
[0,1373]
[0,1374]
[0,1375]
[0,1376]
[0,1377]
[0,1378]
[0,1379]
[0,1380]
[0,1381]
[0,1382]
[0,1383]
[0,1384]
[0,1385]
[0,1386]
[0,1387]
[0,1388]
[0,1389]
[0,1390]
[0,1391]
[0,1392]
[0,1393]
[0,1394]
[0,1395]
[0,1396]
[0,1397]
[0,1398]
[0,1399]
[0,1400]
[0,1401]
[0,1402]
[0,1403]
[0,1404]
[0,1405]
[0,1406]
[0,1407]
[0,1408]
[0,1409]
[0,1410]
[0,1411]
[0,1412]
[0,1413]
[0,1414]
[0,1415]
[0,1416]
[0,1417]
[0,1418]
[0,1419]
[0,1420]
[0,1421]
[0,1422]
[0,1423]
[0,1424]
[0,1425]
[0,1426]
[0,1427]
[0,1428]
[0,1429]
[0,1430]
[0,1431]
[0,1432]
[0,1433]
[0,1434]
[0,1435]
[0,1436]
[0,1437]
[0,1438]
[0,1439]
[0,1440]
[0,1441]
[0,1442]
[0,1443]
[0,1444]
[0,1445]
[0,1446]
[0,1447]
[0,1448]
[0,1449]
[0,1450]
[0,1451]
[0,1452]
[0,1453]
[0,1454]
[0,1455]
[0,1456]
[0,1457]
[0,1458]
[0,1459]
[0,1460]
[0,1461]
[0,1462]
[0,1463]
[0,1464]
[0,1465]
[0,1466]
[0,1467]
[0,1468]
[0,1469]
[0,1470]
[0,1471]
[0,1472]
[0,1473]
[0,1474]
[0,1475]
[0,1476]
[0,1477]
[0,1478]
[0,1479]
[0,1480]
[0,1481]
[0,1482]
[0,1483]
[0,1484]
[0,1485]
[0,1486]
[0,1487]
[0,1488]
[0,1489]
[0,1490]
[0,1491]
[0,1492]
[0,1493]
[0,1494]
[0,1495]
[0,1496]
[0,1497]
[0,1498]
[0,1499]
[0,1500]
[0,1501]
[0,1502]
[0,1503]
[0,1504]
[0,1505]
[0,1506]
[0,1507]
[0,1508]
[0,1509]
[0,1510]
[0,1511]
[0,1512]
[0,1513]
[0,1514]
[0,1515]
[0,1516]
[0,1517]
[0,1518]
[0,1519]
[0,1520]
[0,1521]
[0,1522]
[0,1523]
[0,1524]
[0,1525]
[0,1526]
[0,1527]
[0,1528]
[0,1529]
[0,1530]
[0,1531]
[0,1532]
[0,1533]
[0,1534]
[0,1535]
[0,1536]
[0,1537]
[0,1538]
[0,1539]
[0,1540]
[0,1541]
[0,1542]
[0,1543]
[0,1544]
[0,1545]
[0,1546]
[0,1547]
[0,1548]
[0,1549]
[0,1550]
[0,1551]
[0,1552]
[0,1553]
[0,1554]
[0,1555]
[0,1556]
[0,1557]
[0,1558]
[0,1559]
[0,1560]
[0,1561]
[0,1562]
[0,1563]
[0,1564]
[0,1565]
[0,1566]
[0,1567]
[0,1568]
[0,1569]
[0,1570]
[0,1571]
[0,1572]
[0,1573]
[0,1574]
[0,1575]
[0,1576]
[0,1577]
[0,1578]
[0,1579]
[0,1580]
[0,1581]
[0,1582]
[0,1583]
[0,1584]
[0,1585]
[0,1586]
[0,1587]
[0,1588]
[0,1589]
[0,1590]
[0,1591]
[0,1592]
[0,1593]
[0,1594]
[0,1595]
[0,1596]
[0,1597]
[0,1598]
[0,1599]
[0,1600]
[0,1601]
[0,1602]
[0,1603]
[0,1604]
[0,1605]
[0,1606]
[0,1607]
[0,1608]
[0,1609]
[0,1610]
[0,1611]
[0,1612]
[0,1613]
[0,1614]
[0,1615]
[0,1616]
[0,1617]
[0,1618]
[0,1619]
[0,1620]
[0,1621]
[0,1622]
[0,1623]
[0,1624]
[0,1625]
[0,1626]
[0,1627]
[0,1628]
[0,1629]
[0,1630]
[0,1631]
[0,1632]
[0,1633]
[0,1634]
[0,1635]
[0,1636]
[0,1637]
[0,1638]
[0,1639]
[0,1640]
[0,1641]
[0,1642]
[0,1643]
[0,1644]
[0,1645]
[0,1646]
[0,1647]
[0,1648]
[0,1649]
[0,1650]
[0,1651]
[0,1652]
[0,1653]
[0,1654]
[0,1655]
[0,1656]
[0,1657]
[0,1658]
[0,1659]
[0,1660]
[0,1661]
[0,1662]
[0,1663]
[0,1664]
[0,1665]
[0,1666]
[0,1667]
[0,1668]
[0,1669]
[0,1670]
[0,1671]
[0,1672]
[0,1673]
[0,1674]
[0,1675]
[0,1676]
[0,1677]
[0,1678]
[0,1679]
[0,1680]
[0,1681]
[0,1682]
[0,1683]
[0,1684]
[0,1685]
[0,1686]
[0,1687]
[0,1688]
[0,1689]
[0,1690]
[0,1691]
[0,1692]
[0,1693]
[0,1694]
[0,1695]
[0,1696]
[0,1697]
[0,1698]
[0,1699]
[0,1700]
[0,1701]
[0,1702]
[0,1703]
[0,1704]
[0,1705]
[0,1706]
[0,1707]
[0,1708]
[0,1709]
[0,1710]
[0,1711]
[0,1712]
[0,1713]
[0,1714]
[0,1715]
[0,1716]
[0,1717]
[0,1718]
[0,1719]
[0,1720]
[0,1721]
[0,1722]
[0,1723]
[0,1724]
[0,1725]
[0,1726]
[0,1727]
[0,1728]
[0,1729]
[0,1730]
[0,1731]
[0,1732]
[0,1733]
[0,1734]
[0,1735]
[0,1736]
[0,1737]
[0,1738]
[0,1739]
[0,1740]
[0,1741]
[0,1742]
[0,1743]
[0,1744]
[0,1745]
[0,1746]
[0,1747]
[0,1748]
[0,1749]
[0,1750]
[0,1751]
[0,1752]
[0,1753]
[0,1754]
[0,1755]
[0,1756]
[0,1757]
[0,1758]
[0,1759]
[0,1760]
[0,1761]
[0,1762]
[0,1763]
[0,1764]
[0,1765]
[0,1766]
[0,1767]
[0,1768]
[0,1769]
[0,1770]
[0,1771]
[0,1772]
[0,1773]
[0,1774]
[0,1775]
[0,1776]
[0,1777]
[0,1778]
[0,1779]
[0,1780]
[0,1781]
[0,1782]
[0,1783]
[0,1784]
[0,1785]
[0,1786]
[0,1787]
[0,1788]
[0,1789]
[0,1790]
[0,1791]
[0,1792]
[0,1793]
[0,1794]
[0,1795]
[0,1796]
[0,1797]
[0,1798]
[0,1799]
[0,1800]
[0,1801]
[0,1802]
[0,1803]
[0,1804]
[0,1805]
[0,1806]
[0,1807]
[0,1808]
[0,1809]
[0,1810]
[0,1811]
[0,1812]
[0,1813]
[0,1814]
[0,1815]
[0,1816]
[0,1817]
[0,1818]
[0,1819]
[0,1820]
[0,1821]
[0,1822]
[0,1823]
[0,1824]
[0,1825]
[0,1826]
[0,1827]
[0,1828]
[0,1829]
[0,1830]
[0,1831]
[0,1832]
[0,1833]
[0,1834]
[0,1835]
[0,1836]
[0,1837]
[0,1838]
[0,1839]
[0,1840]
[0,1841]
[0,1842]
[0,1843]
[0,1844]
[0,1845]
[0,1846]
[0,1847]
[0,1848]
[0,1849]
[0,1850]
[0,1851]
[0,1852]
[0,1853]
[0,1854]
[0,1855]
[0,1856]
[0,1857]
[0,1858]
[0,1859]
[0,1860]
[0,1861]
[0,1862]
[0,1863]
[0,1864]
[0,1865]
[0,1866]
[0,1867]
[0,1868]
[0,1869]
[0,1870]
[0,1871]
[0,1872]
[0,1873]
[0,1874]
[0,1875]
[0,1876]
[0,1877]
[0,1878]
[0,1879]
[0,1880]
[0,1881]
[0,1882]
[0,1883]
[0,1884]
[0,1885]
[0,1886]
[0,1887]
[0,1888]
[0,1889]
[0,1890]
[0,1891]
[0,1892]
[0,1893]
[0,1894]
[0,1895]
[0,1896]
[0,1897]
[0,1898]
[0,1899]
[0,1900]
[0,1901]
[0,1902]
[0,1903]
[0,1904]
[0,1905]
[0,1906]
[0,1907]
[0,1908]
[0,1909]
[0,1910]
[0,1911]
[0,1912]
[0,1913]
[0,1914]
[0,1915]
[0,1916]
[0,1917]
[0,1918]
[0,1919]
[0,1920]
[0,1921]
[0,1922]
[0,1923]
[0,1924]
[0,1925]
[0,1926]
[0,1927]
[0,1928]
[0,1929]
[0,1930]
[0,1931]
[0,1932]
[0,1933]
[0,1934]
[0,1935]
[0,1936]
[0,1937]
[0,1938]
[0,1939]
[0,1940]
[0,1941]
[0,1942]
[0,1943]
[0,1944]
[0,1945]
[0,1946]
[0,1947]
[0,1948]
[0,1949]
[0,1950]
[0,1951]
[0,1952]
[0,1953]
[0,1954]
[0,1955]
[0,1956]
[0,1957]
[0,1958]
[0,1959]
[0,1960]
[0,1961]
[0,1962]
[0,1963]
[0,1964]
[0,1965]
[0,1966]
[0,1967]
[0,1968]
[0,1969]
[0,1970]
[0,1971]
[0,1972]
[0,1973]
[0,1974]
[0,1975]
[0,1976]
[0,1977]
[0,1978]
[0,1979]
[0,1980]
[0,1981]
[0,1982]
[0,1983]
[0,1984]
[0,1985]
[0,1986]
[0,1987]
[0,1988]
[0,1989]
[0,1990]
[0,1991]
[0,1992]
[0,1993]
[0,1994]
[0,1995]
[0,1996]
[0,1997]
[0,1998]
[0,1999]
[0,2000]

{"sheet":"tradsDB","index":10,"n_rows":2000,"n_cols":20,"rows_kept":2000,"cut":false,"hidden":true,"merged":[]}
["Italiano","čeština","汉语","Hrvatski","Français","大和","Γκρέγκο","English","Latvietis","Polski","Português","Română","Русский","Slovenčina","Slovenščina","Español","Svenska","Deutsch","Türkçe","Magyar Nyelv"]
["SUPPORTO","PODPORA","支持","PODRŠKA","SOUTIEN","サポート","ΥΠΟΣΤΗΡΙΞΗ","SUPPORT","ATBALSTS","POMOC","APOIO","SUPORT","ПОДДЕРЖКА","PODPORA","PODPORA","SOPORTE","STÖD","GRUNDPLATTE","DESTEK","TÁMOGATÁS"]
["Listino Prezzi","Ceník","价格表","Cjenik","Liste des prix","価格表","Λίστα τιμών","Price List","Cenrādis","Cennik","Lista de preços","Lista de prețuri","Прайс-лист","Cenník","Cenik","Lista de precios","Prislista","Preislisten","Fiyat listesi","Árlista"]
["Lingua","Jazyk","语言","Jezik","Langue","言語","Γλώσσα","Language","Valoda","Język","Idioma","Limba","Язык","Jazyk","Jezik","Idioma","Språk","Sprache","Dilim","Nyelv"]
["Valuta","Měna","货币","Valuta","Devise","通貨","Νόμισμα","Currency","Valūta","Waluta","Moeda","Monedă","Валюта","Mena","Valuta","Moneda","Valuta","Währung","Para birimi","Pénznem"]
["Rif. Progetto","Projekt Ref.","项目编号。","Projekt Ref.","Réf. du projet","参照プロジェクト","Υπεύθυνος Έργου","Project Ref.","Projekta atsauces Nr.","Nr ref. projektu","Projecto Ref.","Proiect Ref.","Ссылка на проект.","Ref. projektu","Ref. projekta","Ref. del proyecto","Projekt Ref.","Projekt Ref.","Proje Referansı","Projekt Ref."]
["SOTTOSTRUTTURA","SUBSTRUKTURA","结构","PODSTRUKTURA","SUBSTRUCTURE","サブストラクチャー","ΥΠΟΔΟΜΗ","SUBSTRUCTURE","SUBSTRUKTŪRA","PODBUDOWA","SUBSTRUTURA","SUBSTRUCTURA","СУБСТРУКТУРА","SUBSTRUKTÚRA","SUBSTRUKCIJA","SUBESTRUCTURA","SUBSTRUKTUR","Unterkonstruktion","ALT YAPI","ALSZERKEZET"]
["SUPPORTO PRINCIPALE","HLAVNÍ PODPORA","主要支持","GLAVNA PODRŠKA","SUPPORT PRINCIPAL","メインサポート","ΚΥΡΙΑ ΥΠΟΣΤΗΡΙΞΗ","MAIN SUPPORT","GALVENIS ATBALSTS","WSPARCIE GŁÓWNE","APOIO PRINCIPAL","SUPORT PRINCIPAL","ГЛАВНАЯ ОПОРА","HLAVNÁ PODPORA","GLAVNA PODPORA","SOPORTE PRINCIPAL","HUVUDSTÖD","Grundplatte","ANA DESTEK","FŐ TÁMOGATÁS"]
["COMPONENTI","KOMPONENTY","构成部分","KOMPONENTE OD","COMPOSANTS DE","コンポーネント","ΣΥΣΤΑΤΙΚΑ ΤΗΣ","COMPONENTS OF","KOMPONENTI","CZĘŚCI","COMPONENTES DE","COMPONENTE DE","КОМПОНЕНТЫ","KOMPONENTY","SESTAVNI DELI","COMPONENTES","KOMPONENTER AV","Komponenten","IN BİLEŞENLERİ","ÖSSZETEVŐK"]
["TIPO INTERMEDIO","STŘEDOVÝ TYP","中间件类型","SREDNJI TIP","TYPE INTERMÉDIAIRE","中間タイプ","ΕΝΔΙΑΜΕΣΟΣ ΤΥΠΟΣ","INTERMEDIATE TYPE","STARPPOSMA TIPS","TYP POŚREDNI","TIPO INTERMÉDIO","TIP INTERMEDIAR","ПРОМЕЖУТОЧНЫЙ ТИП","PRECHODNÝ TYP","VMESNI TIP","TIPO INTERMEDIO","MELLAN TYP","Art des Zwischenstück","ARA TİP","KÖZTES TÍPUS"]
["INTERMEDIO","STŘEDOVÝ","中间的","SREDNJI","INTERMEDIAIRE","中間","ΕΝΔΙΑΜΕΣΟΣ","INTERMEDIATE","STARPPOSMS","MEDIATOR","INTERMÉDIO","INTERMEDIARĂ","ПРОМЕЖУТОЧНЫЙ","MEDZINÁRODNÝ","VMESNI","INTERMEDIO","MELLANLIGGANDE","Zwischenstück","ORTA DÜZEY","KÖZTES"]
["Codice","Kód","编码","Kod","Code","コード","Κώδικας","Code","Kods","Kod","Código","Cod","Код","Kód","Koda","Código","Koda","Kodex","kod","Kód"]
["TIPO ANGOLO","TYP ROHU","转角件类型","TIP UGLA","TYPE D'ANGLE","コーナータイプ","ΤΥΠΟΣ ΓΩΝΙΑΣ","CORNER TYPE","STŪRA TIPS","RODZAJ NAROŻNIKA","TIPO ÂNGULO","TIP COLȚAR","ТИП УГЛОВОЙ","ROHOVÝ TYP","VRTNI TIP","Tipo de ángulo","HÖRNTYP","Art des Winkels","KÖŞE TİPİ","SARKOS TÍPUS"]
["TIPO NAVETTA","TYP JEZDCE","滑梭类型","TIP TRANSPORTERA","TYPE DE BATEAU","シャトルタイプ","ΤΥΠΟΣ ΜΕΤΑΦΟΡΑΣ","SHUTTLE TYPE"," SLĪDŅA VEIDS","TYP WAHADŁOWY","TIPO DE SHUTTLE","TIPUL DE CUTREMUR","ТИП МАРШРУТКИ","TYP KRÁTKODOBÝ","VRSTA ZAVAROVANJA","TIPO DE carril","SHUTTLE TYPE","Art des Gleiters","mekik tipi","KOCSI TÍPUS"]
["NUMERO DI NAVETTE","POČET JEZDCŮ","滑梭的数量","NO. TRANSPORTERA","NB. DE BATEAUX","シャトルの番号","ΑΡ. ΜΕΤΑΦΟΡΩΝ","NO. OF SHUTTLES","SLĪDŅU SKAITS","NIE. WAŁÓWEK","NUM. DE SHUTTLE","NU. DE ȘOARETE","НЕТ. МАРШРУТОК","Č. ČÍSLA","NE. ŠKATLJEV","NÚMERO DE CARRILES","NEJ. AV FÖRBINDNINGAR","Nr/Anzahl des Gleiters","NUMARA. MERKEZLER","KOCSIK SZÁMA"]
["N. DI NAVETTE PER LINEA VITA","POČET JEZDCŮ NA LANKOVÝ SYSTÉM","生命线滑梭数量","NO. TRANSPORTERA ZA LINIJU ŽIVOTA","NO. DE NAVETTES POUR LES LIGNES DE VIE","ライフライン用シャトルの番号","ΑΡ. ΜΕΤΑΦΟΡΩΝ ΓΙΑ ΓΡΑΜΜΕΣ ΖΩΗΣ","NO. OF SHUTTLES FOR LIFE LINES","SLĪDŅU SKAITS DROŠĪBAS LĪNIJAI","NIE. WACHTÓW NA LINIE ŻYCIA","NUM. DE SHUTTLES PARA LINHAS DE VIDA","NR. DE NAVETE PENTRU LINII DE VIAȚĂ","NO. ЧЕЛНОКОВ ДЛЯ СПАСАТЕЛЬНЫХ ЛИНИЙ","Č. RAKETOPLÁNOV PRE LINKY ZÁCHRANY","NO. ČOLNOV ZA REŠILNE PROGE","NUM.CARRILES PARA LÍNEAS","NEJ. AV SKYDD FÖR LIVSLINJER","Nr/Anzahl der Gleiter für Lebenslinien","NUMARA. YAŞAM HATLARI İÇİN MERKEZLER","KÁBELES RENDSZEREKHEZ SZÜKSÉGES KOCSIK SZÁMA"]
["PASSANTE","PRŮBĚŽNÝ","可通过","PROLAZNA","PASSANT À TRAVERS","通過できる","ΔΙΕΡΧΕΤΑΙ","PASSING THROUGH","ŠKĒRSOJAMAS","PRZEJAZDEM","PASSANTE","CARE TREC PRIN","ПРОХОДЯЩИЙ","PRECHÁDZAJÚCE","KI POTEKAJO SKOZI","Pasante","PASSERAR GENOM","DURCHLAUFEND","İÇİNDEN GEÇMEK","ÁTJÁRHATÓ"]
["NON PASSANTE","NEPRŮBĚŽNÝ","不可通过","NIJE  PROLAZNA","NE PASSANT PAS À TRAVERS","通過できない","ΔΕΝ ΔΙΕΡΧΕΤΑΙ","NOT PASSING TROUGH","NEŠĶĒRSOJAMAS","NIE PRZECHODZĄ","NÃO PASSANTE","CARE NU TREC PRIN PASAJ","НЕ ПРОХОДЯЩИЙ ЖЕЛОБ","NEPRECHÁDZAJÚCE KORYTOM","KI NE POTEKAJO SKOZI KORITO","No pasante","GÅR INTE GENOM","NICHT DURCHLAUFEND","GEÇMİYOR","NEM ÁTJÁRHAT"]
["LEGNO","DŘEVO","木材","DRVO","TIMBRE","木材","ΞΥΛΕΙΑ","TIMBER","KOKS","DREWNO","MADEIRA","TIMBRUL","БРУСЧАТКА","DREVO","TIMBER","MADERA","TIMMER","HOLZ","KERESTE","FA"]
["CEMENTO","BETON","混凝土","BETON","BÉTON","コンクリート","ΣΚΥΡΟΔΕΜΑ","CONCRETE","BETONS","BETON","BETÃO","BETON","КОНКРЕТ","BETÓN","BETON","HORMIGÓN","BETONG","BETON","BETON","BETON"]
["ACCIAIO","OCEL","钢材","ŽELJEZO","ACIER","スティール","ΑΤΣΑΛΙ","STEEL","TĒRAUDS","STAL","AÇO","OȚEL","СТАЛЬ","OCEL","JEKLO","ACERO","STÅL","STAHL","ÇELİK","ACÉL"]
["Descrizione","Popis","描述","Opis","Description","概要","Περιγραφή","Description","Apraksts","Opis","Descrição","Descriere","Описание","Popis","Opis","Descripción","Beskrivning","Beschreibung","Açıklama","Leírás"]
["n.","č.","编号","Ne.","Non.","番号","Αρ.","No.","Nr.","Nr.","Num.","Nr.","Нет.","Č.","Št.","Num. ","Nej.","Nr.","Numara.","Sorszám"]
["Prezzo Lordo","Doporučená cena","价格","Lord Price","Prix Lordo","税込み総額","Ακαθάριστη τιμή","Lord Price","Cena","Lord Price","PREÇO BRUTO","Prețul Domnului","Лордо Цена","Lord Cena","Lord Cena","precio bruto  ","Lord Price","Bruttopreis","Lord Fiyat","Ár"]
["Subtotale Lordo","Mezisoučet (dop. ceny)","主小计","Lord Međuzbir","Sous-total Lord","税込み小計","Μικτό υποσύνολο","Lord Subtotal","Starpsumma","Suma pośrednia Brutto","SUBTOTAL BRUTO","Lord Subtotal","Лордо Итого","Lord Medzisúčet","Lord vmesni seštevek","Subtotal bruto","Lord Subtotal","Gesamtpreis","Lord Ara Toplamı","Részösszeg"]
["Sconto","Sleva","折扣","Popust","REMISE","割引","Εκπτωση","Discount","Atlaide","Zniżka","Desconto","Reducere","Скидка","Zľava","Popust","Descuento","Rabatt","Rabatt","İndirim","Kedvezmény"]
["ACCESSORI","PŘÍSLUŠENSTVÍ","配件","PRIBOR","ACCESSOIRES","付属品","ΑΞΕΣΟΥΑΡ","ACCESSORIES","PIEDERUMI","AKCESORIA","ACESSÓRIOS","ACCESORII","АКСЕССУАРЫ","PRÍSLUŠENSTVO","DODATKI","ACCESORIOS","TILLBEHÖR","ZUBEHÖR","AKSESUARLAR","KIEGÉSZÍTŐK"]
["TIPO DI SCALA","TYP ŽEBŘÍKU","梯子类型","TIP LJESTAVA","TYPE D'ÉCHELLE","梯子のタイプ","ΤΥΠΟΣ ΣΚΑΛΑΣ","LADDER TYPE","KĀPŅU TIPS","TYP DRABINY","TIPO DE ESCADA","TIPUL DE SCĂRIȚĂ","ТИП МАСШТАБА","TYP LADDER","VRSTA LEŽIŠČA","Tipo de escalera","LADDER TYPE","LEITERTYP","MERDİVEN TİPİ","LÉTRA TÍPUS"]
["Normativa","Standardní","规范性","Normativ","NORMATIF","基準","Κανονισμός","Normative","Normatīvs","Normatywne","Norma","Normativ","НОРМАТИВ","Normatívne","Normativni","Normativa  ","Normativ","NORMATIV","normatif","Normatív"]
["CON GABBIA","S KOŠEM","带笼","S KAVEZOM","A CRINOLINE","ケージ付き","ΜΕ ΚΛΩΒΟ","WITH CAGE","AR drošības karkasu ","Z KLATKĄ","COM GAIOLA","CU CU CUȘCĂ","С КЛЕТКОЙ","S KLIETKOU","S KLETKO","CON JAULA","MED BUR","MIT KÄFIG","KAFESLİ","KERETTEL"]
["SENZA GABBIA","BEZ KOŠE","无笼","BEZ KAVEZA","SANS CRINOLINE","ケージなし","ΧΩΡΙΣ ΚΛΩΒΟ","WITHOUT CAGE","BEZ drošības KARKASA","BEZ KLATKI","SEM GAIOLA","FĂRĂ CUȘCĂ","БЕЗ КЛЕТКИ","BEZ KLIETKY","BREZ KLETKE","SIN JAULA","UTAN BUR","OHNE KÄFIG","KAFESSİZ","KERET NÉLKÜL"]
["NO","NE","否","NE","NON","いいえ","ΟΧΙ","NO","BEZ","NIE","NÃO","NU","НЕТ","BEZ","NE","NO","NEJ","NEIN","NUMARA","NEM"]
["SI","ANO","是","DA","OUI","はい","ΝΑΙ","YES","JĀ","TAK","SIM","DA","ДА","ÁNO","DA","SI","JA","JA","EVET","IGEN"]
["Prezzo Netto","Nákupní cena","净价","NETO cijena","PRIX NET","税抜き合計","Καθαρή τιμή","Net Price","Neto cena","Cena netto","Preço líquido","Preț net","ЧИСТАЯ ЦЕНА","Čistá cena","Neto cena","Precio Neto","Nettopris","NETTO-PREIS","Net fiyat","Nettó ár"]
["ALTEZZA ALLO SBARCO","POTŘEBNÁ VÝŠKA","到达的高度","VISINA ZA DOSEGNUTI","HAUTEUR À L'ATTERRISSAGE","到達できる高さ","ΜΕΓΙΣΤΟ ΥΨΟΣ","HEIGHT TO REACH","AUGSTUMS LĪDZ SASNIEDZAMAJAM PUNKTAM","WYSOKOŚĆ DO OSIĄGNIĘCIA","ALTURA A ATINGIR","ÎNĂLȚIME PENTRU A AJUNGE","ВЫСОТА ПРИ ПОСАДКЕ","VÝŠKA NA DOSAH","VIŠINA ZA DOSEGO","ALTURA DE PLATAFORMA","HÖJD ATT NÅ","HÖHE BEI DER LANDUNG","ULAŞILACAK YÜKSEKLİK","ELÉRENDŐ MAGASSÁG"]
["PROFONDITA' STAFFE","VELKOST DRŽÁKU","支架尺寸","VELIČINA NOSAČA","PROFONDEUR DES STIRRUPS","ブラケット寸法","ΜΕΓΕΘΟΣ ΛΑΒΗΣ","BRACKET SIZE","STIPRINĀJUMA IZMĒRS","ROZMIAR WSPORNIKA","TAMANHO DE BRACKET","DIMENSIUNEA SUPORTULUI","ГЛУБИНА СТИРРУПОВ","VEĽKOSŤ DRŽIAKA","VELIKOST NOSILCA","PROFUNDIDAD DE SOPORTE","FÄLGSTORLEK","Befestigungs Tiefe","BRAKET BOYUTU","RÖGZÍTŐ MÉRETE"]
["PROTEZIONE FINALE ","KONEČNÁ OCHRANA ","最终保护","ZAVRŠNA ZAŠTITA","PROTECTION DÉFINITIVE ","最終プロテクション","ΤΕΛΙΚΗ ΠΡΟΣΤΑΣΙΑ","FINAL PROTECTION","GALA AIZSARDZĪBA","OCHRONA KOŃCOWA","PROTECÇÃO FINAL","PROTECȚIE FINALĂ","ОКОНЧАТЕЛЬНАЯ ЗАЩИТА ","KONEČNÁ OCHRANA","KONČNA ZAŠČITA","PROTECCIÓN FINAL ","SLUTSKYDD","entgültige Sicherung","SON KORUMA","VÉGSŐ VÉDELEM"]
["ESTENSIONE RIMOVIBILE","ODNÍMATELNÉ ROZŠÍŘENÍ","可移动的延伸部分","NADOGRADNJA KOJA SE MOŽE UKLONITI","EXTENSION AMOVIBLE","取外し可能なエクステンション","ΑΦΑΙΡΟΥΜΕΝΗ ΕΠΕΚΤΑΣΗ","REMOVABLE EXTENSION","NOŅEMAMS PAGARINĀJUMS","ZDEJMOWANE PRZEDŁUŻENIE","EXTENSÃO AMOVÍVEL","EXTENSIE DETAȘABILĂ","СЪЕМНЫЙ УДЛИНИТЕЛЬ","ODNÍMATEĽNÝ NADSTAVEC","ODSTRANLJIV PODALJŠEK","EXTENSIÓN REMOVIBLE","AVLÄGGBAR UTVIDGNING","ABNEHMBARE VERLÄNGERUNG","ÇIKARILABİLİR UZATMA","LEVEHETŐ HOSSZABBÍTÓ"]
["PEDANA DI SBARCO","VSTUPNÍ PLOŠINA","着陆平台","PLATFORMA ZA ISKRCAVANJE","PLATE-FORME DE DÉBARQUEMENT","ランディングプラットフォーム","ΠΛΑΤΦΟΡΜΑ ΠΡΟΣΓΕΙΩΣΗΣ","LANDING PLATFORM","PIEZEMĒŠANĀS PLATFORMA","PLATFORMA DO LĄDOWANIA","PLATAFORMA DE ATERRAGEM","PLATFORMĂ DE ATERIZARE","ПЛАТФОРМА ДЛЯ ВЫСАДКИ","PRISTÁVACIA PLOŠINA","PLOŠČAD ZA PRISTAJANJE","PLATAFORMA DE DESENBARCO","LANDANDE PLATTFORM","AUSSCHIFFUNGSPLATTFORM","İNİŞ PLATFORMU","FOGADÓ ÁLLOMÁS"]
["SBARCO 500x500","PLOŠINA 500x500","500x500着陆平台","500x500 PODEST","DÉCHARGEMENT 500x500","ランディング 500x500","500Χ500 ΠΡΟΣΓΕΙΩΣΗ","500x500 LANDING","500x500  PLATFORMA","500x500 LĄDOWANIE","500x500 ATERRAGEM","500x500 ATERIZARE","разгрузка 500х500","500x500 PRÍSTAVNÁ PLOŠINA","500x500 Pristanišče","PLATAFORMA 500x500","500x500 LANDNING","ENTLADEN 500x500","500x500 İNİŞ","500x500 FOGADÓ"]
["SBARCO 500x750","PLOŠINA 500x750","500x750着陆平台","500x750 PODEST","DÉCHARGEMENT 500x750","ランディング 500x750","500x750 ΠΡΟΣΓΕΙΩΣΗ","500x750 LANDING","500x750 Platforma ","LĄDOWANIE 500x750","500x750 ATERRAGEM","500x750 Aterizare","разгрузка 500x750","500x750 PRÍSTAVNÁ PLOŠINA","500x750 Pristanišče","PLATAFORMA 500x750","500x750 LANDNING","ENTLADEN 500x750","500x750 İNİŞ","500x750 FOGADÓ"]
["PROTEZIONE SBARCO","PLOŠINOVÝ RÁM","着陆保护","ZAŠTITA PODESTA","PROTECTION À L'ATTERRISSAGE","ランディングプロテクション","ΠΡΟΣΤΑΣΙΑ ΠΡΟΣΓΕΙΩΣΗΣ","LANDING PROTECTION","Platformas AIZSARDZĪBA","OCHRONA LĄDOWANIA","PROTECÇÃO DE ATERRAGEM","PROTECȚIE LA ATERIZARE","ЗАЩИТА ПРИ ПОСАДКЕ","OCHRANA PRI PRISTÁTÍ","ZAŠČITA ZA PRISTAJANJE","PROTECCIÓN DE PLATAFORMA","LANDSKYDD","LANDESCHUTZ","İNİŞ KORUMASI","LESZÁLLÁS ELLENI VÉDELEM"]
["PEDANA DI RIPOSO","ODPOČINKOVÁ PLOŠINA","休息平台","OSTALE PLATFORME","PLATE-FORME DE REPOS","休息プラットフォーム","ΠΛΑΤΦΟΡΜΑ ΞΕΚΟΥΡΑΣΗΣ","REST PLATFORM","Atpūtas PLATFORMA","PLATFORMA WYPOCZYNKOWA","PLATAFORMA DE REPOSO","PLATFORMĂ DE ODIHNĂ","ПЛАТФОРМА ДЛЯ ОТДЫХА","PLATFORMA NA ODSTAVENIE","PLATFORMA ZA POLETJE","PLATAFORMA DE DESCANSO","VILLA PLATTFORM","Ruheplattform","DİNLENME PLATFORMU","PIHENŐPLATFORM"]
["PEDANA RIBALTABILE","SKLÁPĚCÍ PLOŠINA","可折叠平台","SKLOPIVA PLATFORMA","PLATE-FORME DE BASCULEMENT","折りたたみ可プラットフォーム","ΠΤΥΣΣΟΜΕΝΗ ΠΛΑΤΦΟΡΜΑ","FOLDABLE PLATFORM","SALOKĀMA PLATFORMA","SKŁADANA PLATFORMA","PLATAFORMA DOBRÁVEL","PLATFORMĂ PLIABILĂ","ОПРОКИДЫВАЮЩАЯСЯ ПЛАТФОРМА","SKLADACIA PLOŠINA","ZLOŽLJIVA PLOŠČAD","PLATAFORMA BASCULANTE","Fällbar plattform","kippbare Plattform","KATLANABİLİR PLATFORM","ÖSSZECSUKHATÓ PLATFORM"]
["RIBALTABILE PER LV VERTICALE","SKLÁPĚCÍ PLOŠINA PRO VERTIKÁLNÍ LS","可折叠的VII平台","MOGUĆE ZA VLL","PLATE-FORME BASCULANTE POUR LV VERTICAL","垂直ライフライン用折りたたみ","ΠΤΥΣΣΟΜΕΝΗ ΓΙΑ VLL","FOLDABLE FOR VLL","SALOKĀMA priekš VLL","SKŁADANY DO VLL","DOBRÁVEL PARA VLL","PLIABILĂ PENTRU VLL","ОПРОКИДЫВАЮЩАЯСЯ ПЛАТФОРМА ДЛЯ ВЕРТИКАЛЬНЫХ ЛЬВОВ","SKLADACIA PRE VLL","ZLOŽLJIVA ZA VLL","PLATAFORMA BASCULANTE PARA LV VERTICAL","FALLBAR FÖR VLL","kippbare Plattform für vertikale Lebenslinien","VLL İÇİN KATLANABİLİR","ÖSSZECSUKHATÓ A VLL-HEZ"]
["NORMATIVA PEDANA","NORMATÍVNA PLOŠINA","平台规范性","PLATFORMA NORMATIVNA","RÉGLEMENTATION DES PLATES-FORMES","プラットフォームの基準","ΚΑΝΟΝΙΚΗ ΠΛΑΤΦΟΡΜΑ","PLATFORM NORMATIVE","PLATFORMAs normatīvs","PLATFORMA NORMATYWNA","NORMA DA PLATAFORMA","PLATFORMĂ NORMATIVĂ","ПРАВИЛА ПЛАТФОРМЫ","PLOŠINA NORMATÍVNA","PLOŠČAD NORMATIVNA","NORMAS DE LA PLATAFORMA","PLATTFORM NORMATIV","PLATTFORMVORSCHRIFTEN","PLATFORM NORMATİFİ","PLATFORM NORMATÍV"]
["BOTOLA DI CHIUSURA","ZABEZPEČOVACÍ KRYT","安全关闭","SIGURNOSNO ZATVARANJE","HATCH DE FERMETURE","不法侵入防止ふた","ΚΛΕΙΣΙΜΟ ΑΣΦΑΛΕΙΑΣ","SECURITY CLOSURE","DROŠĪBAS AIZVĒRŠANA","ZAMKNIĘCIE BEZPIECZEŃSTWA","PORTA DE SEGURANÇA","ÎNCHIDERE DE SECURITATE","ЗАКРЫВАЮЩАЯСЯ ШЛЯПА","BEZPEČNOSTNÝ UZÁVER","VARNOSTNO ZAPIRANJE","TRAMPILLA ANTI-INTRUSIÓN","SÄKERHETSSTÄNGNING","Verschlusskappe","GÜVENLİK KAPATMA","BIZTONSÁGI ZÁR"]
["TIPO PIEDINI","TYP NOHY","脚踏类型","VRSTA NOGE","TYPE DE PIED","脚の種類","ΤΥΠΟΣ ΠΟΔΙΩΝ","FEET TYPE","PĒDU TIPS","TYP STÓP","TIPO DE PÉS","TIP PICIOARE","ТИП НОГИ","TYP PÔD","TIP STOPAL","TIPO DE PIES","FÖTTYP","Fuß-typ","AYAK TİPİ","LÁBAK TÍPUSA"]
["PIEDINI REGOLABILI","NASTAVITELNÉ NOŽIČKY","可调节脚踏","PRILAGODLJIVE NOGE","PIEDS RÉGLABLES","調整可能な脚","ΡΥΘΜΙΖΟΜΕΝΑ ΠΟΔΙΑ","ADJUSTABLE FEET","REGULĒJAMAS KĀJAS","REGULOWANY SPÓD","PÉS AJUSTÁVEIS","PICIOARE REGLABILE","РЕГУЛИРУЕМЫЕ НОЖКИ","NASTAVITEĽNÉ NOŽIČKY","NASTAVLJIVE NOGE","PIES AJUSTABLES","JUSTERBARA FÖTTER","STELLFÜSSE","AYARLANABİLİR AYAK","ÁLLÍTHATÓ LÁBAK"]
["PIEDINI SNODATI","SKLOPNÉ NOHY","铰链式脚踏","RASKLOPLJIVE NOGE","PIEDS ARTICULE'","ヒンジ付脚","ΚΑΛΥΜΕΝΑ ΠΟΔΙΑ","HINGED FEET","PĒDAS AR EŅĢĒM","STOPKI NA ZAWIASACH","PÉ ROTULADO","PICIOARE CU BALAMALE","СОЕДИНЕННЫЕ НОГИ","PODPÄTIA NA KĽÚČIKOCH","NOGE S KOTIČKAMI","PIES ARTICULADOS","GÅNGADE FÖTTER","einstellbare Füße","MENTEŞELİ AYAK","FELSZERELHETŐ LÁBAK"]
["GANCIO PER SCALE","HÁK PRO ŽEBŘÍKY","梯子挂钩","KUKA ZA LJESTVE","CINTRE POUR ESCALIER","梯子用フック","ΓΑΝΤΖΟΣ ΓΙΑ ΣΚΑΛΕΣ","HOOK FOR LADDERS","ĀĶIS KĀPNĒM","HAKI DO DRABIN","ANZOL PARA ESCADAS","CÂRLIG PENTRU SCĂRI","ВЕШАЛКА ДЛЯ ЛЕСТНИЦЫ","HÁK NA REBRÍKY","KAVELJ ZA LESTVE","GANCHO PARA ESCALERAS","HOOK FÖR LADDERS","Leiterhaken","MERDİVEN KANCA","LÉTRA AKASZTÓK"]
["MANIGLIONI","ZÁBRADLÍ","手柄","RUČKE","POIGNÉE","ハンドル","ΛΑΒΕΣ","HANDLES","ROKTURI","UCHWYTY","CORRIMÃO","MÂNERE","РУЧКА","ÚCHYTKY","ROČKE","MANIJAS","HANDTAG","HANDLAUF","KOLLAR","KAPASZKODÓK"]
["MODULI SCALE","ŽEBŘÍKOVÉ MODULY","梯子组件","MODULI LJESTAVA","MODULES D'ÉCHELLE","梯子モジュール","ΤΜΗΜΑΤΑ ΣΚΑΛΑΣ","LADDER MODULS","Kāpņu MODUļi","MODUŁY DRABINOWE","MÓDULOS DE ESCADAS","MODULURI PENTRU SCĂRIȚĂ","ЛЕСТНИЧНЫЕ МОДУЛИ","MODULY ŽEBRÍKOV","MODULI ZA LESTVICE","MÓDULOS DE ESCALERA","LADDER MODULS","Leitermodule","MERDİVEN MODÜLLERİ","LÉTRA MODULOK"]
["PZ","POČET","件","PCS","PZ","個数","ΤΕΜ","PCS","Gab","SZT","Pcs","PCS","PZ","PCS","PCS","UD","PCS","Stk.","PC'ler","DB"]
["Gruppo","Skupina","小组","Skupina","Groupe","グループ","Ομάδα","Group","Grupa","Grupa","Grupo","Grup","Группа","Skupina","Skupina","Grupo","Grupp","Gruppe","Grup","Csoport"]
["ASTE GABBIA","PROFILOVÉ TYČE PRO KOŠ","笼条","ŠIPKE ZA KAVEZ","TIGES DE CAGE","ケージバー","ΚΑΓΚΕΛΑ","CAGE BARS","Karkasa stieņi","PRĘTY KLATKI","BARRAS DA GAIOLA","BARE DE CUȘCĂ","СТЕРЖНИ КЛЕТКИ","KLIETKOVÉ TYČE","KLETKE ZA KLETKE","BARRAS DE JAULA","CAGE BARS","Käfigstangen","KAFES BARLAR","RÁCS ELEMEK"]
["ANELLI","PRSTENCE KOŠE","环","PRSTENOVI","BAGUES","リング","ΔΑΧΤΥΛΙΔΙΑ","RINGS","GREDZENI","OBRĘCZE","ANEIS","ANULE","КОЛЬЦА","KRÚŽKY","OBROČKI","ANILLOS","RINGAR","RINGE","YÜZÜKLER","GYŰRŰK"]
["STAFFE","DRŽÁK NA STĚNU","支架","NOSAČI","SUPPORTS","ブラケット","ΛΑΒΕΣ","BRACKETS","STIPRINĀJUMI","WSPORNIKI","BRACKETS","BRAȚE","КРЕПЕЖ","DRŽIAKY","OHRANILA","SOPORTE","FÄSTER","Klammern","PARANTEZ","TARTÓK"]
["GIUNZIONI","ŽEBŘÍKOVÝ SPOJ","连接件","SPOJEVI","JOINTS","ジャンクション","ΣΥΝΔΕΣΕΙΣ","JUNCTIONS","SAVIENOJUMI","WĘZŁY","JUNÇÕES","JUNCȚIUNI","СОЮЗЫ","JUNCTIONS","JUNCTIONS","ARTICULACIONES","JUNCTIONS","Verbindung","KAVŞAKLAR","TOLDÓK"]
["TAPPI","KRYTKY","帽子","KAPE","CAPS","キャップ","CAPS","CAPS","Nosegi","NASADY","CAPS","CAPS","CAPS","KAPSY","ZAHTEVE","TAPONES","CAPS","Kappen","BÜYÜK HARF","VÉGELEM"]
["TARGHETTA","ŠTÍTEK","标签","OZNAKA","TAG","ラベル","ΕΤΙΚΕΤΑ","LABEL","Norādījumu plāksne","ETYKIETA","TARGA","ETICHETA","TAG","ŠTÍTKY","ETIKETE","TARJETA","MÄRKA","Typenschild","ETİKET","CÍMKE"]
["FISSAGGI","UPEVNĚNÍ","紧固件","PRIČVRŠĆIVANJE","FIXATIONS","締結具","ΣΤΕΡΕΩΣΕΙΣ","FASTENINGS","Stiprinājumi","MOCOWANIA","FIXAÇÕES ","FIXAȚII","ФИКСИРОВАНИЕ","PRÍSLUŠENSTVO","PRITRDILNI ELEMENTI","FIJACIONES","FÄSTNINGAR","Befestigung","BAĞLANTILAR","RÖGZÍTŐK"]
["FISSAGGI STAFFE","UPEVNĚNÍ DRŽÁKŮ","支架固定件","FIKSIRANJE NOSAČA","FIXATIONS DES SUPPORTS","ブラケットの締結具","ΣΤΕΡΕΩΣΕΙΣ ΛΑΒΩΝ","BRACKETS FIXINGS","KRONŠTEINu STIPRINĀJUMI","MOCOWANIA WSPORNIKÓW","FIXAÇÕES DOS SUPORTES","SUPORTURI DE FIXARE","КРЕПЛЕНИЯ КРОНШТЕЙНОВ","DRŽIAKY UPEVŇOVACIE PRVKY","NOSILCI ZA PRITRDITEV","FIJACIÓN DE SOPORTES","FÄSTE Fästningar","Klammerbefestigung","BRAKET BAĞLANTILARI","KONZOLOK RÖGZÍTÉSEK"]
["FISSAGGIO INTERMEDIO","MEZILEHLÉ UPEVNĚNÍ","中间固定装置","FIKSIRANJE SREDNJIH NOSAČA","FIXATION INTERMÉDIAIRE","中間部の締結","ΕΝΔΙΑΜΕΣΗ ΣΤΕΡΕΩΣΗ","INTERMEDIATE FIXING","STARPPOSMA STIPRINĀJUMS","MOCOWANIE POŚREDNIE","FIXAÇÃO INTERMÉDIA","FIXARE INTERMEDIARĂ","ПРОМЕЖУТОЧНОЕ КРЕПЛЕНИЕ","MEDZIĽAHLÉ UPEVNENIE","VMESNA PRITRDITEV","FIJACIÓN INTERMEDIA","MELLANFIKTNING","ZWISCHENBEFESTIGUNG","ARA SABİTLEME","KÖZBENSŐ RÖGZÍTÉS"]
["LINGUA TARGHETTA","JAZYKOVÁ VERZE ŠTÍTKU","标签语言","JEZIK NA  OZNACI","LANGUE DE LA PLAQUE SIGNALÉTIQUE","ラベルの言語","ΓΛΩΣΣΑ ΕΤΙΚΕΤΩΝ","LABEL LANGUAGE","Norādījumu plāksnes VALODAS","JĘZYK ETYKIETY","IDIOMA DA TARGA","LIMBA ETICHETEI","ПЛАСТИНЧАТЫЙ ЯЗЫЧОК","JAZYK ŠTÍTKA","JEZIK OZNAČBE","IDIOMA DE LA TARJETA","ETIKETTSPRÅK","TYPENSCHILDSPRACHE","ETİKET DİLİ","CÍMKE NYELVE"]
["ESTENSIONE SUPERIORE","HORNÍ ROZŠÍŘENÍ","上部延伸件","GORNJE PROŠIRENJE","EXTENSION SUPÉRIEURE","上部の延長","ΑΝΩ ​​ΕΠΕΚΤΑΣΗ","UPPER EXTENSION","AUGŠĒJAIS PAGARINĀJUMS","PRZEDŁUŻENIE GÓRNE","EXTENSÃO SUPERIOR","EXTENSIE SUPERIOARĂ","ВЕРХНЕЕ РАСШИРЕНИЕ","HORNÝ NADSTAVEC","ZGORNJI PODALJŠEK","EXTENSIÓN SUPERIOR","ÖVRE UTVIDGNING","OBERE VERLÄNGERUNG","ÜST UZANTI","FELSŐ MEGHOSSZABBÍTÁS"]
["INTERASSE INTERMEDI","STŘEDOVÉ ROZPĚTÍ","中间跨度","SREDNJI PROSTOR","EMPATTEMENT INTERMÉDIAIRE","中間スパン","ΕΝΔΙΑΜΕΣΟ ΑΝΟΙΓΜΑ","INTERMEDIATE SPAN","STARPPOSMS","POŚREDNIA ROZPIĘTOŚĆ","VÃO INTERMÉDIO","EXTENSIE INTERMEDIARĂ","ПРОМЕЖУТОЧНАЯ КОЛЁСНАЯ БАЗА","MEDZIĽAHLÉ ROZPÄTIE","VMESNI RAZPON","DISTANCIA ENTRE INTERMEDIOS","MELLANMELLAN SPAN","ZWISCHENRADSTAND","ORTA AÇIKLIK","KÖZBENSŐ FESZTÁVOLSÁG"]
["INTERASSE 5 MT (SUGGERITO)","ROZPĚTÍ 5 M (DOPORUČENÁ)","跨度5米（建议）。","PROSTOR 5 MT (PREPORUČENO)","DISTANCE CENTRALE 5 MT (SUGGÉRÉE)","スパン5M（推奨）","ΑΝΟΙΓΜΑ 5 MT (ΠΡΟΤΕΙΝΟΜΕΝΟ)","SPAN 5 MT (SUGGESTED)","STARPPOSMS 5 MT (IETEICAMAIS)","ROZPIĘTOŚĆ 5 MT (SUGEROWANA)","INTERVALO DE 5 MT (SUGERIDO)","DESCHIDERE 5 MT (SUGERATĂ)","МЕЖОСЕВОЕ РАССТОЯНИЕ 5 МТ (ПРЕДЛАГАЕТСЯ)","ROZPÄTIE 5 MT (NAVRHOVANÉ)","RAZPON 5 MT (PREDLAGANO)","DIST. ENTRE EJES 5 MT (SUGERIDO)","SPAN 5 MT (FÖRESLAGT)","ACHSABSTAND 5 MT (VORGESCHLAGEN)","AÇIKLIK 5 MT (ÖNERİLEN)","FESZTÁVOLSÁG 5 M (JAVASOLT)"]
["NESSUN INTERMEDIO","ŽÁDNÝ MEZIPRODUKT","没有中间件","NEMA SREDNJEG","PAS D'INTERMÉDIAIRE","中間なし","ΟΧΙ ΕΝΔΙΑΜΕΣΟ","NO INTERMEDIATE","BEZ STARPPOSMA","BRAK POŚREDNICH","SEM INTERMÉDIO","FĂRĂ INTERMEDIAR","БЕЗ ПРОМЕЖУТОЧНЫХ","BEZ MEDZIPODSTAVCA","BREZ VMESNEGA","NINGÚN INTERMEDIO","INGEN mellanliggande","keine Zwischenhalterung","ARA YOK","NINCS KÖZTESELEM"]
["N.1 INTERMEDIO","N.1 MEZIPRODUKT","1号中间件","Br. 1 SREDNJI","N.1 INTERMÉDIAIRE","No.1中間","Νο 1 ΕΝΔΙΑΜΕΣΟ","No. 1 INTERMEDIATE","Nr. 1 starpposms","Nr 1 POŚREDNI","Nº 1 INTERMÉDIO","Nr. 1 INTERMEDIAR","N.1 ПРОМЕЖУТОЧНЫЙ","č. 1 MEDZINÁRODNÉ","št. 1 INTERMEDIATE","N.1 INTERMEDIO","Nr 1 MELLANMELLAN","1 Zwischenhalterung","1 ORTA","1. sz. KÖZTES ELEM"]
["N.2 INTERMEDIO","N.2 MEZIPRODUKT","2号中间件","Br. 2 SREDNJI","N.2 INTERMÉDIAIRE","No.2中間","Αρ. 2 ΕΝΔΙΑΜΕΣΟΙ","No. 2 INTERMEDIATES","Nr. 2 starpposmi","Nr 2 POŚREDNIKI","N.º 2 INTERMÉDIOS","Nr. 2 INTERMEDIARI","N.2 ПРОМЕЖУТОЧНЫЙ","č. 2 MEDZINÁRODNÉ","št. 2 MEDNARODNI","N.2 INTERMEDIO","Nr 2 mellanhänder","2 Zwischenhalterung","2 ARA ÜRÜNLER","2. sz. KÖZTES ELEM"]
["N.3 INTERMEDIO","N.3 MEZIPRODUKT","3号中间件","Br. 3 SREDNJI","N.3 INTERMÉDIAIRE","No.3中間","Αρ. 3 ΕΝΔΙΑΜΕΣΟΙ","No. 3 INTERMEDIATES","Nr. 3 starpposmi","Nr 3 POŚREDNIKI","N.º 3 INTERMÉDIOS","Nr. 3 INTERMEDIARI","N.3 ПРОМЕЖУТОЧНЫЙ","č. 3 MEDZINÁRODNÉ","št. 3 SREDNJEŠOLAKI","N.3 INTERMEDIO","Nr 3 INTERMEDIATER","3 Zwischenhalterung","3 ARA ÜRÜNLER","3. sz. KÖZTES ELEM"]
["N.4 INTERMEDIO","N.4 MEZIPRODUKT","4号中间件","Br. 4 SREDNJI","N.4 INTERMÉDIAIRE","No.4中間","Αριθ. 4 ΕΝΔΙΑΜΕΣΟΙ","No. 4 INTERMEDIATES","Nr. 4 starpposmi","Nr 4 POŚREDNIKI","N.º 4 INTERMÉDIOS","Nr. 4 INTERMEDIARI","N.4 ПРОМЕЖУТОЧНЫЙ","č. 4 INTERMEDIÁTI","št. 4 INTERMEDIATI","N.4 INTERMEDIO","Nr 4 mellanhänder","4 Zwischenhalterung","4 ARA ÜRÜNLER","4. sz. KÖZTES ELEM"]
["N.5 INTERMEDIO","N.5 MEZIPRODUKT","5号中间件","Br. 5 SREDNJI","N.5 INTERMÉDIAIRE","No.5中間","Νο 5 ΕΝΔΙΑΜΕΣΟΙ","No. 5 INTERMEDIATES","Nr. 5 starpposmi","Nr 5 POŚREDNIKI","No. 5 INTERMÉDIOS","Nr. 5 INTERMEDIARI","N.5 ПРОМЕЖУТОЧНЫЙ","č. 5 STREDNODOBÍ","št. 5 INTERMEDIATI","N.5 INTERMEDIO","Nr 5 mellanhänder","5 Zwischenhalterung","5 ARA ÜRÜNLER","5. sz. KÖZTES ELEM"]
["NAVETTA INCLUSA","VČETNĚ JEZDCE","包括滑梭","UKLJUČENA ŠUTLA","NAVETTE INCLUSE","シャトル同梱","ΠΕΡΙΛΑΜΒΑΝΕΤΑΙ ΤΟ SHUTTLE","INCLUDED SHUTTLE","Slīdnis ietverts","TRANSPORT W ZESTAWIE","INCLUI SHUTTLE","NAVETĂ INCLUSĂ","ТРАНСФЕР ВКЛЮЧЕН","VRÁTANE KYVADLOVEJ DOPRAVY","VKLJUČENI SHUTTLE","CARRIL INCLUIDO","INKLUDERAD SKYDD","GLEITER INBEGRIFFEN","DAHİL SERVİS","A KOCSIT TARTALMAZZA"]
["MANIGLIE","RUKOJEŤE","手柄","RUČKE","POIGNÉES","ハンドル","ΧΕΙΡΟΛΑΒΕΣ","HANDLES","Rokturi","UCHWYTY","CORRIMÃO","MANELE","РУЧКИ","HANDLES","ROČKE","MANETA","HANDTAG","GRIFFE","KOLLAR","KAPASZKODÓK"]
["FISSAGGIO ALLA BASE","UPEVNĚNÍ ZÁKLADNY","底座固定装置","OSNOVNO FIKSIRANJE","FIXATION À LA BASE","ベース締結","ΣΤΕΡΕΩΣΕΙΣ ΒΑΣΕΩΝ","BASE FIXINGS","BĀZES STIPRINĀJUMI","MOCOWANIA PODSTAWOWE","FIXAÇÕES DA BASE","FIXAȚII DE BAZĂ","КРЕПЛЕНИЕ К ОСНОВАНИЮ","ZÁKLADŇOVÉ PRÍSLUŠENSTVO","OHRANITVE ZA BAZO","FIJACIÓN A LA BASE","BASFIKSNINGAR","BEFESTIGUNG AN DER BASIS","TABAN DÜZENLEMELERİ","ALSÓ RÖGZÍTÉSEK"]
["RINFORZO PER SCALE","ZPEVNĚNÍ SCHODŮ","梯子加固","OJAČANJE LJESTAVA","RENFORCEMENT DES ESCALIERS","梯子の補強","ΕΝΙΣΧΥΣΗ ΣΚΑΛΩΝ","LADDER REINFORCEMENT","KĀPŅU NOSTIPRINĀŠANA","WZMOCNIENIE DRABINKI","REFORÇO DE ESCADA","CONSOLIDAREA SCĂRII","УКРЕПЛЕНИЕ СТУПЕНЕЙ","VYSTUŽENIE REBRÍKA","OJAČITEV LESTVE","REFUERZO DE ESCALERAS","LADDERFORSTÄRKNING","TREPPENBEWEHRUNG","MERDİVEN GÜÇLENDİRME","LÉTRA MEGERŐSÍTÉS"]
["Totale","Celkem","总数","UKUPNO","TOTAL","合計","ΣΥΝΟΛΟ","TOTAL","KOPĀ","CAŁKOWITY","TOTAL","TOTAL","ВСЕГО","SPOLU","SKUPAJ","TOTAL","TOTAL","gesamt","TOPLAM","ÖSSZES"]
["Totale prezzo Netto","Celková cena Netto","总净价","Ukupna neto cijena","PRIX NET TOTAL","税抜き合計価格","Συνολική Καθαρή Τιμή","Total Net Price","Kopējā neto cena","Całkowita cena netto","Preço total líquido","Preț net total","ОБЩАЯ ЧИСТАЯ ЦЕНА","Celková čistá cena","Skupna neto cena","PRECIO NETO TOTAL","Totalt nettopris","Gesamtpreis netto","Toplam Net Fiyat","Teljes nettó ár"]
["Info Cliente","Informace o zákazníkovi","客户数据","Podaci o klijentima","Données du client","顧客データ","Δεδομένα πελατών","Client data","Klienta dati","Dane klienta","Dados do cliente","Date despre client","Данные клиента","Údaje o klientovi","Podatki o stranki","Datos del cliente","Kunddata","Kundendaten","müşteri verileri","Ügyfél adatai"]
["Numero Cliente","Číslo zákazníka","客户编号","Broj klijenta","Numéro de client","顧客番号","Αριθμός πελάτη","Client Number","Klienta numurs","Numer klienta","Número de cliente","Numărul clientului","Номер клиента","Číslo klienta","Številka stranke","Número de cliente","Klient nummer","Kundennummer","Müşteri numarası","Ügyfél száma"]
["Codice Semiramis","Kód Semiramis","Semiramis代码","SemiramIS kod","Code Semiramis","セミラミスコード","Κώδικας Semiramis","Semiramis Code","Semiramis kods","Kod Semiramis","Código Semiramis","Cod Semiramis","Код Семирамиды","Kód Semiramis","Koda Semiramis","Código Semiramis","Semiramis -kod","Semiramis-Code","Semiramis Kodu","Semiramis kód"]
["Nome Cliente","Jméno zákazníka","客户名称","ime klijenta","Nom du client","顧客名","Όνομα Πελάτη","Client Name","Klienta nosaukums","Nazwa klienta","Nome do cliente","Numele clientului","имя клиента","Názov klienta","Ime stranke","Nombre del cliente","Kundnamn","Name des Kunden","Müşteri Adı","Ügyfél neve"]
["Email ","E-mail ","电子邮件","E -pošta","Courriel","Eメール","ΗΛΕΚΤΡΟΝΙΚΗ ΔΙΕΥΘΥΝΣΗ","Email","E-pasts","E-mail","Email","Email","Электронное письмо","E-mail","Elektronska pošta","Correo electrónico","E-post","E-Mail","E-posta","E-mail"]
["Telefono","Telefon","电话","Telefon","Téléphone","電話","Τηλέφωνο","Phone","Tālrunis","Telefon","Telefone","Telefon","Телефон","Telefón","Telefon","Teléfono","Telefon","Telefon","Telefon","Telefon"]
["Sito Web","Internetové stránky","网站","Web stranica","Site web","Webサイト","Δικτυακός τόπος","Website","Tīmekļa vietne","Strona internetowa","Sítio Web","Site web","Веб-сайт","Webová stránka","Spletna stran","Sitio web","Hemsida","Website","İnternet sitesi","Weboldal"]
["Tecnico Commerciale","Technický obchodní zástupce","技术销售人员","Tehnički prodavač","Technico-commercial","テクニカルセールスマン","Τεχνικός πωλητής","Technical Salesman","Tehniskais pārdevējs","Sprzedawca techniczny","Técnico Comercial","Vânzător tehnic","Технический продавец","Technický predajca","Tehnični prodajalec","Técnico Comercial","Teknisk säljare","Technischer Verkäufer","Teknik Satıcı","Műszaki értékesítő"]
["Partita IVA","DIČ","增值税号码","PDV broj","Numéro de TVA","VAT番号","Αριθμός ΦΠΑ","VAT Number","PVN maksātāja numurs","Numer VAT","Numero Fiscal IVA","Număr de TVA","Номер НДС","Číslo DPH","Številka DDV","Número de IVA","Momsregistreringsnummer","MwSt.-Nummer","KDV Numarası","Adószám"]
["Codice IBAN","Kód IBAN","IBAN代码","IBAN BROJ","Code IBAN","IBANコード","Κωδικός IBAN","IBAN Code","IBAN kods","Kod IBAN","Código IBAN","Cod IBAN","IBAN-код","Kód IBAN","Koda IBAN","Código IBAN","Iban-nummer","IBAN","IBAN numarası","IBAN kód"]
["Codice SWIFT","Kód SWIFT","SWIFT代码","SWIFT BROJ","Code SWIFT","SWIFTコード","Κωδικός SWIFT","SWIFT Code","SWIFT kods","Kod SWIFT","Código SWIFT","Cod SWIFT","SWIFT-код","Kód SWIFT","Koda SWIFT","Código SWIFT","SWIFT -kod","SWIFT-Code","Swift kodu","SWIFT-kód"]
["Indirizzo Fatturazione","Fakturační adresa","开票地址","Adresa za slanje računa","Adresse de facturation","請求先住所","διεύθυνση χρέωσης","Billing Address","Norēķinu adrese","Adres rozliczeniowy","Endereço para facturação","Adresa de facturare","Адрес для выставления счета","Fakturačná adresa","Obračunski naslov","Dirección de facturación","Fakturaadress","Rechnungsadresse","Fatura Adresi","Számlázási cím"]
["Via","Ulice","街道","Ulica","Rue","*noi non usiamo","Δρόμος","Street","Iela","Ulica","Rua","Strada","улица","Ulica","Ulica","Calle","Gata","Straße","sokak","Utca"]
["Città","Město","城市","Grad","Ville","市町村","Πόλη","City","Pilsēta","Miasto","Cidade","Oraș","Город","Mesto","Mesto","Ciudad","Stad","Stadt","Şehir","Város"]
["CAP","PSČ","邮政编码","Poštanski broj","Code postal","郵便番号","Ταχυδρομικός κώδικας","ZIP Code","Pasta indeks","Kod pocztowy","Código Postal","Cod poștal","Почтовый индекс","PSČ","Poštna številka","Código postal","Postnummer","Postleitzahl","Posta kodu","Irányítószám"]
["Nazione","Země","国家","Zemlja","Pays","国","Χώρα","Country","Valsts","Kraj","País","Țara","Страна","Krajina","Država","País","Land","Land","Ülke","Ország"]
["Provincia","Kraj","省份","Pokrajina","Province","都道府県","Επαρχία","Province","Province","Województwo","Distrito","Provincie","Провинция","Provincia","Pokrajina","Provincia","Provins","Bundesland","Vilayet","Megye"]
["Indirizzo per la Spedizione","Dodací adresa","送货地址","Adresa dostave","Adresse de livraison","配送先住所","Διεύθυνση παράδοσης","Delivery Address","Piegādes adrese","Adres dostawy","Endereço de entrega","Adresa de livrare","Адресс доставки","Doručovacia adresa","Naslov za dostavo","Dirección de entrega","Leveransadress","Lieferadresse","Teslimat adresi","Szállítási cím"]
["Listino Prezzi e Valuta","Ceník a měna","价格表和货币","Cjenik i valuta","Liste de prix et devise","価格表と通貨","Τιμοκατάλογος και Νόμισμα","Price List and Currency","Cenrādis un valūta","Cennik i waluta","Lista de Preços e Moeda","Lista de prețuri și moneda","Прейскурант и валюта","Cenník a mena","Cenik in valuta","Lista de precios y moneda","Prislista och valuta","Preisliste und Währung","Fiyat Listesi ve Para Birimi","Árlista és pénznem"]
["Fatturato","Obrat","营业额","Promet","Chiffre d'affaires","売上高","Τζίρος","Turnover","Apgrozījums","Obrót","Volume de negócios","Cifra de afaceri","Оборот","Obrat","Promet","Facturación","Omsättning","Umsatz","Devir","Forgalom"]
["LINEA PRODOTTO","PRODUKTOVÁ SKUPINA","产品系列","LINIJA PROIZVODA","LIGNE DE PRODUITS","生産ライン","ΓΡΑΜΜΗ ΠΑΡΑΓΩΓΗΣ","PRODUCT LINE","PRODUKTA LĪNIJA","LINIA PRODUKCYJNA","LINHA DE PRODUTOS","LINIE DE PRODUSE","ЛИНИЯ ПРОДУКЦИИ","PRODUKTOVÁ LÍNIA","LINIJA IZDELKOV","LÍNEA DE PRODUCTOS","PRODUKTLINJE","PRODUKTLINIE","ÜRÜN HATTI","TERMÉKCSALÁD"]
["PUNTI SINGOLI ","JEDNOTLIVÉ KOTVÍCÍ BODY ","单一锚点","SIDRENE TOČKE","POINTS D'ANCRAGE UNIQUES","シングルアンカーポイント","ΜΟΝΑ ΣΗΜΕΙΑ ΑΓΚΥΡΩΣΗΣ","SINGLE ANCHOR POINTS","ATSEVIŠĶI STIPRINĀJUMA PUNKTI","POJEDYNCZE PUNKTY KOTWICZĄCE","PONTOS ÚNICOS DE ANCORAGEM","PUNCTE DE ANCORARE UNICE","ОДИНОЧНЫЕ ТОЧКИ КРЕПЛЕНИЯ","JEDNOTLIVÉ KOTVIACE BODY","POSAMEZNE SIDRNE TOČKE","PUNTOS ÚNICOS","ENKELA ANKERPUNKTER","Einzelanschlagspunkte","TEK ANKRAJ NOKTALARI","EGYÉNI KIKÖTÉSI PONTOK"]
["LINEE VITA","LANKOVÝ SYSTÉM","生命线","ŽIVOTNE LINIJE","LIGNES DE VIE","ライフライン","ΓΡΑΜΜΕΣ ΖΩΗΣ","LIFE LINES","Drošības LĪNIJAS","LINIE ŻYCIA","LINHAS DE VIDA","LINII DE VIAȚĂ","ЛИНИИ ЖИЗНИ","ŽIVOTNÉ LÍNIE","ŽIVLJENJSKE LINIJE","LÍNEAS DE VIDA","LIVSLINJER","LEBENSLINIEN","YAŞAM HATLARI","KÁBELES RENDSZEREK"]
["SUPPORTI","NOSIČE","支撑物","PODRŠKE","SUPPORTS","サポート","ΥΠΟΣΤΗΡΙΓΜΑΤΑ","SUPPORTS","ATBALSTI","PODPORY","APOIOS","SUPORTURI","ПОДДЕРЖКИ","PODPORY","PODPORE","SOPORTES","STÖD","Grundplatten, Aufnahmen","DESTEKLER","TARTÓELEMEK"]
["COMPONENTI LINEE VITA","KOMPONENTY LANKOVÉHO SYSTÉMU","生命线组件","KOMPONENTE ŽIVOTNIH LINIJA","COMPOSANTS LIFE LINES","ライフラインコンポーネント","ΕΞΑΡΤΗΜΑΤΑ ΓΡΑΜΜΩΝ ΖΩΗΣ","LIFE LINES COMPONENTS","GLĀBŠANAS LĪNIJU KOMPONENTI","KOMPONENTY LINII ŻYCIA","COMPONENTES DAS LINHAS DE VIDA","COMPONENTE PENTRU LINIILE DE VIAȚĂ","КОМПОНЕНТЫ ЛИНИИ ЖИЗНИ","KOMPONENTY ZÁCHRANNÝCH LÍNIÍ","SESTAVNI DELI LINIJ LIFE LINE","COMPONENTES DE LÍNEAS DE VIDA","LIFE LINES KOMPONENTER","Komponenten Lebenslinien","YAŞAM HATLARI BİLEŞENLERİ","RENDSZERELEMEK"]
["ANTICADUTA","OCHRANA PROTI PÁDU","坠落保护","ZAŠTITA OD PADA","PROTECTION CONTRE LES CHUTES","墜落防止","ΠΡΟΣΤΑΣΙΑ ΑΠΌ ΠΤΩΣΗ","FALL PROTECTION","AIZSARDZĪBA PRET KRITIENIEM","OCHRONA PRZED UPADKIEM","PROTECÇÃO ANTI-QUEDA","PROTECȚIE ÎMPOTRIVA CĂDERILOR","ЗАЩИТА ОТ ПАДЕНИЯ","OCHRANA PROTI PÁDU","ZAŠČITA PRED PADCEM","PROTECCIÓN ANTICAÍDAS","FALLSKYDD","Absturzsicherung","DÜŞME TEHLİKESİNE KARŞİ KORUMA","LEESÉS ELLENI VÉDELEM"]
["PROTEZIONI COLLETTIVE","KOLEKTIVNÍ OCHRANA","集体防护","grupna ZAŠTITA","PROTECTION COLLECTIVE","共同保護具","ΣΥΛΛΟΓΙΚΗ ΠΡΟΣΤΑΣΙΑ","COLLECTIVE PROTECTION","KOLEKTĪVĀ AIZSARDZĪBA","OCHRONA ZBIOROWA","PROTECÇÃO COLECTIVA","PROTECȚIE COLECTIVĂ","КОЛЛЕКТИВНАЯ ЗАЩИТА","KOLEKTÍVNA OCHRANA","KOLEKTIVNA ZAŠČITA","PROTECCIÓN COLECTIVA","KOLLEKTIVT SKYDD","Kollektivschutz","TOPLU KORUMA","KOLLEKTÍV VÉDELEM"]
["DPI - DISPOSITIVI DI PROTEZIONE INDIVIDUALE","OSOBNÍ OCHRANNÉ PROSTŘEDKY","PPE - 个人防护设备","OZO - OSOBNA ZAŠTITNA OPREMA","PPE - ÉQUIPEMENT DE PROTECTION INDIVIDUELLE","PPE-個人用保護具","ΜΑΠ - ΕΞΟΠΛΙΣΜΟΣ ΠΡΟΣΩΠΙΚΗΣ ΠΡΟΣΤΑΣΙΑΣ","PPE - PERSONAL PROTECTION EQUIPMENT","PPE - INDIVIDUĀLIE AIZSARDZĪBAS LĪDZEKĻI","ŚOI - ŚRODKI OCHRONY OSOBISTEJ","EPI - EQUIPAMENTO DE PROTECÇÃO INDIVIDUAL","PPE - ECHIPAMENT DE PROTECȚIE PERSONALĂ","СИЗ - СРЕДСТВА ИНДИВИДУАЛЬНОЙ ЗАЩИТЫ","PPE - OSOBNÉ OCHRANNÉ PROSTRIEDKY","PPE - OSEBNA ZAŠČITNA OPREMA","PPE - EQUIPO DE PROTECCIÓN PERSONAL","PPE - PERSONLIGT SKYDDSUTRUSTNING","PSA - PERSÖNLICHE SCHUTZAUSRÜSTUNG","KKD - KİŞİSEL KORUMA EKİPMANI","PPE - EGYÉNI VÉDŐFELSZERELÉS"]
["ALTRE LINEE VITA","DALŠÍ LANKOVÉ ZÁCHYTNÉ SYSTÉMY","其他生命线","OSTALE ŽIVOTNE LINIJE","AUTRES LIGNES DE VIE","その他のライフライン","ΑΛΛΕΣ ΓΡΑΜΜΕΣ ΖΩΗΣ","OTHER LIFE LINES","CITAS GLĀBŠANAS LĪNIJAS","INNE LINIE ŻYCIA","OUTRAS LINHAS DE VIDA","ALTE LINII DE VIAȚĂ","ДРУГИЕ ЛИНИИ ЖИЗНИ","INÉ ZÁCHRANNÉ LANÁ","DRUGE ŽIVLJENJSKE LINIJE","OTRAS LÍNEAS DE VIDA","ANDRA LIVSLINJER","andere Lebenslinien","DİĞER YAŞAM HATLARI","EGYÉB RENDSZEREK"]
["CAVO IN ACCIAIO","OCELOVÝ KABEL","钢丝","ČELIČNA ŽICA","FIL D'ACIER","スティールワイヤ","ΑΤΣΑΛΙΝΟ ΣΥΡΜΑ","STEEL WIRE","TĒRAUDA troses","STALOWY DRUT","CABO DE AÇO","CABLU DE OȚEL","СТАЛЬНАЯ ПРОВОЛОКА","OCEĽOVÉ DRÔTY","JEKLENI VODNIKI","ALAMBRE DE ACERO","STÅLTRÅD","Stahlseil","ÇELİK TEL","ACÉLHUZAL"]
["Tasso di cambio:","Směnný kurz:","汇率：","Tečajna lista:","Taux de change :","為替レート：","Συναλλαγματική ισοτιμία:","Exchange Rate:","Valūtas maiņas kurss:","Kurs wymiany:","Taxa de Câmbio:","Curs de schimb:","Курс обмена:","Výmenný kurz:","Menjalni tečaj:","Tipo de cambio:","Växlingskurs:","Umrechnungskurs:","Döviz kuru:","Árfolyam:"]
["Pagamento ","Platba ","付款方式","Plaćanje","Paiement","支払い","Πληρωμή","Payment","Maksājums","Zapłata","Pagamento","Plata","Оплата","Platba","Plačilo","Pago","Betalning","Zahlung","Ödeme","Fizetési feltételek"]
["ORDINE","OBJEDNÁVKA","订单","NARUDŽBA","COMMANDE","注文","ΠΑΡΑΓΓΕΛΙΑ","ORDER","PASŪTĪjums","ZAMÓWIENIE","ENCOMENDA","COMANDĂ","ПРИКАЗ","OBJEDNÁVKA","NAROČILO","PEDIDO","BESTÄLLA","BESTELLUNG","EMİR","MEGRENDELÉS"]
["Rif.","Ref.","参考资料","Ref.","Réf.","参照","Αναφ.","Ref.","Ref.","Nr ref.","Ref.","Ref.","Ссылка","Ref.","Ref.","Ref.","Ref.","Ref.","Referans","Ref."]
["Data","Datum","日期","Datum","Date","日にち","Ημερομηνία","Date","Datums","Data","Data","Data","Дата","Dátum","Datum","Fecha","Datum","Datum","Tarih","Dátum"]
["Cellulare","Mobilní tel.:","手机","MoBILNI","Mobile","携帯電話","Κινητό","Mobile","Mobilais","mobilny","Telemovél","Mobil","Мобильный","Mobilný telefón","Mobilni telefon","Móvil","Mobil","Mobil","Mobil","Mobil"]
["Persona di riferimento","Kontaktní osoba","推荐人","Referentna osoba","Personne de référence","担当者","Πρόσωπο αναφοράς","Reference person","Atsauces persona","Osoba referencyjna","Pessoa de referência","Persoana de referință","Референтное лицо","Referenčná osoba","Referenčna oseba","Persona de referencia","Referens person","Bezugsperson","Aracı kişi","Kapcsolattartó"]
["Linea","Řádek","线路","Crta","Ligne","ライン","Γραμμή","Line","Līnija","Linia","Linha","Linia","Линия","Linka","Linija","Línea","Linje","Zeile","Hat","Vonal"]
["Qt.","Množství","季度","Qt.","Qt.","Qt","ΠΟΣΟΤΗΤΑ","Qt.","Skaits","Ilość","Qt.","Qt.","кв.","Qt.","Qt.","Qt.","Qt.","Anz.","Qt.","Qt."]
["Subtotale","Mezisoučet","小计","SubTotal","Sous-total","小計","ΜΕΡΙΚΟ ΣΥΝΟΛΟ","SubTotal","Starpsumma","Suma częściowa","SubTotal","SubTotal","Промежуточный итог","SubTotal","SubTotal","SubTotal","Delsumma","Zwischensumme","Ara toplam","Részösszeg"]
["Peso","Hmotnost","重量","Težina","Poids","重量","Βάρος","Weight","Svars","Waga","Peso","Greutate","Масса","Hmotnosť","Teža","Peso","Vikt","Gewicht","Ağırlık","Súly"]
["Note","Poznámky","备注","Bilješke","Notes","注記","Σημειώσεις","Notes","Piezīmes","Uwagi","Notas","Note","Примечания","Poznámky","Opombe","Notas","Anteckningar","Anmerkungen","Notlar","Megjegyzések"]
["Cliente","Zákazník","客户","Klijent","Client","顧客","Πελάτης","Client","Klients","Klient","Cliente","Client","Клиент","Klient","Stranka","Cliente","Klient","Kunde","Müşteri","Ügyfél"]
["RETI DI SICUREZZA","BEZPEČNOSTNÍ SÍTĚ","安全网","SIGURNOSNE MREŽE","FILETS DE SECURITE","セーフティネット","ΔΙΚΤΥΑ ΑΣΦΑΛΕΙΑΣ","SAFETY NETS","DROŠĪBAS TĪKLI","SIATKI BEZPIECZEŃSTWA","REDES DE SEGURANÇA","PLASE DE SIGURANȚĂ","ЗАЩИТНЫЕ СЕТКИ","BEZPEČNOSTNÉ SIETE","VARNOSTNE MREŽE","REDES DE SEGURIDAD","SÄKERHETSNÄT","SICHERHEITSNETZE","GÜVENLİK AĞLARI","BIZTONSÁGI HÁLÓ"]
["PARAPETTI","ZÁBRADLÍ","栏杆防护装置","ŠTITNICE ZA OGRADE","RAILINGS","手すりガード","ΠΑΡΑΠΕΤΙΑ","RAILING GUARDS","MARGU AIZSARGI","BALUSTRADY","PARAPEITOS","GĂRZILE DE PROTECȚIE A BALUSTRADELOR","ЗАЩИТА ПЕРИЛ","OCHRANNÉ ZÁBRADLIA","VAROVALA ZA OGRAJE","BARANDILLAS","RÄNGSKYDD","GELÄNDER","KORKULUK KORUMALARI","BIZTONSÁGI KORLÁT"]
["GANCI SCALE","HÁKY NA ŽEBŘÍKY","梯子吊钩","KUKE za ljestve","CROCHETS D'ÉCHELLE","梯子フック","ΑΓΚΥΣΤΡΑ ΓΙΑ ΣΚΑΛΕΣ","LADDERS HOOKS","Kāpņu āķi","HAKI DO DRABIN","GANCHO PARA ESCADAS","CÂRLIGE DE CĂRUCIOR","КРЮЧКИ ДЛЯ ЛЕСТНИЦ","HÁČKY NA VODIDLÁ","KLJUKE ZA VODILA","GANCHOS DE ESCALA","LADDERS HOOKS","Leiterhaken","MERDİVEN KANCALARI","LÉTRA AKASZTÓK"]
["CASCHI","PŘILBY","安全帽","kacige","HELMETS","ヘルメット","ΚΡΑΝΗ","HELMETS","Ķiveres","KASKI","CAPACETES","CĂȘTI DE PROTECȚIE","ШЛЕМЫ","PRILBY","PRIPOROČNIKI","CASCOS","HJÄLMAR","Helme","KASKLAR","SISAKOK"]
["IMBRACHI","ZACHYCOVACÍ POSTROJE","绳索","pojasevi","EMBALLAGE","ハーネス","ΖΩΝΕΣ","HARNESSES","Drošības sistēmas","SZELKI","ARNÊSES","HARNESSES","ЖГУТЫ","ZÁVESY","OHRANILA","EMBALAJE","HARNESS","Gurte","KOŞUMLAR","HEVEDEREK"]
["CORDINI","LANKOVÉ SYSTÉMY","绳索","DVORIŠTA","CORDINI","ランヤード","ΣΧΟΙΝΙΑ","LANYARDS","Drošības striķi","SMYCZE","CORDAS POSICIONAMENTO","LANYARDS","СТРЕПКИ","LANYARDS","LANYARDS","CORDONES","LANYARDS","Seile","LANYARLAR","BIZTONSÁGI KÖTELEK"]
["DISCENSORI","SLAŇOVACÍ BRZDA","感应器","UREĐAJI ZA SPUŠTANJE","DISCENSEURS","下降器","ΔΙΑΧΩΡΙΣΤΕΣ","DISCENSORS","Nolaidēji","DYSKENSORY","DESCENSORES","DISCENSORI","ДИССЕНСОРЫ","DISCENZORY","DISCENZORJI","DESCENDEDORES","DISCENSORER","Abseilgeräte","DİSKENSÖRLER","ERESZKEDŐK"]
["RETRATTILI","ZATAHOVACÍ ZÁCHYTNÉ ZAŘÍZENÍ","伸缩装置","UREĐAJI NA uvlačenje","RETRACTORS","リトラクタブルデバイス","ΣΥΣΚΕΥΕΣ ΑΝΑΚΤΗΣΗΣ","RETRACTABLE DEVICES","IEVELKAMAS IERĪCES","WYSUWANE URZĄDZENIA","DISPOSITIVOS RETRÁCTEIS","DISPOZITIVE RETRACTABILE","ВЫДВИЖНЫЕ УСТРОЙСТВА","VÝSUVNÉ ZARIADENIA","IZVLEČNE NAPRAVE","RETRÁCTILES","UTKASTBARA ENHETER","Höhensicherungsgerät","ÇEKİLEBİLİR CİHAZLAR","BEHÚZHATÓ ESZKÖZÖK"]
["POSIZIONAMENTO","POZICIOVÁNÍ","定位","POLOŽAJ","POSITIONNEMENT","ポジショニング","ΣΤΑΘΕΡΟΠΟΙΗΣΗ","POSITIONING","POZICIONĒŠANA","POZYCJONOWANIE","POSICIONAMENTO","POZIȚIONARE","ПОЗИЦИОНИРОВАНИЕ","POLOHOVANIE","POLOŽAJ","POSICIONAMIENTO","POSITIONERING","POSITIONIERUNG","KONUMLANDIRMA","POZÍCIONÁLÁS"]
["ANCORANTI","KOTVY","锚固装置","SIDRA","ANCERS","アンカー","ΑΓΚΥΡΙΑ","ANCHORS","Stiprinājums","KOTWY","ANCORANTES","ANCHETE","ЯКОРЯ","KOTVY","KOTVE","ANCLAJES","ANKRAR","Anker","ANCHORLAR","KIKÖTÉSI PONTOK"]
["CONNETTORI","SPOJKY","连接装置","PRIKLJUČCI","CONNECTEURS","コネクタ","ΣΥΝΔΕΣΜΟΙ","CONNECTORS","SAVIENOTĀJI","ZŁĄCZA","CONECTORES","CONECTORI","СОЕДИНИТЕЛИ","KONEKTORY","PRIKLJUČEVALCI","CONECTORES","ANSLUTNINGAR","Verbinder","KONEKTÖRLER","CSATLAKOZÓK"]
["TRIPODI","TROJNOŽKY","三脚架","TRIPODI","TRIPODS","三脚","ΤΡΙΠΟΔΕΣ","TRIPODS","Trijkāji","STATYWY","TRIPODS","TRIPODE","ШТАТИВЫ","TRIPODY","TRIPODI","TRIPODES","TRIPODER","Dreibein","TRİPODLAR","TRIPODOK"]
["BIPODI","DVOJNOŽKY","臂架","BIPODI","BIPODS","二脚","ΔΙΠΟΔΕΣ","BIPODS","Trijkāji","dwójnogi","BIPODS","BIPODE","сошки","BIPODY","BIPODI","BIPODES","BIPODS","Zweibein","BİPODLAR","BIPODOK"]
["GUANTI","RUKAVICE","护目镜","RUKAVICE","GANTS","グローブ","ΓΑΝΤΙΑ","GLOVES","Cimdi","RĘKAWICZKI","LUVAS","MÂINI","ПЕРЧАТКИ","RUKAVICE","ROKAVICE","GUANTES","HANDSKAR","HANDSCHUHE","ELDİVENLER","KESZTYŰK"]
["ORECCHIE","CHRÁNIČE SLUCHU","耳朵","UŠI","OREILLES","耳","ΑΥΤΙΑ","EARS","Ausis","USZY","ORELHAS","URECHI","УШИ","UŠI","UŠI","AURICULARES","ÖRON","Ohren","KULAKLAR","FÜLEK"]
["OCCHI","OCHRANA ZRAKU","眼睛","OČI","YEUX","目","ΜΑΤΙΑ","EYES","Acis","OCZY","OLHOS","OCHI","ГЛАЗА","OČI","OČI","CASCOS AUDITIVOS","ÖGON","AUGEN","GÖZLER","SZEMEK"]
["FISSAGGI","OPRAVY","固定装置","FIKSIRANJA","FIXATIONS","締結具","ΣΤΕΡΕΩΣΕΙΣ","FIXINGS","FIKSATORI","MOCOWANIA","FIXAÇÕES","FIXAȚII","КРЕПЛЕНИЯ","PRÍSLUŠENSTVO","PRIPOMBE","FIJACIONES","FIXERINGAR","Befestigung","DÜZENLEMELER","RÖGZÍTŐK"]
["SITEMI DI FISSAGGIO","UPEVŇOVACÍ SYSTÉMY","紧固件系统","SISTEMI PRIČVRŠČIVANJA","SYSTÈMES DE FIXATION","締結システム","ΣΥΣΤΗΜΑΤΑ ΣΤΕΡΕΩΣΗΣ","FASTENINGS SYSTEMS","STIPRINĀJUMU SISTĒMAS","SYSTEMY ZAMOCOWAŃ","SISTEMAS DE FIXAÇÃO","SISTEME DE FIXARE","СИСТЕМЫ КРЕПЛЕНИЯ","UPEVŇOVACIE SYSTÉMY","PRITRDILNI SISTEMI","SISTEMAS DE FIJACIÓN","FÄSTNINGSSYSTEM","BEFESTIGUNGSSYSTEME","BAĞLANTI SİSTEMLERİ","RÖGZÍTŐ RENDSZEREK"]
["Corrimano","Zábradlí","扶手栏杆","Rukohvat","Main courante","手すり","Κουπαστή","Handrail","Margas","Poręcz","Corrimão","Balustradă","Поручень","Zábradlie","Ograje","Pasamanos","Ledstång","Handlauf","Küpeşte","Kapaszkodó"]
["Dritto","Přímo","直立","RAVAN","Droit","真直ぐ","Στρέιτ","Straight","Taisni","Prosto","Direito","Streight","прямой","Priamy","Preproga","RECTO","Streight","Gerade","düz","Egyenes"]
["Inclinato","Nakloněný","倾斜的","NAGNUT","Incliné","傾斜","Κεκλιμένος","Inclined","Slīpi","Skłonny","Inclinado","Înclinat","Наклонный","Šikmé","Nagnjeno","Inclinado","Lutande","Geneigt","eğimli","Ferde"]
["Tavola Fermapiede","Okopová lišta","托板","ŠIRINA STOPALA","Planche de la main courante","トーボード","Πλάκα ποδιών","Toeboard","Kājas dēļis","Krawężnik","Tabuleiro","Toeboard","Носочная доска","Toeboard","Talna deska","Rodapié","Toeboard","Bordbrett","Süpürgelik","Bokaléc"]
["Prezzo Listino/ml","Cena/m","价格表/m","Cjenik/m","Liste de prix/ml","定価 / m","Τιμοκατάλογος/μ","Price List/m","Cenrādis/m","Cennik/m","Lista de preços/m","Lista de prețuri/m","Прайс-лист/м","Cenník/m","Cenik/m","Lista de precios/ml","Prislista/m","Preisliste/ml","Fiyat Listesi/m","Árlista/m"]
["Lingua","Jazyk","语言","Jezik","Langue","言語","Γλώσσα","Language","Valoda","Język","Idioma","Limba","Язык","Jazyk","Jezik","Idioma","Språk","Sprache","Dilim","Nyelv"]
["AUTOPORTANTE","SAMONOSNÁ /ZÁTĚŽOVÁ","弹力板","ISPUNJEN BALASTOM","AUTOPORTANT","自立","ΣΦΡΑΓΙΣΜΕΝΟ","BALLASTED","Ar atsvaru","BALASTOWANE","BALASTRO","BALLASTED","БАЛЛАСТ","BALLASTED","BALASTED","AUTOPORTANTE","BALLASTAD","SELBSTTRAGEND","BALASTLI","SÚLYOZOTT"]
["Montante","Vzpřímený","直立式","Uspravno","Debout","直立","Ορθιος","Upright","Vertikālais","Pionowo","Montante","Vertical","Вертикальный","Vzpriamená","Navpično","MONTANTE","Upprätt","Pfosten","Dik","Felálló"]
["Diritto","Přímý","直的","Ravno","Droit","真直ぐ","Ευθεία","Straight","Taisni","Proste","Alinhado","Drept","Прямой","Rovná","Ravna","Recto","Hetero","Gerade","Düz","Egyenes"]
["Corrente","Středová tyč","中间杆","SREDIŠNJA ŠIPKA","Actuel","中間バー","Ενδιάμεσο Μπάρα","Intermediate Bar","Starpposma stienis","Pośredni pasek","Barra intermédia","Bară intermediară","Промежуточный бар","Stredná tyč","Vmesna palica","CORRIENTE","Mellanliggande bar","Strom","Orta Çubuk","Köztes rúd"]
["Altezza Montante","Výška slouku","直立高度","GORNJA visina","Hauteur du mât","直立高さ","Όρθιο ύψος","Upright height","Vertikālais augstums","Wysokość w pionie","Altura montante","Înălțime verticală","Высота в вертикальном положении","Výška stojana","Višina pokončne mize","Altura del montante","Upprätt höjd","Pfostenhöhe","dik yükseklik","Magasság"]
["Normativa di riferimento","Referenční standard","规范性参考 ","Referentna norma","Norme de référence","参照基準","Κανονισμος","Reference Normative","Atsauces Normatīvs","Odniesienie normatywne","Norma de referência","Referință Normativ","Справочный норматив","Referenčná normatívna hodnota","Referenčna normativna","Normativa de referencia","Referens Normativ","Referenznorm","Referans Normatifi","Hivatkozás Normatív"]
["Composizione Parapetto","Složení zábradlí","护栏组成","Sastav ZAŠTITNE ograde","Composition du parapet","ガードレール構成","Σύνθεση προστατευτικού κιγκλιδώματος","Guardrail composition","Aizsargu margu sastāvs","Skład balustrady","Composição do parapeito","Compoziția balustradei","Состав ограждения","Zloženie zábradlia","Sestava ograje","Composición de la barandilla","Skyddsräckkomposition","Zusammensetzung der Brüstung","korkuluk bileşimi","VÉDŐKORLÁT ÖSSZEÁLLÍTÁSA"]
["Lunghezza totale parapetto","Celková délka zábradlí","护栏的总长度","Ukupna duljina zaštitne ograde","Longueur totale du parapet","ガードレール全長","Συνολικό μήκος προστατευτικού κιγκλιδώματος","Total length of guardrail","Aizsargu margas kopējais garums","Całkowita długość poręczy","Comprimento total do parapeito","Lungimea totală a parapetului de protecție","Общая длина ограждения","Celková dĺžka zábradlia","Skupna dolžina ograje","Longitud total de la barandilla","Total längd av räcke","Gesamtlänge der Brüstung","Toplam korkuluk uzunluğu","A korlát teljes hossza"]
["Angoli","Rohy","拐角","Kutovi","Coins","コーナー","Γωνίες","Corners","Stūri","Narożniki","Cantos","Colțuri","Углы","Rohy","Vogali","ángulos","Hörn","Ecken","köşeler","Sarkok"]
["Fissaggi a muro","Upevnění na stěnu","墙体固定装置","Zidni pričvršćivači","Fixations murales","壁の締結","Στερέωση τοίχων","Wall fixings","Sienas stiprinājumi","Mocowania ścienne","Fixações de parede","Fixări de perete","Крепления к стене","Upevnenie na stenu","Pritrditev na steno","Fijaciones a pared","Väggfästen","Befestigung an der Wand","Duvar sabitlemeleri","Fali rögzítések"]
["Terminali non a muro","Nestěnové svorky","非墙端","BEZ ZIDNIH ZAVRŠETAKA","Bornes non murales","壁の端ではない","Όχι άκρα τοίχου","Not wall ends","Ne sienas gali","Nie kończy się ściana","Não extremidades de parede","Nu la capetele pereților","Не кончается стена","Nie konce stien","Ne na koncih stene","No extremos a pared","Inte väggändar","Nicht-Wandterminals","Duvar bitmez","Nem fali végek"]
["Kit cancelletto","Dvířka set","闸门套件","Komplet za vrata","Porte du kit","ゲートキット","Κιτ Πύλης","Gate Kit","Vārtu komplekts","Zestaw bramek","Kit de Portão","Kit pentru poartă","Комплект ворот","Súprava brány","Komplet vrat","Kit de cerradura","Gate Kit","Bausatz Tor","Kapı Kiti","Kapu"]
["Versione Alu","Verze Alu","铝制版本","Alu verzija","Version Alu","Aluバージョン","Έκδοση Alu","Alu version","Alumīnija versija","Wersja alu","Versão Alu","Versiunea Alu","алюминиевая версия","Alu verzia","Različica iz aluminija","Versión de aluminio","Alu version","Alu-Ausführung","Alüminyum versiyonu","Alumínium változat"]
["Tipo Montante","Typ sloupku","直立型","Uspravan tip","Type de mât","直立タイプ","Όρθιος τύπος","Upright type","Statīvais tips","Typ pionowy","Tipo montante","Tip vertical","Вертикальный тип","Vzpriamený typ","Navpična izvedba","Tipo montante","Upprätt typ","Pfostentyp","dik tip","Támaszték típusa"]
["Arrodondamento ml","Zaokrouhlování v m","圆弧形ml","Zaokruživanje ml","Arrondissement ml","四捨五入したml","Στρογγυλοποίηση ml","Rounding ml","Noapaļojums ml","Zaokrąglanie ml","Arredondamento de ml","Rotunjire ml","Округление мл","Zaoblenie ml","Zaokrožitev ml","Redondeo ml","Avrundning ml","Rundung ml","Yuvarlama ml","Kerekítés ml"]
["Interasse Montanti","Rozteč sloupků","直立柱跨度","Raspon stupova","Espacement des poteaux","直立スパン","Όρθιο εύρος","Uprights span","Statņu diapazons","Rozpiętość słupków","Vão entre montantes","Ampatamentul montanților","Пролет стоек","Rozpätie stĺpikov","Razpon pokončnikov","Distancia entre montantes","Stolpar sträcker sig","Abstand zwischen den Pfosten","Direkler açıklığı","Támaszok fesztávolsága"]
["N. montanti","Počet sloupků","直立柱数量","Uspravi br.","Nombre de montants","直立番号","Όρθιοι αρ.","Uprights no.","Statņu skaits","Stojaki nr.","N.º de montantes.","Montanți nr.","Стойки нет.","Stojany č.","Št. pokončnih stebričkov","Número de montantes","Stolpar nr.","Anzahl der Stützen","Direkler hayır.","Támaszok száma"]
["Input n. montanti","Vstupní počet sloupků","输入直立柱数量","Ulazni stupovi br.","Nombre de montants en entrée","入力直立番号","Εισαγωγή Όρθιοι αρ.","Input Uprights no.","Statņu skaits","Słupki wejściowe nr.","Entrada num. de montantes","Intrare Nr. montanți nr.","Входные стойки нет.","Vstupné stĺpiky č.","Vhod Višine št.","Número de entrada de los montantes","Ingångsstolpar nr.","Eingabe Anzahl der Stützen","Giriş Direkleri no.","Bemeneti támaszok száma"]
["Larghezza","Šířka","宽度","Širina","Largeur","幅","Πλάτος","Width","Platums","Szerokość","Largura","Lățime","Ширина","Šírka","Širina","Ancho","Bredd","Breite","Genişlik","Szélesség"]
["Peso Totale","Celková hmotnost","总重量","Totalna težina","Poids total","総重量","Συνολικό βάρος","Total Weight","Kopējais svars","Waga całkowita","Peso total","Greutate totală","Общий вес","Celková hmotnosť","Skupna teža","Peso total","Totalvikt","Gesamtgewicht","Toplam ağırlık","Teljes súly"]
["Costo Gestione Ordine","Náklady na vyřízení objednávky","订单管理成本","Troškovi upravljanja narudžbom","Coût de traitement des commandes","注文管理コスト","Κόστος διαχείρισης παραγγελιών","Order managment cost","Pasūtījuma pārvaldības izmaksas","Koszt zarządzania zamówieniami","Custo de gestão de encomendas","Costul de gestionare a comenzii","Стоимость управления заказами","Náklady na správu objednávky","Stroški upravljanja naročila","Coste de gestión del pedido","Orderhanteringskostnad","Kosten der Auftragsabwicklung","Sipariş yönetimi maliyeti","Megrendelés kezelési költség"]
["Totale Prezzo Lordo","Celková prodejní cena","总价","Ukupna bruto cijena","Prix brut total","税込み総額","Συνολική ακκαθάριστη τιμή","Total Lord Price","Kopējā cena","Całkowita cena Lorda","Preço Total Bruto","Prețul total al Domnului","Общая цена лорда","Celková cena lorda","Skupna cena Gospoda","Precio bruto total","Totalt Lord -pris","Gesamtbruttopreis","Toplam Lord Fiyatı","Teljes ár"]
["Costo di trasporto","Náklady na dopravu","运输成本","Trošak dostave","Coût du transport","輸送費","Κόστος αποστολής","Shipping Cost","Piegādes izmaksas","Koszty wysyłki","Custo de envio","Costul de expediere","Стоимость доставки","Náklady na dopravu","Stroški pošiljanja","Coste del transporte","Fraktkostnad","Transportkosten","Nakliye maliyeti","Szállítási költség"]
["Prezzo Netto/ml","Nákupní cena/m","净价/米","Neto cijena/m","Prix net/ml","税抜き合計/ m","Καθαρή Τιμή/m","Net Price/m","Neto cena/m","Cena netto/m²","Preço líquido/m","Preț net/m","Цена нетто/м","Čistá cena/m","Neto cena/m","Precio neto/ml","Nettopris/m","Nettopreis/ml","Net Fiyat/m","Nettó ár/m"]
["Costo Materiale + trasporto e gestione","Náklady na materiál + doprava a manipulace","材料费+运费和管理费","Cijena materijala + dostava i upravljanje","Coût du matériel + transport et manutention","材料費+送料と手配","Κόστος υλικού + αποστολή και διαχείριση","Material cost + shipping and managment","Materiālu izmaksas + piegādes un pārvaldības izmaksas","Koszt materiałów + wysyłka i zarządzanie","Custo do material + envio e gestão","Costul materialelor + transport și gestionare","Стоимость материала + доставка и управление","Náklady na materiál + náklady na dopravu a správu","Stroški materiala + stroški pošiljanja in upravljanja","Coste del material + transporte y manipulación","Materialkostnad + frakt och hantering","Materialkosten + Transport und Handhabung","Malzeme maliyeti + nakliye ve yönetim","Anyagköltség + szállítási és kezelési költség"]
["Costo Materiale + altre spese/ml","Náklady na materiál + ostatní náklady/m","材料费+其他费用/m","Cijena materijala + ostali troškovi/m","Coût du matériel + autres dépenses/ml","材料費+その他の費用/ ml","Κόστος Υλικού + άλλα έξοδα/m","Material Cost + other costs/m","Materiālu izmaksas + citas izmaksas/m","Koszt materiału + inne koszty/m","Custo do material + outros custos/m","Costul materialelor + alte costuri/m","Стоимость материала + прочие затраты/м","Náklady na materiál + ostatné náklady/m","Stroški materiala + drugi stroški/m","Coste del material + otros gastos/ml","Materialkostnad + andra kostnader/m","Materialkosten + sonstige Kosten/ml","Malzeme Maliyeti + diğer maliyetler/m","Anyagköltség + egyéb költségek/m"]
["Kit Impermeabilizzazione","Hydroizolační sada","防水套装","Kit za hidroizolaciju","Kit d'imperméabilisation","防水キット","Σετ στεγανοποίησης","Waterproofing Kit","Hidroizolācijas komplekts","Zestaw hydroizolacyjny","Kit de impermeabilização","Kit de impermeabilizare","Гидроизоляционный комплект","Súprava na hydroizoláciu","Komplet za hidroizolacijo","Kit de impermeabilización","Vattentätningssats","Abdichtungs-Kit","Su Yalıtım Kiti","Vízszigetelő készlet"]
["% Cuneo spessore/montanti","%Vyrovnávací klíny sloupků","修整楔子","UČVRŠĆIVANJE KLINOM/USPRAVNO","Cale d'épaississement","% シミングウェッジ/直立","Γυαλιστερή σφήνα","% Shimming wedge/Uprights","Regulēšanas  ķīlis","Podkładki klinowe","Cunha","Cuier de calibrare","% регулировочный клин/стойки","Vyrovnávací klin","Ključ za premikanje","Cuña espesor/montante","Skimrande kil","Verdickungskeil","Şimşek kaması","Simító ék"]
["Distanza Extra","Vzdálenost navíc","额外距离","Dodatna udaljenost","Distance supplémentaire","余分の距離","Επιπλέον απόσταση","Extra distance","Papildu attālums","Dodatkowa odległość","Distância extra","Distanța suplimentară","Дополнительное расстояние","Dodatočná vzdialenosť","Dodatna razdalja","Distancia extra","Extra distans","Extra Abstand","Ekstra mesafe","Extra távolság"]
["Tipo Base Verticale","Vertikální typ základny","垂直底座类型","Okomita vrsta baze","Type de base Vertical","バーティカルベースタイプ","Τύπος κάθετης βάσης","Vertical Base Type","Vertikālās pamatnes tips","Pionowy typ podstawy","Tipo de Base Vertical","Tip de bază verticală","Вертикальный базовый тип","Typ vertikálnej základne","Vertikalni podstavek","Tipo de base vertical","Vertikal bastyp","Sockel Typ Vertikal","Dikey Taban Tipi","Függőleges alap típusa"]
["Dati Progetti","Údaje o projektu","项目数据","Podaci o projektu","Données du projet","プロジェクトデータ","Δεδομένα έργου","Project Data","Projekta dati","Dane projektu","Dados do projecto","Date despre proiect","Данные проекта","Podatki o projektu","Údaje o projekte","Datos del proyecto","Uppgifter om projektet","Projektdaten","Proje Verileri","Projekt adatok"]
["Versione Plastica","Plastová verze","塑料版","Plastična verzija","Version en plastique","プラスチックバージョン","Πλαστική έκδοση","Plastic version","Plastmasas versija","Wersja plastikowa","Versão plástica","Versiunea din plastic","Пластиковая версия","Plastična različica","Plastová verzia","Versión de plástico","Plastversion","Kunststoffausführung","Plastik versiyon","Műanyag változat"]
["Cartaceo","Papír","纸张","Papir","Papier","紙","Χαρτί","Paper","Papīrs","Papier","Papel","Hârtie","Бумага","Papir","Papier","Papel","Papper","Papier","Kağıt","Papír"]
["Online","Online","在线","Online","En ligne","オンライン","Online","Online","Tiešsaistē","Online","Online","Online","онлайн","Spletna stran","Online","En línea","Online","Online","İnternet üzerinden","Online"]
["Manuale","Manuální","手册","Priručnik","Manuel","マニュアル","Χειροκίνητο","Manual","Rokasgrāmata","Podręcznik","Manual","Manual","Руководство","Priročnik","Manuálne","Manual","Manuell","Handbuch","Manuel","Útmutató"]
["da spedire","které mají být odeslány","待发送","poslati","à envoyer","送信する","να αποσταλεί","to be sent","jānosūta","do wysłania","a enviar","să fie trimisă","быть отправленным","ki jih je treba poslati","ktoré sa majú odoslať","que se enviará","som ska skickas.","zu versenden","gönderilecek","elküldendő"]
["Interasse greche pannello","Rozpětí boku panelu","板间距","Razmak između ploča","Découpage des panneaux","サンドイッチパネル山間隔","Απόσταση πάνελ","Panel hips span","paneļu atstatums","Grecki odstęp między panelami","Espaçamento da onda do painel","Spațierea dintre panouri grecești","Размах бедер панели","Panel bokov rozpätie","Panel razpon bokov","Envergadura de las caderas del panel","Panel höfter spänna","Sickenabstand","Panel kalça açıklığı","Panel csípőfesz"]
["Fissaggi Inclusi","Včetně upevňovacích prvků","包括固定装置","Pričvršćivači uključeni","Fixations incluses","締結具同梱","Περιλαμβάνονται εξαρτήματα","Fixings included","Iekļauti stiprinājumi","W zestawie mocowania","Fixações incluídas","Fixări incluse","Крепления включены","Upevňovacie prvky v cene","Pritrdilni elementi vključeni","Fijaciones incluidas","Fästen ingår","Befestigungsmaterial enthalten","Sabitleme dahil","Rögzítések mellékelve"]
["Rondella in EPDM","Podložka z EPDM","三元乙丙垫圈","EPDM podloška","Rondelle en EPDM","EPDMワッシャー","Ροδέλα EPDM","EPDM washer","EPDM paplāksne","Podkładka EPDM","Anilha de EPDM","masina de spalat EPDM","Шайба из ЭПДМ","EPDM podložka","EPDM podložka","Arandela EPDM","EPDM bricka","EPDM-Unterlegscheibe","EPDM yıkayıcı","EPDM alátét"]
["TIPO DI CHIUSURA","TYP ZÁMKU","锁类型","VRSTA ZATVARANJA","TYPE DE SERRURE","鍵タイプ","ΤΥΠΟΣ ΚΛΕΙΣΜΑΤΟΣ","TYPE OF LOCK","SLĒGŠANAS VEIDS","RODZAJ ZAMKNIĘCIA","TIPO DE FECHO","TIP DE ÎNCHIDERE","ТИП ЗАМКА","TYP ZÁMKU","VRSTA KLJUČAVNICE","TIPO DE CERRADURA","TYP AV LÅS","SCHLOSSTYP","KİLİT TÜRÜ","ZÁRTÍPUS"]
["PORTA DI CHIUSURA","ZAMYKÁNÍ DVEŘÍ","关门","VRATA KOJA SE ZATVARAJU","PORTE VERROUILLÉE","ドアを閉める","ΠΟΡΤΑ ΠΟΥ ΚΛΕΙΝΕΙ","LOCKING DOOR","AIZSLĒGŠANAS DURVIS","ZAMYKANIE DRZWI","PORTA DE SEGURANÇA","ÎNCHIDERE UȘĂ","ЗАПИРАНИЕ ДВЕРИ","ZAMYKANIE DVERÍ","ZAKLEPNA VRATA","PUERTA DE BLOQUEO","LÅSAR DÖRREN","abschließbare Tür","KİLİTLİ KAPI","ZÁRÓ AJTÓ"]
["SCALA SGANCIABILE","ODNÍMATELNÝ ŽEBŘÍK","可拆卸梯子","ODJELJIVE LJESTVE","ÉCHELLE AMOVIBLE","取外し可能な梯子","ΑΦΑΙΡΟΥΜΕΝΗ ΣΚΑΛΑ","DETACHABLE LADDER","NOŅEMAMAS KĀPNES","ZDEJMOWANA DRABINA","ESCADA DESTACÁVEL","SCARA DETASABILE","СЪЕМНАЯ ЛЕСТНИЦА","ODNÍMATEĽNÝ REBRÍK","LOHLJIVA LESTVA","ESCALERA DESMONTABLE","AVTAGBAR STEGE","ABNEHMBARE LEITER","SÖKÜLEBİLİR MERDİVEN","LESZERELHETŐ LÉTRA"]
["Parallela alle greche","Rovnoběžně s boky","与板平行","Paralelno s bokovima","Parallèle aux lames","サンドイッチパネル山線と平行","Παράλληλη με την ελληνική","Parallel to hips","Paralēli","Równolegle do greckiego","Paralelo à onda","Paralel cu grecul","Параллельно бедрам","Paralelne s bokmi","Vzporedno s boki","Paralelo a las caderas","Parallellt med höfter","parallel zur Sicke","Kalçalara paralel","Élszarufára párhuzamos"]
["Perpendicolare alle greche","Kolmo k bokům","垂直于板","Okomito na bokove","Perpendiculaire aux volets","サンドイッチパネル山線に垂直","Κάθετα στην ελληνική","Perpendicular to hips","Perpendikulāri","Prostopadle do greki","Perpendicular à onda","Perpendicular pe greacă","Перпендикулярно бедрам","Kolmo na boky","Pravokotno na boke","Perpendicular a las caderas","Vinkelrätt mot höfterna","senkrecht zur Sicke","kalçalara dik","Élszarufára merőleges"]
["SISTEMA DI RIPOSO","ODPOČÍVACÍ SYSTÉM","支撑系统","SUSTAV ZA ODMOR","SYSTÈME DE REPOS","休息システム","ΣΥΣΤΗΜΑ ΑΝΑΠΑΥΣΗΣ","RESTING SYSTEM","ATPŪTAS SISTĒMA","SYSTEM WYPOCZYNKU","SISTEMA DE REPOUSO","SISTEM DE ODIHNA","СИСТЕМА ОТДЫХА","ODPOČINOVÝ SYSTÉM","SISTEM POČIVANJA","SISTEMA DE DESCANSO","VILOSYSTEM","RUHESYSTEM","DİNLENME SİSTEMİ","PIHENŐ RENDSZER"]
["MODULO DI SDOPPIAMENTO","ROZDĚLOVACÍ MODUL","分裂模块","DIJELJIVI MODUL","MODULE DE FRACTIONNEMENT","分割モジュール","ΑΠΟΣΠΩΜΕΝΗ ΕΚΔΟΣΗ","SPLITTING MODULE","IZLAIDINĀŠANAS MODULIS","MODUŁ WYDANIA","MÓDULO DE DESENGANCHO","MODUL DE LANSAREA","РАЗДЕЛИТЕЛЬНЫЙ МОДУЛЬ","ŠTIEPACÍ MODUL","MODUL ZA DELITEV","MÓDULO DE DIVISIÓN","DELNINGSMODUL","SPALTMODUL","AYIRMA MODÜLÜ","OSZTÓ MODUL"]
["DESTRA","PRAVÁ","右边","DESNO","DROIT","右","ΔΕΞΙΑ","RIGHT","PA LABI","PRAWIDŁOWY","DIREITA","DREAPTA","ПРАВИЛЬНО","SPRÁVNY","PRAV","DERECHO","HÖGER","RECHTS","SAĞ","JOBB"]
["SINISTRA","LEVÝ","左边","LIJEVO","GAUCHE","左","ΑΡΙΣΤΕΡΑ","LEFT","PA kreisi","LEWO","ESQUERDA","STÂNGA","ЛЕВЫЙ","LEFT","LEVO","IZQUIERDA","VÄNSTER","LINKS","AYRILDI","BAL"]
["DIREZIONE PRIMO SDOPPIAMENTO","SMĚR PRVNÍHO DĚLENÍ","优先分割方向","PRAVAC PRVOG DIJELJENJA","DIRECTION DU PREMIER FRACTIONNEMENT","第一分割ディレクション","ΚΑΤΕΥΘΥΝΣΗ ΠΡΟΣ ΠΡΩΤΟ ΔΙΑΧΩΡΙΣΜΟ","DIRECTION OF FIRST SPLITTING","VIRZIENS ","PIERWSZY SPLIT KIERUNKU","DIREÇÃO DA PRIMEIRA DIVISÃO","DIRECȚIA PRIMUL SPLIT","НАПРАВЛЕНИЕ ПЕРВОЙ РАСКОЛКИ","SMER PRVÉHO DELENIA","SMER PRVE DELITVE","DIRECCIÓN antes de división","RIKTNING FÖR FÖRSTA DELNING","RICHTUNG DER ERSTEN SPALTUNG","İLK AYIRMA YÖNÜ","AZ ELSŐ OSZTÁS IRÁNYA"]
["PRIMO MODULO REMOVIBILE","PRVNÍ VYJÍMATELNÝ MODUL","第一个可拆卸模块","PRVI MODUL koji se može ukloniti","PREMIER MODULE AMOVIBLE","最初の取外し可能モジュール","ΠΡΩΤΗ ΑΦΑΙΡΟΥΜΕΝΗ ΜΟΝΑΔΑ","FIRST REMOVABLE MODULE","PIRMAIS NOŅEMAMAIS MODULIS","PIERWSZY WYJMOWANY MODUŁ","PRIMEIRO MÓDULO REMOVÍVEL","PRIMUL MODUL DETASAL","ПЕРВЫЙ СЪЕМНЫЙ МОДУЛЬ","PRVÝ ODNÍMATEĽNÝ MODUL","PRVI ODSTRANLJIV MODUL","PRIMER MÓDULO DESMONTABLE","FÖRSTA AVTAGNINGSBAR MODUL","erstes Modul abnehmbar","İLK ÇIKARILABİLİR MODÜL","ELSŐ KISZERELHETŐ MODUL"]
["TIPO VERSIONE ACCIAIO","TYP PROVEDENÍ OCELI","型钢版","TIP ČELIČNA VERZIJA","TYPE VERSION ACIER","スティールバージョン","ΕΚΔΟΣΗ ΑΠΟ ΑΤΣΑΛΙ","TYPE VERSION STEEL","TIPA TĒRAUDA VERSIJA","TYP WERSJA STALOWA","TIPO VERSÃO EM AÇO","TIP VERSIUNE STEEL","ТИП ВЕРСИЯ СТАЛЬ","TYPOVÉ PREVEDENIE OCEL","VRSTA VERZIJA JEKLO","TIPO VERSIÓN ACERO","TYP VERSION STÅL","TYPENAUSFÜHRUNG STAHL","TİP VERSİYON ÇELİK","ACÉL TÍPUSÚ VÁLTOZAT"]
["ACCIAIO INOX A2","NEREZOVÁ OCEL A2","不锈钢 A2","INOX A2","ACIER INOXYDABLE A2","ステンレス鋼A2","ΑΝΟΞΕΙΔΩΤΟ Α2","STAINLESS STEEL A2","NErūsējošais tērauds A2","STAL NIERDZEWNA A2","AÇO INOX A2","OȚEL INOX A2","НЕРЖАВЕЮЩАЯ СТАЛЬ A2","NEREZ A2","NErjaveče jeklo A2","ACERO INOXIDABLE A2","ROSTFRITT STÅL A2","EDELSTAHL A2","PASLANMAZ ÇELİK A2","ROZSDAMENTES ACÉL A2"]
["ACCIAIO INOX A4","NEREZOVÁ OCEL A4","不锈钢 A4","INOX A4","ACIER INOXYDABLE A4","ステンレス鋼A4","ΑΝΟΞΕΙΔΩΤΟ Α4","STAINLESS STEEL A4","Nerūsējošais Tērauds A4","STAL NIERDZEWNA A4","AÇO INOX A4","OȚEL INOX A4","НЕРЖАВЕЮЩАЯ СТАЛЬ А4","NEREZ A4","INOX A4","ACERO INOXIDABLE A4","ROSTFRITT STÅL A4","EDELSTAHL A4","PASLANMAZ ÇELİK A4","ROZSDAMENTES ACÉL A4"]
["RIMOVIBILE","ODNÍMATELNÝ","可拆卸的","ZAMJENJIV","REMOVABLE","取外し可能","ΑΦΑΙΡΟΥΜΕΝΟ","REMOVABLE","NOŅEMAMA","USUWANY","REMOVÍVEL","AMOVIBIL","СЪЕМНЫЙ","ODNÍMATEĽNÝ","ODSTRANLJIV","desmontable","AVTAGBAR","ABNEHMBARE","ÇIKARILABİLİR","KISZERELHETŐ"]
["FISSO","UPEVNĚNO","固定的","FIKSNO","FIXE","固定","ΣΤΑΘΕΡΟΣ","FIXED","FIXED","NAPRAWIONY","FIXO","FIX","ФИКСИРОВАННЫЙ","OPRAVENÉ","FIKSNO","REPARADO","FAST","FEST","SABİT","RÖGZÍTETT"]
["INTERMEDIO PASSANTE","PŘES PROSTŘEDEK","中间贯穿","SREDNJE KROZ","INTERMÉDIAIRE PAR","通貨できる中間","ΕΝΔΙΑΜΕΣΟ ΜΕΣΩ","INTERMEDIATE THROUGH","Vidusspunkts","POŚREDNI PRZEZ","INTERMÉDIO PASSANTE","INTERMEDIAR PRIN","ПРОМЕЖУТОЧНЫЙ ЧЕРЕЗ","MEDZI PROSTREDNÍCTVOM","Vmesno SKOZI","INTERMEDIO pasante","MELLAN TILL","ZWISCHEN DURCH","ORTA DÜZEY","KÖZÉP ÁT"]
["ALTEZZA NON SUFFICIENTE","VÝŠKA NENÍ DOSTATEČNÁ","高度不够","NEDOVOLJNA VISINA","HAUTEUR INSUFFISANTE","十分な高さではない","ΑΝΕΠΑΡΚΕΣ ΥΨΟΣ","INSUFFICIENT HEIGHT","NEPIETIEKAMS AUGSTUMS","NIEWYSTARCZAJĄCA WYSOKOŚĆ","ALTURA NÃO SUFICIENTE","INALTIME NU SUFICIENTA","НЕДОСТАТОЧНАЯ ВЫСОТА","NEDOSTATOČNÁ VÝŠKA","NEDOSTOJNA VIŠINA","ALTURA INSUFICIENTE","Otillräcklig höjd","UNZUREICHENDE HÖHE","YETERSİZ YÜKSEKLİK","ELÉGTELEN MAGASSÁG"]
["DETTAGLI","PODROBNOSTI","细节","DETALJI","DÉTAILS","詳細","ΛΕΠΤΟΜΕΡΙΕΣ","DETAILS","INFORMĀCIJAS","DETALE","DETALHES","DETALII","ДЕТАЛИ","PODROBNOSTI","PODROBNOSTI","DETALLES","DETALJER","Details","DETAYLAR","RÉSZLETEK"]
["CON PROTEZIONE","S OCHRANOU","带保护","SA ZAŠTITOM","AVEC PROTECTION","保護付き","ΜΕ ΠΡΟΣΤΑΣΙΑ","WITH PROTECTION","AR AIZSARDZĪBU","Z OCHRONĄ","COM PROTEÇÃO","CU PROTECTIE","С ЗАЩИТОЙ","S OCHRANOU","Z ZAŠČITO","CON PROTECCIÓN","MED SKYDD","MIT SCHUTZ","KORUMA İLE","VÉDELEMMEL"]
["Attenzione: senza estensione finale","Pozor: bez konečného prodloužení","注意：没有终端延长件","Pažnja: bez završnog proširenja","Attention : sans extension finale","注意：最終エクステンションなし","Προσοχή: χωρίς τελική παράταση","Attention: without final extension","Uzmanību: bez galīgā pagarinājuma","Uwaga: bez końcowego przedłużenia","Atenção: sem extensão final","Atentie: fara prelungire finala","Внимание: без окончательного расширения","Pozor: bez konečného predĺženia","Pozor: brez končnega podaljšanja","Atención: sin extensión final","OBS: utan slutlig förlängning","Achtung: ohne Endverlängerung","Dikkat: son uzatma olmadan","Figyelem: végső kiterjesztés nélkül"]
["TRATTO FINALE","Závěrečná úsek","最后一节","Završni dio","Dernière ligne droite","最終セクション","Τελικό Τμήμα","Final stretch","Noslēguma sadaļa","Sekcja końcowa","Seção Final","Secțiunea finală","Финальная растяжка","Záverečný úsek","Končni razteg","tramo final","Sista sträckan","Endstück","son esneme","Utolsó nyújtás"]
["ULTIMO SDOPPIAMENTO","Poslední rozdělení","最后拆分","Posljednje razdvajanje","Dernier fractionnement","最後の分割","Τελευταίος διαχωρισμός","Last split","Pēdējā sadalīšana","Ostatni podział","Última divisão","Ultima despicare","Последний сплит","Posledné rozdelenie","Zadnji delitev","última división","Senaste split","Letzte Trennung","Son bölünme","Utolsó felosztás"]
["TRATTI INTERMEDI","Střední část","中间部分","Srednji dio","Section intermédiaire","中級セクション","Ενδιάμεσο τμήμα","Intermediate Section","Starpposma sadaļa","Sekcja środkowa","Seção intermediária","Sectiunea intermediara","Промежуточная секция","Stredná sekcia","Vmesni odsek","Tramo Intermedio","Mellansektion","Zwischenabschnitt","Ara Bölüm","Köztes szakasz"]
["SDOPPIAMENTI INTERMEDI","Mezilehlé rozdělení","中间拆分","Srednje dijeljenje","Fractionnement intermédiaire","中間分割","Ενδιάμεσοι διαχωριστες","Intermediate splitting","Starpposma sadalīšanās","Pośrednie podziały","Divisões intermediárias","Despărțiri intermediare","Промежуточное расщепление","Stredné delenie","Vmesna cepitev","división intermedia","Mellansplittring","Zwischenspaltung","ara bölme","Köztes osztás"]
["TRATTO INIZIALE","Úvodní část","起始段","Početna sekcija","Section initiale","初期ストレッチ","Αρχικό τέντωμα","Initial section","sākotnējā sadaļa","Rozciąganie początkowe","Alongamento inicial","Întindere inițială","Начальный раздел","Úvodná sekcia","Začetni odsek","Tramo inicial","Inledande avsnitt","Anfangsabschnitt","İlk bölüm","Kezdeti szakasz"]
["Opzione Base","Volitelná základna","基本选项","Osnovna opcija","Option de base","基本オプション","Βασική επιλογή","Option de base","Pamata variants","Opcja podstawowa","Opção básica","Opțiune de bază","Базовый вариант","Základná možnosť","Možnost osnove","Opción de base","Option de base","Auswahl der Grundpatte","Temel seçenek","Alap opció"]
["ALTEZZA DA PIANO DI SBARCO","Výška od země","着陆高度","Visina podesta","Hauteur d'atterrissage","着陸高さ","Ύψος προσγείωσης","Landing Height","Nosēšanās augstums","Wysokość lądowania","Altura de aterragem","Înălțimea de aterizare","Высота посадки","Výška pristátia","Višina pristanka","Altura de desenbarque","Landningshöjd","Landehöhe","İniş Yüksekliği","Érkezési magasság"]
["Dati Progetto Insufficienti!!!","Údaje o projektu Nedostatečné!!!","项目资料不足！！！","Nedovoljni podaci u projektu !!!","Données de projet insuffisantes !!!","不十分なプロジェクトデータ!!!","Ανεπαρκή δεδομένα έργου !!!","Insufficient Project Data!!!","Nepietiekami projekta dati !!!","Niewystarczające dane projektu !!!","Dados de projeto insuficientes !!!","Date insuficiente ale proiectului!!!","Недостаточно данных проекта!!!","Nedostatočné údaje o projekte!!!","Nezadostni podatki o projektu !!!","Datos de proyecto insuficientes !!!","Otillräckliga projektdata !!!","Unzureichende Projektdaten !!!","Yetersiz Proje Verisi !!!","Nincs elegendő projektadat!!!"]
["Spessore Isolamento","Tloušťka izolace","保温厚度","Debljina izolacije","Épaisseur Isolation","断熱材の厚さ","Πάχος μόνωσης","Thickness of Insulation","Izolācijas biezums","Grubość izolacji","Espessura do isolamento","Grosimea izolației","Толщина изоляции","Hrúbka izolácie","Debelina izolacije","Espesor del aislamiento","Tjocklek på isolering","Dicke der Isolierung","Yalıtım Kalınlığı","Szigetelés vastagsága"]
["CANCELLA TUTTO","VŠE SMAZAT","删除全部","IZBRIŠI SVE","SUPPRIMER TOUT","すべてを消去する","ΣΒΗΣΤΕ ΤΑ ΠΑΝΤΑ","DELETE ALL","DZĒST VISU","WYMAZAC WSZYSTKO","APAGUE TUDO","ȘTERGE TOTUL","УДАЛИТЬ ВСЕ","VYMAZAŤ VŠETKO","IZBRIŠI VSE","ELIMINAR TODO","RADERA ALLT","ALLES LÖSCHEN","HEPSİNİ SİL","MINDET TÖRÖLNI"]
["LA VALUTA DELLA FATTURA E' IN","MĚNA FAKTURY JE V","发票的货币为","VALUTA FAKTURE JE u","LA DEVISE DE LA FACTURE EST EN","請求書の通貨は","ΤΟ ΝΟΜΙΣΜΑ ΤΟΥ ΤΙΜΟΛΟΓΙΟΥ ΕΙΝΑΙ ΣΕ","INVOICE CURRENCY IS IN","RĒĶINA VALŪTA IR Ievadīta","WALUTA FAKTURY JEST W","A MOEDA DA FATURA ESTÁ EM","MONEDA FACTURII ESTE IN","ВАЛЮТА СЧЕТА В","MENA FAKTÚRY JE IN","VALUTA RAČUNA JE V","LA MONEDA DE LA FACTURA ES EN","FAKTURA VALUTA ÄR I","RECHNUNGSWÄHRUNG IST IN","FATURA PARA BİRİMİ VAR","A SZÁMLA PÉNZNEME"]
["LA VALUTA LOCALE E' SOLO INDICATIVA","MÍSTNÍ MĚNA JE POUZE ORIENTAČNÍ","当地货币仅供参考","LOKALNA VALUTA JE SAMO INDIKATIVNA","MONNAIE LOCALE À TITRE INDICATIF","現地通貨は指標のみです","ΤΟ ΤΟΠΙΚΟ ΝΟΜΙΣΜΑ ΕΙΝΑΙ ΜΟΝΟ ΕΝΔΕΙΚΤΙΚΟ","LOCAL CURRENCY IS INDICATIVE ONLY","VIETĒJĀ VALŪTA IR TIKAI INDIKATĪVA","WALUTA LOKALNA JEST WYŁĄCZNIE ORIENTACYJNA","A MOEDA LOCAL É APENAS INDICATIVO","MONEDA LOCALĂ ESTE NUMAI INDICATIVA","МЕСТНАЯ ВАЛЮТА УКАЗАНА ТОЛЬКО ПРИМЕРНО","MIESTNA MENA JE LEN ORIENTAČNÁ","LOKALNA VALUTA JE SAMO OKVIRNA","LA MONEDA LOCAL ES SÓLO INDICATIVA","LOKAL VALUTA ÄR ENDAST VÄGLEDANDE","DIE LOKALE WÄHRUNG IST NUR INDIKATIV","YEREL PARA BİRİMİ YALNIZCA GÖSTERGEDİR","A HELYI PÉNZNEM CSAK INDIKATÍV"]
["SISTEMI ANTICADUTA","SYSTÉMY ZACHYCENÍ PÁDU","防坠落系统","SUSTAVI ZA ZAŠTITU OD PADA","SYSTÈMES ANTICHUTE","落下保護システム","ΣΥΣΤΗΜΑΤΑ ΠΡΟΣΤΑΣΙΑΣ ΠΤΩΣΗΣ","FALL ARREST SYSTEMS","Pretkritiena SISTĒMAS","SYSTEMY OCHRONY PRZED UPADKIEM","SISTEMAS DE PROTEÇÃO ANTI-QUEDA","SISTEME DE PROTECȚIE LA CADERE","СИСТЕМЫ ЗАЩИТЫ ОТ ПАДЕНИЯ","SYSTÉMY ZASTAVENIA PÁDU","SISTEMI ZA ZAPOR","SISTEMAS anticaída","FALLARRETSSYSTEM","ABSTURZSICHERUNGSSYSTEME","DÜŞME TUTMA SİSTEMLERİ","Leesésgátló RENDSZEREK"]
["LINEE VITA E SISTEMA BINARIO","LANKOVÉ A KOLEJNICOVÉ SYSTÉMY","生命线和轨道系统","LINIJE ŽIVOTA I SUSTAV TRAČNICA","LES LIGNES DE VIE ET LES SYSTÈMES FERROVIAIRES","ライフラインとバイナリシステム","ΓΡΑΜΜΕΣ ΖΩΗΣ ΚΑΙ ΣΥΣΤΗΜΑΤΑ RAIL","LIFELINES AND RAIL SYSTEMS","Drošības  LĪNIJAS UN sliežu SISTĒMA","LINIE ŻYCIA I SYSTEM BINARNY","LINHAS DE VIDA E SISTEMA BINÁRIO","LINII DE VIAȚĂ ȘI SISTEM BINAR","СПАСАТЕЛЬНЫЕ ЛИНИИ И ЖЕЛЕЗНОДОРОЖНЫЕ СИСТЕМЫ","ŽIVOTNÉ VEDENIA A KOĽAJNICOVÉ SYSTÉMY","LIFELINES IN ŽELEZNIŠKI SISTEMI","LÍNEAS DE VIDA Y sitema binariro","LIVSLINJER OCH JÄRNVÄNDSSYSTEM","LEBENSLINIEN UND SCHIENENSYSTEME","YAŞAM HATLARI VE RAYLI SİSTEMLER","KÁBELES ÉS SÍNES RENDSZEREK"]
["PUNTI SINGOLI ","JEDNOTLIVÉ BODY ","单锚点","POJEDINAČNE TOČKE ","POINTS SIMPLES ","シングルポイント","MΟΝΑ ΣΗΜΕΙΑ ΑΓΚΥΡΩΣΗΣ","SINGLE POINTS ","ATSEVIŠĶI PUNKTI","POJEDYNCZE PUNKTY","PONTOS DE ANCORAMENTO","PUNCTE SINGLE","ОТДЕЛЬНЫЕ ПУНКТЫ","JEDINÉ BODY","POSAMEZNE TOČKE","PUNTOS únicos","ENKLA POÄNG","Einzelanschlagspunkte","TEK PUAN","EGYSZERŰ KIKÖTÉSI PONT"]
["SUPPORTI E ACCESSORI","DRŽÁKY A PŘÍSLUŠENSTVÍ","支架和配件","NOSAČI I DODATNA OPREMA","SUPPORTS ET ACCESSOIRES","サポートとアクセサリー","ΣΤΗΡΙΞΕΙΣ ΚΑΙ ΑΞΕΣΟΥΑΡ","BRACKETS AND ACCESSORIES","BALSTI UN PIEDERUMI","WSPORNIKI I AKCESORIA","SUPORTES E ACESSÓRIOS","SUPORTURI SI ACCESORII","КРОНШТЕЙНЫ И ПРИНАДЛЕЖНОСТИ","KONZOLY A PRÍSLUŠENSTVO","NOSILA IN DODATKI","SOPORTES Y ACCESORIOS","FÄSTEN OCH TILLBEHÖR","HALTERUNGEN UND ZUBEHÖR","BRAKETLER VE AKSESUARLAR","TARTOZÉKOK ÉS FELFOGATÓK"]
["Singolo articolo","Jednotlivá položka","单篇","Jedan artikl","Article unique","単一の記事","ΜΟΝΟ ΠΡΟΙΟΝ","Single article","Viens raksts","Pojedynczy artykuł","Artigo único","Un singur articol","Отдельная статья","Jediný článok","En sam članek","Articulo úNICO","Enstaka artikel","Einzelner Artikel","Tek makale","Egy darab"]
["Gruppo prodotto","Skupina výrobků","产品组","Grupa proizvoda","Groupe de produits","製品グループ","Ομάδα προϊόντων","Product group","Produktu grupa","Grupa produktów","Grupo de produtos","Grup de produse","Группа товаров","Skupina produktov","Skupina izdelkov","Grupo de productos","Produktgrupp","Produktgruppe","Ürün grubu","Termékcsoport"]
["Condizioni di pagamento","Platební podmínky","付款条件","Uvijeti plaćanja","Conditions de paiement","支払条件","Οροι πληρωμής","Payment conditions","Maksājuma nosacījumi","Warunki płatności","Termos de pagamento","Termeni de plata","Условия оплаты","Platobné podmienky","Pogoji plačila","Condiciones de pago","Villkor för betalning","Zahlungsbedingungen","Ödeme koşulları","Fizetési feltételek"]
["Firma TS","Podpis TS","技术销售签名","TS potpis","Signature TS","TS署名","Υπογραφή TS","TS signature","TS paraksts","Podpis TS","Assinatura TS","Semnătura TS","подпись ТС","podpis TS","TS podpis","firma TS","TS signatur","Unterschrift des Mitarbeiters","TS imzası","TS aláírás"]
["Firma ASM","Podpis ASM","区域经理签名","ASM potpis","Signature ASM","ASM署名","Υπογραφή ASM","ASM signature","ASM paraksts","Podpis ASM","Assinatura ASM","Semnătura ASM","подпись ASM","podpis ASM","ASM podpis","firma ASM","ASM signatur","ASM-Signatur","ASM imzası","ASM aláírás"]
["Firma Cliente","Podpis zákazníka","客户签名","Potpis klijenta","Signature du client","お客様の署名","Υπογραφή πελάτη","Customer Signature","Klienta paraksts","Podpis klienta","Assinatura do cliente","Semnătura clientului","Подпись покупателя","Podpis zákazníka","Podpis stranke","Firma del cliente","Kundsignatur","Unterschrift des Kunden","Müşteri imzası","Ügyfél aláírása"]
["Compila il campo nel foglio CRM","Vyplňte pole v listu CRM","填写 CRM 表中的字段","Popunite polje u CRM listu","Remplissez le champ dans la feuille CRM","CRMシートのフィールドに入力します","Συμπληρώστε το πεδίο στο φύλλο CRM","Fill in the field in the CRM sheet","Aizpildiet CRM lapas lauku","Wypełnij pole w arkuszu CRM","Preencha o campo na folha CRM","Completați câmpul din foaia CRM","Заполните поле в CRM-листе","Vyplňte pole v hárku CRM","Izpolnite polje v CRM listu","Complete el campo en la hoja de CRM","Fyll i fältet i CRM-bladet","Füllen Sie das Feld im CRM aus","CRM sayfasındaki alanı doldurun","Töltse ki a mezőt a CRM lapon"]
["FISSAGGI","UPEVNĚNÍ","固定装置","pričvršćivanje","FIXATIONS","固定具","ΣΤΕΡΕΩΣΕΙΣ","FIXINGS","STIPRINĀJUMI","MOCOWANIA","FIXAÇÕES","FIXARE","КРЕПЛЕНИЯ","Upevnenia","PRITRDILA","FIJACIONES","FÄSTNINGAR","BEFESTIGUNGEN","DÜZENLEMELER","KÖTŐELEMEK"]
["SISTEMI DI FISSAGGIO","UPEVŇOVACÍ SYSTÉMY","固定系统","SUSTAVI ZA PRIČVRŠĆIVANJE","SYSTEMES DE FIXATION","固定システム","ΣΥΣΤΗΜΑΤΑ ΣΤΕΡΕΩΣΗΣ","FIXING SYSTEMS","Stiprinājumu SISTĒMAS","SYSTEMY MOCOWANIA","SISTEMAS DE FIXAÇÃO","SISTEME DE FIXARE","КРЕПЕЖНЫЕ СИСТЕМЫ","UPEVŇOVACIE SYSTÉMY","FIKSNI SISTEMI","SISTEMAS DE FIJACIÓN","FÄSTSYSTEM","BEFESTIGUNGSSYSTEME","SABİTLEME SİSTEMLERİ","RÖGZÍTŐ RENDSZEREK"]
["TENUTA ALL'ARIA E IMPERMEABILIZZAZIONE","VZDUCHOTĚSNOST A VODOTĚSNOST","气密性和防水性","ZRAKOTIJESNOST I HIDROIZOLACIJA","ÉTANCHÉITÉ À L'AIR ET À L'EAU","気密性と防水性","ΣΤΕΓΑΝΟΤΗΤΑ ΚΑΙ ΣΤΕΓΑΝΩΣΗ","AIRTIGHTNESS AND WATERPROOFING"," HIDROIZOLCIJA un blīvums","SZCZELNOŚĆ I WODOODPORNOŚĆ","ESTANQUIDADE AO AR E IMPERMEABILIZAÇÃO","ETANCHEITATEA ȘI IMPERMEABILIZARE","ГЕРМЕТИЧНОСТЬ И ГИДРОИЗОЛЯЦИЯ","VZDUCHOTESNOSŤ A HYDROIZOLÁCIA","ZRAKOTESNOST IN HITROTESNOST","ESTANQUEIDAD E IMPERMEABILIDAD","LUFTTÄTHET OCH VATTENTÄTNING","LUFTDICHTIGKEIT UND BAUABDICHTUNG","HAVA GEÇİRMEZLİK VE SU YALITIM","LÉGZÁRSÁG ÉS VÍZSZIGETELÉS"]
["MEMBRANE E FRENI AL VAPORE, NASTRI, ACCESSORI","PAROZÁBRAMY, MEMBRÁNY A PAROBRZDY, PÁSKY, PŘÍSLUŠENSTVÍ","隔气膜，胶带和配件","PARNE BRANE, TRAKE, PRIBOR","MEMBRANES PAR VAPEUR ET FREINS, RUBANS, ACCESSOIRES","蒸気膜とブレーキ、テープ、アクセサリー","ΦΡΕΝΑ ΥΔΡΑΤΜΩΝ ΚΑΙ ΦΡΑΓΜΟΙ","VAPOR MEMBRANES AND BARRIERS, TAPES, ACCESSORIES","TVAIKA MEMBRANAS UN barjeras, LENTES, PIEDERUMI","MEMBRANY I HAMULCE PAROWE, TAŚMY, AKCESORIA","MEMBRANAS DE CONTROLO DE VAPOR, FITAS, ACESSÓRIOS","MEMBRANE DE VAPORI SI FRANE, BANDI, ACCESORII","ПАРОМЕМБРАНЫ И БАРЬЕРЫ, ЛЕНТЫ, ПРИНАДЛЕЖНОСТИ","PARNÉ MEMBRÁNY A BARIÉRY, PÁSKY, PRÍSLUŠENSTVO","PARNE MEMBRANE IN PREGRADE, TRAKOVI, DODATNA OPREMA","MEMBRANAS Y BARRERAS DE VAPOR, CINTAS, ACCESORIOS","ÅNGMEMBRANER OCH BARRIÄRER, TEJP, TILLBEHÖR","DAMPFBREMSEN UND -SPERREN, KLEBEBÄNDER, ZUBEHÖR","BUHAR MEMBRAN VE BARİYERLER, BANTLAR, AKSESUARLAR","PÁRASZABÁLYOZÓ ÉS PÁRAZÁRÓ FÓLIÁK, SZALAGOK, KIEGÉSZÍTŐK"]
["DISPOSITIVI TEMPORANEI","DOČASNÁ ZAŘÍZENÍ","临时设备","PRIVREMENE SPRAVE","DISPOSITIFS TEMPORAIRES","一時的なデバイス","ΠΡΟΣΩΡΙΝΕΣ ΣΥΣΚΕΥΕΣ, ΤΑΙΝΙΕΣ ΚΑΙ ΑΞΕΣΟΥΑΡ","TEMPORARY DEVICES","PAGAIDU IERĪCES","URZĄDZENIA TYMCZASOWE","DISPOSITIVOS TEMPORÁRIOS","DISPOZITIVE TEMPORARE","ВРЕМЕННЫЕ УСТРОЙСТВА","DOČASNÉ ZARIADENIA","ZAČASNE NAPRAVE","DISPOSITIVOS TEMPORALES","TILLFÄLLIGA ENHETER","temporäre Einrichtungen","GEÇİCİ CİHAZLAR","IDEIGLENES ESZKÖZÖK"]
["FUNE","LANO","绳索","UŽE","CORDE","ロープ","ΣΧΟΙΝΙ ","WIRE","VIRVE","LINA","CORDA","FRÂNGHIE","ПРОВОД","WIRE","ŽICA","CABLE","TRÅD","Stahlseil","TEL","KÁBEL"]
["LINEA VITA NON RB","LANKOVÝ SYSTÉM NE RB","非RB生命线","LINIJA ŽIVOTA KOJA NIJE RB","LIGNE DE VIE NON RB","ライフラインはRBではありません","ΓΡΑΜΜΗ ΖΩΗΣ ΌΧΙ RB","LIFE LINE NOT RB","DZĪVES LĪNIJA NAV RB","LINIA ŻYCIA NIE RB","LINHA DE VIDA NÃO RB","LINIA VIAȚII NU RB","ЛИНИЯ ЖИЗНИ НЕ РБ","LIFE LIFE NOT RB","LIFE LINE NE RB","LÍNEA DE VIDA NO RB","LIVSLINJE INTE RB","LEBENSLINIE NICHT RB","YAŞAM HATTI RB DEĞİL","LEESÉSVÉDELMI RENDSZER NEM RB"]
["PUNTI D'ANCORAGGIO NON RB","KOTEVNÍ BODY NE RB","非RB单锚点","SIDRENE TOČKE KOJE NISU RB","POINTS D'ANCRAGE NON RB","RBではないアンカーポイント","ΣΗΜΕΙΑ ΑΓΚΥΡΩΣΗΣ ΟΧΙ RB","ANCHOR POINTS NOT RB","ENTURA PUNKTI Nav RB","PUNKTY KOTWICZĄCE NIE RB","PONTOS DE ANCORAGEM NÃO RB","PUNCTE DE ANCORA NU RB","ТОЧКИ ПРИКРЕПЛЕНИЯ НЕ RB","KOTVNÉ BODY NIE RB","SIDIŠČKE NE RB","PUNTOS DE ANCLAJE NO RB","FÖRANKNINGSPUNKTER EJ RB","Anschlagspunkte NICHT RB","ANCHOR NOKTALARI RB DEĞİL","KIKÖTÉSI PONTOK NEM RB"]
["RETI ANTICADUTA TEMPORANEE","DOČASNÉ OCHRANNÉ SÍTĚ PROTI PÁDU","临时防坠网","PRIVREMENE MREŽE ZA ZAŠTITU OD PADA","FILETS ANTICHUTE TEMPORAIRES","一時的な落下保護ネット","ΠΡΟΣΩΡΙΝΑ ΔΙΧΤΥΑ ΠΡΟΣΤΑΣΙΑΣ ΠΤΩΣΗΣ","TEMPORARY FALL PROTECTION NETS","PAGAIDU AIZSARDZĪBAS TĪKLI KRITIENIEM","TYMCZASOWE SIATKI ZABEZPIECZAJĄCE PRZED UPADKIEM","REDES DE PROTEÇÃO TEMPORÁRIAS ANTI-QUEDA","PLASE TEMPORARE DE PROTECTIE CU CAZARE","ВРЕМЕННЫЕ СЕТКИ ДЛЯ ЗАЩИТЫ ОТ ПАДЕНИЯ","DOČASNÉ OCHRANNÉ SIETE PROTI PÁDU","ZAČASNE MREŽE ZA ZAŠČITO PADCA","REDES TEMPORALES DE PROTECCIÓN anticaídas","TILLÄMPLIGA FALLSKYDDSNÄT","TEMPORÄRE FALLSCHUTZNETZE","GEÇİCİ DÜŞME AĞLARI","IDEIGLENES LEESÉSELLENI VÉDŐHÁLÓK"]
["ALTRO","JINÉ","其他","OSTALO","AUTRE","他の","ΑΛΛΑ","OTHER","CITI","INNY","OUTROS","ALTE","РАЗНОЕ","INÉ","DRUGO","OTRO","ÖVRIG","ANDERE","DİĞER","EGYÉB"]
["CASCHI","PŘILBY","头盔","KACIGE","CASQUES","ヘルメット","ΚΡΑΝΗ","HELMETS","Ķiveres","KASKI","CAPACETES","CĂȘTI","ШЛЕМЫ","PRILBY","ČELADE","CASCOS","HJÄLMAR","HELME","KASKLAR","SIAKOK"]
["IMBRACATURE","ZACHYCOVACÍ POSTROJE","安全带","POJASEVI","HARNAIS","ハーネス","ΖΩΝΕΣ","HARNESSES","drošības sistēmas","SZELKI","ARNÊS","HAMAMENTE","ЖГУТЫ","POPRUHY","PARSKE","ARNESES","SELAR","Gurte","KOŞUMLAR","HÁMOK"]
["ANTICADUTA","OCHRANA PROTI PÁDU","坠落制动","UREĐAJ ZA SPREČAVANJE PADA","ANTICHUTE","落下阻止","ΠΡΟΣΤΑΣΙΑ ΠΤΩΣΗΣ","FALL ARREST","KRITIENA Aizturēšana","ARESZTOWANIE UPADKU","ANTI-QUEDA","ARESTARE LA CADARE","ПАДЕНИЕ АРЕСТ","ZASTAVENIE PÁDU","PADEC APRES","anticaída","ARRESTERING","Absturzsicherung","GÜZ TUTUKLAMASI","KIKÖTÉSI RENDSZER"]
["POSIZIONAMENTO","POZICE","定位","POZICIONIRANJE","POSITIONNEMENT","ポジショニング","ΤΟΠΟΘΕΤΗΣΗ","POSITIONING","POZICIONĒŠANA","POZYCJONOWANIE","POSICIONAMENTO","POZIȚIONARE","ПОЗИЦИОНИРОВАНИЕ","UMIESTNENIE","POLOŽAJANJE","POSICIONAMIENTO","POSITIONERING","POSITIONIERUNG","KONUMLANDIRMA","POZÍCIONÁLÁS"]
["DISCENSORI / SISTEMI DI RISALITA","SLAŇOVACÍ / STOUPACÍ SYSTÉMY","下降器/上升系统","UREĐAJI ZA SPUŠTANJE/ SISTEMI ZA PENJANJE","DESCENDEURS / SYSTÈMES DE MONTÉE","ディセンダー/アセントシステム","ΣΥΣΤΗΜΑΤΑ ΚΑΘΟΔΟΥ / ΑΝΟΔΟΥ","DESCENDERS / ASCENT SYSTEMS","Nolaidēji","ZJAZDY / SYSTEMY WZNOSZENIA","SISTEMAS DESCENDENTES / SUBIDA","SISTEME DE COBORARE / ASCENSARE","СПУСКНЫЕ СИСТЕМЫ / ПОДЪЕМНЫЕ СИСТЕМЫ","DESCENDERS / SYSTÉMY VÝSTUPU","DESCENDERS / SISTEMI VZP","SISTEMAS DE DESCENSO / ASCENSO","DESCENDERS / UPPSTIGNINGSSYSTEM","AB-/AUFSTIEGSSYSTEME","İNDİRİCİLER / ÇIKIŞ SİSTEMLERİ","LESZÁLLÍTÓK / EMELKEDŐ RENDSZEREK"]
["KIT","KIT","成套工具","KIT","TROUSSE","キット","ΚΙΤ  ","KIT","KOMPLEKTS","ZESTAW","KIT","KIT","КОМПЛЕКТ","SÚPRAVA","KIT","kit","UTRUSTNING","KIT","KITI","KÉSZLET"]
["CORDE","LANA","绳索","UŽAD","CORDES","ロープ","ΣΧΟΙΝΙΑ","ROPES","VIRVES","LINY","CORDAS","FRÂNII","ВЕРЕВКИ","LANÁ","VRVI","CUERDAS","TÅGVIRKE","SEILE","İPLER","KÖTELEK"]
["DISPOSITIVI RETRATTILI","ZATAHOVACÍ ZAŘÍZENÍ","速差器","UREĐAJI NA UVLAČENJE","DISPOSITIFS RÉTRACTABLES","リトラクタブルデバイス","ΣΥΣΚΕΥΕΣ ΑΝΑΚΟΠΗΣ ΠΤΩΣΗΣ","RETRACTABLE DEVICES","IZVELKAMĀS IERĪCES","WYSUWANE URZĄDZENIA","DISPOSITIVOS RETRÁTEIS","DISPOZITIVE RETRACTIBILE","ВЫДВИЖНЫЕ УСТРОЙСТВА","VYSÚVACIE ZARIADENIA","IZVLEČNE NAPRAVE","DISPOSITIVOS RETRÁCTILES","INDRÄCKBARA ENHETER","Höhensicherungsgerät","ÇEKİLEBİLİR CİHAZLAR","BEVISSZOLHATÓ ESZKÖZÖK"]
["ANCORAGGI TEMPORANEI","DOČASNÁ KOTVENÍ","临时锚点","PRIVREMENA SIDRISTA","ANCRAGES TEMPORAIRES","一時的なアンカー","ΠΡΟΣΩΡΙΝΕΣ ΑΓΚΥΡΩΣΕΙΣ","TEMPORARY ANCHORAGES","PAGAIDU enkurvietas","TYMCZASOWE ZAKOTWIENIA","ANCORAGENS TEMPORÁRIAS","ANCORAJE TEMPORARE","ВРЕМЕННЫЕ КРЕПЛЕНИЯ","DOČASNÉ KOTVENIA","ZAČASNA SIDIŠČA","ANCLAJES TEMPORALES","TILLFÄLLIGA FÖRANKNINGAR","Temporäre Befestigung","GEÇİCİ ANKRAJLAR","IDEIGLENES RÖGZÍTÉSEK"]
["CONNETTORI","KONEKTORY","连接件","KONEKTORI","CONNECTEURS","コネクタ","ΣΥΝΔΕΣΕΙΣ","CONNECTORS","SAVIENOTĀJI","ZŁĄCZA","CONECTORES","CONECTOARE","СОЕДИНИТЕЛИ","KONEKTORY","KONEKTORJI","CONECTORES","KONTAKTER","Verbinder","KONEKTÖRLER","CSATLAKOZÓK"]
["CARRUCOLE","KLADKA","滑轮","ČEKRK","POULIE","プーリー","ΤΡΟΧΑΛΙΑ","PULLEY","TRULIS","KRĄŻEK LINOWY","POLIA","SCRIPETE","ШКИВ","KLADKA","Jermenica","POLEA","REMSKIVA","ROLLE","KASNAK","CSIGA"]
["TRIPODI","TROJNOŽKA","三脚架","TRONOŽCI","TRÉPIEDS","三脚","ΤΡΙΠΟΔΕΣ","TRIPODS","Trijkāji","STATYWY","TRIPÉS","TREPIODELE","ШТАТИВЫ","STROJÍKY","STATIVI","TRÍPODES","STATIV","Dreibein","TRİPODLAR","ÁLLVÁNYOK"]
["GRU","JEŘÁB","起重机","KRAN","GRUE","クレーン","ΓΕΡΑΝΟΣ","CRANE","CELTņi","DŹWIG","GUINDASTE","MACARA","КРАН","CRANE","ŽIVEL","GRUA","KRAN","KRAN","VİNÇ","DARU"]
["E","A","和","I","ET","と","ΚΑΙ","AND","UN","ORAZ","E","ȘI","И","A","IN","Y","OCH","UND","VE","ÉS"]
["ANCORANTE AVVITABILE","ŠROUBOVATELNÁ KOTVA","可拧锚点","SIDRO KOJE SE ZAVRČE","CHEVILLE A VISSER","スクリュー可能なアンカー","ΑΓΚΥΡΙΟ ΜΕ ΒΙΔΑ","SCREWABLE ANCHOR","Skrūvējams enkurs","KOTWY WKRĘCANE","ÂNCORANTE APARAFUSÁVEL","ANCORA SURUBABLE","ВИНТОВОЙ АНКЕР","SKRUTKOVATEĽNÁ KOTVA","SIDRO NA VIJAČ","anclaje atornillable","SKRUVBART ANKER","SCHRAUBANKER","VİDALANABİLİR ANKRAJ","CSAVAROZHATÓ RÖGZÍTŐ"]
["TASSELLI MECCANICI","MECHANICKÉ KOTVY","机械锚固","MEHANIČKA SIDRA","CHEVILLES MÉCANIQUES","機械ダボ","ΜΗΧΑΝΙΚΑ ΑΓΚΥΡΙΑ","MECHANICAL ANCHORS","MEHĀNISKIE DĪBEĻI","KOŁKI MECHANICZNE","ANCORANTES METÁLICOS","DIBLURI MECANICE","МЕХАНИЧЕСКИЕ АНКЕРЫ","MECHANICKÉ KOTVY","MEHANSKA SIDRA","ANCLAJES MECÁNICOS","MEKANISKA ANKARE","MECHANISCHE ANKER","MEKANİK ANKRAJ","MECHANIKUS RÖGZÍTÉSEK"]
["RESINE E COLLE","PRYSKYŘICE A LEPIDLA","树脂和胶水","SMOLE I LJEPILA","RÉSINES ET COLLES","樹脂と接着剤","ΡΗΤΙΝΕΣ ΚΑΙ ΚΟΛΛΕΣ","RESINS AND GLUES","enkurmasas UN LĪMES","ŻYWICE I KLEJE","RESINAS E COLAS","RĂȘINI ȘI Adezivi","СМОЛЫ И КЛЕИ","ŽIVICE A LEPIDLÁ","SMOLE IN LEPILA","RESINAS Y COLAS","KARTA OCH LIM","HARZE UND KLEBSTOFFE","REÇİNELER VE TUTKALLAR","GYANTÁK ÉS RAGASZTÓK"]
["BARRE FILETTATE","ZÁVITOVÉ TYČE","螺纹杆","NAVOJNE ŠIPKE","BARRES FILETÉES","ねじ山バー","ΝΤΙΖΕΣ","THREADED BARS","VĪTņSTIEŅI","PRĘTY GWINTOWANE","VARÕES ROSCADOS","BARE FILETATE","РЕЗЬБОВЫЕ ШПИЛЬКИ","ZÁVITOVÉ TYČE","NAVOJNE LESKE","BARRAS ROSCADAS","GÄNGAD STÄNGOR","GEWINDESTANGEN","DİŞLİ ÇUBUKLAR","MENETES SZÁRAK"]
["DOPPIO TRAFILATO SU MISURA","DVOJZÁVITOVÉ TYČE NA MÍRU","预穿孔双螺纹杆","NAMJESTIVE DVOSTRUKE NAVOJNE ŠIPKE","DOUBLE DESSIN SUR MESURE","二重に描かれた測定","ΔΙΠΛΕΣ ΝΤΙΖΕΣ","BESPOKEN DOUBLE THREADED BARS","SPECIĀLIE vītņstieņi","PODWÓJNIE RYSOWANE NA MIARĘ","VARÃO DUPLO POR MEDIDA","DUBLU TRAS FĂCUT PE MĂSURĂ","ДВОЙНАЯ РЕЗЬБА ПО ЗАКАЗУ","TYČE S DVOJITÝM ZÁVITOM NA MIERU","DVOJNE NAVOJNE LETKE PO PO meri","BARRAS DOBLE ROSCA A MEDIDA","SKRÄDDARSYDDA DUBBELTÄGADE STÄNGOR","MASSGESCHNEIDERTE DOPPELTE GEWINDESTANGEN","ÖZEL ÇİFT DİŞLİ ÇUBUKLAR","MÉRETRE KÉSZÜLT KETTŐS MENETES SZÁRAK"]
["CONTROVENTO","ZAVĚTRÁVANÍ","支架","UKLJUČIVANJE","ENTRETOISEMENT","ブレーシング","ΓΙΑ ΣΤΗΡΙΞΗ","BRACING","Savilces","ORZEŹWIAJĄCY","CONTRAVENTAMENTO","CONTRIBUIREA","СВЯЗЬ","BRACING","OPREMA","contraviento","UPPIGGANDE","Windverband","GÜÇLENDİRME","RÖGZÍTŐ"]
["% Viti a grano in più","% přídavných stavěcích šroubů","% 额外的平头螺钉","% dodatnih vijaka","% de vis sans tête supplémentaires","％追加のグラブネジ","% πρόσθετες βίδες ","% addiotional grub screws","% papildu skrūves","% dodatkowych wkrętów dociskowych","% parafusos adicionais","% șuruburi de fixare suplimentare","% дополнительные установочные винты","% dodatočných závitových kolíkov","% dodatnih vijakov","% tornillo sin cabeza adicional","% extra stiftskruvar","% zusätzliche Madenschrauben","% ek başsız vidalar","% további csigacsavarok"]
["PROFONDITA' OSTACOLO","HLOUBKA PŘEKÁŽKY","障碍物深度","DUBINA PREPREKE","PROFONDEUR DE L'OBSTACLE","障害物深さ","ΒΑΘΟΣ ΕΜΠΟΔΙΟΥ","OBSTACLE DEPTH","ŠĶĒRŠĻU DZIĻUMS","GŁĘBOKOŚĆ PRZESZKODY","PRODUNDIDADE DO OBSTÁCULO","ADÂNCIMEA OBSTACOLULUI","ДЛИНА ОБСТАНАВЛИВАНИЯ","HĹBKA OBSTACLE","GLOBINA OVIRE","PROFUNDIDAD DEL OBSTÁCULO","OBSTACLE DJUP","OBSTACLE TIEFE","ENGEL DERİNLİĞİ","AKADÁLY MÉLYSÉGE"]
["SPESSORE CORDOLO","Tloušťka obrubníku","路缘石厚度","DEBLJINA RUBA","ÉPAISSEUR DU KERB","縁石の幅","ΚΑΘΑΡΙΣΜΕΝΟ ΠΑΧΟΣ","KERB THICKNESS","IEROBEŽojumu BIEZUMS","GRUBOŚĆ KRAWĘŻNIKA","ESPESSURA DO ","GROSIMEA MIEZULUI","ТОЛЩИНА КЕРБА","HĹBKA KERBU","DEBELINA GRUDE","espesor al borde","TJOCKLEK","KERB-DICKHEIT","KERBET KALINLIĞI","SZEGÉLY VASTAGSÁGA"]
["SCALETTA DI DISCESA","Sestupový žebřík","下降梯","LJESTVE KOJE SE SPUŠTAJU","DESCENT LADDER","下降梯子","ΣΚΑΛΑ ΚΑΤΑΒΑΣΗΣ","DESCENT LADDER","NOLAIšanās KĀPNES","DRABINA ZJAZDOWA","ESCADA DE DESCIDA","COBORÂRE DE COBORÂRE","ЛЕДНИК СВОБОДЫ","SADLÁ DESCENT","DESCENT LADDER","ESCALERA DE DESCENSO","NEDGÅNGSLYFTSLYFT","LADDER INNEN-AUSTIEG","İNİŞ MERDİVENİ","ERESZKEDŐ LÉTRA"]
["(E) Maggiore di 450 mm","Více než 450 mm","（E）大于450毫米","(E) VEĆE OD 450 MM","(E) Supérieur à 450 mm","(E) 450mmを超える","(Ε) Πάνω από 450 mm","(E) Greater than 450 mm","(E) Lielāks par 450 mm","(E) Większa niż 450 mm","(E) Maior do que 450mm","(E) Mai mare de 450 mm","(E) Более 450 мм","(E) Viac ako 450 mm","(E) Več kot 450 mm","(E) Mayor de 450 mm","(E) Större än 450 mm","(E) Größer als 450 mm","(E) 450 mm'den büyük","(E) Nagyobb, mint 450mm"]
["Minore di","Méně než","少于","MANJE OD","Moins de","未満","Λιγότερο από","Less than","Mazāk nekā","Mniej niż","Menor de","Mai puțin de","Менее","Menej ako","Manj kot","Menrs de","Mindre än","Weniger als","Daha az","kevesebb mint"]
["Su richiesta SBARCO maggiore di 750 mm","Na vyžádání vstup větší než 750 mm","根据要求，着陆距离大于750毫米","NA ZAHTJEV SILAŽENJE VEĆE OD 750 MM","Sur demande DEBOUT Plus de 750 mm","要望に応じてランディング750mm以上","Κατόπιν αιτήματος ΠΡΟΣΓΕΙΩΣΗ Μεγαλύτερο από 750 mm","On request LANDING Greater than 750 mm","Pēc pieprasījuma - Lielāks par 750 mm","Na życzenie LĄDOWANIE Większe niż 750 mm","Sobre pedido ATERRAGEM maior de 750 mm","La cerere MAI JOS DE 750 mm","По запросу НИЖЕ 750 мм","Na požiadanie Nižšie ako 750 mm","Na zahtevo NIŽJE OD 750 mm","A petición del cliente desembarque Mayor de 750 mm","På begäran LÄNGRE än 750 mm","Auf Anfrage LANDING Größer als 750 mm","İstek üzerine 750 mm'den DAHA DÜŞÜK","Igény esetén LANDING nagyobb, mint 750mm"]
["Su richiesta","Na vyžádání","应要求","NA ZAHTJEV","Sur demande","要望に応じて","Κατόπιν αίτησης","On request","Pēc pieprasījuma","Na życzenie","Sobre pedido","La cerere","По запросу","Na požiadanie","Na zahtevo","A petición","På begäran","Auf Anfrage","İstek üzerine","igény esetén"]
["Opzione Default","Výchozí možnost","选项默认值","UOBIČAJNA OPCIJA","Option par défaut","デフォルトオプション","Standard επιλογή","Option Default","Opcija - pēc noklusējuma","Opcja domyślna","Opção por defeito","Opțiune implicită","Опция По умолчанию","Predvolená možnosť","Privzeta možnost","Opción por defecto","Alternativ Standard","Option Standard","Seçenek Varsayılan","Alapértelmezett verzió"]
["Necessaria protezione","Je vyžadována ochrana","需要保护","OBAVENA ZAŠTITA","Protection requise","必要な保護機能","Απαιτείται προστασία","Protection required","Nepieciešama aizsardzība","Wymagana ochrona","Necessária proteção","La cerere Protecție necesară","По запросу Требуется защита","Požadovaná ochrana","Na zahtevo Zahtevana zaščita","Protección necesaria","På begäran Skydd krävs","Schutz erforderlich","Gerekli koruma","Védelem szükséges"]
["Forma","Tvar","形状","OBLIK","Forme","形状","Σχήμα","Shape","Forma","Kształt","Forma","Formă","Форма","Tvar","Oblika","Forma","Form","Form","Şekil","forma"]
["Rettangolare","Obdélníkový","矩形的","PRAVOKUTAN","Rectangulaire","長方形","Ορθογώνιος","Rectangular","Taisnstūrveida","Prostokątny","Retangular","Rectangular","Прямоугольная","Obdĺžnikový","Pravokotni","Rectangular","Rektangulär","Rechteckig","Dikdörtgen","négyzet"]
["Circolare","Kruhový","圆形的","KRUŽAN","Circulaire","円形","Εγκύκλιος","Circular","Apļveida","Okrągły","Circular","Circular","Круглый","Kruhový","Krožni","Circular","Cirkulär","rund","Dairesel","kör"]
["Raggio","Poloměr","半径","RADIJUS","Rayon","半径","Ακτίνα κύκλου","Radius","Rādiuss","Promień","Ráio","Radius","Радиус","Polomer","Radij","Radio","Radius","Radius","Yarıçap","átmérő"]
["Larghezza","Šířka","宽度","ŠIRINA","Largeur","幅","Πλάτος","Width","Platums","Szerokość","Largura","Lățime","Ширина","Šírka","Širina","Anchura","Bredd","Breite","Genişlik","szélesség"]
["Lunghezza","Délka","长","DULJINA","Longueur","長さ","Μήκος","Length","Garums","Długość","Comprimento","Lungime","Длина","Dĺžka","Dolžina","Longitud","Längd","Länge","Uzunluk","hossz"]
["Superficie (mq)","Plocha (m2)","表面（平方米）","POVRŠINA M2","Surface (m²)","表面積(㎡)","Επιφάνεια (τμ)","Surface (sqm)","Virsma (kvm)","Powierzchnia (m2)","Superficíe (m2)","Suprafața (mp)","Площадь поверхности (кв. м)","Plocha (m2)","Površina (m2)","Superficie (m2)","Yta (kvm)","Fläche (qm)","Yüzey alanı (metrekare)","felület (nm)"]
["Codice per richiesta","Požadovaný kód","请求代码","KOD ZA ZAHTJEV","Code pour la demande","リクエスト用コード","Κωδικός για αίτημα","Code for request","Kods pieprasījumam","Kod na żądanie","Codigo de pedido","Cod pentru cerere","Код для запроса","Kód žiadosti","Koda za zahtevo","Código de solicitud","Kod för begäran","Kodex für Anfrage","İstek için kod","Ajánlat száma"]
["Dimensioni","Rozměry","尺寸","DIMENZIJE","Dimensions","外形寸法図","Διαστάσεις","Dimensions","Izmēri","Wymiary","Dimensões","Dimensiuni","Размеры","Rozmery","Dimenzije","Dimensiones","Mått","Abmessungen","Boyutlar","méretek"]
["Superficie Totale (mq)","Celková plocha (m2)","总面积（平方米）","TOTALNA POVRŠINA M2","Surface totale (m²)","表面積合計(㎡)","Συνολική επιφάνεια (τμ)","Total surface (sqm)","Kopējā platība (kvm)","Całkowita powierzchnia (m2)","Superficie Total (m2)","Suprafața totală (mp)","Общая площадь (кв. м)","Celková plocha (m2)","Skupna površina (m2)","Superficie total (m2)","Total yta (kvm)","Gesamtfläche (qm)","Toplam Yüzey (m²)","teljes felület (nm)"]
["Superficie Subtotale (mq)","Mezisoučet plochy (m2)","小计表面（平方米）","MEĐUZBROJ POVRŠINE M2","Surface sous-totale (m²)","表面積小計（㎡）","Μερική επιφάνεια (τμ)","Subtotal surface (sqm)","Kopējā platība (kvm)","Powierzchnia częściowa (m2)","Superficie SubTotal (m2)","Suprafața subtotală (mp)","Итоговая площадь (кв. м)","Medzisúčet plôch (m2)","Vmesna površina (m2)","Superficie subtotal (m2)","Del av ytan (kvm)","Zwischensumme Fläche (qm)","Toplam yüzey (metrekare)","részleges felület (nm)"]
["Prezzo Listino/mq","Doporučená prodejní cena/m2","标价/平方米","CIJENA U CJENIKU/M2","Prix de liste/m².","定価/㎡","Τιμή καταλόγου/τμ","List price/sqm","Mazumtirdzniecības cena/kvm","Cena katalogowa/m2","Preço de Lista/m2","Preț de listă/mp","Прейскурантная цена/кв.м","Cenníková cena/m²","Knjižna cena/kvadratni meter","Precio de lista/metro cuadrado","Listapris/kvm","Listenpreis/qm","Liste fiyatı/metrekare","listaár/nm"]
["Prezzo Netto/mq","Nákupní cena/m2","净价/平方米","NETO CIJENA/M2","Prix net/m2","税込み価格/㎡","Καθαρή τιμή/τμ","Net price/sqm","Neto cena/kvm","Cena netto/m2","Preço Liquído/m2","Preț net/mp","Чистая цена/кв.м","Čistá cena/m²","Neto cena/kvadratni meter","Precio neto/m²","Nettopris/kvm","Nettopreis/qm","Net fiyat/metrekare","kedvezményes ár/nm"]
["Costo Materiale + altre spese/mq","Cena materiálu + ostatní náklady/m2","材料成本+其他费用/平方米","TROŠAK MATERIJALA+OSTALI TROŠKOVI/M2","Coût des matériaux + autres dépenses/m².","材料費＋その他経費/㎡","Κόστος υλικού + λοιπά έξοδα/τμ","Material cost + other expenses/sqm","Materiālu izmaksas + citi izdevumi/kvm","Koszt materiałów + inne wydatki/m2","Custo Material + outras despesas/m2","Costul materialelor + alte cheltuieli/mp","Стоимость материала + прочие расходы/кв.м","Náklady na materiál + ostatné náklady/ m2","Stroški materiala + drugi stroški/kvadratni meter","Coste del material + otros gastos/m2","Materialkostnad + övriga kostnader/kvm","Materialkosten + sonstige Kosten/qm","Malzeme maliyeti + diğer giderler/metrekare","anyagköltség+egyéb költségek/nm"]
["Tipo Installazione","Typ instalace","安装类型","TIP INSTALACIJE","Type d'installation","インストールタイプ","Τύπος εγκατάστασης","Installation type","Uzstādīšanas veids","Typ instalacji","Tipo de Instalação","Tipul de instalare","Тип установки","Typ Inštalácia","Vrsta Namestitev","Tipo de instalación","Typ Installation","Einbauart","Tip Kurulum","Szerelés típusa"]
["Schema","Schéma","计划","SHEMA","Schéma","スキーム","Σχέδιο","Scheme","Shēma","Schemat","Esquema","Schema","Схема","Schéma","Shema","Esquema","Ordning","Schema","Şema","minta"]
["Listello 40x50 mm","Lať 40x50 mm","板条40x50毫米","LETVA 40X50 MM","Bande de 40x50 mm","桟40×50mm","Δοκαρι 40x50 mm","Batten 40x50 mm","Līste 40x50 mm","Listwa 40x50 mm","Sarrafo 40x50 mm","Lat 40x50 mm","Планка 40x50 мм","Lišta 40x50 mm","Lamela 40x50 mm","Listón 40x50 mm","Lath 40x50 mm","Latte 40x50 mm","Çıta 40x50 mm","cserépléc"]
["Omega \"L\" 30x30x2 mm","Omega \"L\" 30x30x2 mm","Omega“L”30x30x2毫米","Omega \"L\" 30x30x2 mm","Omega \"L\" 30x30x2 mm","オメガ \"L\" 30x30x2 mm","Omega \"L\" 30x30x2 mm","Omega \"L\" 30x30x2 mm","Omega \"L\" 30x30x2 mm","Omega \"L\" 30x30x2 mm","Omega \"L\" 30x30x2 mm","Omega 'L' 30x30x2 mm","Омега 'L' 30x30x2 мм","Omega \"L\" 30x30x2 mm","Omega 'L' 30x30x2 mm","Omega \"L\" 30x30x2 mm","Omega \"L\" 30x30x2 mm","Omega \"L\" 30x30x2 mm","Omega 'L' 30x30x2 mm","Omega \"L\" 30x30x2 mm"]
["LBB4030 40x3 mm","LBB4030 40x3 mm","LBB430 40x3毫米","LBB4030 40x3 mm","LBB4030 40x3 mm","LBB4030 40x3 mm","LBB4030 40x3 χλστ","LBB4030 40x3 mm","LBB4030 40x3 mm","LBB4030 40x3 mm","LBB4030 40x3 mm","LBB4030 40x3 mm","LBB4030 40x3 мм","LBB4030 40x3 mm","LBB4030 40x3 mm","LBB4030 40x3 mm","LBB4030 40x3 mm","LBB4030 40x3 mm","LBB4030 40x3 mm","LBB4030 40x3 mm"]
["Accessorio di Fissaggio","Upevňovací příslušenství","固定配件","PRIBOR ZA PRIČVRŠĆIVANJE","Accessoire de fixation","締結用アクセサリー","Εξάρτημα στερέωσης","Fixing accessory","Fiksācijas piederums","Akcesoria do mocowania","Acessórios de Fixação","Accesoriu de fixare","Крепежный аксессуар","Upevňovacie príslušenstvo","Oprema za pritrjevanje","Accesorio de fijación","Tillbehör för fastsättning","Zubehör für die Befestigung","Sabitleme aksesuarı","Rögzítő tartozékok"]
["PRODOTTO SU RICHIESTA","Produkt na vyžádání","按要求提供产品","PROIZVOD NA ZAHTJEV","PRODUIT SUR DEMANDE","要望への対応品","ΠΡΟΪΟΝ ΚΑΤΟΠΙΝ ΑΙΤΗΣΗΣ","PRODUCT ON REQUEST","PRECES PĒC PIEPRASĪJUMA","PRODUKT NA ZAMÓWIENIE","PRODUTO SOBRE PEDIDO ESPECIAL","PRODUS LA CERERE","ПРОДУКТ ПО ЗАПРОСУ","VÝROBOK NA POŽIADANIE","IZDELEK NA ZAHTEVO","PRODUCTO solicitado","PRODUKT PÅ BEGÄRAN","PRODUKT AUF ANFRAGE","ISTEK ÜZERINE ÜRÜN","Termék rendelésre"]
["TIPO DI SISTEMA","Typ systému","系统类型","TIP SISTEMA","TYPE DE SYSTÈME","システムタイプ","ΤΥΠΟΣ ΣΥΣΤΗΜΑΤΟΣ","SYSTEM TYPE","SISTĒMAS VEIDS","RODZAJ SYSTEMU","TIPO DE SISTEMA","TIP DE SISTEM","ТИП СИСТЕМЫ","TYP SYSTÉMU","VRSTA SISTEMA","TIPO DE SISTEMA","SYSTEM TYP","SYSTEMTYP","SİSTEM TİPİ","Rendszer fajtája"]
["Altezza Supporto","Výška podpěry","支撑高度","VISINA POTPORNJA","Hauteur du support","高さ方向のサポート","Ύψος στήριξης","Support height","Atbalsta augstums","Wysokość podparcia","Altura do suporte","Suport de înălțime","Поддержка высоты","Podpora výšky","Podpora za višino","Altura del soporte","Stöd för höjd","Höhe der Stütze","Yükseklik Desteği","Támaszték magassága"]
["Scaletta","Žebřík","梯子","LJESTVE","Échelle","梯子","Σκάλα","Ladder","Kāpnes","Drabina","Escada","Scară","Лестница","Rebrík","Lestev","Escalera","Stege","Leiter","Merdiven","létra"]
["Con ancoranti","S kotvami","用锚固点","SA SIDRIMA","Avec ancrages","アンカー付き","Με άγκυρες","With anchors","Ar enkuriem","Z kotwami","com ancorante","Cu ancore","С якорями","S kotvami","S sidrišči","Con anclajes","Med ankare","Mit Verankerungen","Ankrajlar ile","rögzítőkkel"]
["Con zavorra","Se zátěží","带压舱物","SA TERETOM","Avec ballast","バラスト付き","Με έρμα","With ballast","Ar balastu","Z balastem","com balastro","Cu balast","С балластом","So záťažou","Z balastom","Con lastre","Med ballast","Mit Auflast","Balast ile","ellensúllyal"]
["Piano + parapetti","Podlaha + zábradlí","地板+护栏","POD+TRAČNICA","Plancher + garde-corps","床＋手すり","Δάπεδο + προστατευτικό κιγκλίδωμα","Floor + guardrail","Grīda + margas","Podłoga + poręcz","pavimento + parapeito","Podele + balustrade","Пол + перила","Podlaha + zábradlie","Tla + ograje","Suelo + barandilla","Golv + räcken","Boden + Geländer","Zemin + korkuluklar","padló + korlát"]
["Utile","Užitečný","有用的","KORISTAN","Utile","便利な","Χρήσιμος","Useful","Noderīga","Użyteczne","útil","Util","Полезное","Užitočné","Uporabno","Útil","Användbar","Nützlich","Faydalı","hasznos"]
["Altezza","Výška","身高","VISINA","Hauteur","高さ","Υψος","Height","Augstums","Wysokość","Altura","Înălțime","Высота","Výška","Višina","Altura","Höjd","Höhe","Yükseklik","magasság"]
["Linea Vita Orizzontale","Horizontální lankový systém","水平生命线","HORIZONTALNA LINIJA ŽIVOTA","Ligne de vie horizontale","水平ライフライン","Οριζόντια σανίδα σωτηρίας","Horizontal lifeline","Horizontālā glābšanas līnija","Pozioma linia życia","Linha de Vida Horizontal","Linie de salvare orizontală","Горизонтальный спасательный круг","Horizontálne záchranné lano","Vodoravna rešilna vrv","Línea de vida horizontal","Horisontell livlina","Horizontale Lebenslinie","Yatay yaşam hattı","vízszintes kikötési rendszer"]
["Scalini","Kroky","台阶","STEPENICE","Étapes","階段","Σκαλιά","Steps","Soļi","Kroki","Degraus","Pași","Шаги","Kroky","Koraki","escalones","Steg","Tritte","Adımlar","lépés"]
["Compilare","Vyplnit","填补","ISPUNITI","Remplir","入力する","Να γεμιστεί","Fill in","Piepildīt","Wypełnić","Preencher","Completați","Заполнить","Vyplňte","Izpolnite","Rellenar","Fyll i","ausfüllen","Doldurun","kitölteni"]
["Materiale","Materiál","材料","MATERIJAL","Matériau","材料","Υλικό","Material","Materiāls","Materiał","Material","Material","Материал","Materiál","Material","Material","Material","Material ","Malzeme","anyag"]
["Su copertura con Shed","Na střeše přístřešku","棚顶","NA NAGNUTOM KROVU","En couverture avec Shed","片流れ屋根の上","Στη στέγη του υπόστεγου","On cover with Shed","Uz nojumes jumta","Na dachu skośnym","Sobre cobertura com Shed","Pe acoperișul șopronului","На крыше сарая","Na streche prístrešku","Na strehi nadstreška","Cubierta con shed","På taket till skjulet","für Scheddach/Trapezblechdach","Baraka çatısında","magastetőn"]
["Su copertura piana","Na ploché střeše","在平屋顶上","NA RAVNOM KROVU","Sur un toit plat","陸屋根の上","Σε επίπεδη στέγη","On flat roof","Uz plakana jumta","Na płaskim dachu","Sobre cobertura plana","Pe acoperiș plat","На плоской крыше","Na plochej streche","Na ravni strehi","Cubierta plana","På platta tak","für Flachdach","Düz çatıda","lapostetőn"]
["Su copertura con pannelli sandwich","Na střeše se sendvičovými panely","在夹芯板屋顶上","NA KROVU OD SENDVIĆ PANELA","Sur le toit avec des panneaux sandwichs","サンドイッチパネル屋根の上","Στην οροφή με πάνελ σάντουιτς","On roof with sandwich panels","Uz jumta ar sendvičpaneļiem","Na dachu z płyt warstwowych","Sobre cobertura com painel sandwich","Pe acoperiș cu panouri sandwich","На крыше с использованием сэндвич-панелей","Na streche so sendvičovými panelmi","Na strehi s sendvič ploščami","Cubierta con panel sandwich","På tak med sandwichpaneler","für Sandwichdach","Sandviç panelli çatıda","szendvicspanel tetőn"]
["Freccia/altezza Shed","Šipka /výška haly","箭头/高度棚","STRELICA/","Flèche/hauteur Hangar","矢印/高さ 片流れ屋根","Υπόστεγο βέλους/ύψους","Arrow/height Shed","Bulta/augstums Šķūnis","Strzałka/wysokość ","altura Shed","Săgeată/înălțime Șopron","Стрела/высота Сарай","Šípka/výška Prístrešok","Puščica/višina Nadstrešek","Flecha/altura shed","Pil/höjd Skjul","Pfeil/Höhe Shed","Ok/yükseklik Sundurma","Nyíl/magasság Shed"]
["Interasse Travi Y","Vzdálenost mezi nosníky Y","梁间距Y","UDALJENOST IZMEĐU GREDA Y","Distance entre les poutres Y","梁間の距離 Y","Απόσταση μεταξύ δοκών Υ","Distance between beams Y","Attālums starp sijām Y","Odległość między belkami Y","vão entre viga Y","Distanța dintre grinzi Y","Расстояние между балками Y","Vzdialenosť nosníkov Y","Razmik med nosilci Y","Intereje vigas Y","Avstånd mellan balkarna Y","Balkenabstand","Kiriş aralığı Y","Gerendák közötti távolság Y"]
["Direzione Passerella","Směr cesty","走道方向","SMJER STAZE ZA HODANJE","Direction de la passerelle","通路の方向","Κατεύθυνση πεζοδρομίου","Walkway direction","Gājiena virziens","Kierunek chodnika","Direção do Passadiço","Direcția pasarelei","Направление пешеходной дорожки","Smer chodníka","Smer sprehajalne poti","Dirección pasarela","Gångbanans riktning","Laufstegrichtung","Yürüyüş yolu yönü","Haladási irány"]
["Distanziamento da muro","Vzdálenost od zdi","离墙的距离","UDALJENOST OD ZIDA","Distance par rapport au mur","壁面からの距離","Απόσταση από τοίχο","Distance from wall","Attālums no sienas","Odległość od ściany","Distância ao muro","Distanța față de perete","Расстояние от стены","Vzdialenosť od steny","Oddaljenost od stene","separación del muro","Avstånd från väggen","Abstand zur Mauer","Duvara olan mesafe","faltól mért távolság"]
["Interasse mensole","Rozestup držáků","支架间距","UDALJENOST IZMEĐU NOSAČA","Espacement des supports","ブラケット間隔","Διάστιχο βραχίονα","Bracket spacing","Kronšteinu atstatums","Rozstaw wsporników","Distância entre Brackets","Distanța dintre suporturi","Расстояние между кронштейнами","Vzdialenosť medzi konzolami","Razmik med nosilci","Intereje mensula","Avstånd mellan konsoler","Abstand zwischen den Klammern","Braket aralığı","keret távolsága"]
["Accesso laterale","Boční vstup","侧面通道","BOČNI PRISTUP","Accès latéral","側面アクセス","Πλευρική πρόσβαση","Side access","Sānu piekļuve","Dostęp z boku","Acesso lateral","Acces lateral","Боковой доступ","Bočný prístup","Stranski dostop","Acceso lateral","Tillträde på sidan","seitlicher Zugang","Yan erişim","Oldal irányú feljutási pont"]
["Accesso frontale","Přední vstup","正面通道","PRISTUP OD NAPRIJED","Accès frontal","前面アクセス","Μπροστινή πρόσβαση","Frontal access","Frontāla piekļuve","Dostęp od przodu","Acesso frontal","Accesul frontal","Фронтальный доступ","Čelný prístup","Frontalni dostop","acceso frontal","Tillträde framifrån","vorderer Zugang","Önden erişim","Feljutási pont"]
["Parapetti Laterali","Boční zábradlí","侧栏杆","BOČNE TRAČNICE","Rampes latérales","側面パラペット","Πλαϊνά κάγκελα","Side railings","Sānu margas","Balustrady boczne","Parapeitos laterais","Balustrade laterale","Боковые ограждения","Bočné zábradlia","Stranske ograje","barandilla lateral","Sidogrindar","seitliche Geländer","Yan korkuluklar","oldalsó korlát"]
["Singolo lato","Jedna strana","单面","S JEDNE STRANE","Côté unique","片面","Μονή πλευρά","Single side","Viena puse","Pojedyncza strona","Unilateral","O singură față","Одна сторона","Jedna strana","Ena stran","lado único","Enkel sida","einseitig","Tek taraf","egyik oldal"]
["Entrambi i lati","Obě strany","双面","S OBJE STRANE","Les deux côtés","両側","Δυο πλευρες","Both sides","Abas puses","Obie strony","Bilateral","Ambele părți","Обе стороны","Obe strany","Obe strani","Ambos lados","Båda sidorna","zweiseitig","Her İki Taraf","mindkét oldal"]
["Tipo Accesso","Typ Přístup","类型访问","Vrsta pristupa","Type d'accès","タイプアクセス","Τύπος Πρόσβαση","Type of access","Tips Piekļuve","Typ Dostęp","Tipo Acesso","Tipul de acces","Тип доступа","Typ prístupu","Vrsta dostopa","Tipo de acceso","Typ av tillträde","Art des Zugangs","Erişim türü","Típus Hozzáférés"]
["Shed","Bouda","棚屋","šupa","Hangar","上屋","Υπόστεγο","Shed","Nojume","Szopa","Galpão","Șopron","Сарай","Prístrešok","Nadstrešek","Cobertizo","Skjul","Schuppen","Baraka","Shed"]
["ALTEZZA TOTALE SCALA","CELKOVÁ VÝŠKA SCHODIŠTĚ","楼梯总高度","SKALA UKUPNE VISINE","HAUTEUR TOTALE DE L'ESCALIER","階段の総高さ","ΣΥΝΟΛΙΚΌ ΎΨΟΣ ΣΚΆΛΑΣ","TOTAL LADDER HEIGHT","KOPĒJAIS KĀPŅU AUGSTUMS","CAŁKOWITA WYSOKOŚĆ SCHODÓW","ALTURA TOTAL DA ESCADA","ÎNĂLȚIMEA TOTALĂ A SCĂRII","ОБЩАЯ ВЫСОТА ЛЕСТНИЦЫ","CELKOVÁ VÝŠKA SCHODOV","SKUPNA VIŠINA STOPNIŠČA","ALTURA TOTAL DE LA ESCALERA","TOTAL HÖJD PÅ TRAPPAN","GESAMTTREPPENHÖHE","TOPLAM MERDIVEN YÜKSEKLIĞI","TELJES LÉPCSŐMAGASSÁG"]
["PENULTIMO TRATTO INTERMEDIO","PŘEDPOSLEDNÍ MEZITÍMNÍ ÚSEK","倒数第二中级部","PRETHODNI SREDNJI DIO","AVANT-DERNIÈRE SECTION INTERMÉDIAIRE","ちゅうばんせん","ΠΡΟΤΕΛΕΥΤΑΊΟ ΕΝΔΙΆΜΕΣΟ ΤΜΉΜΑ","PENULTIMATE INTERMEDIATE SECTION","PRIEKŠPĒDĒJĀ STARPPOSMA SEKCIJA","PRZEDOSTATNI ODCINEK POŚREDNI","PENÚLTIMA SECÇÃO INTERMÉDIA","PENULTIMA SECȚIUNE INTERMEDIARĂ","ПРЕДПОСЛЕДНЯЯ ПРОМЕЖУТОЧНАЯ СЕКЦИЯ","PREDPOSLEDNÁ PRIEBEŽNÁ ČASŤ","PREDZADNJI VMESNI DEL","PENÚLTIMA SECCIÓN INTERMEDIA","NÄST SISTA MELLANLIGGANDE AVSNITTET","VORLETZTER ZWISCHENABSCHNITT","SONDAN BIR ÖNCEKI ARA BÖLÜM","UTOLSÓ ELŐTTI KÖZÉPSŐ SZAKASZ"]
["SDOPPIAMENTO ","rozdělení","DEPLOYMENT","OPUSTI","Fractionnement","シェッド ","DEPLOYMENT","Splitting","SHED ","SHED ","Divisão","SHED ","SHED ","SHED ","SHED ","DEPARTAMENTO ","SHED ","ABTEILUNG ","SHED ","SHED "]
["CANCELLETTO DI SBARCO","PŘISTÁVACÍ BRÁNA","降落门","VRATA ZA SLJETANJE","PORTE D'EMBARQUEMENT","ランディングゲート","ΠΥΛΗ ΠΡΟΣΒΑΣΗΣ","LANDING GATE","IESNIEGŠANAS VĀRTI","BRAMA LĄDOWA","PORTA DE TERRA","POARTA DE ATERIZARE","ПОСАДОЧНЫЕ ВОРОТА","PRISTÁVACIA BRÁNA","VRATA ZA PRISTAJANJE","PUERTA DE ATERRIZAJE","LANDNINGSPORTER","LANDUNGSTOR","LANDİNG KAPISI","LANDING GATE"]
["FISSAGGIO SU LAMIERA","UPEVNĚNÍ NA PLECH","固定在金属板上","UČVRŠĆIVANJE NA LISTU","FIXATION SUR LA TÔLE","シートメタル固定","ΣΤΕΡΈΩΣΗ ΣΕ ΛΑΜΑΡΊΝΑ","FIXING ON SHEET METAL","STIPRINĀŠANA UZ LOKŠŅU METĀLA","MOCOWANIE NA BLASZE","FIXAÇÃO EM CHAPA METÁLICA","FIXARE PE TABLĂ","КРЕПЛЕНИЕ НА ЛИСТОВОЙ МЕТАЛЛ","UPEVNENIE NA PLECH","PRITRJEVANJE NA PLOČEVINO","FIJACIÓN EN CHAPA","FÄSTNING PÅ PLÅT","BEFESTIGUNG AUF BLECH","SAC METAL ÜZERINE SABITLEME","RÖGZÍTÉS FÉMLEMEZRE"]
["DOPPIA CHIUSURA","DVOJITÉ UZAVŘENÍ","双重闭合","DVOSTRUKO ZATVARANJE","DOUBLE FERMETURE","ダブルクロージャー","ΔΙΠΛΟ ΚΛΕΙΣΙΜΟ","DOUBLE CLOSURE","DUBULTĀ AIZVĒRŠANA","ZAMKNIĘCIE PODWÓJNE","FECHAMENTO DOUBULO","ÎNCHIDEREA DOUBLĂ","ДВОЙНОЕ ЗАКРЫТИЕ","DVOJITÉ ZATVORENIE","DVOJNO ZAPIRANJE","DOBLE CIERRE","DUBBEL STÄNGNING","DOPPELTER SCHLUSS","ÇİFT KAPALI","KETTŐS ZÁRÁS"]
["GRADINO DI USCITA","VÝCHOZÍ KROK","出口台阶","IZLAZNI KORAK","MARCHE DE SORTIE","退出ステップ","ΒΗΜΑ ΕΞΟΔΟΥ","EXIT STEP","IZEJAS PAKĀPIENS","KROK WYJŚCIOWY","PASSO DE SAÍDA","PASUL DE IEȘIRE","ВЫХОДНАЯ СТУПЕНЬКА","VÝCHODNÝ KROK","STOPNJA ZA IZHOD","ESCALÓN DE SALIDA","UTGÅNGSSTEG","AUSGANGSSTUFE","ÇIKIŞ ADIMI","EXIT LÉPÉS"]
["IMPERMEABILIZZAZIONE","VODOTĚSNÝ SYSTÉM","防水层","HIDROIZOLACIJA","IMPERMÉABILITÉ","ウォータープルーフ","ΥΔΡΟΣΤΑΣΙΑ","WATERPROOFING","ŪDENSNECAURLAIDĪGS PĀRKLĀJUMS","WODOODPORNOŚĆ","WATERPROOFING","HIDROIZOLAȚIE","ГИДРОИЗОЛЯЦИЯ","VODOHĽAD","VODOFILIRANJE","ESTANQUEIDAD","VATTENTÄTNING","WASSERABDICHTUNG","SU YALITIMI","VÍZÁLLÓSÍTÁS"]
["NUMERO DI ACCESSI","POČET PŘÍSTUPŮ","通道的数量","BROJ PRISTUPA","NOMBRE D'ACCÈS","アクセス数","ΑΡΙΘΜΌΣ ΠΡΟΣΒΆΣΕΩΝ","NUMBER OF ACCESSES","PIEKĻUVES VIETU SKAITS","LICZBA WEJŚĆ","NÚMERO DE ACESSOS","NUMĂR DE ACCESE","КОЛИЧЕСТВО ПОДЪЕЗДОВ","POČET PRÍSTUPOV","ŠTEVILO DOSTOPOV","NÚMERO DE ACCESOS","ANTAL INGÅNGAR","ANZAHL DER ZUGÄNGE","ERIŞIM SAYISI","BEJÁRATOK SZÁMA"]
["TRASPORTO E GESTIONE","DOPRAVA A SPRÁVA","运输和管理","PRIJEVOZ I MENADŽMENT","TRANSPORT ET GESTION","運輸・経営","ΜΕΤΑΦΟΡΆ ΚΑΙ ΔΙΑΧΕΊΡΙΣΗ","TRANSPORT AND MANAGEMENT","TRANSPORTĒŠANA UN PĀRVALDĪBA","TRANSPORT I ZARZĄDZANIE","TRANSPORTE E GESTÃO","TRANSPORT ȘI GESTIONARE","ТРАНСПОРТИРОВКА И УПРАВЛЕНИЕ","PREPRAVA A RIADENIE","PREVOZ IN UPRAVLJANJE","TRANSPORTE Y GESTIÓN","TRANSPORT OCH FÖRVALTNING","TRANSPORT UND VERWALTUNG","NAKLİYE VE YÖNETİM","SZÁLLÍTÁS ÉS KEZELÉS"]
["NASCONDI/SCOPRI CODICI","SKRÝT/ODKRÝT KÓDY"," 隐藏/不隐藏代码","SAKRIJ/OTKRIVAJ KODOVE","CACHER/DÉMASQUER LES CODES","コードの非表示／非表示を切り替える","ΑΠΌΚΡΥΨΗ/ΑΠΌΚΡΥΨΗ ΚΩΔΙΚΏΝ","HIDE/UNHIDE CODES","PASLĒPT/NOSLĒPT KODUS","UKRYJ/USUŃ KODY","OCULTAR/NÃO OCULTAR CÓDIGOS","ASCUNDE/DEZVĂLUIE CODURILE","СКРЫТЬ/ОТКРЫТЬ КОДЫ","SKRÝVANIE/ODKRÝVANIE KÓDOV","SKRIVANJE/ODKRIVANJE KOD","OCULTAR/DESOCULTAR CÓDIGOS","DÖLJA/AVLÄGSNA KODER","CODES AUSBLENDEN/EINBLENDEN","KODLARI GIZLE/GÖSTER","KÓDOK ELREJTÉSE/ELREJTÉSÉNEK MEGSZÜNTETÉSE"]
["Fine","Konec","结束","Kraj","Fin","終了","Τέλος","End","Beidzas","Koniec","Fim","Sfârșitul","Конец","Koniec","Konec","Fin","Slut","Ende","Bitiş","Vége"]
["Loop","Smyčka","循环","Petlja","Boucle","ループ","Βρόχος","Loop","Cilpa","Pętla","Loop","Bucla","Петля","Slučka","Zanka","Bucle","Slinga","Schleife","Döngü","Hurok"]
["Angolo","Úhel","角度","Kut","Angle","アングル","Γωνία","Angle","Leņķis","Kąt","Ângulo","Unghiul","Угол","Uhol","Kot","Ángulo","Vinkel","Winkel","Açı","Szög"]
["Coordinate","Souřadnice","坐标","Koordinate","Coordonnées","コーディネート","Συντεταγμένες","Coordinates","Koordinātas","Współrzędne","Coordenadas","Coordonate","Координаты","Súradnice","Koordinate","Coordenadas","Koordinater","Koordinaten","Koordinatlar","Koordináták"]
["Posizione Supporto #","Poloha Podpěra #","位置支持 #","Podrška za poziciju #","Position Support #","ポジションサポート #","Θέση Υποστήριξη #","Position Support #","Atrašanās vietas atbalsts #","Pozycja Wsparcie #","Posição de Apoio #","Poziția suportului #","Опора позиции #","Pozícia Podpora #","Položaj Podpora #","Posición Soporte #","Position Stöd #","Position Unterstützung #","Pozisyon Desteği #","Pozíció Támogatási #"]
["Partenza","Start","开始","Početak","Début","スタート","Έναρξη","Start","Sākums","Początek","Início","Start","Начало","Začiatok","Začetek","Inicio","Start","Start","Başlangıç","Start"]
["Partenza Condivisa","Sdílený začátek","共享的起点","Zajednički početak","Début partagé","シェアードスタート","Κοινή αρχή","Shared Start","Koplietošanas sākums","Wspólny początek","Início Partilhado","Shared Start","Общий старт","Spoločný začiatok","Skupni začetek","Inicio compartido","Delad start","Gemeinsamer Start","Paylaşımlı Başlangıç","Megosztott Start"]
["Da Supporto #","Od podpory #","从支座#开始","Od podrške #","Du support #","フロムサポート #","Από την Υποστήριξη #","From Support #","No atbalsta #","Od podpory #","Do Suporte #","De la Suport #","От опоры #","Od podpory #","Od podpore #","Desde apoyo #","Från stöd #","Von Auflager #","Destek'ten #","Támogatótól #"]
["A Supporto #","Do podpory #","至支撑点 #","Podržati #","Vers le support #","をサポートする。","Προς Υποστήριξη #","To Support #","Uz atbalstu #","Do Wspornika #","Para Apoiar #","Spre Suport #","К опоре #","Do podpory #","Do podpore #","Al soporte #","Till stöd #","Bis Stützpunkt #","Desteklemek için #","To Support #"]
["Direzione","Směr","方向","Smjer","Direction","ディレクション","Κατεύθυνση","Direction","Virziens","Kierunek","Sentido","Direcția","Направление","Smer","Smer","Dirección","Riktning","Richtung","Yön","Irány"]
["Lunghezza","Délka","长度","Duljina","Longueur","長さ","Μήκος","Lenght","Garums","Długość","Comprimento","Lungime","Длина","Dĺžka","Dolžina","Longitud","Längd","Länge","Uzunluk","Hosszúság"]
["Angolo°","Úhel°","角度","Kut°","Angle","角度","Γωνία°","Angle°","Leņķis°","Kąt°","Ângulo°","Unghiul","Угол°","Uhol°","Kot°","Ángulo","Vinkel°","Winkel°","Açı°","Szög°"]
["Lunghezza misurata","Naměřená délka","测量的长度","Izmjerena duljina","Longueur mesurée","測定された長さ","Μετρούμενο μήκος","Measured length","Izmērītais garums","Zmierzona długość","Comprimento medido","Lungime măsurată","Измеренная длина","Nameraná dĺžka","Izmerjena dolžina","Longitud medida","Uppmätt längd","Gemessene Länge","Ölçülen uzunluk","Mért hossz"]
["Partenza dall'ultimo","Začátek od posledního","从最后一个开始","Kreni od zadnjeg","Commencer par le dernier","最後からのスタート","Έναρξη από το τελευταίο","Start from Last","Sākums no pēdējā","Zacznij od ostatniego","Comece de Last","Începe de la ultimul","Начните с последней","Začiatok od posledného","Začetek od zadnjega","Empezar por el último","Börja från sista","Start von der letzten","Sondan Başla","Kezdet az utolsótól"]
["Attenzione al numero montanti","Věnujte pozornost počtu sloupků","注意立柱的数量","Obratite pozornost na broj stupova","Attention au nombre de montants","アップライトの本数に注目","Δώστε προσοχή στον αριθμό των ορθοστατών","Pay attention to the number of uprights","Pievērsiet uzmanību statņu skaitam","Zwróć uwagę na liczbę słupków","Preste atenção ao número de montantes","Fiți atenți la numărul de montanți","Обратите внимание на количество стоек","Venujte pozornosť počtu stĺpikov","Bodite pozorni na število stebričkov","Preste atención al número de montantes","Var uppmärksam på antalet stolpar","Achten Sie auf die Anzahl der Pfosten","Dikme sayısına dikkat edin","Figyeljen a függőleges oszlopok számára"]
["ZINCATO A CALDO","HORKÝ GALVANIZOVANÝ","热镀锌","TOPLO POCINČANO","GALVANISÉ CHAUD","ホットガルバニーズ","ΖΕΣΤΟΣ ΓΑΛΑΖΟΠΟΙΗΜΕΝΟΣ","HOT GALVANIZED","KARSTI GALVANIZĒTS","GALWANIZACJA GORĄCA","HOT GALVANIZADO","GALVANIZAT LA CALD","ГОРЯЧИЙ ГАЛЬВАНИЗИРОВАННЫЙ","HORÚCE GALVANIZOVANÉ","VROČA GALVANIZIRANA","GALVANIZADO EN CALIENTE","HOT GALVANIZED","HOT GALVANIZED","SICAK GALVANİZLİ","MELEG GALVANIZÁLT"]
["Arrivo e Ripartenza","Příjezd a opětovný start","到达和重启","Dolazak i ponovno pokretanje","Arrivée et redémarrage","到着と再スタート","Άφιξη και επανεκκίνηση","Arrival and Restart","Ierašanās un atkārtota iedarbināšana","Przyjazd i ponowny start","Chegada e reinício","Sosire și repornire","Прибытие и перезапуск","Príchod a opätovný štart","Prihod in ponovni zagon","Llegada y Reinicio","Ankomst och omstart","Ankunft und Neustart","Varış ve Yeniden Başlatma","Érkezés és újraindítás"]
["Esporta E-Service/Margin","Export E-Service/Margin","出口电子服务/利润率","Izvoz E-usluga/Marža","Exportation E-Service/Marge","輸出 電子サービス/マージン","Εξαγωγή E-Service/Περιθώριο","Export E-Service/Margin","Eksportēt e-pakalpojumu/maržu","Eksport E-Service/Marża","Exportar E-Service/Margin","Exportați E-Service/Margin","Экспорт E-Service/Margin","Export E-Service/Margin","Izvoz E-storitev/Marža","Exportación E-Service/Margen","Export E-Service/Margin","Export E-Service/Margin","İhracat E-Hizmet/Marjin","E-Service/Margin exportálása"]
["Terminali","Terminály","终端机","Terminali","Terminaux","端子類","Τερματικοί σταθμοί","Terminals","Termināli","Terminale","Terminais","Terminale","Терминалы","Terminály","Terminali","Terminales","Terminaler","Terminals","Terminaller","Terminálok"]
["Tutti i supporti","Všechny podpěry","所有的支架","Sve potpore","Tous les supports","すべてのサポート","Όλα τα στηρίγματα","All the supports","Visi balsti","Wszystkie podpory","Todos os apoios","Toate suporturile","Все опоры","Všetky podpery","Vsi nosilci","Todos los soportes","Alla stöd","Alle Stützen","Tüm destekler","Minden támasz"]
["n. supporti","č. Podporuje","没有。支架","Ne. Podržava","non. Supports","No. サポート内容","no. Υποστηρίζει","no. Supports","Nr. Atbalsta","nie. Podpory","não. Apoia","nu. Suporturi","нет. Опоры","č. Podporuje","ne. Podpira","no. Soportes","nr. Stöd","Nein. Stützen","Hayır. Destekler","nem. Támogatások"]
["Materiale Navetta","MATERIÁL RAKETOPLÁNU","梭子材料","MATERIJAL ZA SHUTTLE","MATÉRIEL DE LA NAVETTE","シャトル材","ΥΛΙΚΌ ΜΕΤΑΦΟΡΆΣ","SHUTTLE MATERIAL","TRANSPORTLĪDZEKLIS MATERIĀLS","MATERIAŁ CZÓŁENKOWY","MATERIAL DO VAIVÉM","MATERIAL DE NAVETĂ","ЧЕЛНОЧНЫЙ МАТЕРИАЛ","MATERIÁL ČLNA","MATERIAL ZA SHUTTLE","MATERIAL DE LANZADERA","MATERIAL FÖR SKYTTEL","SHUTTLE-MATERIAL","MEKIK MALZEMESI","INGAJÁRAT ANYAGA"]
["Copia Sconto","Kopírování Sleva","复制折扣","Kopiraj popust","Copie Remise","コピー割引","Αντίγραφο Έκπτωση","Copy Discount","Kopēt Atlaide","Kopia Rabat","Desconto por cópia","Reducere de copie","Копия Скидка","Zľava na kopírovanie","Kopiranje Popust","Copia Descuento","Kopiera rabatt","Kopieren Rabatt","Kopya İndirimi","Másolás Kedvezmény"]
["SISTEMA NON COMPLETO DEI TERMINALI","SYSTÉM NENÍ KOMPLETNÍ Z KONCŮ","系统不完整的两端","SUSTAV NIJE POTPUAN KRAJEVIMA","SYSTÈME NON COMPLET D'EXTRÉMITÉS","はんぱない","ΣΎΣΤΗΜΑ ΔΕΝ ΕΊΝΑΙ ΠΛΉΡΕΣ ΤΩΝ ΆΚΡΩΝ","SYSTEM NOT COMPLETE OF ENDS","SISTĒMA NAV PABEIGTA GALU","SYSTEM NIEKOMPLETNY KOŃCÓWKI","SISTEMA NÃO COMPLETO DE FINS","SISTEMUL NU ESTE COMPLET DE CAPETE","СИСТЕМА НЕ ЗАВЕРШЕНА КОНЦЫ","SYSTÉM NIE JE KOMPLETNÝ KONCOV","SISTEM NI POPOLN OD KONCEV","SISTEMA NO COMPLETO DE EXTREMOS","SYSTEMET ÄR INTE KOMPLETT AV ÄNDAR","SYSTEM NICHT VOLLSTÄNDIG VON ENDEN","SISTEM UÇLARI TAMAMLANMAMIŞ","RENDSZER NEM TELJES A VÉGEK"]
["X-LAM","CLT","CLT","CLT","CLT","シーエルティー","CLT","CLT","CLT","CLT","CLT","CLT","CLT","CLT","CLT","CLT","CLT","CLT","CLT","CLT"]
["CEMENTO ALVEOLARE","HOLLOW CORE","镂空芯材","ŠUPLJA JEZGRA","NOYAU CREUX","ホローコア","ΠΥΡΉΝΑΣ HOLLOW","HOLLOW CORE","HOLLOW CORE","RDZEŃ PŁASKI","HOLLOW CORE","HOLLOW CORE","ПУСТОТЕЛОЕ ЯДРО","HOLLOW CORE","HOLLOW CORE","NÚCLEO HUECO","HOLLOW CORE","HOLLOW CORE","HOLLOW CORE","HEGYES MAG"]
["LAMIERA TRAPEZOIDALE","TRAPÉZOVÝ PLECH","梯形板","TRAPEZOIDNI LIM","TÔLE TRAPÉZOÏDALE","台形シート","ΤΡΑΠΕΖΟΕΙΔΈΣ ΦΎΛΛΟ","TRAPEZOIDAL SHEET","TRAPECVEIDA LOKSNE","BLACHA TRAPEZOWA","FOLHA TRAPEZOIDAL","TABLĂ TRAPEZOIDALĂ","ТРАПЕЦИЕВИДНЫЙ ЛИСТ","TRAPÉZOVÝ PLECH","TRAPEZOIDNA PLOČEVINA","CHAPA TRAPEZOIDAL","TRAPEZOIDFORMAD PLÅT","TRAPEZFÖRMIGES BLECH","TRAPEZ SAC","TRAPÉZLEMEZ"]
["Spessori Minimi","Minimální tloušťky","最小厚度","Minimalne debljine","Epaisseurs minimales","最小厚み","Ελάχιστα πάχη","Minimum thicknesses","Minimālie biezumi","Minimalne grubości","Espessuras mínimas","Grosimi minime","Минимальные толщины","Minimálne hrúbky","Najmanjše debeline","Espesores mínimos","Minsta tjocklek","Mindeststärken","Minimum kalınlıklar","Minimális vastagságok"]
["METODO DI LAVORO","ZPŮSOB PRÁCE","工作方法","NAČIN RADA","MÉTHODE DE TRAVAIL","作業方法","ΜΕΘΟΔΟΣ ΕΡΓΑΣΙΑΣ","WORKING METHOD","DARBA METODE","METODA PRACY","MÉTODO DE TRABALHO","METODA DE LUCRU","МЕТОД РАБОТЫ","METÓDA PRÁCE","DELOVNA METODA","MÉTODO DE TRABAJO","ARBETSMETOD","ARBEITSWEISE","ÇALIŞMA YÖNTEMİ","MUNKAMÓD"]
["SOSPENSIONE ","PODPORA","悬吊","SUSPENZIJA","SUSPENSION","SUSPENSION","ΑΝΤΙΣΤΑΣΗ","SUSPENSION","PIEDZĪVES","PODSUMOWANIE","SUSPENSÃO","SUSPENSIE","УСПОКОЕНИЕ","PODPORA","IZVAJANJE","SUSPENSIÓN","FÄSTNING","SUSPENSION","SÜSPANSİYON","TÁMOGATÁS"]
["ANTICADUTA","ZACHYCENÍ PÁDU","防坠落装置","JESEN HAPŠENJE","ARRET DE CHUTE","FALL ARREST","ΠΤΩΣΗ ΑΡΙΣΤΕΡΑ","FALL ARREST","PĀRKRITUMA ATTURĒŠANA","ZATRZYMANIE PRZY UPADKU","ARRESTE DE CIMA","ARESTAREA CĂDERII","ЗАДЕРЖАНИЕ ПРИ ПАДЕНИИ","ZACHYTENIE PÁDU","ZAJEMANJE PRI PADAVANJU","DETENCIÓN DE CAÍDAS","FALLANSIKTER","FALLSICHERUNG","SONBAHAR TUTUKLAMASI","ZUHANÁS FELSZERELÉS"]
["TRATTENUTA","ZACHYCENÍ","救援","SUZDRŽAVANJE","RESTRAINT","RESTRAINT","ΑΣΦΑΛΙΣΗ","RESTRAINT","RESTRAINT","RESTRAINT","RESTRAINT","RESTRICȚIE","УДЕРЖАНИЕ","ZABEZPEČENIE","OHRANITEV","RESTRICCIÓN","RESTRAINT","RESTRAINT","RESTRAINT","FELSZABADÍTÁS"]
["Esterno","Vnější","外部","Vanjski","Externe","外部","Εξωτερικό","External","Ārējais","Zewnętrzna","Exterior","Extern","Внешний","Vonkajšie","Zunanji","Exterior","Extern","Außen","Harici","Külső"]
["Interno","Interní","内部","Interni","Interne","内部","Εσωτερική","Internal","Iekšējais","Wewnętrzne","Interno","Internă","Внутренняя","Interné","Notranji","Interno","Internt","Intern","Dahili","Belső"]
["DOPPIA APERTURA","DVOJITÉ OTEVŘENÍ","双开门","DVOSTRUKO OTVARANJE","DOUBLE OUVERTURE","ダブルオープニング","ΔΙΠΛΟ ΑΝΟΙΓΜΑ","DOUBLE OPENING","DUBULTĀ ATVĒRŠANA","PODWÓJNE OTWIERANIE","ABERTURA DOUBLE","DESCHIDERE DOUBLĂ","ДВОЙНОЕ ОТКРЫТИЕ","DVOJITÉ OTVORENIE","DVOJNO ODPRTJE","DOBLE APERTURA","DUBBLA ÖPPNINGAR","DOPPELTE ÖFFNUNG","ÇİFT AÇILIŞ","KETTŐS NYÍLÁS"]
["Posizione Etichetta","Označení polohy","位置标签","Oznaka položaja","Étiquette de position","ポジションラベル","Ετικέτα θέσης","Position Label","Pozīcijas marķējums","Etykieta pozycji","Etiqueta de posição","Eticheta poziției","Позиционная этикетка","Označenie polohy","Oznaka položaja","Posición etiqueta","Placering av etikett","Position Etikett","Pozisyon Etiketi","Pozíció címke"]
["Angolo Etichetta","Úhlový štítek","角度标签","Oznaka kuta","Etiquette d'angle","アングルラベル","Ετικέτα γωνίας","Angle Label","Leņķa etiķete","Etykieta kątowa","Etiqueta angular","Etichetă unghiulară","Угловая этикетка","Uhlový štítok","Oznaka kota","Etiqueta de ángulo","Etikett för vinkel","Winkel-Etikett","Açı Etiketi","Szögcímke"]
["CANCELLA DISEGNO","ODSTRANIT KRESBU","删除绘图","JASAN DIZAJN","SUPPRIMER LE DESSIN","ドローイングを削除する","ΔΙΑΓΡΑΦΗ ΣΧΕΔΙΑΣΜΟΥ","DELETE DRAWING","IZDZĒST ZĪMĒJUMU","USUŃ RYSUNEK","APAGAR DESENHO","ȘTERGEȚI DESENUL","УДАЛИТЬ ЧЕРТЕЖ","VYMAZAŤ KRESBU","IZBRISATI RISBO","SUPRIMIR DIBUJO","RADERA RITNINGEN","ZEICHNUNG LÖSCHEN","ÇİZİMİ SİL","DRAWING TÖRLÉSE"]
["Posizione Etichette","Polohové štítky","位置标签","Oznake položaja","Positionner les étiquettes","ポジションラベル","Τοποθέτηση ετικετών","Labels Position","Pozīcijas etiķetes","Pozycjonowanie Etykiety","Posição das etiquetas","Poziția etichetelor","Положение меток","Umiestnenie štítkov","Položaj nalepk","Posición etiquetas","Placering av etiketter","Aufkleber Position","Pozisyon Etiketler","Címkék pozíció"]
["fissaggi non inclusi","Oprava není zahrnuta","不包括修复","Popravljanje nije uključeno","Fixation non incluse","含まれていない修正","Ο καθορισμός δεν περιλαμβάνεται","Fixing not included","Taisymas neįskaičiuotas","Naprawianie nie jest uwzględnione","Fixação não incluída","Fixarea nu este inclusă","Исправление не включено","Oprava nie je zahrnutá","Popravljanje ni vključeno","Arreglando no incluido","Fixering ingår inte","Reparieren nicht enthalten","Düzeltme Dahil Değil","A javítás nem tartalmazza"]
["vite","životy","生命","život","vies","生活","ζει","lives","gyvena","zyje","vidas","vieți","жизни","životy","živi","vidas","liv","Leben","hayatları","élet"]
["bullone","šroub","螺栓","vijak","boulon","ボルト","μπουλόνι","bolt","varžtas","śruba","parafuso","șurub","болт","skrutka","vijak","tornillo","bult","Bolzen","cıvata","csavar"]
["Stampa","lis","按","Preša","Presse","プレス","Τύπος","Press","Paspauskite","Naciskać","Imprensa","presa","Нажимать","Stlačenie","Press","Prensa","Tryck","Drücken Sie","Basmak","nyomja meg"]
["Relazione Tecnica","Technická zpráva","技术报告","Tehnička Prijava","Rapport technique","テクニカルレポート","Τεχνική αναφορά","Technical report","Techninė ataskaita","Raport techniczny","Relatório técnico","Raportul tehnic","Технический отчет","Technickú správu","Tehnično poročilo","Reporte técnico","Teknisk rapport","Technischer Bericht","Teknik rapor","Technikai jelentés"]
["Navetta preinstallata necessaria","Nezbytný předem nainstalovaný raketoplán","必要的预装班车","Potreban unaprijed instaliran šatl","Navette pré-installer nécessaire","必要な事前にインストールされたシャトル","Απαραίτητο προ -εγκατεστημένο λεωφορείο","Necessary pre -installed shuttle","Būtinas iš anksto įdiegtas šaudyklė","Niezbędny promowany wahadłowca","Necessidade de transporte pré -instalado","Navetă necesară pre -instalată","Необходимый предварительно установленный трансфер","Nevyhnutný vopred -inštalovaný raketoplán","Potreben vnaprej nameščen shuttle","Transbordador pre -insstalado necesario","Nödvändig förinstallerad skyttel","Notwendig vor -installiertes Shuttle","Önceden yüklenmiş servis gerekli","A szükséges előre telepített shuttle"]
["DOPPIO TERMINALE","Dvojitý terminál","双端子","Dvostruki terminal","Double terminal","ダブル端末","Διπλός τερματικός","Double terminal","Dvigubas terminalas","Podwójny terminal","Terminal duplo","Terminal dublu","Двойной терминал","Dvojitý terminál","Dvojni terminal","Doble terminal","Dubbelterminal","Doppelterminal","Çift terminal","Kettős csatlakozó"]
["N. Intermedi","N. Intermediate","N.中级","N. Srednji","N. intermédiaire","N.中間","Ν. Ενδιάμεσο","N. Intermediate","N. Tarpinis","N. pośredni","N. intermediário","N. Intermediar","N. Промежуточный","N. stredne pokročilý","N. vmesni","N. Intermedio","N. mellanliggande","N. Intermediate","N. ara","N. közbenső termék"]
["Grasso da aggiungere","Namazání k přidání","油脂要添加","Masti za dodati","Graisse à ajouter","追加するグリース","Γράσο για προσθήκη","Grease to add","Tepalas pridėti","Smar do dodania","Grease para adicionar","Grease pentru a adăuga","Смазка, чтобы добавить","Mazivo pridať","Maščoba za dodajanje","Grasa para agregar","Smörj att lägga till","Fett zu hinzufügen","Eklemek için gres","Zsír hozzáadni"]
["Lunghezza Parziale","Částečná délka","部分长度","Djelomična duljina","Longueur partielle","部分的な長さ","Μερικό μήκος","Partial Length","Dalinio ilgio","Częściowa długość","Comprimento parcial","Lungime parțială","Частичная длина","Čiastočná dĺžka","Delna dolžina","Longitud parcial","Partiell längd","Teillänge","Kısmi uzunluk","Részleges hosszúság"]
["Interasse fisso","Pevné rozpětí","固定跨度","Fiksni raspon","Étendue fixe","固定スパン","Σταθερό εύρος","Fixed Span","Fiksuotas tarpas","Ustalone rozpiętość","Extensão fixo","Interval fix","Фиксированный пролет","Pevné rozpätie","Fiksni razpon","Tramo fijo","Fasta spännvidd","Feste Spanne","Sabit açıklık","Rögzített tartomány"]
["Alternativo","Alternativní","选择","Alternativa","Alternative","代替","Εναλλακτική λύση","Alternative","Alternatyva","Alternatywny","Alternativa","Alternativă","Альтернатива","Alternatíva","Alternativa","Alternativa","Alternativ","Alternative","Alternatif","Alternatív"]
["Offerta","Nabídka","提供","Ponuda","Offre","オファー","Προσφορά","Offer","Pasiūlymas","Oferta","Oferecer","Oferi","Предложение","Ponúknuť","Ponudba","Oferta","Erbjudande","Angebot","Teklif","Ajánlat"]
["Totale Offerta","Celková nabídka","总报价","Totalna ponuda","Offre totale","合計オファー","Συνολική προσφορά","Total offer","Bendras pasiūlymas","Całkowita oferta","Oferta total","Ofertă totală","Полное предложение","Celková ponuka","Skupna ponudba","Oferta total","Totalt erbjudande","Totales Angebot","Toplam Teklif","Teljes ajánlat"]
["Altezza Cuciture","Výška švu","接缝高度","Visina šava","Hauteur de couture","縫い目の高さ","Ύψος ραφών","Seam height","Siūlės aukštis","Wysokość szwu","Altura da costura","Înălțimea cusăturii","Высота шва","Výška švu","Višina šiva","Altura de la costura","Sömhöjden","Nahthöhe","Dikiş yüksekliği","Varrásmagasság"]
["Assorbitore","Absorbér","吸收器","Apsorber","Absorbeur","アブソーバー","Απορροφητήρας","Absorber","Absorberis","Absorber","Absorvedor","Absorbant","Поглотитель","Absorbér","Absorber","Amortiguador","Absorbator","Absorber","Emici","Elnyelő"]
["Tensionatore","Napínač","张紧器","Zatezač","Tendeur","テンショナー","Εντατικός","Tensioner","Įtempėjas","Napinacz","Tensionador","Tensionant","Натяник","Napínač","Napenjalec","Tensor","Spännande","Spanner","Gerginlik","Feszítő"]
["Intermedio Forzato","Nucené meziprodukt","强迫中间","Prisilni intermedijar","Intermédiaire forcé","強制中間","Αναγκασμένος ενδιάμεσος","Forced intermediate","Priverstinis tarpinis","Wymuszone pośrednie","Intermediário forçado","Intermediar forțat","Принудительный промежуточный","Nútený stredne pokročilý","Prisilni vmesni","Intermedio forzado","Tvångsmellanprodukt","Erzwungenes Zwischenprodukt","Zorla ara","Kényszerített közbenső"]
["Fine Condivisa","Sdílený konec","共享结局","Zajednički kraj","Fin partagée","共有終了","Κοινό τέλος","Shared end","Bendra pabaiga","Udostępniony koniec","End compartilhado","End partajat","Общий конец","Zdieľaný koniec","Skupni konec","Fin compartido","Delad slut","Gemeinsames Ende","Paylaşılan Son","Közös vég"]
["Partenza // dalla facciata","Start // na fasádu","开始//到立面","Početak // do fasade","Démarrer // à la façade","//正面に開始します","Έναρξη // στην πρόσοψη","Start // to the facade","Pradėti // į fasadą","Rozpocznij // do fasady","Start // para a fachada","Începe // la fațadă","Начать // к фасаду","Začnite // do fasády","Start // na fasado","Inicio // a la fachada","Starta // till fasaden","Starten Sie // zur Fassade","Başlangıç ​​// cepheye","Kezdje // a homlokzathoz"]
["Partenza ⊥ alla facciata","Začněte ⊥ na fasádu","开始⊥到立面","Počnite ⊥ do fasade","Commencez ⊥ à la façade","ファサードまで⊥を開始します","Ξεκινήστε ⊥ στην πρόσοψη","Start ⊥ to the facade","Pradėkite ⊥ į fasadą","Rozpocznij ⊥ fasada","Comece ⊥ para a fachada","Începeți ⊥ la fațadă","Начните ⊥ до фасада","Začnite ⊥ do fasády","Začnite ⊥ na fasado","Comience ⊥ a la fachada","Börja ⊥ till fasaden","Beginnen Sie ⊥ zur Fassade","Cepheye başlayın","Kezdje ⊥ a homlokzathoz"]
["Intermedio","středně pokročilí","中间的","Srednji","Intermédiaire","中級","Ενδιάμεσος","Intermediate","Tarpinis","Mediator","Intermediário","Intermediar","Средний","Stredne pokročilý","Vmesni","Intermedio","Mellanliggande","Dazwischenliegend","Orta seviye","Közbülső"]
["Terminale","Terminál","终端","Terminal","Terminal","ターミナル","Τερματικό","Terminal","Terminalas","Terminal","terminal","Terminal","Терминал","Terminál","Terminal","Terminal","Terminal","Terminal","terminal","Terminál"]
["Fine // alla facciata","Konec // na fasádu","结束//到立面","Kraj // do fasade","Fin // à la façade","終了//正面に","Τέλος // στην πρόσοψη","End // to the facade","Pabaiga // į fasadą","Koniec // do fasady","Fim // para a fachada","În sfârșit // la fațadă","Конец // к фасаду","Koniec // do fasády","Konec // na fasado","Final // a la fachada","Slut // till fasaden","Ende // zur Fassade","Bead // cepheye","Vége // a homlokzathoz"]
["Fine ⊥ alla facciata","Konec ⊥ na fasádu","结束⊥","Kraj ⊥ na fasadu","Fin ⊥ à la façade","ファサードに終了します","Τέλος ⊥ στην πρόσοψη","End ⊥ to the facade","Pabaiga ⊥ į fasadą","Zakończ ⊥ do fasady","Fim ⊥ para a fachada","Sfârșit ⊥ la fațadă","Конец ⊥ к фасаду","Koniec ⊥ do fasády","Konec ⊥ na fasado","Finalizar ⊥ a la fachada","Slut ⊥ till fasaden","Ende ⊥ zur Fassade","Cephe ile bitiş","Vége ⊥ a homlokzatnak"]
["Opzioni Extra","Další možnosti","额外的选择","Dodatne opcije","Des options supplémentaires","追加オプション","Επιπλέον επιλογές","Extra options","Papildomos galimybės","Dodatkowe opcje","Opções extras","Opțiuni suplimentare","Дополнительные опции","Ďalšie možnosti","Dodatne možnosti","Opciones adicionales","Extra alternativ","Zusätzliche Optionen","Ekstra Seçenekler","Extra lehetőségek"]
["Indirizzo","Adresa","地址","Adresa","Adresse","住所","Διεύθυνση","Address","Adresas","Adres","Endereço","Abordare","Адрес","Osloviť","Nagovor","DIRECCIÓN","Adress","Adresse","Adres","Cím"]
["Cantiere edile","Staveniště","工地","Gradilište","Chantier de construction","建設現場","Εργοτάξιο","Construction site","Statybvietė","Budowa","Local de construção","Santier","Строительная площадка","Stavenisko","Gradbišče","Sitio de construcción","Byggarbetsplats","Baustelle","İnşaat sahası","Építési terület"]
["Dispositivo di Protezione Individuale","Osobní ochranné prostředky","个人保护设备","Osobna zaštitna oprema","Équipement de protection individuelle","個人用保護具","Τα μέσα ατομικής προστασίας","Personal protective equipment","Asmeninės apsaugos priemonės","Sprzęt ochrony osobistej","Equipamento de proteção pessoal","Echipament individual de protecție","Личное защитное оборудование","Osobné ochranné prostriedky","Osebna varovalna oprema","Equipo de protección personal","Personlig skyddsutrustning","Persönliche Schutzausrüstung","Kişisel koruyucu ekipman","Egyéni védőeszközök"]
["Modulo richiesta offerta","Formulář žádosti o nabídku","提供请求表","Obrazac zahtjeva za ponudu","Formulaire de demande d'offre","リクエストフォームを提供します","Φόρμα αιτήματος προσφοράς","Offer request form","Pasiūlymo užklausos forma","Formularz żądania oferty","Formulário de solicitação de oferta","Formular de cerere de ofertă","Форма запроса предложения","Formulár žiadosti o ponuku","Obrazec za ponudbo","Formulario de solicitud de oferta","Erbjudningsformulär","Anfragenformular anbieten","Teklif Talep Formu","Ajánlatkérési űrlap"]
["Data consegna offerta","Nabídnout datum dodání","提供交货日期","Datum isporuke ponude","Date de livraison d'offre","配達日を提供します","Ημερομηνία παράδοσης προσφοράς","Offer delivery date","Siūlykite pristatymo datą","Data dostawy oferty","Oferecer data de entrega","Oferta data livrării","Предлагайте дату доставки","Dátum dodania ponuky","Ponudba datuma dostave","Oferta Fecha de entrega","Erbjud leveransdatum","Lieferdatum anbieten","Teklif Teslim Tarihi","Kínáljon kézbesítési dátumot"]
["Alluminio","Hliník","铝","Aluminij","Aluminium","アルミニウム","Αλουμίνιο","Aluminum","Aliuminis","Aluminium","Alumínio","Aluminiu","Алюминий","Hliník","Aluminij","Aluminio","Aluminium","Aluminium","Alüminyum","Alumínium"]
["Alluminio Anodizzato","Eloxovaný hliník","阳极氧化铝","Anodizirani aluminij","Aluminium anodisé","陽極酸化アルミニウム","Ανοδιωμένο αλουμίνιο","Anodized aluminum","Anoduotas aliuminis","Anodyzowane aluminium","Alumínio anodizado","Aluminiu anodizat","Анодированный алюминий","Eloxovaný hliník","Anodizirani aluminij","Aluminio anodizado","Anodiserad aluminium","Eloxiertes Aluminium","Eloksal alüminyum","Eloxált alumínium"]
["Alluminio Verniciato","Malovaný hliník","油漆的铝","Oslikani aluminij","Aluminium peint","塗装アルミニウム","Ζωγραφισμένο αλουμίνιο","Painted aluminum","Dažytas aliuminis","Malowane aluminium","Alumínio pintado","Aluminiu pictat","Окрашенный алюминий","Maľovaný hliník","Pobarvan aluminij","Aluminio pintado","Målad aluminium","Aluminium bemalt","Boyalı alüminyum","Festett alumínium"]
["Colore (RAL)","Barva (ral)","颜色（ral）","Boja (ral)","Couleur (RAL)","色（RAL）","Χρώμα (ral)","Color (RAL)","Spalva (RAL)","Kolor (RAL)","Cor (ral)","Culoare (RAL)","Цвет (ral)","Farba (RAL)","Barva (ral)","Color (Ral)","Färg (ral)","Farbe (RAL)","Renk (RAL)","Szín (RAL)"]
["Aggiorna numero offerta","Aktualizovat číslo nabídky","更新要约号码","Ažurirajte broj ponude","Mettre à jour le numéro de l'offre","更新オファー番号","Αριθμός προσφοράς ενημέρωσης","Update offer number","Atnaujinimo pasiūlymo numeris","Aktualizacja numer oferty","Número da oferta de atualização","Actualizați numărul ofertei","Обновить номер предложения","Číslo ponuky aktualizácie","Posodobi ponudbena številka","Actualizar número de oferta","Uppdateringserbjudande","Aktualisieren Sie die Angebotsnummer","Teklif numarasını güncelle","Frissítse az ajánlat számát"]
["Interasse greche","vzdálenost žeber","肋骨距离","rebra udaljenost","Distance des côtes","rib骨距離","Απόσταση των πλευρών","ribs distance","Šonkaulių atstumas","Odległość żeber","Distância das costelas","Distanța coastei","Расстояние ребер","vzdialenosť","rebra razdalja","distancia de las costillas","ribsavstånd","Rippenabstand","kaburga mesafesi","bordák távolsága"]
["Ultimo giorno per la consegna dell'offerta","Poslední den pro dodání nabídky","交付要约的最后一天","Posljednji dan za isporuku ponude","Dernier jour pour la livraison de l'offre","オファーの配達の最終日","Τελευταία μέρα για την παράδοση της προσφοράς","Last day for the delivery of the offer","Paskutinė pasiūlymo pristatymo diena","Ostatni dzień na dostarczenie oferty","Último dia para a entrega da oferta","Ultima zi pentru livrarea ofertei","Последний день для доставки предложения","Posledný deň na doručenie ponuky","Zadnji dan za dostavo ponudbe","Último día para la entrega de la oferta","Sista dagen för leveransen av erbjudandet","Letzter Tag für die Lieferung des Angebots","Teklifin teslimatı için son gün","Utolsó nap az ajánlat kézbesítésére"]
["Quale supporto grafico/documentazione sono richiesti oltre alla consulenza?","Jaká grafická podpora/dokumentace je kromě rady vyžadována?","除建议外，还需要哪些图形支持/文档​​？","Koja su grafička podrška/dokumentacija potrebna uz savjete?","Quelle support / documentation graphique est requis en plus des conseils?","アドバイスに加えて、どのグラフィックサポート/ドキュメントが必要ですか？","Ποια γραφική υποστήριξη/τεκμηρίωση απαιτούνται εκτός από τις συμβουλές;","What graphic support/documentation are required in addition to the advice?","Kokios grafinės paramos/dokumentacijos reikia, be patarimų?","Jakie wsparcie graficzne/dokumentacja jest wymagana oprócz porady?","Que suporte/documentação gráfica é necessária, além dos conselhos?","Ce asistență/documentație grafică este necesară pe lângă sfaturi?","Какая графическая поддержка/документация требуется в дополнение к совету?","Aká grafická podpora/dokumentácia je potrebná okrem rady?","Katera grafična podpora/dokumentacija je potrebna poleg nasvetov?","¿Qué soporte/documentación gráfica se requiere además del consejo?","Vilket grafiskt stöd/dokumentation krävs utöver råden?","Welche grafische Unterstützung/Dokumentation sind zusätzlich zu den Ratschlägen erforderlich?","Tavsiyeye ek olarak hangi grafik destek/belgeler gereklidir?","Milyen grafikus támogatásra/dokumentációra van szükség a tanácsok mellett?"]
["Bozza disegno","Draft kresba","草稿图","Crtanje nacrta","Draft Drawing","ドラフト図面","Σχέδιο σχεδίου","Draft drawing","Juodraštis piešinys","Rysunek szkicu","Desenho de rascunho","Desen","Чертеж","Nákres","Osnutek risbe","Borrador","Dragning","Zeichnen von Zeichnen","Taslak çizim","Rajzolás"]
["Progetto esecutivo timbrato da Rothoblaas","Výkonný projekt vyražený Rothoblaasem","执行项目由Rothoblaas盖章","Izvršni projekt utisnuo Rothoblaas","Projet exécutif estampillé par Rothoblaas","Rothoblaasが刻印したエグゼクティブプロジェクト","Εκτελεστικό έργο σφραγισμένο από τον Rothoblaas","Executive project stamped by Rothoblaas","Vykdomasis projektas, antspauduotas Rothoblaas","Projekt wykonawczy stemplowany przez Rothoblaas","Projeto Executivo Carimbado por Rothoblaas","Proiect executiv ștampilat de Rothoblaas","Исполнительный проект, штампованный Rothoblaas","Výkonný projekt označený Rotoblaasom","Izvršni projekt, ki ga je odtisnil Rothoblaas","Proyecto ejecutivo estampado por Rothoblaas","Executive Project stämplat av Rothoblaas","Executive Project von Rothoblaas gestempelt","Rothoblaas tarafından damgalanan yönetici proje","A Rothoblaas által lepecsételt végrehajtó projekt"]
["Progetto esecutivo ma timbrato con ingegnere esterno","Výkonný projekt, ale vyražený s externím inženýrem","执行项目，但与外部工程师盖章","Izvršni projekt, ali ovjeren s vanjskim inženjerom","Projet exécutif mais estampillé en ingénieur externe","エグゼクティブプロジェクトですが、外部エンジニアが刻印されています","Εκτελεστικό έργο αλλά σφραγισμένο με εξωτερικό μηχανικό","Executive project but stamped with external engineer","Vykdomasis projektas, tačiau pažymėtas išoriniu inžinieriumi","Projekt wykonawczy, ale stemplowany z zewnętrznym inżynierem","Projeto executivo, mas carimbado com engenheiro externo","Proiect executiv, dar ștampilat cu inginer extern","Исполнительный проект, но штампованный с внешним инженером","Výkonný projekt, ale je označený externým inžinierom","Izvršni projekt, vendar odtisnjen z zunanjim inženirjem","Proyecto ejecutivo pero estampado con ingeniero externo","Executive Project men stämplade med extern ingenjör","Executive Project, aber mit einem externen Ingenieur gestempelt","Yönetici proje ancak harici mühendisle damgalandı","Executive Project, de külső mérnökkel bélyegezve"]
["Solo offerta commerciale","Pouze komerční nabídka","仅商业优惠","Samo komercijalna ponuda","Offre commerciale uniquement","コマーシャルオファーのみ","Μόνο εμπορική προσφορά","Commercial offer only","Tik komercinis pasiūlymas","Tylko oferta komercyjna","Apenas oferta comercial","Numai ofertă comercială","Только коммерческое предложение","Iba obchodná ponuka","Samo komercialna ponudba","Oferta comercial solamente","Endast kommersiellt erbjudande","Nur kommerzielles Angebot","Yalnızca Ticari Teklif","Csak kereskedelmi ajánlat"]
["Per eventuali prodotti su misura, si richiede:","U jakýchkoli přizpůsobených produktů je nutné:","对于任何定制产品，都需要：","Za sve prilagođene proizvode potreban je:","Pour tous les produits personnalisés, il est nécessaire:","カスタマイズされた製品の場合、必要です。","Για οποιαδήποτε προσαρμοσμένα προϊόντα, απαιτείται:","For any customized products, it is required:","Bet kokiems pritaikytiems produktams reikia:","W przypadku dowolnych dostosowanych produktów jest to wymagane:","Para quaisquer produtos personalizados, é necessário:","Pentru orice produse personalizate, este necesar:","Для любых индивидуальных продуктов это требуется:","Pre všetky prispôsobené výrobky sa vyžaduje:","Za vse prilagojene izdelke je potrebno:","Para cualquier producto personalizado, se requiere:","För anpassade produkter krävs det:","Für alle maßgeschneiderten Produkte ist es erforderlich:","Herhangi bir özelleştirilmiş ürün için gereklidir:","Bármely testreszabott termékhez szükséges:"]
["Produzione Esterna a carico del cliente","Externí výroba proti zákazníkovi","针对客户的外部生产","Vanjska proizvodnja protiv kupca","Production externe contre le client","顧客に対する外部生産","Εξωτερική παραγωγή κατά του πελάτη","External production against the customer","Išorinė produkcija prieš klientą","Produkcja zewnętrzna przeciwko klientowi","Produção externa contra o cliente","Producție externă împotriva clientului","Внешнее производство против клиента","Externá výroba proti zákazníkovi","Zunanja proizvodnja proti kupcu","Producción externa contra el cliente","Extern produktion mot kunden","Externe Produktion gegen den Kunden","Müşteriye karşı dış üretim","Külső termelés az ügyfél ellen"]
["Realizzati da Rothoblaas","Vyrobeno Rothoblaasem","由Rothoblaas制造","Napravio Rothoblaas","Fabriqué par Rothoblaas","Rothoblaasによって作られました","Κατασκευασμένο από τον Rothoblaas","Made by Rothoblaas","Pagaminta Rothoblaas","Wykonane przez Rothoblaas","Feito por Rothoblaas","Realizat de Rothoblaas","Сделано Ротоблаас","Vyrobené od Rotoblaas","Izdelal Rothoblaas","Hecho por Rothoblaas","Gjord av Rothoblaas","Gemacht von Rothoblaas","Rothoblaas tarafından yapılmış","Készítette: rothoblaas"]
["Realizzati e certificati da Rothoblaaas","Vyrobeno a certifikováno Rotoblaaas","由Rothoblaaas制作和认证","Napravio i certificirao Rothoblaaas","Fabriqué et certifié par Rothoblaaas","Rothoblaaasによって作成および認定されています","Κατασκευάστηκε και πιστοποιήθηκε από τον Rothoblaaas","Made and certified by Rothoblaaas","Pagamino ir patvirtino Rothoblaaas","Wykonane i certyfikowane przez Rothoblaaas","Feito e certificado por Rothoblaaas","Realizat și certificat de Rothoblaaas","Сделано и сертифицировано Rothoblaaas","Vyrobené a certifikované spoločnosťou Rotoblaaas","Izdelal in certificiral Rothoblaaas","Hecho y certificado por Rothoblaaas","Gjord och certifierad av Rothoblaaas","Von Rothoblaaas hergestellt und zertifiziert","Rothoblaaas tarafından yapılmış ve sertifikalı","Rothoblaaas készítette és tanúsította"]
["Con documentazione grafica allegata","S připojenou grafickou dokumentací","随附图形文档","S priloženom grafičkom dokumentacijom","Avec documentation graphique ci-jointe","添付のグラフィックドキュメント付き","Με συνημμένη γραφική τεκμηρίωση","With attached graphic documentation","Su pridedama grafine dokumentacija","Z załączoną dokumentacją graficzną","Com documentação gráfica anexada","Cu documentație grafică atașată","С прикрепленной графической документацией","S priloženou grafickou dokumentáciou","S priloženo grafično dokumentacijo","Con documentación gráfica adjunta","Med bifogad grafisk dokumentation","Mit beigefügter grafischer Dokumentation","Ekli grafik belgelerle","Csatolt grafikus dokumentációval"]
["Con documentazione fotografica allegata","S připojenou fotografickou dokumentací","随附的摄影文档","S priloženom fotografskom dokumentacijom","Avec documentation photographique ci-jointe","添付の写真文書付き","Με συνημμένη φωτογραφική τεκμηρίωση","With attached photographic documentation","Su pridedama fotografine dokumentacija","Z załączoną dokumentacją fotograficzną","Com documentação fotográfica anexada","Cu documentație fotografică atașată","С прикрепленной фотографической документацией","S pripojenou fotografickou dokumentáciou","S priloženo fotografsko dokumentacijo","Con documentación fotográfica adjunta","Med bifogad fotografisk dokumentation","Mit beigefügter fotografischer Dokumentation","Ekli fotoğraf belgeleri ile","Csatolt fényképészeti dokumentációval"]
["Si richiede un'offerta come da documento allegato che dovrà essere consegnata entro e non oltre","Nabídka je vyžadována jako připojený dokument, který musí být doručen nejpozději","需要报价作为附件文件，必须不迟于","Ponuda je potrebna kao priloženi dokument koji se mora isporučiti najkasnije","Une offre est requise en tant que document ci-joint qui doit être livré au plus tard","添付のドキュメントとしてオファーが必要です。","Απαιτείται προσφορά ως συνημμένο έγγραφο το οποίο πρέπει να παραδοθεί το αργότερο","An offer is required as an attached document which must be delivered no later than","Reikalingas pasiūlymas kaip pridedamas dokumentas, kuris turi būti pateiktas ne vėliau kaip","Oferta jest wymagana jako załączony dokument, który należy dostarczyć nie później niż","Uma oferta é necessária como um documento anexado que deve ser entregue o mais tardar","O ofertă este necesară ca un document atașat care trebuie livrat nu mai târziu de","Предложение требуется в качестве прилагаемого документа, который должен быть доставлен не позднее, чем","Ponuka je potrebná ako priložený dokument, ktorý sa musí doručiť najneskôr","Ponudba je potrebna kot priloženi dokument, ki ga je treba dostaviti najpozneje","Se requiere una oferta como un documento adjunto que debe entregarse a más tardar","Ett erbjudande krävs som ett bifogat dokument som måste levereras senast","Ein Angebot ist als beigefügtes Dokument erforderlich, das spätestens geliefert werden muss","Ekli bir belge olarak, daha geç teslim edilmesi gereken bir teklif gereklidir.","Ajánlatra van szükség csatolt dokumentumként, amelyet legkésőbb nem kell kézbesíteni"]
["Allego inoltre","Také se připojím","我也附上","Također pričvršćujem","J'attache aussi","私も添付します","Επίσης επισυνάψω","I also attach","Aš taip pat prisirišu","Dołączam też","Eu também aneto","De asemenea, mă atașez","Я также прикрепляю","Tiež pripevňujem","Tudi jaz pritrdim","Yo también adjunto","Jag bifogar också","Ich bin auch beimacht","Ben de eklerim","Én is csatolom"]
["documentazione grafica","Grafická dokumentace","图形文档","grafička dokumentacija","documentation graphique","グラフィックドキュメント","γραφική τεκμηρίωση","graphic documentation","Grafinė dokumentacija","Dokumentacja graficzna","documentação gráfica","Documentație grafică","Графическая документация","grafická dokumentácia","grafična dokumentacija","documentación gráfica","grafisk dokumentation","Grafische Dokumentation","grafik belgeleri","grafikus dokumentáció"]
["documentazione fotografica","Fotografická dokumentace","摄影文档","fotografska dokumentacija","documentation photographique","写真のドキュメント","Φωτογραφική τεκμηρίωση","photographic documentation","Fotografinė dokumentacija","Dokumentacja fotograficzna","documentação fotográfica","Documentație fotografică","Фотографическая документация","fotografická dokumentácia","Fotografska dokumentacija","documentación fotográfica","fotografisk dokumentation","fotografische Dokumentation","fotoğraf belgeleri","fényképészeti dokumentáció"]
["Fornitore Esistente","Stávající dodavatel","现有供应商","Postojeći dobavljač","Fournisseur existant","既存のサプライヤー","Υφιστάμενος προμηθευτής","Existing supplier","Esamas tiekėjas","Istniejący dostawca","Fornecedor existente","Furnizor existent","Существующий поставщик","Existujúci dodávateľ","Obstoječi dobavitelj","Proveedor existente","Befintlig leverantör","Bestehender Lieferant","Mevcut Tedarikçi","Meglévő szállító"]
["Altro Fornitore","Jiný dodavatel","另一个供应商","Još jedan dobavljač","Un autre fournisseur","別のサプライヤー","Άλλος προμηθευτής","Another supplier","Kitas tiekėjas","Inny dostawca","Outro fornecedor","Un alt furnizor","Другой поставщик","Ďalší dodávateľ","Še en dobavitelj","Otro proveedor","En annan leverantör","Ein weiterer Lieferant","Başka bir tedarikçi","Egy másik szállító"]
["Link alla pagina prodotto","Odkaz na stránku produktu","链接到产品页面","Link na stranicu proizvoda","Lien vers la page du produit","製品ページへのリンク","Σύνδεσμος στη σελίδα του προϊόντος","Link to the product page","Nuoroda į produkto puslapį","Link do strony produktu","Link para a página do produto","Link către pagina produsului","Ссылка на страницу продукта","Odkaz na stránku produktu","Povezava do strani izdelka","Enlace a la página del producto","Länk till produktsidan","Link zur Produktseite","Ürün sayfasına bağlantı","Link a termékoldalra"]
["Prezzo di riferimento","Referenční cena","参考价","Referentna cijena","Prix ​​de référence","参照価格","Τιμή αναφοράς","Reference price","Nuorodos kaina","Cena referencyjna","Preço de referência","Preț de referință","Справочная цена","Referenčná cena","Referenčna cena","Precio de referencia","Referens pris","Referenzpreis","Referans fiyatı","Referenciaár"]
["Manuale in lingua","Manuál v jazyce","语言手册","Priručnik na jeziku","Manuel de langue","言語のマニュアル","Εγχειρίδιο στη γλώσσα","Manual in language","Vadovas kalba","Podręcznik w języku","Manual em linguagem","Manual în limbaj","Руководство по языку","Manuál v jazyku","Priročnik v jeziku","Manual en el lenguaje","Manual på språk","Handbuch in Sprache","Dilde Kılavuz","Kézi nyelven"]
["In caso di ordine","V případě objednávky","如果订单","U slučaju reda","En cas d'ordre","順序の場合","Σε περίπτωση παραγγελίας","In case of order","Užsakymo atveju","W przypadku zamówienia","Em caso de ordem","În caz de ordine","В случае порядка","V prípade objednávky","V primeru naročila","En caso de orden","I händelse av ordning","In Ordnung","Sipariş durumunda","Rendelés esetén"]
["Anche per preventivo","Také pro citát","也用于报价","Također za citat","Aussi pour le devis","また、引用のために","Επίσης για προσφορά","Also for quote","Taip pat už citatą","Również dla cytatu","Também para cotação","De asemenea, pentru citat","Также для цитаты","Tiež pre ponuku","Tudi za citat","También para cita","Även för offert","Auch für das Zitat","Ayrıca alıntı için","Idézethez is"]
["Distinti Saluti","s pozdravem","此致","Lijepi Pozdrav","Salutations distinguées","よろしくお願いします","τις καλύτερες ευχές","Best regards","Geriausi linkėjimai","Z wyrazami szacunku","Atenciosamente","Salutări","С наилучшими пожеланиями","S Pozdravom","Lep pozdrav","Atentamente","vänliga hälsningar","Beste grüße","Saygılarımla","Üdvözlettel"]
["Tabella Sconti","Tabulka slevy","折扣表","Tablica za popuste","Table de réduction","割引テーブル","Εκπτώσεις πίνακας","Discounts table","Nuolaidų lentelė","Tabela rabatów","Tabela de descontos","Tabel cu reduceri","Скидки таблицы","Zľavy","Tabela popustov","Mesa de descuentos","Rabattbord","Rabatte Tabelle","İndirimler Tablosu","Kedvezményes asztal"]
["Sconto Particolare","Konkrétní sleva","特定折扣","Poseban popust","Rabais particulier","特定の割引","Συγκεκριμένη έκπτωση","Particular discount","Ypatinga nuolaida","Szczególny zniżka","Desconto particular","Reducere particulară","Особая скидка","Osobitná zľava","Poseben popust","Descuento particular","Särskild rabatt","Besonderer Rabatt","Özel indirim","Különleges kedvezmény"]
["Sei sicuro di continuare?","Určitě budete pokračovat?","您一定会继续吗？","Jeste li sigurni da nastavite?","Êtes-vous sûr de continuer?","必ず続行しますか？","Είστε σίγουροι ότι θα συνεχίσετε;","Are you sure to continue?","Ar tikrai tęsite?","Czy na pewno będziesz kontynuować?","Você tem certeza de continuar?","Ești sigur că vei continua?","Вы обязательно продолжите?","Určite budete pokračovať?","Ali ste prepričani, da nadaljujete?","¿Estás seguro de continuar?","Är du säker på att fortsätta?","Bist du sicher weiter?","Devam edeceğinizden emin misin?","Biztosan folytatod?"]
["Copia Indirizzo","Kopírovat adresu","复制地址","Adresa kopiranja","Copier l'adresse","アドレスをコピーします","Αντιγραφή","Copy address","Kopijavimo adresas","Adres kopiowania","Endereço de cópia","Adresa de copiere","Копия адрес","Kopírovacia adresa","Naslov kopiranja","Dirección de copia","Kopieringsadress","Adresse kopieren","Adresi kopyala","Másoláscím"]
["Attenzione al codice inserito","Věnujte pozornost zadanému kódu","注意输入的代码","Obratite pozornost na uneseni kod","Faites attention au code saisi","入力されたコードに注意してください","Προσοχή στον κωδικό που εισάγατε","Pay attention to the code entered","Atkreipkite dėmesį į įvestą kodą","Zwróć uwagę na wpisany kod","Preste atenção ao código digitado","Atenție la codul introdus","Обратите внимание на введенный код","Venujte pozornosť zadanému kódu","Bodite pozorni na vneseno kodo","Presta atención al código ingresado.","Var uppmärksam på den angivna koden","Achten Sie auf den eingegebenen Code","Girilen koda dikkat edin","Ügyeljen a beírt kódra"]
["Codice errato","Špatný kód","错误代码","Krivi kod","Mauvais code","不正なコード","Λάθος κωδικός","Wrong code","Neteisingas kodas","Niepoprawny kod","Código errado","Cod greșit","Неверный код","Nesprávny kód","Napačna koda","Codigo erroneo","Fel kod","Falscher Code","Yanlış kod","Rossz kód"]
["Buongiorno","Dobré ráno","早上好","Dobro jutro","Bonjour","おはよう","Καλημέρα","Good morning","Labas rytas","Dzień dobry","Bom dia","Buna dimineata","Доброе утро","Dobré ráno","Dobro jutro","Buen día","God morgon","Guten Morgen","Günaydın","Jó reggelt kívánok"]
["Invio ordine in allegato","Objednávku odešlete v příloze","发送附件中的订单","Narudžbu pošaljite u prilogu","Envoyer la commande en pièce jointe","添付ファイルで注文を送信","Αποστολή παραγγελίας στο συνημμένο","Send order in attachment","Užsakymą siųskite priede","Wyślij zamówienie w załączniku","Enviar pedido em anexo","Trimite comanda in atasament","Отправить заказ во вложении","Objednávku odošlite v prílohe","Naročilo pošljite v priponki","Enviar pedido en archivo adjunto","Skicka beställning i bilaga","Bestellung im Anhang senden","Siparişi ekte gönder","Megrendelés küldése mellékletben"]
["Cambia Sconti","Změna slev","更改折扣","Promjena popusta","Modifier les réductions","変更割引","Αλλαγή εκπτώσεων","Change Discounts","Keisti nuolaidas","Zmień rabaty","Alterar descontos","Schimbați Reducerile","Изменить скидки","Zmeniť zľavy","Spremeni popuste","Cambiar descuentos","Ändra rabatter","Rabatte ändern","İndirimleri Değiştir","Kedvezmények módosítása"]
["Inserisci Password","Zadejte heslo","输入密码","Upišite lozinku","Entrer le mot de passe","パスワードを入力する","Εισάγετε τον κωδικό πρόσβασης","Enter Password","Įvesti slaptažodį","Wprowadź hasło","Digite a senha","Introdu parola","Введите пароль","Zadajte heslo","Vnesite geslo","Introducir la contraseña","Skriv in lösenord","Passwort eingeben","Parolanı Gir","Írd be a jelszót"]
["Curvo","zakřivený","弯曲","zakrivljena","courbé","湾曲した","κυρτός","curved","lenktas","zakrzywiony","curvado","curbat","изогнутый","zakrivené","ukrivljen","curvo","böjd","gebogen","kavisli","ívelt"]
["Reclinabile","ležící","斜倚","zavaljen","inclinable","リクライニング","ξαπλωμένος","reclining","atsilošęs","odchylany","reclinável","înclinat","полулежа","ležiace","ležeči","reclinable","liggande","liegend","uzanmış","fekvőtámasz"]
["tipo zavorra","typ balastu","镇流器类型","vrsta balasta","type de ballast","バラストタイプ","τύπου έρματος","ballast type","balasto tipas","typ balastu","tipo de lastro","tip balast","тип балласта","typ predradníka","vrsta balasta","tipo de lastre","ballasttyp","Vorschaltgerättyp","balast tipi","ballaszt típusú"]
["cornice per zavorra","balastní rám","压载架","balastni okvir","cadre de ballast","バラストフレーム","πλαίσιο έρματος","ballast frame","balasto rėmas","rama balastowa","estrutura de lastro","cadru de balast","балластная рама","balastný rám","balastni okvir","marco de lastre","ballastram","Ballastrahmen","balast çerçevesi","ballaszt keret"]
["vuota","prázdný","空的","prazan","vide","空の","αδειάζω","empty","tuščias","pusty","vazio","gol","пустой","prázdny","prazno","vacío","tömma","leer","boş","üres"]
["riempita","naplněné","已填满","ispunjena","rempli","満たされた","γεμάτο","filled","užpildytas","wypełniony","preenchido","umplut","заполненный","naplnené","napolnjena","completado","fylld","gefüllt","dolu","megtöltött"]
["Lista Materiali","Seznam materiálů","材料清单","Popis materijala","Liste des matériaux","材料リスト","Κατάλογος Υλικών","List of Materials","Medžiagų sąrašas","Lista materiałów","Lista de materiais","Lista materialelor","Список материалов","Zoznam materiálov","Seznam materialov","Lista de materiales","Lista över material","Materialliste","Malzeme Listesi","Anyagok listája"]
["Protezione per la membrana","Membránová ochrana","膜保护","Membranska zaštita","Protection membranaire","膜保護","Προστασία μεμβράνης","Membrane protection","Apsauga nuo membranos","Ochrona membrany","Proteção de membrana","Protectie membranara","Защита мембраны","Membránová ochrana","Membranska zaščita","Protección de membrana","Membranskydd","Membranschutz","Membran koruması","Membrán védelem"]
["primo terminale","první terminál","第一航站楼","prvi terminal","premier terminal","最初のターミナル","πρώτο τερματικό","first terminal","pirmasis terminalas","pierwszy terminal","primeiro terminal","primul terminal","первый терминал","prvý terminál","prvi terminal","primera terminal","första terminalen","erstes Terminal","ilk terminal","első terminál"]
["secondo terminale","druhý terminál","第二航站楼","drugi terminal","deuxième terminal","第2ターミナル","δεύτερο τερματικό","second terminal","antrasis terminalas","drugi terminal","segundo terminal","al doilea terminal","второй терминал","druhý terminál","drugi terminal","segunda terminal","andra terminalen","zweites Terminal","ikinci terminal","második terminál"]
["cancello","brána","门","kapija","grille","ゲート","πύλη","gate","vartai","brama","portão","Poartă","ворота","brána","vrata","puerta","gate","Tor","geçit","kapu"]
["a muro","na zdi","在墙上","na zidu","sur le mur","壁に","στον τοίχο","on the wall","ant sienos","na ścianie","na parede","pe perete","на стене","na stene","na steni","en la pared","på väggen","an der Wand","duvarda","a falon"]
["tappo di chiusura","uzavírací uzávěr","封盖","kapa za zatvaranje","capuchon de fermeture","キャップを閉じる","καπάκι κλεισίματος","closing cap","uždarymo dangtelis","zatyczka","tampa de fechamento","capac de inchidere","закрывающаяся крышка","uzatvárací uzáver","pokrovček za zapiranje","tapa de cierre","stängningslock","Verschlusskappe","kapanış kapağı","zárókupak"]
["conteggio per tratti","počítání podle vlastností","按特征计数","brojanje po osobinama","comptage par traits","特性によるカウント","μετρώντας με τα χαρακτηριστικά","counting by traits","skaičiuojant pagal požymius","liczenie według cech","contagem por características","numărând după trăsături","подсчет по признакам","počítanie podľa vlastností","štetje po lastnostih","contando por rasgos","räkna efter egenskaper","Zählen nach Merkmalen","özelliklere göre sayma","tulajdonságok szerint számolva"]
["conteggio per totali","počítání podle součtů","按总数计数","računajući po zbrojevima","comptage par totaux","合計で数える","μετρώντας κατά σύνολα","counting by totals","skaičiuojant pagal sumas","liczenie według sumy","contagem por totais","numărarea după totaluri","подсчет по итогу","počítanie súčtom","štetje po vsotah","contando por totales","räkna med totaler","Zählen nach Summen","toplamlara göre sayma","összegekkel számolva"]
["Lunghezza Moduli","Délka modulu","模块长度","Duljina modula","Longueur du module","モジュールの長さ","Μήκος ενότητας","Module Length","Modulio ilgis","Długość modułu","Comprimento do módulo","Lungimea modulului","Длина модуля","Dĺžka modulu","Dolžina modula","Longitud del módulo","Modullängd","Modullänge","Modül Uzunluğu","Modul hossza"]
["partenza da muro","počínaje od zdi","从墙开始","počevši od zida","en partant du mur","壁から始まる","ξεκινώντας από τον τοίχο","starting from the wall","pradedant nuo sienos","zaczynając od ściany","começando da parede","pornind de la perete","начиная со стены","počnúc od steny","začenši od stene","empezando desde la pared","med början från väggen","ausgehend von der Wand","duvardan başlayarak","a faltól kezdve"]
["Paese","Země","国家","Zemlja","Pays","国","Χώρα","Country","Šalis","Kraj","País","Ţară","Страна","Krajina","Država","País","Land","Land","Ülke","Ország"]
["Peso Eccessivo","Nadváha","超重","Prekomjerna težina","Embonpoint","太りすぎ","Υπέρβαρος","Overweight","Antsvoris","Nadwaga","Sobrepeso","Excesul de greutate","Избыточный вес","Nadváha","Prekomerna teža","Sobrepeso","Övervikt","Übergewicht","Aşırı kilolu","Túlsúly"]
["Volume Eccessivo","Nadměrný objem","音量过大","Pretjerana glasnoća","Volume excessif","過剰な音量","Υπερβολικός όγκος","Excessive Volume","Per didelis tūris","Nadmierna głośność","Volume excessivo","Volum excesiv","Чрезмерный объем","Nadmerný objem","Prevelika glasnost","Volumen excesivo","Överdriven volym","Übermäßige Lautstärke","Aşırı Hacim","Túlzott hangerő"]
["Chiedi al Customer Service","Zeptejte se zákaznického servisu","询问客服","Pitajte službu za korisnike","Demandez au service client","カスタマーサービスに問い合わせる","Ρωτήστε την Εξυπηρέτηση Πελατών","Ask Customer Service","Klauskite klientų aptarnavimo tarnybos","Zapytaj obsługę klienta","Pergunte ao Atendimento ao Cliente","Întrebați Serviciul Clienți","Обратитесь в службу поддержки клиентов","Opýtajte sa zákazníckeho servisu","Vprašajte službo za stranke","Pregunte al servicio de atención al cliente","Fråga kundtjänst","Fragen Sie den Kundenservice","Müşteri Hizmetlerine Sorun","Kérdezze meg az Ügyfélszolgálatot"]
["Costo del paese non disponibile","Cena země není k dispozici","国家/地区费用未知","Cijena zemlje nije dostupna","Coût par pays non disponible","国別費用は不明","Το κόστος χώρας δεν είναι διαθέσιμο","Country cost not available","Šalies kaina neprieinama","Koszt krajowy niedostępny","Custo do país não disponível","Costul de țară nu este disponibil","Стоимость по стране недоступна","Cena krajiny nie je k dispozícii","Cena države ni na voljo","Costo del país no disponible","Landskostnad är inte tillgänglig","Länderkosten nicht verfügbar","Ülke maliyeti mevcut değil","Országos költség nem elérhető"]
["Ricordati di considerare questo costo di trasporto:","Nezapomeňte vzít v úvahu tyto náklady na dopravu:","请记住考虑这个运费：","Ne zaboravite uzeti u obzir ovaj trošak dostave:","N'oubliez pas de prendre en compte les frais d'expédition suivants :","以下の送料を考慮することを忘れないでください:","Θυμηθείτε να λάβετε υπόψη αυτό το κόστος αποστολής:","Remember to consider this shipping cost:","Nepamirškite atsižvelgti į šią siuntimo kainą:","Pamiętaj, aby uwzględnić koszt wysyłki:","Lembre-se de considerar este custo de envio:","Nu uitați să luați în considerare acest cost de transport:","Не забудьте учесть стоимость доставки:","Nezabudnite zvážiť tieto náklady na dopravu:","Ne pozabite upoštevati tega stroška pošiljanja:","Recuerda considerar este costo de envío:","Kom ihåg att ta hänsyn till denna fraktkostnad:","Denken Sie daran, diese Versandkosten zu berücksichtigen:","Bu nakliye maliyetini göz önünde bulundurmayı unutmayın:","Ne felejtse el figyelembe venni ezt a szállítási költséget:"]
["Per il costo di trasporto da considerare chiedi al Customer Service","Chcete-li zvážit náklady na dopravu, zeptejte se zákaznického servisu","要考虑运费，请咨询客户服务","Kako biste razmotrili troškove dostave, pitajte službu za korisnike","Pour prendre en compte les frais de port, demandez au service client","送料についてはカスタマーサービスにお問い合わせください","Για να εξετάσετε τα έξοδα αποστολής, ρωτήστε την Εξυπηρέτηση Πελατών","To consider the shipping costs, ask Customer Service","Norėdami įvertinti siuntimo išlaidas, kreipkitės į klientų aptarnavimo tarnybą","Aby poznać koszty wysyłki, skontaktuj się z Obsługą Klienta","Para considerar os custos de envio, consulte o Atendimento ao Cliente","Pentru a lua în considerare costurile de transport, întrebați Serviciul Clienți","Чтобы узнать стоимость доставки, обратитесь в службу поддержки клиентов.","Ak chcete zvážiť náklady na dopravu, obráťte sa na zákaznícky servis","Če želite upoštevati stroške pošiljanja, se obrnite na službo za stranke","Para considerar los costos de envío, consulte con Atención al Cliente.","För att överväga fraktkostnaderna, fråga kundtjänst","Um die Versandkosten zu erfahren, wenden Sie sich bitte an den Kundenservice","Nakliye masraflarını göz önünde bulundurmak için Müşteri Hizmetlerine sorun","A szállítási költségek mérlegeléséhez forduljon az Ügyfélszolgálathoz"]
["Soluzione non disponibile","Řešení není k dispozici","解决方案不可用","Rješenje nije dostupno","Solution non disponible","解決策はありません","Η λύση δεν είναι διαθέσιμη","Solution not available","Sprendimas neprieinamas","Rozwiązanie niedostępne","Solução não disponível","Soluția nu este disponibilă","Решение недоступно","Riešenie nie je k dispozícii","Rešitev ni na voljo","Solución no disponible","Lösningen är inte tillgänglig","Lösung nicht verfügbar","Çözüm mevcut değil","Megoldás nem elérhető"]
["Annulla","Zrušit","取消","Otkazati","Annuler","キャンセル","Ματαίωση","Cancel","Atšaukti","Anulować","Cancelar","Anula","Отмена","Zrušiť","Prekliči","Cancelar","Avboka","Stornieren","İptal etmek","Mégsem"]
["OK","OK","好的","U REDU","D'ACCORD","わかりました","ΕΝΤΑΞΕΙ","OK","Gerai","OK","OK","Bine","ХОРОШО","OK","OK","DE ACUERDO","OK","OK","TAMAM","RENDBEN"]
["Installazione Interna","Vnitřní instalace","内部安装","Unutarnja instalacija","Installation interne","内部設置","Εσωτερική εγκατάσταση","Internal Installation","Vidinis įrengimas","Instalacja wewnętrzna","Instalação interna","Instalare internă","Внутренняя установка","Vnútorná inštalácia","Notranja namestitev","Instalación interna","Intern installation","Interne Installation","İç Kurulum","Belső telepítés"]
["Installazione Esterna","Externí instalace","外部安装","Vanjska instalacija","Installation externe","外部設置","Εξωτερική εγκατάσταση","External Installation","Išorinis įrengimas","Instalacja zewnętrzna","Instalação externa","Instalare externă","Внешняя установка","Externá inštalácia","Zunanja namestitev","Instalación externa","Extern installation","Externe Installation","Harici Kurulum","Külső telepítés"]
["Con Supporti","S podpěrami","带支撑","S potporama","Avec supports","サポート付き","Με στηρίγματα","With Supports","Su atramomis","Z podporami","Com Suportes","Cu suporturi","С опорами","S podperami","Z oporami","Con apoyos","Med stöd","Mit Stützen","Desteklerle","Támasszal"]
["Su Lamiera Trapezoidale","Na trapézovém plechu","在梯形金属板上","Na trapezoidnom limu","Sur tôle trapézoïdale","台形板金","Σε τραπεζοειδή λαμαρίνα","On Trapezoidal Sheet Metal","Ant trapecijos formos lakštinio metalo","Na blasze trapezowej","Em chapa metálica trapezoidal","Pe tablă trapezoidală","На трапециевидном листовом металле","Na trapézovom plechu","Na trapezno pločevino","Sobre chapa trapezoidal","På trapetsformad plåt","Auf Trapezblech","Trapez Sac Levha Üzerine","Trapézlemezen"]
["Installazione","Instalace","安装","Montaža","Installation","インストール","Εγκατάσταση","Installation","Įrengimas","Instalacja","Instalação","Instalare","Установка","Inštalácia","Namestitev","Instalación","Installation","Installation","Kurulum","Telepítés"]
["Tipo Ambiente","Typ prostředí","环境类型","Vrsta okruženja","Type d'environnement","環境タイプ","Τύπος περιβάλλοντος","Environment Type","Aplinkos tipas","Typ środowiska","Tipo de ambiente","Tipul de mediu","Тип среды","Typ prostredia","Vrsta okolja","Tipo de entorno","Miljötyp","Umgebungstyp","Çevre Türü","Környezettípus"]
["Normale","Normální","普通的","Normalan","Normale","普通","Κανονικός","Normal","Normalus","Normalna","Normal","Normal","Нормальный","Normálne","Normalno","Normal","Normal","Normal","Normal","Normál"]
["Corrosivo","Korozívní","腐蚀性","Korozivno","Corrosif","腐食性","Διαβρωτικός","Corrosive","Ėsdinantis","Żrący","Corrosivo","Coroziv","Коррозионный","Žieravé","Jedko","Corrosivo","Frätande","Ätzend","Aşındırıcı","Maró hatású"]
["Distanza piano di calpestio","Vzdálenost od úrovně podlahy","距地面的距离","Udaljenost od razine poda","Distance par rapport au niveau du sol","床面からの距離","Απόσταση από το επίπεδο του δαπέδου","Distance from floor level","Atstumas nuo grindų lygio","Odległość od poziomu podłogi","Distância do nível do chão","Distanța de la nivelul podelei","Расстояние от уровня пола","Vzdialenosť od úrovne podlahy","Razdalja od tal","Distancia desde el nivel del suelo","Avstånd från golvnivå","Abstand vom Boden","Zemin seviyesinden uzaklık","Távolság a padlószinttől"]
["Numero Lucernari","Počet střešních oken","天窗数量","Broj krovnih prozora","Nombre de puits de lumière","天窓の数","Αριθμός φεγγιτών","Number of Skylights","Stoglangių skaičius","Liczba świetlików","Número de claraboias","Numărul de luminatoare","Количество световых люков","Počet strešných okien","Število strešnih oken","Número de tragaluces","Antal takfönster","Anzahl der Oberlichter","Çatı Penceresi Sayısı","Tetőablakok száma"]
["Dati geometrici lucernari","Geometrická data střešního okna","天窗几何数据","Geometrijski podaci krovnog prozora","données géométriques des puits de lumière","天窓の幾何学的データ","Γεωμετρικά δεδομένα φεγγίτη","Skylight geometric data","Stoglangio geometriniai duomenys","Dane geometryczne świetlika","Dados geométricos da claraboia","Date geometrice pentru luminator","Геометрические данные светового люка","Geometrické údaje strešného okna","Geometrijski podatki strešnega okna","Datos geométricos de la claraboya","Geometriska data för takfönster","Geometrische Daten des Oberlichts","Gökyüzü penceresi geometrik verileri","Tetőablak geometriai adatai"]
["Singola","Singl","单身的","Singl","Célibataire","シングル","Μονόκλινο","Single","Vienvietis","Pojedynczy","Solteiro","Singur","Одинокий","Jednotlivec","Samski","Soltero","Enda","Einzel","Bekar","Egyetlen"]
["Doppia","Dvojnásobek","双倍的","Dvostruko","Double","ダブル","Διπλό","Double","Dvigubas","Podwójnie","Dobro","Dubla","Двойной","Dvojitý","Dvojno","Doble","Dubbel","Doppelt","Çift","Kettős"]
["angoli interni","vnitřní rohy","内角","unutarnji kutovi","angles internes","内角","εσωτερικές γωνίες","internal corners","vidiniai kampai","narożniki wewnętrzne","cantos internos","colțuri interne","внутренние углы","vnútorné rohy","notranji vogali","esquinas internas","inre hörn","Innenecken","iç köşeler","belső sarkok"]
["angoli esterni","vnější rohy","外角","vanjski kutovi","coins extérieurs","外角","εξωτερικές γωνίες","external corners","išoriniai kampai","narożniki zewnętrzne","cantos externos","colțuri exterioare","внешние углы","vonkajšie rohy","zunanji vogali","esquinas exteriores","ytterhörn","Außenecken","dış köşeler","külső sarkok"]
["Dati generali di progetto","Obecná data projektu","项目总体数据","Opći podaci o projektu","Données générales du projet","一般的なプロジェクトデータ","Γενικά δεδομένα έργου","General project data","Bendrieji projekto duomenys","Ogólne dane projektu","Dados gerais do projeto","Date generale ale proiectului","Общие данные проекта","Všeobecné údaje o projekte","Splošni podatki o projektu","Datos generales del proyecto","Allmänna projektdata","Allgemeine Projektdaten","Genel proje verileri","Általános projektadatok"]
["Composizione rete di sicurezza","Složení záchranné sítě","安全网组成","Sastav sigurnosne mreže","Composition du filet de sécurité","セーフティネットの構成","Σύνθεση διχτυού ασφαλείας","Safety net composition","Apsauginio tinklo sudėtis","Skład sieci bezpieczeństwa","Composição da rede de segurança","Compoziția plasei de siguranță","Состав сети безопасности","Zloženie bezpečnostnej siete","Sestava varnostne mreže","Composición de la red de seguridad","Skyddsnätets sammansättning","Zusammensetzung des Sicherheitsnetzes","Güvenlik ağı bileşimi","Biztonsági háló összetétele"]
["Modello rete anticaduta scelto","Zvolený model sítě pro zachycení pádu","选择的防坠网型号","Odabrani model mreže za zaustavljanje pada","Modèle de filet antichute choisi","落下防止ネットモデルの選択","Επιλέχθηκε μοντέλο διχτυού αναχαίτισης πτώσης","Fall arrest net model chosen","Pasirinktas kritimo sulaikymo tinklo modelis","Wybrano model siatki zabezpieczającej przed upadkiem","Modelo de rede de proteção contra quedas escolhido","Modelul ales al plasei anticădere","Выбрана модель защитной сетки от падения","Zvolený model siete na zachytávanie pádu","Izbran model mreže za zaustavitev padca","Modelo de red anticaídas elegido","Fallskyddsnätmodell vald","Modell für Auffangnetze ausgewählt","Düşme durdurma ağı modeli seçildi","A kiválasztott zuhanásgátló háló modell"]
["Intallazione Rete Anticaduta","Instalace ochranné sítě proti pádu","安装防坠落网","Ugradnja mreže za zaštitu od pada","Installation d'un filet de protection antichute","落下防止ネットの設置","Εγκατάσταση Διχτυού Προστασίας από Πτώσεις","Installation of Fall Protection Net","Apsaugos nuo kritimo tinklo įrengimas","Montaż siatki zabezpieczającej przed upadkiem","Instalação de rede de proteção contra quedas","Instalarea plasei de protecție împotriva căderii","Установка защитной сетки от падения","Inštalácia ochrannej siete proti pádu","Namestitev mreže za zaščito pred padci","Instalación de red de protección contra caídas","Installation av fallskyddsnät","Installation eines Absturzsicherungsnetzes","Düşme Koruma Ağı Kurulumu","Zuhanásvédelmi háló telepítése"]
["Aggiungi Lucernario","Přidat střešní okno","添加天窗","Dodaj krovni prozor","Ajouter un puits de lumière","スカイライトを追加","Προσθήκη φεγγίτη","Add Skylight","Pridėti stoglangį","Dodaj świetlik","Adicionar claraboia","Adăugați luminator","Добавить световой люк","Pridať strešné okno","Dodaj strešno okno","Añadir claraboya","Lägg till takfönster","Dachfenster einbauen","Tavan Penceresi Ekle","Tetőablak hozzáadása"]
["Possibili opzioni per zavorre locali","Možné varianty pro lokální předřadník","本地压载的可能方案","Moguće opcije za lokalni balast","Options possibles pour le ballast local","ローカルバラストの可能なオプション","Πιθανές επιλογές για τοπικό έρμα","Possible options for local ballast","Galimi vietinio balasto variantai","Możliwe opcje dla balastu lokalnego","Possíveis opções para lastro local","Opțiuni posibile pentru balast local","Возможные варианты местного балласта","Možné možnosti pre lokálny predradník","Možne možnosti za lokalno predstikalno napravo","Posibles opciones para el balasto local","Möjliga alternativ för lokal ballast","Mögliche Optionen für lokalen Ballast","Yerel balast için olası seçenekler","Lehetséges opciók a helyi előtéthez"]
["Attenzione! Esiste una nuova versione","Pozor! K dispozici je nová verze","注意！有新版本了","Pažnja! Postoji nova verzija","Attention ! Une nouvelle version est disponible.","注意！新しいバージョンがあります","Προσοχή! Υπάρχει μια νέα έκδοση","Attention! There is a new version","Dėmesio! Yra nauja versija","Uwaga! Jest nowa wersja","Atenção! Existe uma nova versão.","Atenție! Există o nouă versiune","Внимание! Появилась новая версия.","Pozor! K dispozícii je nová verzia","Pozor! Na voljo je nova različica","¡Atención! Hay una nueva versión.","Observera! Det finns en ny version","Achtung! Es gibt eine neue Version.","Dikkat! Yeni bir sürüm var.","Figyelem! Új verzió érkezett"]
["Stai utilizzando l'ultima versione disponibile","Používáte nejnovější dostupnou verzi","您目前使用的是最新版本","Koristite najnoviju dostupnu verziju","Vous utilisez la dernière version disponible","最新バージョンを使用しています","Χρησιμοποιείτε την πιο πρόσφατη διαθέσιμη έκδοση","You are using the latest available version","Naudojate naujausią prieinamą versiją","Używasz najnowszej dostępnej wersji","Você está usando a versão mais recente disponível.","Folosești cea mai recentă versiune disponibilă","Вы используете последнюю доступную версию.","Používate najnovšiu dostupnú verziu","Uporabljate najnovejšo razpoložljivo različico","Estás utilizando la última versión disponible","Du använder den senaste tillgängliga versionen","Sie verwenden die neueste verfügbare Version.","En son sürümü kullanıyorsunuz.","A legújabb elérhető verziót használod"]
["Piattina in acciaio","Plochý ocelový pás","钢扁带","Čelična ravna traka","Bande plate en acier","スチールフラットストリップ","Επίπεδη λωρίδα χάλυβα","Steel Flat strip","Plieninė plokščia juosta","Stalowy pasek płaski","Tira plana de aço","Bandă plată din oțel","Плоская стальная полоса","Oceľový plochý pás","Jekleni ploščati trak","Tira plana de acero","Stålplattband","Flachstahl","Çelik Düz Şerit","Acél laposszalag"]
["considera come larghezza dal centro della prima greca utile per entrambi i lati","uvažujte šířku od středu první užitečné kyčle pro obě strany","考虑两侧第一个可用髋关节中心到该点的宽度","Uzmite u obzir širinu od središta prvog korisnog kuka za obje strane","Considérons la largeur à partir du centre de la première hanche utile des deux côtés","両側の最初の有効ヒップの中心からの幅を考慮する","λάβετε υπόψη το πλάτος από το κέντρο του πρώτου χρήσιμου ισχίου και για τις δύο πλευρές","consider the width from the center of the first useful hip for both sides","apsvarstykite plotį nuo pirmojo naudingo klubo centro abiejose pusėse","weź pod uwagę szerokość od środka pierwszego użytecznego biodra po obu stronach","Considere a largura a partir do centro do primeiro quadril útil para ambos os lados.","luați în considerare lățimea de la centrul primului șold util pentru ambele părți","Учитывайте ширину от центра первого полезного тазобедренного сустава с обеих сторон.","zvážte šírku od stredu prvého užitočného bedierneho kĺbu pre obe strany","upoštevajte širino od središča prvega uporabnega kolka za obe strani","Considere el ancho desde el centro de la primera cadera útil para ambos lados","Beakta bredden från mitten av den första användbara höften för båda sidor","Berücksichtigen Sie die Breite vom Mittelpunkt der ersten nutzbaren Hüfte für beide Seiten.","Her iki taraf için de ilk kullanışlı kalçanın merkezinden olan genişliği göz önünde bulundurun.","vegye figyelembe a szélességet az első hasznos csípő közepétől mindkét oldalon"]
["accessorio di fissaggio","upevňovací příslušenství","紧固配件","pribor za pričvršćivanje","accessoire de fixation","締結アクセサリ","αξεσουάρ στερέωσης","fastening accessory","tvirtinimo priedas","akcesorium mocujące","acessório de fixação","accesoriu de fixare","крепежный элемент","upevňovacie príslušenstvo","pritrdilni dodatek","accesorio de fijación","fästtillbehör","Befestigungszubehör","sabitleme aksesuarı","rögzítő tartozék"]
["ancoraggio di profondità","hloubkové ukotvení","深度锚固","dubinsko sidrište","ancrage en profondeur","深度アンカー","βάθος αγκύρωσης","depth anchorage","gylio inkaravimo","kotwiczenie głębokościowe","ancoragem de profundidade","ancorare în adâncime","глубина якорной стоянки","hĺbkové ukotvenie","globinsko sidrišče","anclaje de profundidad","djupförankring","Tiefenverankerung","derinlik demirleme","mélységi rögzítés"]
["distanza dal bordo","vzdálenost od okraje","距边缘的距离","udaljenost od ruba","distance du bord","端からの距離","απόσταση από την άκρη","distance from edge","atstumas nuo krašto","odległość od krawędzi","distância da borda","distanță de la margine","расстояние от края","vzdialenosť od okraja","oddaljenost od roba","distancia desde el borde","avstånd från kanten","Abstand von der Kante","kenardan uzaklık","távolság a széltől"]
["Tipo di vite","Typ šroubu","螺丝类型","Vrsta vijka","Type de vis","ネジの種類","Τύπος βίδας","Type of screw","Varžto tipas","Rodzaj śruby","Tipo de parafuso","Tipul de șurub","Тип винта","Typ skrutky","Vrsta vijaka","Tipo de tornillo","Typ av skruv","Schraubenart","Vida tipi","Csavar típusa"]
[0,0,0,0,0,0,0,0,0,0,0,0,0,0,0,0,0,0,0,0]
[0,0,0,0,0,0,0,0,0,0,0,0,0,0,0,0,0,0,0,0]
[0,0,0,0,0,0,0,0,0,0,0,0,0,0,0,0,0,0,0,0]
[0,0,0,0,0,0,0,0,0,0,0,0,0,0,0,0,0,0,0,0]
["Verificare sempre le quantità del materiale prima di effettuare l'ordine e l'installazione","Před objednáním a instalací vždy zkontrolujte množství materiálu.","订购和安装前务必检查材料数量","Prije naručivanja i ugradnje uvijek provjerite količine materijala","Vérifiez toujours les quantités de matériaux avant de commander et d'installer","注文および設置の前に、必ず材料の数量を確認してください。","Ελέγχετε πάντα τις ποσότητες υλικών πριν από την παραγγελία και την εγκατάσταση","Always verify material quantities prior to ordering and installation","Pirms pasūtīšanas un uzstādīšanas vienmēr pārbaudiet materiālu daudzumu","Zawsze sprawdzaj ilość materiałów przed złożeniem zamówienia i instalacją","Sempre verifique as quantidades de material antes do pedido e instalação","Verificați întotdeauna cantitățile de materiale înainte de a comanda și instala","Всегда проверяйте количество материала перед заказом и установкой.","Pred objednaním a inštaláciou vždy skontrolujte množstvo materiálu","Pred naročilom in namestitvijo vedno preverite količine materiala","Compruebe siempre las cantidades de material antes de realizar el pedido y la instalación","Kontrollera alltid materialmängder före beställning och installation","Überprüfen Sie immer die Materialmengen vor der Bestellung und Installation.","Sipariş ve kurulumdan önce daima malzeme miktarlarını kontrol edin","Rendelés és telepítés előtt mindig ellenőrizze az anyagmennyiségeket"]
["Questo file può essere aperto solo con:","Tento soubor lze otevřít pouze pomocí:","此文件只能用以下方式打开：","Ova datoteka se može otvoriti samo sa:","Ce fichier ne peut être ouvert qu'avec :","このファイルは次の方法でのみ開くことができます:","Αυτό το αρχείο μπορεί να ανοιχτεί μόνο με:","This file can only be opened with:","Šį failą galima atidaryti tik naudojant:","Ten plik można otworzyć tylko za pomocą:","Este arquivo só pode ser aberto com:","Acest fișier poate fi deschis doar cu:","Этот файл можно открыть только с помощью:","Tento súbor je možné otvoriť iba pomocou:","To datoteko je mogoče odpreti samo z:","Este archivo sólo se puede abrir con:","Den här filen kan bara öppnas med:","Diese Datei kann nur mit folgendem Programm geöffnet werden:","Bu dosya yalnızca şu şekilde açılabilir:","Ez a fájl csak a következővel nyitható meg:"]
["La tua versione risulta:","Vaše verze vypadá takto:","你的版本看起来像这样：","Tvoja verzija izgleda ovako:","Votre version ressemble à ceci :","あなたのバージョンは次のようになります:","Η δική σας έκδοση μοιάζει με αυτό:","Your version looks like this:","Jūsų versija atrodo taip:","Twoja wersja wygląda tak:","Sua versão se parece com isto:","Versiunea ta arată așa:","Ваша версия выглядит так:","Vaša verzia vyzerá takto:","Vaša različica izgleda takole:","Tu versión se ve así:","Din version ser ut så här:","Ihre Version sieht folgendermaßen aus:","Sizin versiyonunuz şu şekilde görünüyor:","A te verziód így néz ki:"]
["Excel verrà chiuso.","Excel se zavře.","Excel即将关闭。","Excel će se zatvoriti.","Excel va se fermer.","Excel が終了します。","Το Excel θα κλείσει.","Excel will close.","„Excel“ užsidarys.","Program Excel zostanie zamknięty.","O Excel será fechado.","Excel se va închide.","Excel закроется.","Excel sa zatvorí.","Excel se bo zaprl.","Excel se cerrará.","Excel kommer att stängas.","Excel wird geschlossen.","Excel kapanacak.","Az Excel bezárul."]
["\"Versione non supportata\"","\"Nepodporovaná verze\"","“不支持的版本”","\"Nepodržana verzija\"","\"Version non prise en charge\"","「サポートされていないバージョン」","\"Μη υποστηριζόμενη έκδοση\"","\"Unsupported version\"","„Nepalaikoma versija“","„Nieobsługiwana wersja”","\"Versão não suportada\"","„Versiune neacceptată”","«Неподдерживаемая версия»","„Nepodporovaná verzia“","\"Nepodprta različica\"","\"Versión no compatible\"","\"Version som inte stöds\"","\"Nicht unterstützte Version\"","\"Desteklenmeyen sürüm\"","\"Nem támogatott verzió\""]
["Invia Richiesta","Odeslat požadavek","发送请求","Pošalji zahtjev","Envoyer une requête","リクエストを送信","Αποστολή αιτήματος","Send Request","Siųsti užklausą","Wyślij prośbę","Enviar solicitação","Trimiteți cererea","Отправить запрос","Odoslať požiadavku","Pošlji zahtevo","Enviar solicitud","Skicka förfrågan","Anfrage senden","İstek Gönder","Kérés küldése"]
["Barra di avanzamento","Ukazatel průběhu","进度条","Traka napretka","barre de progression","進行状況バー","Γραμμή προόδου","Progress bar","Progreso juosta","Pasek postępu","Barra de progresso","Bara de progres","Индикатор выполнения","Ukazovateľ priebehu","Vrstica napredka","barra de progreso","Förloppsindikator","Fortschrittsanzeige","İlerleme çubuğu","Folyamatjelző sáv"]
["Puoi vedere il video tutorial cliccando qui","Video tutoriál si můžete prohlédnout kliknutím sem","点击此处即可观看视频教程。","Video tutorial možete pogledati klikom ovdje","Vous pouvez visionner le tutoriel vidéo en cliquant ici.","こちらをクリックするとビデオチュートリアルをご覧いただけます。","Μπορείτε να δείτε το εκπαιδευτικό βίντεο κάνοντας κλικ εδώ","You can see the video tutorial by clicking here","Vaizdo įrašo pamoką galite pamatyti paspaudę čia","Możesz obejrzeć samouczek wideo klikając tutaj","Você pode assistir ao tutorial em vídeo clicando aqui.","Puteți viziona tutorialul video făcând clic aici","Видеоурок можно посмотреть, нажав здесь.","Videonávod si môžete pozrieť kliknutím sem","Video vadnico si lahko ogledate s klikom tukaj","Puedes ver el videotutorial haciendo clic aquí.","Du kan se videoinstruktionen genom att klicka här","Sie können sich das Video-Tutorial ansehen, indem Sie hier klicken.","Buraya tıklayarak video eğitimini izleyebilirsiniz.","A videós oktatóanyagot ide kattintva tekintheti meg"]
["Si prega di inviarci la Vostra migliore offerta per i seguenti prodotti come da allegato","Zašlete nám prosím svou nejlepší nabídku na následující produkty uvedené v příloze","请根据附件内容，向我们提供以下产品的最佳报价。","Molimo Vas da nam pošaljete Vašu najbolju ponudu za sljedeće proizvode kao u privitku","Veuillez nous faire parvenir votre meilleure offre pour les produits suivants, comme indiqué en pièce jointe.","添付ファイルに記載されている以下の製品について、最良のオファーをお送りください。","Παρακαλούμε στείλτε μας την καλύτερη προσφορά σας για τα ακόλουθα προϊόντα σύμφωνα με το συνημμένο","Please send us your best offer for the following products as per attachment","Prašome atsiųsti mums geriausią pasiūlymą dėl šių produktų, kaip nurodyta priede","Prosimy o przesłanie nam najlepszej oferty na następujące produkty zgodnie z załącznikiem","Por favor, envie-nos sua melhor oferta para os seguintes produtos, conforme anexo.","Vă rugăm să ne trimiteți cea mai bună ofertă pentru următoarele produse, conform atașamentului.","Пожалуйста, пришлите нам ваше лучшее предложение по следующим товарам в прикрепленном файле.","Pošlite nám, prosím, vašu najlepšiu ponuku na nasledujúce produkty uvedené v prílohe","Prosimo, pošljite nam vašo najboljšo ponudbo za naslednje izdelke, kot je priloženo","Por favor, envíenos su mejor oferta para los siguientes productos, tal como se adjunta.","Vänligen skicka oss ditt bästa erbjudande för följande produkter enligt bilagan","Bitte senden Sie uns Ihr bestes Angebot für die folgenden Produkte gemäß der Anlage.","Ekli belgelerde belirtilen ürünler için lütfen en iyi teklifinizi bize gönderin.","Kérjük, küldje el nekünk a mellékletben szereplő termékekre vonatkozó legjobb ajánlatát."]
["Puoi scaricare la nuova versione cliccando su questo link","Novou verzi si můžete stáhnout kliknutím na tento odkaz","您可以点击此链接下载新版本。","Novu verziju možete preuzeti klikom na ovu poveznicu","Vous pouvez télécharger la nouvelle version en cliquant sur ce lien.","このリンクをクリックすると、新しいバージョンをダウンロードできます。","Μπορείτε να κατεβάσετε τη νέα έκδοση κάνοντας κλικ σε αυτόν τον σύνδεσμο","You can download the new version by clicking on this link","Naują versiją galite atsisiųsti paspaudę šią nuorodą","Możesz pobrać nową wersję klikając na ten link","Você pode baixar a nova versão clicando neste link.","Puteți descărca noua versiune dând clic pe acest link","Вы можете скачать новую версию, перейдя по этой ссылке.","Novú verziu si môžete stiahnuť kliknutím na tento odkaz","Novo različico lahko prenesete s klikom na to povezavo","Puedes descargar la nueva versión haciendo clic en este enlace.","Du kan ladda ner den nya versionen genom att klicka på den här länken","Sie können die neue Version herunterladen, indem Sie auf diesen Link klicken.","Yeni sürümü bu bağlantıya tıklayarak indirebilirsiniz.","Az új verziót erre a linkre kattintva töltheti le"]
["Contatta il nostro referente di zona per maggiori informazioni riguardanti il calcolatore o il prodotto","Pro více informací o kalkulačce nebo produktu kontaktujte našeho místního zástupce.","如需了解有关计算器或产品的更多信息，请联系我们当地的代表。","Za više informacija o kalkulatoru ili proizvodu obratite se našem lokalnom predstavniku","Contactez votre représentant local pour obtenir plus d'informations concernant la calculatrice ou le produit.","電卓または製品に関する詳細については、お近くの担当者にお問い合わせください。","Επικοινωνήστε με τον τοπικό μας αντιπρόσωπο για περισσότερες πληροφορίες σχετικά με την αριθμομηχανή ή το προϊόν","Contact our local representative for more information regarding the calculator or the product","Norėdami gauti daugiau informacijos apie skaičiuotuvą ar produktą, susisiekite su mūsų vietiniu atstovu.","Aby uzyskać więcej informacji na temat kalkulatora lub produktu, skontaktuj się z naszym lokalnym przedstawicielem","Para obter mais informações sobre a calculadora ou o produto, entre em contato com nosso representante local.","Contactați reprezentantul nostru local pentru mai multe informații despre calculator sau produs.","Для получения дополнительной информации о калькуляторе или продукте свяжитесь с нашим местным представителем.","Pre viac informácií o kalkulačke alebo produkte kontaktujte nášho miestneho zástupcu.","Za več informacij o kalkulatorju ali izdelku se obrnite na našega lokalnega zastopnika.","Póngase en contacto con nuestro representante local para obtener más información sobre la calculadora o el producto.","Kontakta vår lokala representant för mer information om kalkylatorn eller produkten.","Für weitere Informationen zum Taschenrechner oder zum Produkt wenden Sie sich bitte an Ihren lokalen Vertreter.","Hesap makinesi veya ürün hakkında daha fazla bilgi için lütfen yerel temsilcimizle iletişime geçin.","A kalkulátorral vagy a termékkel kapcsolatos további információkért forduljon helyi képviselőnkhöz"]
[0,0,0,0,0,0,0,0,0,0,0,0,0,0,0,0,0,0,0,0]
[0,0,0,0,0,0,0,0,0,0,0,0,0,0,0,0,0,0,0,0]
[0,0,0,0,0,0,0,0,0,0,0,0,0,0,0,0,0,0,0,0]
[0,0,0,0,0,0,0,0,0,0,0,0,0,0,0,0,0,0,0,0]
[0,0,0,0,0,0,0,0,0,0,0,0,0,0,0,0,0,0,0,0]
[0,0,0,0,0,0,0,0,0,0,0,0,0,0,0,0,0,0,0,0]
[0,0,0,0,0,0,0,0,0,0,0,0,0,0,0,0,0,0,0,0]
[0,0,0,0,0,0,0,0,0,0,0,0,0,0,0,0,0,0,0,0]
[0,0,0,0,0,0,0,0,0,0,0,0,0,0,0,0,0,0,0,0]
[0,0,0,0,0,0,0,0,0,0,0,0,0,0,0,0,0,0,0,0]
[0,0,0,0,0,0,0,0,0,0,0,0,0,0,0,0,0,0,0,0]
[0,0,0,0,0,0,0,0,0,0,0,0,0,0,0,0,0,0,0,0]
[0,0,0,0,0,0,0,0,0,0,0,0,0,0,0,0,0,0,0,0]
[0,0,0,0,0,0,0,0,0,0,0,0,0,0,0,0,0,0,0,0]
[0,0,0,0,0,0,0,0,0,0,0,0,0,0,0,0,0,0,0,0]
[0,0,0,0,0,0,0,0,0,0,0,0,0,0,0,0,0,0,0,0]
[0,0,0,0,0,0,0,0,0,0,0,0,0,0,0,0,0,0,0,0]
[0,0,0,0,0,0,0,0,0,0,0,0,0,0,0,0,0,0,0,0]
[0,0,0,0,0,0,0,0,0,0,0,0,0,0,0,0,0,0,0,0]
[0,0,0,0,0,0,0,0,0,0,0,0,0,0,0,0,0,0,0,0]
[0,0,0,0,0,0,0,0,0,0,0,0,0,0,0,0,0,0,0,0]
[0,0,0,0,0,0,0,0,0,0,0,0,0,0,0,0,0,0,0,0]
[0,0,0,0,0,0,0,0,0,0,0,0,0,0,0,0,0,0,0,0]
[0,0,0,0,0,0,0,0,0,0,0,0,0,0,0,0,0,0,0,0]
[0,0,0,0,0,0,0,0,0,0,0,0,0,0,0,0,0,0,0,0]
[0,0,0,0,0,0,0,0,0,0,0,0,0,0,0,0,0,0,0,0]
[0,0,0,0,0,0,0,0,0,0,0,0,0,0,0,0,0,0,0,0]
[0,0,0,0,0,0,0,0,0,0,0,0,0,0,0,0,0,0,0,0]
[0,0,0,0,0,0,0,0,0,0,0,0,0,0,0,0,0,0,0,0]
[0,0,0,0,0,0,0,0,0,0,0,0,0,0,0,0,0,0,0,0]
[0,0,0,0,0,0,0,0,0,0,0,0,0,0,0,0,0,0,0,0]
[0,0,0,0,0,0,0,0,0,0,0,0,0,0,0,0,0,0,0,0]
[0,0,0,0,0,0,0,0,0,0,0,0,0,0,0,0,0,0,0,0]
[0,0,0,0,0,0,0,0,0,0,0,0,0,0,0,0,0,0,0,0]
[0,0,0,0,0,0,0,0,0,0,0,0,0,0,0,0,0,0,0,0]
[0,0,0,0,0,0,0,0,0,0,0,0,0,0,0,0,0,0,0,0]
[0,0,0,0,0,0,0,0,0,0,0,0,0,0,0,0,0,0,0,0]
[0,0,0,0,0,0,0,0,0,0,0,0,0,0,0,0,0,0,0,0]
[0,0,0,0,0,0,0,0,0,0,0,0,0,0,0,0,0,0,0,0]
[0,0,0,0,0,0,0,0,0,0,0,0,0,0,0,0,0,0,0,0]
[0,0,0,0,0,0,0,0,0,0,0,0,0,0,0,0,0,0,0,0]
[0,0,0,0,0,0,0,0,0,0,0,0,0,0,0,0,0,0,0,0]
[0,0,0,0,0,0,0,0,0,0,0,0,0,0,0,0,0,0,0,0]
[0,0,0,0,0,0,0,0,0,0,0,0,0,0,0,0,0,0,0,0]
[0,0,0,0,0,0,0,0,0,0,0,0,0,0,0,0,0,0,0,0]
[0,0,0,0,0,0,0,0,0,0,0,0,0,0,0,0,0,0,0,0]
[0,0,0,0,0,0,0,0,0,0,0,0,0,0,0,0,0,0,0,0]
[0,0,0,0,0,0,0,0,0,0,0,0,0,0,0,0,0,0,0,0]
[0,0,0,0,0,0,0,0,0,0,0,0,0,0,0,0,0,0,0,0]
[0,0,0,0,0,0,0,0,0,0,0,0,0,0,0,0,0,0,0,0]
[0,0,0,0,0,0,0,0,0,0,0,0,0,0,0,0,0,0,0,0]
[0,0,0,0,0,0,0,0,0,0,0,0,0,0,0,0,0,0,0,0]
[0,0,0,0,0,0,0,0,0,0,0,0,0,0,0,0,0,0,0,0]
[0,0,0,0,0,0,0,0,0,0,0,0,0,0,0,0,0,0,0,0]
[0,0,0,0,0,0,0,0,0,0,0,0,0,0,0,0,0,0,0,0]
[0,0,0,0,0,0,0,0,0,0,0,0,0,0,0,0,0,0,0,0]
[0,0,0,0,0,0,0,0,0,0,0,0,0,0,0,0,0,0,0,0]
[0,0,0,0,0,0,0,0,0,0,0,0,0,0,0,0,0,0,0,0]
[0,0,0,0,0,0,0,0,0,0,0,0,0,0,0,0,0,0,0,0]
[0,0,0,0,0,0,0,0,0,0,0,0,0,0,0,0,0,0,0,0]
[0,0,0,0,0,0,0,0,0,0,0,0,0,0,0,0,0,0,0,0]
[0,0,0,0,0,0,0,0,0,0,0,0,0,0,0,0,0,0,0,0]
[0,0,0,0,0,0,0,0,0,0,0,0,0,0,0,0,0,0,0,0]
[0,0,0,0,0,0,0,0,0,0,0,0,0,0,0,0,0,0,0,0]
[0,0,0,0,0,0,0,0,0,0,0,0,0,0,0,0,0,0,0,0]
[0,0,0,0,0,0,0,0,0,0,0,0,0,0,0,0,0,0,0,0]
[0,0,0,0,0,0,0,0,0,0,0,0,0,0,0,0,0,0,0,0]
[0,0,0,0,0,0,0,0,0,0,0,0,0,0,0,0,0,0,0,0]
[0,0,0,0,0,0,0,0,0,0,0,0,0,0,0,0,0,0,0,0]
[0,0,0,0,0,0,0,0,0,0,0,0,0,0,0,0,0,0,0,0]
[0,0,0,0,0,0,0,0,0,0,0,0,0,0,0,0,0,0,0,0]
[0,0,0,0,0,0,0,0,0,0,0,0,0,0,0,0,0,0,0,0]
[0,0,0,0,0,0,0,0,0,0,0,0,0,0,0,0,0,0,0,0]
[0,0,0,0,0,0,0,0,0,0,0,0,0,0,0,0,0,0,0,0]
[0,0,0,0,0,0,0,0,0,0,0,0,0,0,0,0,0,0,0,0]
[0,0,0,0,0,0,0,0,0,0,0,0,0,0,0,0,0,0,0,0]
[0,0,0,0,0,0,0,0,0,0,0,0,0,0,0,0,0,0,0,0]
[0,0,0,0,0,0,0,0,0,0,0,0,0,0,0,0,0,0,0,0]
[0,0,0,0,0,0,0,0,0,0,0,0,0,0,0,0,0,0,0,0]
[0,0,0,0,0,0,0,0,0,0,0,0,0,0,0,0,0,0,0,0]
[0,0,0,0,0,0,0,0,0,0,0,0,0,0,0,0,0,0,0,0]
[0,0,0,0,0,0,0,0,0,0,0,0,0,0,0,0,0,0,0,0]
[0,0,0,0,0,0,0,0,0,0,0,0,0,0,0,0,0,0,0,0]
[0,0,0,0,0,0,0,0,0,0,0,0,0,0,0,0,0,0,0,0]
[0,0,0,0,0,0,0,0,0,0,0,0,0,0,0,0,0,0,0,0]
[0,0,0,0,0,0,0,0,0,0,0,0,0,0,0,0,0,0,0,0]
[0,0,0,0,0,0,0,0,0,0,0,0,0,0,0,0,0,0,0,0]
[0,0,0,0,0,0,0,0,0,0,0,0,0,0,0,0,0,0,0,0]
[0,0,0,0,0,0,0,0,0,0,0,0,0,0,0,0,0,0,0,0]
[0,0,0,0,0,0,0,0,0,0,0,0,0,0,0,0,0,0,0,0]
["Calcolo del sistema linea vita \"PATROL\"","VÝPOČET ZÁCHRANNÉ LINIE HLÍDKY","巡逻生命线计算","Proračun sustava za spašavanje \"PATROL\".","CALCUL DE LA LIGNE DE VIE \"PATROL\"",0,0,"PATROL LIFE LINE CALCULATOR",0,0,"Cálculo do sistema de linhas de vida PATROL",0,0,0,0,"Cálculo del sistema de línea de vida \"PATROL",0,"PATROL\"-Rettungsleinen-Systemberechnung",0,0]
["Forze e deformazione del sistema","Síly a deformace systému","系统受力和变形","Sile i deformacije sustava","Forces et déformations du système",0,0,"Forces and deflection of the system",0,0,"Forças e deformações do sistema",0,0,0,0,"Fuerzas y deformaciones del sistema",0,"Systemkräfte und Verformung",0,0]
["Assorbitore-tensionatore","Absorber-tensioner","吸收器-拉力器","Apsorber-zatezač","Absorbeur-tendeur",0,0,"Assorber-Tensioner",0,0,"Absorvedor-tensor",0,0,0,0,"Absorbedor-tensor",0,"Absorber-Spannvorrichtung",0,0]
["Non è consigliabile avere una linea di vita con angoli inferiori a 90°. In questi casi, si raccomanda di dividere la linea di vita in quel punto.","Nedoporučuje se mít záchranné lano s úhly menšími než 90°. V takových případech se doporučuje záchranné lano v tomto bodě rozdělit.","生命线的角度小于90°是不可取的。在这种情况下，建议在该点上拆分救生绳。","Ne preporučuje se imati uže za spašavanje s kutovima manjim od 90°. U tim slučajevima preporuča se razdvojiti pojas za spašavanje na tom mjestu.","Il est déconseillé d'avoir une ligne de vie avec des angles inférieurs à 90°. Dans ce cas, il est recommandé de diviser la ligne de vie à cet endroit.",0,0,"It is not recommended to have a lifeline with angles of less than 90°. In such cases, it is recommended to split the lifeline at that point.",0,0,"Não é aconselhável ter uma linha de vida com ângulos inferiores a 90°. Nestes casos, recomenda-se que a linha de vida seja dividida nesse ponto.",0,0,0,0,"No es aconsejable tener una línea de vida con ángulos inferiores a 90°. En tales casos, se recomienda dividir la línea de vida en ese punto.",0,"Es ist nicht ratsam, eine Rettungsleine mit einem Winkel von weniger als 90° zu verwenden. In solchen Fällen empfiehlt es sich, die Laufsicherung an dieser Stelle zu teilen.",0,0]
["Numero max di utenti","Maximální počet uživatelů","最大用户数","Maksimalan broj korisnika","Nombre maximal d'utilisateurs",0,0,"Max number of users",0,0,"Número máximo de utilizadores",0,0,0,0,"Número máximo de usuarios",0,"Max. Anzahl der Benutzer",0,0]
["Carichi da manuale di installazione (EN795)","Zatížení podle instalační příručky (EN795)","按照安装手册（EN795）规定的载荷","Učitava se iz priručnika za instalaciju (EN795)","Charges selon le manuel d'installation (EN795)",0,0,"Installation manual loads (EN795)",0,0,"Cargas de acordo com o manual de instalação (EN795)",0,0,0,0,"Cargas según manual de instalación (EN795)",0,"Belastungen gemäß Montageanleitung (EN795)",0,0]
["Interasse","Středová vzdálenost","中心距离","Međuosovinski razmak","Entraxe",0,0,"Span",0,0,"Distância central",0,0,0,0,"Distancia entre ejes",0,"Achsabstand",0,0]
["Flessione massima Cavo","Maximální průhyb Lano","最大挠度 电缆","Maksimalno savijanje kabela","Déviation maximale Câble",0,0,"Max Deflection Cable",0,0,"Deflexão máxima Cabo",0,0,0,0,"Desviación máxima Cable",0,"Maximale Durchbiegung Seil",0,0]
["Fmax","Fmax","Fmax","Fmax","Fmax",0,0,"Fmax",0,0,"Fmax",0,0,0,0,"Fmax",0,"Fmax",0,0]
["Lunghezza massima campata","Maximální délka rozpětí","最大跨度长度","Maksimalna duljina raspona","Longueur maximale de la travée",0,0,"Max length span",0,0,"Comprimento máximo do vão",0,0,0,0,"Longitud máxima del vano",0,"Maximale Länge der Spannweite",0,0]
["Carico applicato alla campata all'interno di questo segmento","Zatížení působící na rozpětí v tomto segmentu","在此段内应用于跨度的载荷","Opterećenje primijenjeno na raspon unutar ovog segmenta","Charge appliquée à la portée à l'intérieur de ce segment",0,0,"Load applied on span within this segment",0,0,"Carga aplicada ao vão dentro deste segmento",0,0,0,0,"Carga aplicada al vano dentro de este segmento",0,"Auf die Spannweite innerhalb dieses Segments wirkende Last",0,0]
["Reazione sugli elementi di ancoraggio della fune a più campate","Reakce na kotevní prvky lana ve více rozpětích","多跨绳索锚固件上的反作用力","Reakcija na elemente sidrenja višerasponskog užeta","Réaction sur les éléments d'ancrage de câbles à travées multiples",0,0,"Reaction on anchor elements of the multi-span rope",0,0,"Reacção em elementos de ancoragem de cabos com vários vãos",0,0,0,0,"Reacción en elementos de anclaje de cable de varios vanos",0,"Reaktion auf mehrfeldrige Seilverankerungselemente",0,0]
["Curva","Křivka","曲线","Zavoj","Courbe",0,0,"Curve",0,0,"Curva",0,0,0,0,"Curva",0,"Kurve",0,0]
["Carico massimo di progetto","Maximální návrhové zatížení","最大设计载荷","Maksimalno proračunsko opterećenje","Charge maximale de conception",0,0,"Max design load",0,0,"Carga máxima de projecto",0,0,0,0,"Carga máxima de diseño",0,"Maximale Bemessungslast",0,0]
["Freccia della fune della campata rispetto ai vincoli delle estremità di giunzione","Křivka rozpětí lana ve vztahu k omezením konců spojů","跨度绳索的曲线与连接端约束的关系","Otklon rasponskog užeta u odnosu na ograničenja kraja spoja","Courbe du câble de la travée par rapport aux contraintes des extrémités de l'épissure",0,0,"Span rope deflection with respect to joining end constraints",0,0,"Curva do cabo do vão em relação às restrições das extremidades das emendas",0,0,0,0,"Curva de la cuerda del vano en relación con las limitaciones de los extremos de empalme",0,"Kurve des Spannseils in Bezug auf die Zwänge der Spleißenden",0,0]
["Campata caricata","Zatížené rozpětí","受载跨度","Zaljev natovaren","Portée chargée",0,0,"Loaded Span",0,0,"Vão carregado",0,0,0,0,"Vano cargado",0,"Belastete Spannweite",0,0]
["Freccia","Šipka","箭头","Strijela","Flèche",0,0,"Deflection ",0,0,"Seta",0,0,0,0,"Flecha",0,"Pfeil",0,0]
["Modulo","Modul","模块","Modul","Module",0,0,"Module",0,0,"Módulo",0,0,0,0,"Módulo",0,"Modul",0,0]
[" m per l'allungamento della fune già considerato"," m pro již uvažované prodloužení lana"," 米，为已经考虑的绳索伸长率","  m za već razmatrano produljenje užeta"," m pour l'allongement du câble déjà pris en compte",0,0," m for rope elongation already considered",0,0," m para o alongamento do cabo já considerado",0,0,0,0," m para el alargamiento de la cuerda ya considerado",0," m für die bereits berücksichtigte Seildehnung",0,0]
["Non è consigliabile avere una linea di vita con angoli inferiori a 90°. In questi casi, si raccomanda di dividere la linea di vita in quel punto.","Není vhodné mít záchranné lano s úhly menšími než 90°. V takových případech se doporučuje záchranné lano v tomto bodě rozdělit.","角度小于90°的生命线是不可取的。在这种情况下，建议在这一点上对生命线进行分割。","Ne preporučuje se imati uže za spašavanje s kutovima manjim od 90°. U tim slučajevima preporuča se razdvojiti pojas za spašavanje na tom mjestu.","Il est déconseillé d'avoir une ligne de vie avec des angles inférieurs à 90°. Dans ce cas, il est recommandé de diviser la ligne de vie à cet endroit.",0,0,"It is not recommended to have a lifeline with angles of less than 90°. In such cases, it is recommended to split the lifeline at that point.",0,0,"Não é aconselhável ter uma linha de vida com ângulos inferiores a 90°. Nestes casos, recomenda-se a divisão da linha de vida nesse ponto.",0,0,0,0,"No es aconsejable tener una línea de vida con ángulos inferiores a 90°. En tales casos, se recomienda dividir la línea de vida en ese punto.",0,"Es ist nicht ratsam, eine Rettungsleine mit Winkeln von weniger als 90° zu verwenden. In solchen Fällen empfiehlt es sich, die Rettungsleine an dieser Stelle zu teilen.",0,0]
["Disegnare i segmenti della linea di vita","Kreslení segmentů záchranného lana","绘制救生绳段","Nacrtajte segmente linije života","Dessin des segments de la ligne de vie",0,0,"Draw the segments of your life line",0,0,"Desenho dos segmentos da linha de vida",0,0,0,0,"Trazado de los segmentos de la línea de vida",0,"Zeichnen der Rettungsleinenabschnitte",0,0]
["I fissaggi e gli ancoraggi devono essere gli stessi in tutti i punti di ancoraggio.","Upevnění a kotvení musí být ve všech kotevních bodech stejné.","所有锚点的固定和锚固必须相同。","Pričvršćivači i sidra moraju biti isti na svim sidrištima.","Les fixations et les ancrages doivent être identiques à tous les points d'ancrage.",0,0,"Fixings and anchors must be the same in all anchor points.",0,0,"As fixações e as ancoragens devem ser as mesmas em todos os pontos de ancoragem.",0,0,0,0,"Las fijaciones y anclajes deben ser los mismos en todos los puntos de anclaje.",0,"Die Befestigungen und Verankerungen müssen an allen Verankerungspunkten identisch sein.",0,0]
["Prima della costruzione, tutti i calcoli devono essere verificati e approvati dal progettista responsabile.","Před zahájením stavby musí být všechny výpočty ověřeny a schváleny odpovědným projektantem.","在施工前，所有的计算都必须经过负责任的设计师的核实和批准。","Prije izgradnje sve proračune mora ovjeriti i odobriti odgovorni projektant.","Avant la construction, tous les calculs doivent être vérifiés et approuvés par le concepteur responsable.",0,0,"Before the construction, all calculation must be verified and approved by the responsible designer.",0,0,"Antes da construção, todos os cálculos devem ser verificados e aprovados pelo projectista responsável.",0,0,0,0,"Antes de la construcción, todos los cálculos deben ser verificados y aprobados por el diseñador responsable.",0,"Vor dem Bau müssen alle Berechnungen vom zuständigen Konstrukteur überprüft und genehmigt werden.",0,0]
["NOTE","POZNÁMKY","注意事项","BILJEŠKA","NOTES",0,0,"NOTES",0,0,"NOTAS",0,0,0,0,"NOTAS",0,"ANMERKUNGEN",0,0]
["I valori di resistenza meccanica e la geometria si riferiscono alla certificazione del prodotto.","Hodnoty mechanické odolnosti a geometrie se vztahují k certifikaci výrobku.","机械阻力值和几何形状参考产品认证。","Vrijednosti mehaničke otpornosti i geometrija odnose se na certifikaciju proizvoda.","Les valeurs de résistance mécanique et la géométrie se réfèrent à la certification du produit.",0,0,"Mechanical resistance values and geometry refer to product certification.",0,0,"Os valores de resistência mecânica e a geometria referem-se à certificação do produto.",0,0,0,0,"Los valores de resistencia mecánica y la geometría se refieren a la certificación del producto.",0,"Die Werte für die mechanische Festigkeit und die Geometrie beziehen sich auf die Produktzertifizierung.",0,0]
["La verifica della resistenza dei sistemi di ancoraggio deve essere realizzata a parte.","Ověření pevnosti kotevních systémů musí být provedeno samostatně.","锚固系统的强度验证必须单独进行。","Provjera čvrstoće sustava za sidrenje mora se provesti zasebno.","La vérification de la résistance des systèmes d'ancrage doit être effectuée séparément.",0,0,"Verification of anchoring systems resistance must be realized apart.",0,0,"A verificação da resistência dos sistemas de ancoragem deve ser efectuada separadamente.",0,0,0,0,"La verificación de la resistencia de los sistemas de anclaje debe realizarse por separado.",0,"Der Nachweis der Festigkeit der Verankerungssysteme ist gesondert zu erbringen.",0,0]
["Tutti i calcoli devono essere verificati e approvati dal progettista responsabile prima dell'esecuzione. Il progettista è tenuto a verificare, ad ogni utilizzo, la conformità dei dati alle normative vigenti e al progetto. La responsabilità ultima della scelta del prodotto appropriato per una specifica applicazione spetta al progettista.","Všechny výpočty musí být před realizací ověřeny a schváleny odpovědným projektantem. Projektant je odpovědný za ověření shody údajů s platnými předpisy a za návrh při každém použití. Konečnou odpovědnost za výběr vhodného výrobku pro konkrétní použití nese projektant.","所有的计算结果必须在执行前由负责的设计师进行核实和批准。设计者负责验证数据是否符合适用的规定，以及设计是否符合每一种用途。为特定的应用选择合适的产品的最终责任在于设计师。","Sve proračune prije izvođenja mora ovjeriti i odobriti odgovorni projektant. Projektant je dužan pri svakoj uporabi provjeriti usklađenost podataka s važećim propisima i projektom. Konačna odgovornost za odabir odgovarajućeg proizvoda za određenu primjenu leži na dizajneru.","Tous les calculs doivent être vérifiés et approuvés par le concepteur responsable avant l'exécution. Le concepteur est responsable de la vérification de la conformité des données avec les réglementations applicables et de la conception avec chaque utilisation. La responsabilité finale de la sélection du produit approprié pour une application spécifique incombe au concepteur.",0,0,"All calculations must be verified and approved by the responsible designer prior to execution. The designer are responsible to verify, at each use, the conformity of the data to the regulations in force and to the project. The ultimate responsibility for choosing the appropriate product for a specific application lies with the designer.",0,0,"Todos os cálculos devem ser verificados e aprovados pelo projectista responsável antes da execução. O projectista é responsável por verificar a conformidade dos dados com os regulamentos aplicáveis e o projecto com cada utilização. A responsabilidade final pela selecção do produto adequado para uma aplicação específica cabe ao projectista.",0,0,0,0,"Todos los cálculos deben ser verificados y aprobados por el proyectista responsable antes de la ejecución. El proyectista es responsable de verificar la conformidad de los datos con la normativa aplicable y del diseño con cada uso. La responsabilidad última de la selección del producto adecuado para una aplicación específica recae en el proyectista.",0,"Alle Berechnungen müssen vor der Ausführung durch den verantwortlichen Planer überprüft und genehmigt werden. Der Planer ist dafür verantwortlich, die Konformität der Daten mit den geltenden Vorschriften und der Konstruktion bei jeder Verwendung zu überprüfen. Die endgültige Verantwortung für die Auswahl des geeigneten Produkts für eine bestimmte Anwendung liegt beim Planer.",0,0]
["I risultati ottenuti in questa scheda sono di natura indicativa e vanno considerati come un servizio tecnico-commerciale nell'ambito dell'attività di vendita di Rotho Blaas srl. Il numero e lo spessore degli inserti devono essere determinati dal progettista responsabile che è tenuto a verificare l'esattezza dei risultati derivanti dall'elaborazione dei dati inseriti. Rotho Blaas srl non garantisce la conformità alla normativa vigente e la progettazione dei calcoli effettuati tramite questo foglio di calcolo. In particolare, in seguito alla modifica delle disposizioni pertinenti, quali ad esempio norme, approvazioni, ecc. il programma potrebbe diventare, in parte o in toto, non valido. Rotho Blaas srl non garantisce e non sarà responsabile per danni o conseguenze dirette o indirette o altro, in qualsiasi modo (garanzia per difetti, garanzia per malfunzionamento, responsabilità del prodotto o legale, ecc.) L'Utente dichiara di utilizzare il foglio di calcolo in qualità di professionista con l'obbligo e la responsabilità di verificare che il foglio di calcolo risponda alle sue specifiche esigenze.","Výsledky získané v tomto listu mají orientační charakter a je třeba je považovat za technicko-obchodní službu v rámci prodejní činnosti společnosti Rotho Blaas srl. Počet a tloušťku vložek musí určit odpovědný projektant, který je povinen ověřit správnost získaných výsledků zpracováním zadaných údajů. Společnost Rotho Blaas srl neručí za soulad s platnými předpisy a za provedení výpočtů provedených pomocí této tabulky. Zejména v důsledku změn příslušných předpisů, jako jsou normy, schválení atd. může program částečně nebo zcela pozbýt platnosti. Společnost Rotho Blaas s.r.o. nezaručuje a neodpovídá za žádné přímé ani nepřímé škody nebo následky (záruka za vady, záruka za nefunkčnost, odpovědnost za výrobek nebo právní odpovědnost atd. Uživatel prohlašuje, že tabulkový procesor používá jako profesionál s povinností a odpovědností ověřit, zda tabulkový procesor splňuje jeho konkrétní požadavky.","本表中获得的结果是指示性的，应视为Rotho Blaas srl公司销售活动中的一项技术-商业服务。嵌入物的数量和厚度必须由负责的设计师决定，他有义务通过处理输入的数据来验证所获得的结果的准确性。Rotho Blaas srl公司不保证使用本电子表格进行的计算符合现行法规和设计。特别是，由于相关法规的变化，如标准、批准等，该方案可能部分或全部无效。Rotho Blaas有限公司不保证也不对任何直接或间接的损害或后果负责（缺陷保证、故障保证、产品或法律责任等）。 用户声明他/她是作为专业人士使用该电子表格，有义务和责任验证该电子表格是否符合他/她的具体要求。","Rezultati dobiveni u ovoj tablici indikativne su prirode i trebaju se smatrati tehničko-komercijalnom uslugom u okviru prodajne aktivnosti tvrtke Rotho Blaas srl. Broj i debljinu umetaka mora odrediti odgovorni projektant koji je dužan provjeriti točnost rezultata obrade unesenih podataka. Rotho Blaas srl ne jamči usklađenost s važećim zakonima i dizajnom izračuna napravljenih pomoću ove proračunske tablice. Konkretno, nakon izmjene relevantnih odredbi, kao što su na primjer standardi, odobrenja itd. program može postati, u cijelosti ili djelomično, nevažeći. Rotho Blaas srl ne jamči i neće biti odgovoran za štete ili izravne ili neizravne posljedice ili na bilo koji drugi način, na bilo koji način (jamstvo za nedostatke, jamstvo za kvarove, proizvod ili pravna odgovornost, itd.). Korisnik izjavljuje da koristi proračunsku tablicu kao profesionalac s obvezom i odgovornošću provjeriti zadovoljava li proračunska tablica vaše specifične potrebe.","Les résultats obtenus dans cette fiche ont un caractère indicatif et doivent être considérés comme un service technico-commercial dans le cadre de l'activité commerciale de Rotho Blaas srl. Le nombre et l'épaisseur des inserts doivent être déterminés par le concepteur responsable, qui est tenu de vérifier l'exactitude des résultats obtenus en traitant les données introduites. Rotho Blaas srl ne garantit pas la conformité aux normes en vigueur et la conception des calculs effectués à l'aide de cette feuille de calcul. En particulier, à la suite de changements dans les réglementations pertinentes, telles que les normes, les approbations, etc., le programme peut devenir invalide en partie ou en totalité. Rotho Blaas Ltd. ne garantit pas et n'est pas responsable des dommages ou conséquences directs ou indirects quels qu'ils soient (garantie pour les défauts, garantie pour les dysfonctionnements, responsabilité du fait des produits ou responsabilité juridique, etc. L'utilisateur déclare qu'il utilise le tableur en tant que professionnel avec l'obligation et la responsabilité de vérifier que le tableur répond à ses besoins spécifiques.",0,0,"The results obtained in this sheet are of an indicative nature and should be considered as a technical-commercial service within the Rotho Blaas srl sales activity. The number and thickness of the inserts must be determined by the responsible designer who is required to check the accuracy of the results deriving from the processing of the data entered. Rotho Blaas srl does not guarantee compliance with current legislation and the design of the calculations made through this spreadsheet. In particular, following the amendment of the pertinent provisions such as, for example standards, approvals, etc. the program may become, in part or in whole, invalid. Rotho Blaas srl does not guarantee and will not be responsible for direct or indirect damages or consequences or other, in any way (warranty for defects, warranty for malfunction, product or legal responsibility, etc.). The User declares to use the spreadsheet as a professional with the obligation and responsibility to verify that the spreadsheet meets his specific needs.",0,0,"Os resultados obtidos nesta ficha são de natureza indicativa e devem ser considerados como um serviço técnico-comercial no âmbito da actividade comercial da Rotho Blaas srl. O número e a espessura das inserções devem ser determinados pelo projectista responsável, que tem a obrigação de verificar a exactidão dos resultados obtidos através do tratamento dos dados introduzidos. Rotho Blaas srl não garante a conformidade com a regulamentação em vigor e a concepção dos cálculos efectuados com esta folha de cálculo. Em particular, devido a alterações nas normas aplicáveis, tais como normas, aprovações, etc., o programa pode tornar-se inválido em parte ou na totalidade. A Rotho Blaas Ltd. não garante e não será responsável por qualquer dano ou consequência directa ou indirecta (garantia de defeitos, garantia de mau funcionamento, responsabilidade pelo produto ou legal, etc.). O utilizador declara que está a utilizar a folha de cálculo como profissional, com a obrigação e a responsabilidade de verificar se a folha de cálculo satisfaz as suas necessidades específicas.",0,0,0,0,"Los resultados obtenidos en esta ficha son de carácter indicativo y deben considerarse como un servicio técnico-comercial dentro de la actividad de venta de Rotho Blaas srl. El número y el espesor de los insertos deben ser determinados por el proyectista responsable, que está obligado a verificar la exactitud de los resultados obtenidos mediante el tratamiento de los datos introducidos. Rotho Blaas srl no garantiza la conformidad con la normativa vigente y el diseño de los cálculos realizados con esta hoja de cálculo. En particular, como consecuencia de cambios en la normativa aplicable, como normas, homologaciones, etc., el programa puede perder validez total o parcial. Rotho Blaas Ltd. no garantiza y no será responsable de ningún daño o consecuencia directa o indirecta (garantía por defectos, garantía por mal funcionamiento, responsabilidad legal o del producto, etc.) El usuario declara que utiliza la hoja de cálculo como profesional con la obligación y responsabilidad de verificar que la hoja de cálculo cumple sus requisitos específicos.",0,"Die in diesem Blatt enthaltenen Ergebnisse sind Richtwerte und sind als technisch-kommerzieller Service im Rahmen der Verkaufstätigkeit der Rotho Blaas srl zu betrachten. Die Anzahl und die Dicke der Einlagen müssen vom verantwortlichen Planer festgelegt werden, der verpflichtet ist, die Richtigkeit der durch die Verarbeitung der eingegebenen Daten erhaltenen Ergebnisse zu überprüfen. Rotho Blaas srl übernimmt keine Garantie für die Übereinstimmung der mit dieser Tabelle durchgeführten Berechnungen mit den geltenden Vorschriften und der Konstruktion. Insbesondere kann das Programm aufgrund von Änderungen der einschlägigen Vorschriften, wie Normen, Zulassungen usw., ganz oder teilweise ungültig werden. Die Rotho Blaas AG übernimmt keine Garantie und haftet nicht für direkte oder indirekte Schäden oder Folgen (Mängelhaftung, Garantie für Fehlfunktionen, Produkt- oder Rechtshaftung usw.) Der Benutzer erklärt, dass er das Tabellenblatt als Fachmann verwendet und verpflichtet ist, zu überprüfen, ob das Tabellenblatt seinen spezifischen Anforderungen entspricht.",0,0]
["ancoraggi alla campata caricata","anchors at the loaded span","anchors at the loaded span","sidra na opterećeni raspon","ancrages à la portée chargée","anchors at the loaded span","anchors at the loaded span","anchors at the loaded span","anchors at the loaded span","anchors at the loaded span","anchors at the loaded span","anchors at the loaded span","anchors at the loaded span","anchors at the loaded span","anchors at the loaded span","anclajes al vano con carga","anchors at the loaded span","Verankerungen an der belasteten Spannweite",0,0]
["ancoraggi alla campata non caricata","anchors at the unloaded span","anchors at the unloaded span","sidra za neopterećeni raspon","ancrages à la portée non chargée","anchors at the unloaded span","anchors at the unloaded span","anchors at the unloaded span","anchors at the unloaded span","anchors at the unloaded span","anchors at the unloaded span","anchors at the unloaded span","anchors at the unloaded span","anchors at the unloaded span","anchors at the unloaded span","anclajes al vano sin carga","anchors at the unloaded span","Verankerungen an der unbelasteten Spannweite",0,0]
["Intermedio Tratto","Last Intermediate","Last Intermediate","Zadnji posrednik","Intermédiaire du segment","Last Intermediate","Last Intermediate","Intermediate of segment","Last Intermediate","Last Intermediate","Last Intermediate","Last Intermediate","Last Intermediate","Last Intermediate","Last Intermediate","Intermedio de segmento","Last Intermediate","Zwischenprodukt des Segments",0,0]
["Termine la linea vita con Fine o Loop","End the lifeline with End or Loop","End the lifeline with End or Loop","Završite pojas za spašavanje pomoću Fino ili Loop","Terminer la ligne de vie avec End ou Loop","End the lifeline with End or Loop","End the lifeline with End or Loop","End the lifeline with End or Loop","End the lifeline with End or Loop","End the lifeline with End or Loop","End the lifeline with End or Loop","End the lifeline with End or Loop","End the lifeline with End or Loop","End the lifeline with End or Loop","End the lifeline with End or Loop","Fin de línea de vida con extremo o bucle","End the lifeline with End or Loop","Ende der Rettungsleine mit Ende oder Schleife",0,0]
["sul Desktop",0,0,0,"sur le ordinateur de bureau",0,0,"on the Desktop",0,0,0,0,0,0,0,"en el escritorio",0,"Auf dem Bildschirm",0,0]
[0,0,0,0,0,0,0,0,0,0,0,0,0,0,0,0,0,0,0,0]
[0,0,0,0,0,0,0,0,0,0,0,0,0,0,0,0,0,0,0,0]
[0,0,0,0,0,0,0,0,0,0,0,0,0,0,0,0,0,0,0,0]
[0,0,0,0,0,0,0,0,0,0,0,0,0,0,0,0,0,0,0,0]
[0,0,0,0,0,0,0,0,0,0,0,0,0,0,0,0,0,0,0,0]
[0,0,0,0,0,0,0,0,0,0,0,0,0,0,0,0,0,0,0,0]
[0,0,0,0,0,0,0,0,0,0,0,0,0,0,0,0,0,0,0,0]
[0,0,0,0,0,0,0,0,0,0,0,0,0,0,0,0,0,0,0,0]
[0,0,0,0,0,0,0,0,0,0,0,0,0,0,0,0,0,0,0,0]
[0,0,0,0,0,0,0,0,0,0,0,0,0,0,0,0,0,0,0,0]
[0,0,0,0,0,0,0,0,0,0,0,0,0,0,0,0,0,0,0,0]
[0,0,0,0,0,0,0,0,0,0,0,0,0,0,0,0,0,0,0,0]
[0,0,0,0,0,0,0,0,0,0,0,0,0,0,0,0,0,0,0,0]
[0,0,0,0,0,0,0,0,0,0,0,0,0,0,0,0,0,0,0,0]
[0,0,0,0,0,0,0,0,0,0,0,0,0,0,0,0,0,0,0,0]
[0,0,0,0,0,0,0,0,0,0,0,0,0,0,0,0,0,0,0,0]
[0,0,0,0,0,0,0,0,0,0,0,0,0,0,0,0,0,0,0,0]
[0,0,0,0,0,0,0,0,0,0,0,0,0,0,0,0,0,0,0,0]
[0,0,0,0,0,0,0,0,0,0,0,0,0,0,0,0,0,0,0,0]
[0,0,0,0,0,0,0,0,0,0,0,0,0,0,0,0,0,0,0,0]
[0,0,0,0,0,0,0,0,0,0,0,0,0,0,0,0,0,0,0,0]
[0,0,0,0,0,0,0,0,0,0,0,0,0,0,0,0,0,0,0,0]
[0,0,0,0,0,0,0,0,0,0,0,0,0,0,0,0,0,0,0,0]
[0,0,0,0,0,0,0,0,0,0,0,0,0,0,0,0,0,0,0,0]
[0,0,0,0,0,0,0,0,0,0,0,0,0,0,0,0,0,0,0,0]
[0,0,0,0,0,0,0,0,0,0,0,0,0,0,0,0,0,0,0,0]
[0,0,0,0,0,0,0,0,0,0,0,0,0,0,0,0,0,0,0,0]
[0,0,0,0,0,0,0,0,0,0,0,0,0,0,0,0,0,0,0,0]
[0,0,0,0,0,0,0,0,0,0,0,0,0,0,0,0,0,0,0,0]
[0,0,0,0,0,0,0,0,0,0,0,0,0,0,0,0,0,0,0,0]
[0,0,0,0,0,0,0,0,0,0,0,0,0,0,0,0,0,0,0,0]
[0,0,0,0,0,0,0,0,0,0,0,0,0,0,0,0,0,0,0,0]
[0,0,0,0,0,0,0,0,0,0,0,0,0,0,0,0,0,0,0,0]
[0,0,0,0,0,0,0,0,0,0,0,0,0,0,0,0,0,0,0,0]
[0,0,0,0,0,0,0,0,0,0,0,0,0,0,0,0,0,0,0,0]
[0,0,0,0,0,0,0,0,0,0,0,0,0,0,0,0,0,0,0,0]
[0,0,0,0,0,0,0,0,0,0,0,0,0,0,0,0,0,0,0,0]
[0,0,0,0,0,0,0,0,0,0,0,0,0,0,0,0,0,0,0,0]
[0,0,0,0,0,0,0,0,0,0,0,0,0,0,0,0,0,0,0,0]
[0,0,0,0,0,0,0,0,0,0,0,0,0,0,0,0,0,0,0,0]
[0,0,0,0,0,0,0,0,0,0,0,0,0,0,0,0,0,0,0,0]
[0,0,0,0,0,0,0,0,0,0,0,0,0,0,0,0,0,0,0,0]
[0,0,0,0,0,0,0,0,0,0,0,0,0,0,0,0,0,0,0,0]
[0,0,0,0,0,0,0,0,0,0,0,0,0,0,0,0,0,0,0,0]
[0,0,0,0,0,0,0,0,0,0,0,0,0,0,0,0,0,0,0,0]
[0,0,0,0,0,0,0,0,0,0,0,0,0,0,0,0,0,0,0,0]
[0,0,0,0,0,0,0,0,0,0,0,0,0,0,0,0,0,0,0,0]
[0,0,0,0,0,0,0,0,0,0,0,0,0,0,0,0,0,0,0,0]
[0,0,0,0,0,0,0,0,0,0,0,0,0,0,0,0,0,0,0,0]
[0,0,0,0,0,0,0,0,0,0,0,0,0,0,0,0,0,0,0,0]
[0,0,0,0,0,0,0,0,0,0,0,0,0,0,0,0,0,0,0,0]
[0,0,0,0,0,0,0,0,0,0,0,0,0,0,0,0,0,0,0,0]
[0,0,0,0,0,0,0,0,0,0,0,0,0,0,0,0,0,0,0,0]
[0,0,0,0,0,0,0,0,0,0,0,0,0,0,0,0,0,0,0,0]
[0,0,0,0,0,0,0,0,0,0,0,0,0,0,0,0,0,0,0,0]
[0,0,0,0,0,0,0,0,0,0,0,0,0,0,0,0,0,0,0,0]
[0,0,0,0,0,0,0,0,0,0,0,0,0,0,0,0,0,0,0,0]
[0,0,0,0,0,0,0,0,0,0,0,0,0,0,0,0,0,0,0,0]
[0,0,0,0,0,0,0,0,0,0,0,0,0,0,0,0,0,0,0,0]
[0,0,0,0,0,0,0,0,0,0,0,0,0,0,0,0,0,0,0,0]
[0,0,0,0,0,0,0,0,0,0,0,0,0,0,0,0,0,0,0,0]
[0,0,0,0,0,0,0,0,0,0,0,0,0,0,0,0,0,0,0,0]
[0,0,0,0,0,0,0,0,0,0,0,0,0,0,0,0,0,0,0,0]
[0,0,0,0,0,0,0,0,0,0,0,0,0,0,0,0,0,0,0,0]
[0,0,0,0,0,0,0,0,0,0,0,0,0,0,0,0,0,0,0,0]
[0,0,0,0,0,0,0,0,0,0,0,0,0,0,0,0,0,0,0,0]
[0,0,0,0,0,0,0,0,0,0,0,0,0,0,0,0,0,0,0,0]
[0,0,0,0,0,0,0,0,0,0,0,0,0,0,0,0,0,0,0,0]
[0,0,0,0,0,0,0,0,0,0,0,0,0,0,0,0,0,0,0,0]
[0,0,0,0,0,0,0,0,0,0,0,0,0,0,0,0,0,0,0,0]
[0,0,0,0,0,0,0,0,0,0,0,0,0,0,0,0,0,0,0,0]
[0,0,0,0,0,0,0,0,0,0,0,0,0,0,0,0,0,0,0,0]
[0,0,0,0,0,0,0,0,0,0,0,0,0,0,0,0,0,0,0,0]
[0,0,0,0,0,0,0,0,0,0,0,0,0,0,0,0,0,0,0,0]
[0,0,0,0,0,0,0,0,0,0,0,0,0,0,0,0,0,0,0,0]
[0,0,0,0,0,0,0,0,0,0,0,0,0,0,0,0,0,0,0,0]
[0,0,0,0,0,0,0,0,0,0,0,0,0,0,0,0,0,0,0,0]
[0,0,0,0,0,0,0,0,0,0,0,0,0,0,0,0,0,0,0,0]
[0,0,0,0,0,0,0,0,0,0,0,0,0,0,0,0,0,0,0,0]
[0,0,0,0,0,0,0,0,0,0,0,0,0,0,0,0,0,0,0,0]
[0,0,0,0,0,0,0,0,0,0,0,0,0,0,0,0,0,0,0,0]
[0,0,0,0,0,0,0,0,0,0,0,0,0,0,0,0,0,0,0,0]
[0,0,0,0,0,0,0,0,0,0,0,0,0,0,0,0,0,0,0,0]
[0,0,0,0,0,0,0,0,0,0,0,0,0,0,0,0,0,0,0,0]
[0,0,0,0,0,0,0,0,0,0,0,0,0,0,0,0,0,0,0,0]
[0,0,0,0,0,0,0,0,0,0,0,0,0,0,0,0,0,0,0,0]
[0,0,0,0,0,0,0,0,0,0,0,0,0,0,0,0,0,0,0,0]
[0,0,0,0,0,0,0,0,0,0,0,0,0,0,0,0,0,0,0,0]
[0,0,0,0,0,0,0,0,0,0,0,0,0,0,0,0,0,0,0,0]
[0,0,0,0,0,0,0,0,0,0,0,0,0,0,0,0,0,0,0,0]
[0,0,0,0,0,0,0,0,0,0,0,0,0,0,0,0,0,0,0,0]
[0,0,0,0,0,0,0,0,0,0,0,0,0,0,0,0,0,0,0,0]
[0,0,0,0,0,0,0,0,0,0,0,0,0,0,0,0,0,0,0,0]
[0,0,0,0,0,0,0,0,0,0,0,0,0,0,0,0,0,0,0,0]
[0,0,0,0,0,0,0,0,0,0,0,0,0,0,0,0,0,0,0,0]
[0,0,0,0,0,0,0,0,0,0,0,0,0,0,0,0,0,0,0,0]
[0,0,0,0,0,0,0,0,0,0,0,0,0,0,0,0,0,0,0,0]
[0,0,0,0,0,0,0,0,0,0,0,0,0,0,0,0,0,0,0,0]
[0,0,0,0,0,0,0,0,0,0,0,0,0,0,0,0,0,0,0,0]
[0,0,0,0,0,0,0,0,0,0,0,0,0,0,0,0,0,0,0,0]
[0,0,0,0,0,0,0,0,0,0,0,0,0,0,0,0,0,0,0,0]
[0,0,0,0,0,0,0,0,0,0,0,0,0,0,0,0,0,0,0,0]
[0,0,0,0,0,0,0,0,0,0,0,0,0,0,0,0,0,0,0,0]
[0,0,0,0,0,0,0,0,0,0,0,0,0,0,0,0,0,0,0,0]
[0,0,0,0,0,0,0,0,0,0,0,0,0,0,0,0,0,0,0,0]
[0,0,0,0,0,0,0,0,0,0,0,0,0,0,0,0,0,0,0,0]
[0,0,0,0,0,0,0,0,0,0,0,0,0,0,0,0,0,0,0,0]
[0,0,0,0,0,0,0,0,0,0,0,0,0,0,0,0,0,0,0,0]
[0,0,0,0,0,0,0,0,0,0,0,0,0,0,0,0,0,0,0,0]
[0,0,0,0,0,0,0,0,0,0,0,0,0,0,0,0,0,0,0,0]
[0,0,0,0,0,0,0,0,0,0,0,0,0,0,0,0,0,0,0,0]
[0,0,0,0,0,0,0,0,0,0,0,0,0,0,0,0,0,0,0,0]
[0,0,0,0,0,0,0,0,0,0,0,0,0,0,0,0,0,0,0,0]
[0,0,0,0,0,0,0,0,0,0,0,0,0,0,0,0,0,0,0,0]
[0,0,0,0,0,0,0,0,0,0,0,0,0,0,0,0,0,0,0,0]
[0,0,0,0,0,0,0,0,0,0,0,0,0,0,0,0,0,0,0,0]
[0,0,0,0,0,0,0,0,0,0,0,0,0,0,0,0,0,0,0,0]
[0,0,0,0,0,0,0,0,0,0,0,0,0,0,0,0,0,0,0,0]
[0,0,0,0,0,0,0,0,0,0,0,0,0,0,0,0,0,0,0,0]
[0,0,0,0,0,0,0,0,0,0,0,0,0,0,0,0,0,0,0,0]
[0,0,0,0,0,0,0,0,0,0,0,0,0,0,0,0,0,0,0,0]
[0,0,0,0,0,0,0,0,0,0,0,0,0,0,0,0,0,0,0,0]
[0,0,0,0,0,0,0,0,0,0,0,0,0,0,0,0,0,0,0,0]
[0,0,0,0,0,0,0,0,0,0,0,0,0,0,0,0,0,0,0,0]
[0,0,0,0,0,0,0,0,0,0,0,0,0,0,0,0,0,0,0,0]
[0,0,0,0,0,0,0,0,0,0,0,0,0,0,0,0,0,0,0,0]
[0,0,0,0,0,0,0,0,0,0,0,0,0,0,0,0,0,0,0,0]
[0,0,0,0,0,0,0,0,0,0,0,0,0,0,0,0,0,0,0,0]
[0,0,0,0,0,0,0,0,0,0,0,0,0,0,0,0,0,0,0,0]
[0,0,0,0,0,0,0,0,0,0,0,0,0,0,0,0,0,0,0,0]
[0,0,0,0,0,0,0,0,0,0,0,0,0,0,0,0,0,0,0,0]
[0,0,0,0,0,0,0,0,0,0,0,0,0,0,0,0,0,0,0,0]
[0,0,0,0,0,0,0,0,0,0,0,0,0,0,0,0,0,0,0,0]
[0,0,0,0,0,0,0,0,0,0,0,0,0,0,0,0,0,0,0,0]
[0,0,0,0,0,0,0,0,0,0,0,0,0,0,0,0,0,0,0,0]
[0,0,0,0,0,0,0,0,0,0,0,0,0,0,0,0,0,0,0,0]
[0,0,0,0,0,0,0,0,0,0,0,0,0,0,0,0,0,0,0,0]
[0,0,0,0,0,0,0,0,0,0,0,0,0,0,0,0,0,0,0,0]
[0,0,0,0,0,0,0,0,0,0,0,0,0,0,0,0,0,0,0,0]
[0,0,0,0,0,0,0,0,0,0,0,0,0,0,0,0,0,0,0,0]
[0,0,0,0,0,0,0,0,0,0,0,0,0,0,0,0,0,0,0,0]
[0,0,0,0,0,0,0,0,0,0,0,0,0,0,0,0,0,0,0,0]
[0,0,0,0,0,0,0,0,0,0,0,0,0,0,0,0,0,0,0,0]
[0,0,0,0,0,0,0,0,0,0,0,0,0,0,0,0,0,0,0,0]
[0,0,0,0,0,0,0,0,0,0,0,0,0,0,0,0,0,0,0,0]
[0,0,0,0,0,0,0,0,0,0,0,0,0,0,0,0,0,0,0,0]
[0,0,0,0,0,0,0,0,0,0,0,0,0,0,0,0,0,0,0,0]
[0,0,0,0,0,0,0,0,0,0,0,0,0,0,0,0,0,0,0,0]
[0,0,0,0,0,0,0,0,0,0,0,0,0,0,0,0,0,0,0,0]
[0,0,0,0,0,0,0,0,0,0,0,0,0,0,0,0,0,0,0,0]
[0,0,0,0,0,0,0,0,0,0,0,0,0,0,0,0,0,0,0,0]
[0,0,0,0,0,0,0,0,0,0,0,0,0,0,0,0,0,0,0,0]
[0,0,0,0,0,0,0,0,0,0,0,0,0,0,0,0,0,0,0,0]
[0,0,0,0,0,0,0,0,0,0,0,0,0,0,0,0,0,0,0,0]
[0,0,0,0,0,0,0,0,0,0,0,0,0,0,0,0,0,0,0,0]
[0,0,0,0,0,0,0,0,0,0,0,0,0,0,0,0,0,0,0,0]
[0,0,0,0,0,0,0,0,0,0,0,0,0,0,0,0,0,0,0,0]
[0,0,0,0,0,0,0,0,0,0,0,0,0,0,0,0,0,0,0,0]
[0,0,0,0,0,0,0,0,0,0,0,0,0,0,0,0,0,0,0,0]
[0,0,0,0,0,0,0,0,0,0,0,0,0,0,0,0,0,0,0,0]
[0,0,0,0,0,0,0,0,0,0,0,0,0,0,0,0,0,0,0,0]
[0,0,0,0,0,0,0,0,0,0,0,0,0,0,0,0,0,0,0,0]
[0,0,0,0,0,0,0,0,0,0,0,0,0,0,0,0,0,0,0,0]
[0,0,0,0,0,0,0,0,0,0,0,0,0,0,0,0,0,0,0,0]
[0,0,0,0,0,0,0,0,0,0,0,0,0,0,0,0,0,0,0,0]
[0,0,0,0,0,0,0,0,0,0,0,0,0,0,0,0,0,0,0,0]
[0,0,0,0,0,0,0,0,0,0,0,0,0,0,0,0,0,0,0,0]
[0,0,0,0,0,0,0,0,0,0,0,0,0,0,0,0,0,0,0,0]
[0,0,0,0,0,0,0,0,0,0,0,0,0,0,0,0,0,0,0,0]
[0,0,0,0,0,0,0,0,0,0,0,0,0,0,0,0,0,0,0,0]
[0,0,0,0,0,0,0,0,0,0,0,0,0,0,0,0,0,0,0,0]
[0,0,0,0,0,0,0,0,0,0,0,0,0,0,0,0,0,0,0,0]
[0,0,0,0,0,0,0,0,0,0,0,0,0,0,0,0,0,0,0,0]
[0,0,0,0,0,0,0,0,0,0,0,0,0,0,0,0,0,0,0,0]
[0,0,0,0,0,0,0,0,0,0,0,0,0,0,0,0,0,0,0,0]
[0,0,0,0,0,0,0,0,0,0,0,0,0,0,0,0,0,0,0,0]
[0,0,0,0,0,0,0,0,0,0,0,0,0,0,0,0,0,0,0,0]
[0,0,0,0,0,0,0,0,0,0,0,0,0,0,0,0,0,0,0,0]
[0,0,0,0,0,0,0,0,0,0,0,0,0,0,0,0,0,0,0,0]
[0,0,0,0,0,0,0,0,0,0,0,0,0,0,0,0,0,0,0,0]
[0,0,0,0,0,0,0,0,0,0,0,0,0,0,0,0,0,0,0,0]
[0,0,0,0,0,0,0,0,0,0,0,0,0,0,0,0,0,0,0,0]
[0,0,0,0,0,0,0,0,0,0,0,0,0,0,0,0,0,0,0,0]
[0,0,0,0,0,0,0,0,0,0,0,0,0,0,0,0,0,0,0,0]
[0,0,0,0,0,0,0,0,0,0,0,0,0,0,0,0,0,0,0,0]
[0,0,0,0,0,0,0,0,0,0,0,0,0,0,0,0,0,0,0,0]
[0,0,0,0,0,0,0,0,0,0,0,0,0,0,0,0,0,0,0,0]
[0,0,0,0,0,0,0,0,0,0,0,0,0,0,0,0,0,0,0,0]
[0,0,0,0,0,0,0,0,0,0,0,0,0,0,0,0,0,0,0,0]
[0,0,0,0,0,0,0,0,0,0,0,0,0,0,0,0,0,0,0,0]
[0,0,0,0,0,0,0,0,0,0,0,0,0,0,0,0,0,0,0,0]
[0,0,0,0,0,0,0,0,0,0,0,0,0,0,0,0,0,0,0,0]
[0,0,0,0,0,0,0,0,0,0,0,0,0,0,0,0,0,0,0,0]
[0,0,0,0,0,0,0,0,0,0,0,0,0,0,0,0,0,0,0,0]
[0,0,0,0,0,0,0,0,0,0,0,0,0,0,0,0,0,0,0,0]
[0,0,0,0,0,0,0,0,0,0,0,0,0,0,0,0,0,0,0,0]
[0,0,0,0,0,0,0,0,0,0,0,0,0,0,0,0,0,0,0,0]
[0,0,0,0,0,0,0,0,0,0,0,0,0,0,0,0,0,0,0,0]
[0,0,0,0,0,0,0,0,0,0,0,0,0,0,0,0,0,0,0,0]
[0,0,0,0,0,0,0,0,0,0,0,0,0,0,0,0,0,0,0,0]
[0,0,0,0,0,0,0,0,0,0,0,0,0,0,0,0,0,0,0,0]
[0,0,0,0,0,0,0,0,0,0,0,0,0,0,0,0,0,0,0,0]
[0,0,0,0,0,0,0,0,0,0,0,0,0,0,0,0,0,0,0,0]
[0,0,0,0,0,0,0,0,0,0,0,0,0,0,0,0,0,0,0,0]
[0,0,0,0,0,0,0,0,0,0,0,0,0,0,0,0,0,0,0,0]
[0,0,0,0,0,0,0,0,0,0,0,0,0,0,0,0,0,0,0,0]
[0,0,0,0,0,0,0,0,0,0,0,0,0,0,0,0,0,0,0,0]
[0,0,0,0,0,0,0,0,0,0,0,0,0,0,0,0,0,0,0,0]
[0,0,0,0,0,0,0,0,0,0,0,0,0,0,0,0,0,0,0,0]
[0,0,0,0,0,0,0,0,0,0,0,0,0,0,0,0,0,0,0,0]
[0,0,0,0,0,0,0,0,0,0,0,0,0,0,0,0,0,0,0,0]
[0,0,0,0,0,0,0,0,0,0,0,0,0,0,0,0,0,0,0,0]
[0,0,0,0,0,0,0,0,0,0,0,0,0,0,0,0,0,0,0,0]
[0,0,0,0,0,0,0,0,0,0,0,0,0,0,0,0,0,0,0,0]
[0,0,0,0,0,0,0,0,0,0,0,0,0,0,0,0,0,0,0,0]
[0,0,0,0,0,0,0,0,0,0,0,0,0,0,0,0,0,0,0,0]
[0,0,0,0,0,0,0,0,0,0,0,0,0,0,0,0,0,0,0,0]
[0,0,0,0,0,0,0,0,0,0,0,0,0,0,0,0,0,0,0,0]
[0,0,0,0,0,0,0,0,0,0,0,0,0,0,0,0,0,0,0,0]
[0,0,0,0,0,0,0,0,0,0,0,0,0,0,0,0,0,0,0,0]
[0,0,0,0,0,0,0,0,0,0,0,0,0,0,0,0,0,0,0,0]
[0,0,0,0,0,0,0,0,0,0,0,0,0,0,0,0,0,0,0,0]
[0,0,0,0,0,0,0,0,0,0,0,0,0,0,0,0,0,0,0,0]
[0,0,0,0,0,0,0,0,0,0,0,0,0,0,0,0,0,0,0,0]
[0,0,0,0,0,0,0,0,0,0,0,0,0,0,0,0,0,0,0,0]
[0,0,0,0,0,0,0,0,0,0,0,0,0,0,0,0,0,0,0,0]
[0,0,0,0,0,0,0,0,0,0,0,0,0,0,0,0,0,0,0,0]
[0,0,0,0,0,0,0,0,0,0,0,0,0,0,0,0,0,0,0,0]
[0,0,0,0,0,0,0,0,0,0,0,0,0,0,0,0,0,0,0,0]
[0,0,0,0,0,0,0,0,0,0,0,0,0,0,0,0,0,0,0,0]
[0,0,0,0,0,0,0,0,0,0,0,0,0,0,0,0,0,0,0,0]
[0,0,0,0,0,0,0,0,0,0,0,0,0,0,0,0,0,0,0,0]
[0,0,0,0,0,0,0,0,0,0,0,0,0,0,0,0,0,0,0,0]
[0,0,0,0,0,0,0,0,0,0,0,0,0,0,0,0,0,0,0,0]
[0,0,0,0,0,0,0,0,0,0,0,0,0,0,0,0,0,0,0,0]
[0,0,0,0,0,0,0,0,0,0,0,0,0,0,0,0,0,0,0,0]
[0,0,0,0,0,0,0,0,0,0,0,0,0,0,0,0,0,0,0,0]
[0,0,0,0,0,0,0,0,0,0,0,0,0,0,0,0,0,0,0,0]
[0,0,0,0,0,0,0,0,0,0,0,0,0,0,0,0,0,0,0,0]
[0,0,0,0,0,0,0,0,0,0,0,0,0,0,0,0,0,0,0,0]
[0,0,0,0,0,0,0,0,0,0,0,0,0,0,0,0,0,0,0,0]
[0,0,0,0,0,0,0,0,0,0,0,0,0,0,0,0,0,0,0,0]
[0,0,0,0,0,0,0,0,0,0,0,0,0,0,0,0,0,0,0,0]
[0,0,0,0,0,0,0,0,0,0,0,0,0,0,0,0,0,0,0,0]
[0,0,0,0,0,0,0,0,0,0,0,0,0,0,0,0,0,0,0,0]
[0,0,0,0,0,0,0,0,0,0,0,0,0,0,0,0,0,0,0,0]
[0,0,0,0,0,0,0,0,0,0,0,0,0,0,0,0,0,0,0,0]
[0,0,0,0,0,0,0,0,0,0,0,0,0,0,0,0,0,0,0,0]
[0,0,0,0,0,0,0,0,0,0,0,0,0,0,0,0,0,0,0,0]
[0,0,0,0,0,0,0,0,0,0,0,0,0,0,0,0,0,0,0,0]
[0,0,0,0,0,0,0,0,0,0,0,0,0,0,0,0,0,0,0,0]
[0,0,0,0,0,0,0,0,0,0,0,0,0,0,0,0,0,0,0,0]
[0,0,0,0,0,0,0,0,0,0,0,0,0,0,0,0,0,0,0,0]
[0,0,0,0,0,0,0,0,0,0,0,0,0,0,0,0,0,0,0,0]
[0,0,0,0,0,0,0,0,0,0,0,0,0,0,0,0,0,0,0,0]
[0,0,0,0,0,0,0,0,0,0,0,0,0,0,0,0,0,0,0,0]
[0,0,0,0,0,0,0,0,0,0,0,0,0,0,0,0,0,0,0,0]
[0,0,0,0,0,0,0,0,0,0,0,0,0,0,0,0,0,0,0,0]
[0,0,0,0,0,0,0,0,0,0,0,0,0,0,0,0,0,0,0,0]
[0,0,0,0,0,0,0,0,0,0,0,0,0,0,0,0,0,0,0,0]
[0,0,0,0,0,0,0,0,0,0,0,0,0,0,0,0,0,0,0,0]
[0,0,0,0,0,0,0,0,0,0,0,0,0,0,0,0,0,0,0,0]
[0,0,0,0,0,0,0,0,0,0,0,0,0,0,0,0,0,0,0,0]
[0,0,0,0,0,0,0,0,0,0,0,0,0,0,0,0,0,0,0,0]
[0,0,0,0,0,0,0,0,0,0,0,0,0,0,0,0,0,0,0,0]
[0,0,0,0,0,0,0,0,0,0,0,0,0,0,0,0,0,0,0,0]
[0,0,0,0,0,0,0,0,0,0,0,0,0,0,0,0,0,0,0,0]
[0,0,0,0,0,0,0,0,0,0,0,0,0,0,0,0,0,0,0,0]
[0,0,0,0,0,0,0,0,0,0,0,0,0,0,0,0,0,0,0,0]
[0,0,0,0,0,0,0,0,0,0,0,0,0,0,0,0,0,0,0,0]
[0,0,0,0,0,0,0,0,0,0,0,0,0,0,0,0,0,0,0,0]
[0,0,0,0,0,0,0,0,0,0,0,0,0,0,0,0,0,0,0,0]
[0,0,0,0,0,0,0,0,0,0,0,0,0,0,0,0,0,0,0,0]
[0,0,0,0,0,0,0,0,0,0,0,0,0,0,0,0,0,0,0,0]
[0,0,0,0,0,0,0,0,0,0,0,0,0,0,0,0,0,0,0,0]
[0,0,0,0,0,0,0,0,0,0,0,0,0,0,0,0,0,0,0,0]
[0,0,0,0,0,0,0,0,0,0,0,0,0,0,0,0,0,0,0,0]
[0,0,0,0,0,0,0,0,0,0,0,0,0,0,0,0,0,0,0,0]
[0,0,0,0,0,0,0,0,0,0,0,0,0,0,0,0,0,0,0,0]
[0,0,0,0,0,0,0,0,0,0,0,0,0,0,0,0,0,0,0,0]
[0,0,0,0,0,0,0,0,0,0,0,0,0,0,0,0,0,0,0,0]
[0,0,0,0,0,0,0,0,0,0,0,0,0,0,0,0,0,0,0,0]
[0,0,0,0,0,0,0,0,0,0,0,0,0,0,0,0,0,0,0,0]
[0,0,0,0,0,0,0,0,0,0,0,0,0,0,0,0,0,0,0,0]
[0,0,0,0,0,0,0,0,0,0,0,0,0,0,0,0,0,0,0,0]
[0,0,0,0,0,0,0,0,0,0,0,0,0,0,0,0,0,0,0,0]
[0,0,0,0,0,0,0,0,0,0,0,0,0,0,0,0,0,0,0,0]
[0,0,0,0,0,0,0,0,0,0,0,0,0,0,0,0,0,0,0,0]
[0,0,0,0,0,0,0,0,0,0,0,0,0,0,0,0,0,0,0,0]
[0,0,0,0,0,0,0,0,0,0,0,0,0,0,0,0,0,0,0,0]
[0,0,0,0,0,0,0,0,0,0,0,0,0,0,0,0,0,0,0,0]
[0,0,0,0,0,0,0,0,0,0,0,0,0,0,0,0,0,0,0,0]
[0,0,0,0,0,0,0,0,0,0,0,0,0,0,0,0,0,0,0,0]
[0,0,0,0,0,0,0,0,0,0,0,0,0,0,0,0,0,0,0,0]
[0,0,0,0,0,0,0,0,0,0,0,0,0,0,0,0,0,0,0,0]
[0,0,0,0,0,0,0,0,0,0,0,0,0,0,0,0,0,0,0,0]
[0,0,0,0,0,0,0,0,0,0,0,0,0,0,0,0,0,0,0,0]
[0,0,0,0,0,0,0,0,0,0,0,0,0,0,0,0,0,0,0,0]
[0,0,0,0,0,0,0,0,0,0,0,0,0,0,0,0,0,0,0,0]
[0,0,0,0,0,0,0,0,0,0,0,0,0,0,0,0,0,0,0,0]
[0,0,0,0,0,0,0,0,0,0,0,0,0,0,0,0,0,0,0,0]
[0,0,0,0,0,0,0,0,0,0,0,0,0,0,0,0,0,0,0,0]
[0,0,0,0,0,0,0,0,0,0,0,0,0,0,0,0,0,0,0,0]
[0,0,0,0,0,0,0,0,0,0,0,0,0,0,0,0,0,0,0,0]
[0,0,0,0,0,0,0,0,0,0,0,0,0,0,0,0,0,0,0,0]
[0,0,0,0,0,0,0,0,0,0,0,0,0,0,0,0,0,0,0,0]
[0,0,0,0,0,0,0,0,0,0,0,0,0,0,0,0,0,0,0,0]
[0,0,0,0,0,0,0,0,0,0,0,0,0,0,0,0,0,0,0,0]
[0,0,0,0,0,0,0,0,0,0,0,0,0,0,0,0,0,0,0,0]
[0,0,0,0,0,0,0,0,0,0,0,0,0,0,0,0,0,0,0,0]
[0,0,0,0,0,0,0,0,0,0,0,0,0,0,0,0,0,0,0,0]
[0,0,0,0,0,0,0,0,0,0,0,0,0,0,0,0,0,0,0,0]
[0,0,0,0,0,0,0,0,0,0,0,0,0,0,0,0,0,0,0,0]
[0,0,0,0,0,0,0,0,0,0,0,0,0,0,0,0,0,0,0,0]
[0,0,0,0,0,0,0,0,0,0,0,0,0,0,0,0,0,0,0,0]
[0,0,0,0,0,0,0,0,0,0,0,0,0,0,0,0,0,0,0,0]
[0,0,0,0,0,0,0,0,0,0,0,0,0,0,0,0,0,0,0,0]
[0,0,0,0,0,0,0,0,0,0,0,0,0,0,0,0,0,0,0,0]
[0,0,0,0,0,0,0,0,0,0,0,0,0,0,0,0,0,0,0,0]
[0,0,0,0,0,0,0,0,0,0,0,0,0,0,0,0,0,0,0,0]
[0,0,0,0,0,0,0,0,0,0,0,0,0,0,0,0,0,0,0,0]
[0,0,0,0,0,0,0,0,0,0,0,0,0,0,0,0,0,0,0,0]
[0,0,0,0,0,0,0,0,0,0,0,0,0,0,0,0,0,0,0,0]
[0,0,0,0,0,0,0,0,0,0,0,0,0,0,0,0,0,0,0,0]
[0,0,0,0,0,0,0,0,0,0,0,0,0,0,0,0,0,0,0,0]
[0,0,0,0,0,0,0,0,0,0,0,0,0,0,0,0,0,0,0,0]
[0,0,0,0,0,0,0,0,0,0,0,0,0,0,0,0,0,0,0,0]
[0,0,0,0,0,0,0,0,0,0,0,0,0,0,0,0,0,0,0,0]
[0,0,0,0,0,0,0,0,0,0,0,0,0,0,0,0,0,0,0,0]
[0,0,0,0,0,0,0,0,0,0,0,0,0,0,0,0,0,0,0,0]
[0,0,0,0,0,0,0,0,0,0,0,0,0,0,0,0,0,0,0,0]
[0,0,0,0,0,0,0,0,0,0,0,0,0,0,0,0,0,0,0,0]
[0,0,0,0,0,0,0,0,0,0,0,0,0,0,0,0,0,0,0,0]
[0,0,0,0,0,0,0,0,0,0,0,0,0,0,0,0,0,0,0,0]
[0,0,0,0,0,0,0,0,0,0,0,0,0,0,0,0,0,0,0,0]
[0,0,0,0,0,0,0,0,0,0,0,0,0,0,0,0,0,0,0,0]
[0,0,0,0,0,0,0,0,0,0,0,0,0,0,0,0,0,0,0,0]
[0,0,0,0,0,0,0,0,0,0,0,0,0,0,0,0,0,0,0,0]
[0,0,0,0,0,0,0,0,0,0,0,0,0,0,0,0,0,0,0,0]
[0,0,0,0,0,0,0,0,0,0,0,0,0,0,0,0,0,0,0,0]
[0,0,0,0,0,0,0,0,0,0,0,0,0,0,0,0,0,0,0,0]
[0,0,0,0,0,0,0,0,0,0,0,0,0,0,0,0,0,0,0,0]
[0,0,0,0,0,0,0,0,0,0,0,0,0,0,0,0,0,0,0,0]
[0,0,0,0,0,0,0,0,0,0,0,0,0,0,0,0,0,0,0,0]
[0,0,0,0,0,0,0,0,0,0,0,0,0,0,0,0,0,0,0,0]
[0,0,0,0,0,0,0,0,0,0,0,0,0,0,0,0,0,0,0,0]
[0,0,0,0,0,0,0,0,0,0,0,0,0,0,0,0,0,0,0,0]
[0,0,0,0,0,0,0,0,0,0,0,0,0,0,0,0,0,0,0,0]
[0,0,0,0,0,0,0,0,0,0,0,0,0,0,0,0,0,0,0,0]
[0,0,0,0,0,0,0,0,0,0,0,0,0,0,0,0,0,0,0,0]
[0,0,0,0,0,0,0,0,0,0,0,0,0,0,0,0,0,0,0,0]
[0,0,0,0,0,0,0,0,0,0,0,0,0,0,0,0,0,0,0,0]
[0,0,0,0,0,0,0,0,0,0,0,0,0,0,0,0,0,0,0,0]
[0,0,0,0,0,0,0,0,0,0,0,0,0,0,0,0,0,0,0,0]
[0,0,0,0,0,0,0,0,0,0,0,0,0,0,0,0,0,0,0,0]
[0,0,0,0,0,0,0,0,0,0,0,0,0,0,0,0,0,0,0,0]
[0,0,0,0,0,0,0,0,0,0,0,0,0,0,0,0,0,0,0,0]
[0,0,0,0,0,0,0,0,0,0,0,0,0,0,0,0,0,0,0,0]
[0,0,0,0,0,0,0,0,0,0,0,0,0,0,0,0,0,0,0,0]
[0,0,0,0,0,0,0,0,0,0,0,0,0,0,0,0,0,0,0,0]
[0,0,0,0,0,0,0,0,0,0,0,0,0,0,0,0,0,0,0,0]
[0,0,0,0,0,0,0,0,0,0,0,0,0,0,0,0,0,0,0,0]
[0,0,0,0,0,0,0,0,0,0,0,0,0,0,0,0,0,0,0,0]
[0,0,0,0,0,0,0,0,0,0,0,0,0,0,0,0,0,0,0,0]
[0,0,0,0,0,0,0,0,0,0,0,0,0,0,0,0,0,0,0,0]
[0,0,0,0,0,0,0,0,0,0,0,0,0,0,0,0,0,0,0,0]
[0,0,0,0,0,0,0,0,0,0,0,0,0,0,0,0,0,0,0,0]
[0,0,0,0,0,0,0,0,0,0,0,0,0,0,0,0,0,0,0,0]
[0,0,0,0,0,0,0,0,0,0,0,0,0,0,0,0,0,0,0,0]
[0,0,0,0,0,0,0,0,0,0,0,0,0,0,0,0,0,0,0,0]
[0,0,0,0,0,0,0,0,0,0,0,0,0,0,0,0,0,0,0,0]
[0,0,0,0,0,0,0,0,0,0,0,0,0,0,0,0,0,0,0,0]
[0,0,0,0,0,0,0,0,0,0,0,0,0,0,0,0,0,0,0,0]
[0,0,0,0,0,0,0,0,0,0,0,0,0,0,0,0,0,0,0,0]
[0,0,0,0,0,0,0,0,0,0,0,0,0,0,0,0,0,0,0,0]
[0,0,0,0,0,0,0,0,0,0,0,0,0,0,0,0,0,0,0,0]
[0,0,0,0,0,0,0,0,0,0,0,0,0,0,0,0,0,0,0,0]
[0,0,0,0,0,0,0,0,0,0,0,0,0,0,0,0,0,0,0,0]
[0,0,0,0,0,0,0,0,0,0,0,0,0,0,0,0,0,0,0,0]
[0,0,0,0,0,0,0,0,0,0,0,0,0,0,0,0,0,0,0,0]
[0,0,0,0,0,0,0,0,0,0,0,0,0,0,0,0,0,0,0,0]
[0,0,0,0,0,0,0,0,0,0,0,0,0,0,0,0,0,0,0,0]
[0,0,0,0,0,0,0,0,0,0,0,0,0,0,0,0,0,0,0,0]
[0,0,0,0,0,0,0,0,0,0,0,0,0,0,0,0,0,0,0,0]
[0,0,0,0,0,0,0,0,0,0,0,0,0,0,0,0,0,0,0,0]
[0,0,0,0,0,0,0,0,0,0,0,0,0,0,0,0,0,0,0,0]
[0,0,0,0,0,0,0,0,0,0,0,0,0,0,0,0,0,0,0,0]
[0,0,0,0,0,0,0,0,0,0,0,0,0,0,0,0,0,0,0,0]
[0,0,0,0,0,0,0,0,0,0,0,0,0,0,0,0,0,0,0,0]
[0,0,0,0,0,0,0,0,0,0,0,0,0,0,0,0,0,0,0,0]
[0,0,0,0,0,0,0,0,0,0,0,0,0,0,0,0,0,0,0,0]
[0,0,0,0,0,0,0,0,0,0,0,0,0,0,0,0,0,0,0,0]
[0,0,0,0,0,0,0,0,0,0,0,0,0,0,0,0,0,0,0,0]
[0,0,0,0,0,0,0,0,0,0,0,0,0,0,0,0,0,0,0,0]
[0,0,0,0,0,0,0,0,0,0,0,0,0,0,0,0,0,0,0,0]
[0,0,0,0,0,0,0,0,0,0,0,0,0,0,0,0,0,0,0,0]
[0,0,0,0,0,0,0,0,0,0,0,0,0,0,0,0,0,0,0,0]
[0,0,0,0,0,0,0,0,0,0,0,0,0,0,0,0,0,0,0,0]
[0,0,0,0,0,0,0,0,0,0,0,0,0,0,0,0,0,0,0,0]
[0,0,0,0,0,0,0,0,0,0,0,0,0,0,0,0,0,0,0,0]
[0,0,0,0,0,0,0,0,0,0,0,0,0,0,0,0,0,0,0,0]
[0,0,0,0,0,0,0,0,0,0,0,0,0,0,0,0,0,0,0,0]
[0,0,0,0,0,0,0,0,0,0,0,0,0,0,0,0,0,0,0,0]
[0,0,0,0,0,0,0,0,0,0,0,0,0,0,0,0,0,0,0,0]
[0,0,0,0,0,0,0,0,0,0,0,0,0,0,0,0,0,0,0,0]
[0,0,0,0,0,0,0,0,0,0,0,0,0,0,0,0,0,0,0,0]
[0,0,0,0,0,0,0,0,0,0,0,0,0,0,0,0,0,0,0,0]
[0,0,0,0,0,0,0,0,0,0,0,0,0,0,0,0,0,0,0,0]
[0,0,0,0,0,0,0,0,0,0,0,0,0,0,0,0,0,0,0,0]
[0,0,0,0,0,0,0,0,0,0,0,0,0,0,0,0,0,0,0,0]
[0,0,0,0,0,0,0,0,0,0,0,0,0,0,0,0,0,0,0,0]
[0,0,0,0,0,0,0,0,0,0,0,0,0,0,0,0,0,0,0,0]
[0,0,0,0,0,0,0,0,0,0,0,0,0,0,0,0,0,0,0,0]
[0,0,0,0,0,0,0,0,0,0,0,0,0,0,0,0,0,0,0,0]
[0,0,0,0,0,0,0,0,0,0,0,0,0,0,0,0,0,0,0,0]
[0,0,0,0,0,0,0,0,0,0,0,0,0,0,0,0,0,0,0,0]
[0,0,0,0,0,0,0,0,0,0,0,0,0,0,0,0,0,0,0,0]
[0,0,0,0,0,0,0,0,0,0,0,0,0,0,0,0,0,0,0,0]
[0,0,0,0,0,0,0,0,0,0,0,0,0,0,0,0,0,0,0,0]
[0,0,0,0,0,0,0,0,0,0,0,0,0,0,0,0,0,0,0,0]
[0,0,0,0,0,0,0,0,0,0,0,0,0,0,0,0,0,0,0,0]
[0,0,0,0,0,0,0,0,0,0,0,0,0,0,0,0,0,0,0,0]
[0,0,0,0,0,0,0,0,0,0,0,0,0,0,0,0,0,0,0,0]
[0,0,0,0,0,0,0,0,0,0,0,0,0,0,0,0,0,0,0,0]
[0,0,0,0,0,0,0,0,0,0,0,0,0,0,0,0,0,0,0,0]
[0,0,0,0,0,0,0,0,0,0,0,0,0,0,0,0,0,0,0,0]
[0,0,0,0,0,0,0,0,0,0,0,0,0,0,0,0,0,0,0,0]
[0,0,0,0,0,0,0,0,0,0,0,0,0,0,0,0,0,0,0,0]
[0,0,0,0,0,0,0,0,0,0,0,0,0,0,0,0,0,0,0,0]
[0,0,0,0,0,0,0,0,0,0,0,0,0,0,0,0,0,0,0,0]
[0,0,0,0,0,0,0,0,0,0,0,0,0,0,0,0,0,0,0,0]
[0,0,0,0,0,0,0,0,0,0,0,0,0,0,0,0,0,0,0,0]
[0,0,0,0,0,0,0,0,0,0,0,0,0,0,0,0,0,0,0,0]
[0,0,0,0,0,0,0,0,0,0,0,0,0,0,0,0,0,0,0,0]
[0,0,0,0,0,0,0,0,0,0,0,0,0,0,0,0,0,0,0,0]
[0,0,0,0,0,0,0,0,0,0,0,0,0,0,0,0,0,0,0,0]
[0,0,0,0,0,0,0,0,0,0,0,0,0,0,0,0,0,0,0,0]
[0,0,0,0,0,0,0,0,0,0,0,0,0,0,0,0,0,0,0,0]
[0,0,0,0,0,0,0,0,0,0,0,0,0,0,0,0,0,0,0,0]
[0,0,0,0,0,0,0,0,0,0,0,0,0,0,0,0,0,0,0,0]
[0,0,0,0,0,0,0,0,0,0,0,0,0,0,0,0,0,0,0,0]
[0,0,0,0,0,0,0,0,0,0,0,0,0,0,0,0,0,0,0,0]
[0,0,0,0,0,0,0,0,0,0,0,0,0,0,0,0,0,0,0,0]
[0,0,0,0,0,0,0,0,0,0,0,0,0,0,0,0,0,0,0,0]
[0,0,0,0,0,0,0,0,0,0,0,0,0,0,0,0,0,0,0,0]
[0,0,0,0,0,0,0,0,0,0,0,0,0,0,0,0,0,0,0,0]
[0,0,0,0,0,0,0,0,0,0,0,0,0,0,0,0,0,0,0,0]
[0,0,0,0,0,0,0,0,0,0,0,0,0,0,0,0,0,0,0,0]
[0,0,0,0,0,0,0,0,0,0,0,0,0,0,0,0,0,0,0,0]
[0,0,0,0,0,0,0,0,0,0,0,0,0,0,0,0,0,0,0,0]
[0,0,0,0,0,0,0,0,0,0,0,0,0,0,0,0,0,0,0,0]
[0,0,0,0,0,0,0,0,0,0,0,0,0,0,0,0,0,0,0,0]
[0,0,0,0,0,0,0,0,0,0,0,0,0,0,0,0,0,0,0,0]
[0,0,0,0,0,0,0,0,0,0,0,0,0,0,0,0,0,0,0,0]
[0,0,0,0,0,0,0,0,0,0,0,0,0,0,0,0,0,0,0,0]
[0,0,0,0,0,0,0,0,0,0,0,0,0,0,0,0,0,0,0,0]
[0,0,0,0,0,0,0,0,0,0,0,0,0,0,0,0,0,0,0,0]
[0,0,0,0,0,0,0,0,0,0,0,0,0,0,0,0,0,0,0,0]
[0,0,0,0,0,0,0,0,0,0,0,0,0,0,0,0,0,0,0,0]
[0,0,0,0,0,0,0,0,0,0,0,0,0,0,0,0,0,0,0,0]
[0,0,0,0,0,0,0,0,0,0,0,0,0,0,0,0,0,0,0,0]
[0,0,0,0,0,0,0,0,0,0,0,0,0,0,0,0,0,0,0,0]
[0,0,0,0,0,0,0,0,0,0,0,0,0,0,0,0,0,0,0,0]
[0,0,0,0,0,0,0,0,0,0,0,0,0,0,0,0,0,0,0,0]
[0,0,0,0,0,0,0,0,0,0,0,0,0,0,0,0,0,0,0,0]
[0,0,0,0,0,0,0,0,0,0,0,0,0,0,0,0,0,0,0,0]
[0,0,0,0,0,0,0,0,0,0,0,0,0,0,0,0,0,0,0,0]
[0,0,0,0,0,0,0,0,0,0,0,0,0,0,0,0,0,0,0,0]
[0,0,0,0,0,0,0,0,0,0,0,0,0,0,0,0,0,0,0,0]
[0,0,0,0,0,0,0,0,0,0,0,0,0,0,0,0,0,0,0,0]
[0,0,0,0,0,0,0,0,0,0,0,0,0,0,0,0,0,0,0,0]
[0,0,0,0,0,0,0,0,0,0,0,0,0,0,0,0,0,0,0,0]
[0,0,0,0,0,0,0,0,0,0,0,0,0,0,0,0,0,0,0,0]
[0,0,0,0,0,0,0,0,0,0,0,0,0,0,0,0,0,0,0,0]
[0,0,0,0,0,0,0,0,0,0,0,0,0,0,0,0,0,0,0,0]
[0,0,0,0,0,0,0,0,0,0,0,0,0,0,0,0,0,0,0,0]
[0,0,0,0,0,0,0,0,0,0,0,0,0,0,0,0,0,0,0,0]
[0,0,0,0,0,0,0,0,0,0,0,0,0,0,0,0,0,0,0,0]
[0,0,0,0,0,0,0,0,0,0,0,0,0,0,0,0,0,0,0,0]
[0,0,0,0,0,0,0,0,0,0,0,0,0,0,0,0,0,0,0,0]
[0,0,0,0,0,0,0,0,0,0,0,0,0,0,0,0,0,0,0,0]
[0,0,0,0,0,0,0,0,0,0,0,0,0,0,0,0,0,0,0,0]
[0,0,0,0,0,0,0,0,0,0,0,0,0,0,0,0,0,0,0,0]
[0,0,0,0,0,0,0,0,0,0,0,0,0,0,0,0,0,0,0,0]
[0,0,0,0,0,0,0,0,0,0,0,0,0,0,0,0,0,0,0,0]
[0,0,0,0,0,0,0,0,0,0,0,0,0,0,0,0,0,0,0,0]
[0,0,0,0,0,0,0,0,0,0,0,0,0,0,0,0,0,0,0,0]
[0,0,0,0,0,0,0,0,0,0,0,0,0,0,0,0,0,0,0,0]
[0,0,0,0,0,0,0,0,0,0,0,0,0,0,0,0,0,0,0,0]
[0,0,0,0,0,0,0,0,0,0,0,0,0,0,0,0,0,0,0,0]
[0,0,0,0,0,0,0,0,0,0,0,0,0,0,0,0,0,0,0,0]
[0,0,0,0,0,0,0,0,0,0,0,0,0,0,0,0,0,0,0,0]
[0,0,0,0,0,0,0,0,0,0,0,0,0,0,0,0,0,0,0,0]
[0,0,0,0,0,0,0,0,0,0,0,0,0,0,0,0,0,0,0,0]
[0,0,0,0,0,0,0,0,0,0,0,0,0,0,0,0,0,0,0,0]
[0,0,0,0,0,0,0,0,0,0,0,0,0,0,0,0,0,0,0,0]
[0,0,0,0,0,0,0,0,0,0,0,0,0,0,0,0,0,0,0,0]
[0,0,0,0,0,0,0,0,0,0,0,0,0,0,0,0,0,0,0,0]
[0,0,0,0,0,0,0,0,0,0,0,0,0,0,0,0,0,0,0,0]
[0,0,0,0,0,0,0,0,0,0,0,0,0,0,0,0,0,0,0,0]
[0,0,0,0,0,0,0,0,0,0,0,0,0,0,0,0,0,0,0,0]
[0,0,0,0,0,0,0,0,0,0,0,0,0,0,0,0,0,0,0,0]
[0,0,0,0,0,0,0,0,0,0,0,0,0,0,0,0,0,0,0,0]
[0,0,0,0,0,0,0,0,0,0,0,0,0,0,0,0,0,0,0,0]
[0,0,0,0,0,0,0,0,0,0,0,0,0,0,0,0,0,0,0,0]
[0,0,0,0,0,0,0,0,0,0,0,0,0,0,0,0,0,0,0,0]
[0,0,0,0,0,0,0,0,0,0,0,0,0,0,0,0,0,0,0,0]
[0,0,0,0,0,0,0,0,0,0,0,0,0,0,0,0,0,0,0,0]
[0,0,0,0,0,0,0,0,0,0,0,0,0,0,0,0,0,0,0,0]
[0,0,0,0,0,0,0,0,0,0,0,0,0,0,0,0,0,0,0,0]
[0,0,0,0,0,0,0,0,0,0,0,0,0,0,0,0,0,0,0,0]
[0,0,0,0,0,0,0,0,0,0,0,0,0,0,0,0,0,0,0,0]
[0,0,0,0,0,0,0,0,0,0,0,0,0,0,0,0,0,0,0,0]
[0,0,0,0,0,0,0,0,0,0,0,0,0,0,0,0,0,0,0,0]
[0,0,0,0,0,0,0,0,0,0,0,0,0,0,0,0,0,0,0,0]
[0,0,0,0,0,0,0,0,0,0,0,0,0,0,0,0,0,0,0,0]
[0,0,0,0,0,0,0,0,0,0,0,0,0,0,0,0,0,0,0,0]
[0,0,0,0,0,0,0,0,0,0,0,0,0,0,0,0,0,0,0,0]
[0,0,0,0,0,0,0,0,0,0,0,0,0,0,0,0,0,0,0,0]
[0,0,0,0,0,0,0,0,0,0,0,0,0,0,0,0,0,0,0,0]
[0,0,0,0,0,0,0,0,0,0,0,0,0,0,0,0,0,0,0,0]
[0,0,0,0,0,0,0,0,0,0,0,0,0,0,0,0,0,0,0,0]
[0,0,0,0,0,0,0,0,0,0,0,0,0,0,0,0,0,0,0,0]
[0,0,0,0,0,0,0,0,0,0,0,0,0,0,0,0,0,0,0,0]
[0,0,0,0,0,0,0,0,0,0,0,0,0,0,0,0,0,0,0,0]
[0,0,0,0,0,0,0,0,0,0,0,0,0,0,0,0,0,0,0,0]
[0,0,0,0,0,0,0,0,0,0,0,0,0,0,0,0,0,0,0,0]
[0,0,0,0,0,0,0,0,0,0,0,0,0,0,0,0,0,0,0,0]
[0,0,0,0,0,0,0,0,0,0,0,0,0,0,0,0,0,0,0,0]
[0,0,0,0,0,0,0,0,0,0,0,0,0,0,0,0,0,0,0,0]
[0,0,0,0,0,0,0,0,0,0,0,0,0,0,0,0,0,0,0,0]
[0,0,0,0,0,0,0,0,0,0,0,0,0,0,0,0,0,0,0,0]
[0,0,0,0,0,0,0,0,0,0,0,0,0,0,0,0,0,0,0,0]
[0,0,0,0,0,0,0,0,0,0,0,0,0,0,0,0,0,0,0,0]
[0,0,0,0,0,0,0,0,0,0,0,0,0,0,0,0,0,0,0,0]
[0,0,0,0,0,0,0,0,0,0,0,0,0,0,0,0,0,0,0,0]
[0,0,0,0,0,0,0,0,0,0,0,0,0,0,0,0,0,0,0,0]
[0,0,0,0,0,0,0,0,0,0,0,0,0,0,0,0,0,0,0,0]
[0,0,0,0,0,0,0,0,0,0,0,0,0,0,0,0,0,0,0,0]
[0,0,0,0,0,0,0,0,0,0,0,0,0,0,0,0,0,0,0,0]
[0,0,0,0,0,0,0,0,0,0,0,0,0,0,0,0,0,0,0,0]
[0,0,0,0,0,0,0,0,0,0,0,0,0,0,0,0,0,0,0,0]
[0,0,0,0,0,0,0,0,0,0,0,0,0,0,0,0,0,0,0,0]
[0,0,0,0,0,0,0,0,0,0,0,0,0,0,0,0,0,0,0,0]
[0,0,0,0,0,0,0,0,0,0,0,0,0,0,0,0,0,0,0,0]
[0,0,0,0,0,0,0,0,0,0,0,0,0,0,0,0,0,0,0,0]
[0,0,0,0,0,0,0,0,0,0,0,0,0,0,0,0,0,0,0,0]
[0,0,0,0,0,0,0,0,0,0,0,0,0,0,0,0,0,0,0,0]
[0,0,0,0,0,0,0,0,0,0,0,0,0,0,0,0,0,0,0,0]
[0,0,0,0,0,0,0,0,0,0,0,0,0,0,0,0,0,0,0,0]
[0,0,0,0,0,0,0,0,0,0,0,0,0,0,0,0,0,0,0,0]
[0,0,0,0,0,0,0,0,0,0,0,0,0,0,0,0,0,0,0,0]
[0,0,0,0,0,0,0,0,0,0,0,0,0,0,0,0,0,0,0,0]
[0,0,0,0,0,0,0,0,0,0,0,0,0,0,0,0,0,0,0,0]
[0,0,0,0,0,0,0,0,0,0,0,0,0,0,0,0,0,0,0,0]
[0,0,0,0,0,0,0,0,0,0,0,0,0,0,0,0,0,0,0,0]
[0,0,0,0,0,0,0,0,0,0,0,0,0,0,0,0,0,0,0,0]
[0,0,0,0,0,0,0,0,0,0,0,0,0,0,0,0,0,0,0,0]
[0,0,0,0,0,0,0,0,0,0,0,0,0,0,0,0,0,0,0,0]
[0,0,0,0,0,0,0,0,0,0,0,0,0,0,0,0,0,0,0,0]
[0,0,0,0,0,0,0,0,0,0,0,0,0,0,0,0,0,0,0,0]
[0,0,0,0,0,0,0,0,0,0,0,0,0,0,0,0,0,0,0,0]
[0,0,0,0,0,0,0,0,0,0,0,0,0,0,0,0,0,0,0,0]
[0,0,0,0,0,0,0,0,0,0,0,0,0,0,0,0,0,0,0,0]
[0,0,0,0,0,0,0,0,0,0,0,0,0,0,0,0,0,0,0,0]
[0,0,0,0,0,0,0,0,0,0,0,0,0,0,0,0,0,0,0,0]
[0,0,0,0,0,0,0,0,0,0,0,0,0,0,0,0,0,0,0,0]
[0,0,0,0,0,0,0,0,0,0,0,0,0,0,0,0,0,0,0,0]
[0,0,0,0,0,0,0,0,0,0,0,0,0,0,0,0,0,0,0,0]
[0,0,0,0,0,0,0,0,0,0,0,0,0,0,0,0,0,0,0,0]
[0,0,0,0,0,0,0,0,0,0,0,0,0,0,0,0,0,0,0,0]
[0,0,0,0,0,0,0,0,0,0,0,0,0,0,0,0,0,0,0,0]
[0,0,0,0,0,0,0,0,0,0,0,0,0,0,0,0,0,0,0,0]
[0,0,0,0,0,0,0,0,0,0,0,0,0,0,0,0,0,0,0,0]
[0,0,0,0,0,0,0,0,0,0,0,0,0,0,0,0,0,0,0,0]
[0,0,0,0,0,0,0,0,0,0,0,0,0,0,0,0,0,0,0,0]
[0,0,0,0,0,0,0,0,0,0,0,0,0,0,0,0,0,0,0,0]
[0,0,0,0,0,0,0,0,0,0,0,0,0,0,0,0,0,0,0,0]
[0,0,0,0,0,0,0,0,0,0,0,0,0,0,0,0,0,0,0,0]
[0,0,0,0,0,0,0,0,0,0,0,0,0,0,0,0,0,0,0,0]
[0,0,0,0,0,0,0,0,0,0,0,0,0,0,0,0,0,0,0,0]
[0,0,0,0,0,0,0,0,0,0,0,0,0,0,0,0,0,0,0,0]
[0,0,0,0,0,0,0,0,0,0,0,0,0,0,0,0,0,0,0,0]
[0,0,0,0,0,0,0,0,0,0,0,0,0,0,0,0,0,0,0,0]
[0,0,0,0,0,0,0,0,0,0,0,0,0,0,0,0,0,0,0,0]
[0,0,0,0,0,0,0,0,0,0,0,0,0,0,0,0,0,0,0,0]
[0,0,0,0,0,0,0,0,0,0,0,0,0,0,0,0,0,0,0,0]
[0,0,0,0,0,0,0,0,0,0,0,0,0,0,0,0,0,0,0,0]
[0,0,0,0,0,0,0,0,0,0,0,0,0,0,0,0,0,0,0,0]
[0,0,0,0,0,0,0,0,0,0,0,0,0,0,0,0,0,0,0,0]
[0,0,0,0,0,0,0,0,0,0,0,0,0,0,0,0,0,0,0,0]
[0,0,0,0,0,0,0,0,0,0,0,0,0,0,0,0,0,0,0,0]
[0,0,0,0,0,0,0,0,0,0,0,0,0,0,0,0,0,0,0,0]
[0,0,0,0,0,0,0,0,0,0,0,0,0,0,0,0,0,0,0,0]
[0,0,0,0,0,0,0,0,0,0,0,0,0,0,0,0,0,0,0,0]
[0,0,0,0,0,0,0,0,0,0,0,0,0,0,0,0,0,0,0,0]
[0,0,0,0,0,0,0,0,0,0,0,0,0,0,0,0,0,0,0,0]
[0,0,0,0,0,0,0,0,0,0,0,0,0,0,0,0,0,0,0,0]
[0,0,0,0,0,0,0,0,0,0,0,0,0,0,0,0,0,0,0,0]
[0,0,0,0,0,0,0,0,0,0,0,0,0,0,0,0,0,0,0,0]
[0,0,0,0,0,0,0,0,0,0,0,0,0,0,0,0,0,0,0,0]
[0,0,0,0,0,0,0,0,0,0,0,0,0,0,0,0,0,0,0,0]
[0,0,0,0,0,0,0,0,0,0,0,0,0,0,0,0,0,0,0,0]
[0,0,0,0,0,0,0,0,0,0,0,0,0,0,0,0,0,0,0,0]
[0,0,0,0,0,0,0,0,0,0,0,0,0,0,0,0,0,0,0,0]
[0,0,0,0,0,0,0,0,0,0,0,0,0,0,0,0,0,0,0,0]
[0,0,0,0,0,0,0,0,0,0,0,0,0,0,0,0,0,0,0,0]
[0,0,0,0,0,0,0,0,0,0,0,0,0,0,0,0,0,0,0,0]
[0,0,0,0,0,0,0,0,0,0,0,0,0,0,0,0,0,0,0,0]
[0,0,0,0,0,0,0,0,0,0,0,0,0,0,0,0,0,0,0,0]
[0,0,0,0,0,0,0,0,0,0,0,0,0,0,0,0,0,0,0,0]
[0,0,0,0,0,0,0,0,0,0,0,0,0,0,0,0,0,0,0,0]
[0,0,0,0,0,0,0,0,0,0,0,0,0,0,0,0,0,0,0,0]
[0,0,0,0,0,0,0,0,0,0,0,0,0,0,0,0,0,0,0,0]
[0,0,0,0,0,0,0,0,0,0,0,0,0,0,0,0,0,0,0,0]
[0,0,0,0,0,0,0,0,0,0,0,0,0,0,0,0,0,0,0,0]
[0,0,0,0,0,0,0,0,0,0,0,0,0,0,0,0,0,0,0,0]
[0,0,0,0,0,0,0,0,0,0,0,0,0,0,0,0,0,0,0,0]
[0,0,0,0,0,0,0,0,0,0,0,0,0,0,0,0,0,0,0,0]
[0,0,0,0,0,0,0,0,0,0,0,0,0,0,0,0,0,0,0,0]
[0,0,0,0,0,0,0,0,0,0,0,0,0,0,0,0,0,0,0,0]
[0,0,0,0,0,0,0,0,0,0,0,0,0,0,0,0,0,0,0,0]
[0,0,0,0,0,0,0,0,0,0,0,0,0,0,0,0,0,0,0,0]
[0,0,0,0,0,0,0,0,0,0,0,0,0,0,0,0,0,0,0,0]
[0,0,0,0,0,0,0,0,0,0,0,0,0,0,0,0,0,0,0,0]
[0,0,0,0,0,0,0,0,0,0,0,0,0,0,0,0,0,0,0,0]
[0,0,0,0,0,0,0,0,0,0,0,0,0,0,0,0,0,0,0,0]
[0,0,0,0,0,0,0,0,0,0,0,0,0,0,0,0,0,0,0,0]
[0,0,0,0,0,0,0,0,0,0,0,0,0,0,0,0,0,0,0,0]
[0,0,0,0,0,0,0,0,0,0,0,0,0,0,0,0,0,0,0,0]
[0,0,0,0,0,0,0,0,0,0,0,0,0,0,0,0,0,0,0,0]
[0,0,0,0,0,0,0,0,0,0,0,0,0,0,0,0,0,0,0,0]
[0,0,0,0,0,0,0,0,0,0,0,0,0,0,0,0,0,0,0,0]
[0,0,0,0,0,0,0,0,0,0,0,0,0,0,0,0,0,0,0,0]
[0,0,0,0,0,0,0,0,0,0,0,0,0,0,0,0,0,0,0,0]
[0,0,0,0,0,0,0,0,0,0,0,0,0,0,0,0,0,0,0,0]
[0,0,0,0,0,0,0,0,0,0,0,0,0,0,0,0,0,0,0,0]
[0,0,0,0,0,0,0,0,0,0,0,0,0,0,0,0,0,0,0,0]
[0,0,0,0,0,0,0,0,0,0,0,0,0,0,0,0,0,0,0,0]
[0,0,0,0,0,0,0,0,0,0,0,0,0,0,0,0,0,0,0,0]
[0,0,0,0,0,0,0,0,0,0,0,0,0,0,0,0,0,0,0,0]
[0,0,0,0,0,0,0,0,0,0,0,0,0,0,0,0,0,0,0,0]
[0,0,0,0,0,0,0,0,0,0,0,0,0,0,0,0,0,0,0,0]
[0,0,0,0,0,0,0,0,0,0,0,0,0,0,0,0,0,0,0,0]
[0,0,0,0,0,0,0,0,0,0,0,0,0,0,0,0,0,0,0,0]
[0,0,0,0,0,0,0,0,0,0,0,0,0,0,0,0,0,0,0,0]
[0,0,0,0,0,0,0,0,0,0,0,0,0,0,0,0,0,0,0,0]
[0,0,0,0,0,0,0,0,0,0,0,0,0,0,0,0,0,0,0,0]
[0,0,0,0,0,0,0,0,0,0,0,0,0,0,0,0,0,0,0,0]
[0,0,0,0,0,0,0,0,0,0,0,0,0,0,0,0,0,0,0,0]
[0,0,0,0,0,0,0,0,0,0,0,0,0,0,0,0,0,0,0,0]
[0,0,0,0,0,0,0,0,0,0,0,0,0,0,0,0,0,0,0,0]
[0,0,0,0,0,0,0,0,0,0,0,0,0,0,0,0,0,0,0,0]
[0,0,0,0,0,0,0,0,0,0,0,0,0,0,0,0,0,0,0,0]
[0,0,0,0,0,0,0,0,0,0,0,0,0,0,0,0,0,0,0,0]
[0,0,0,0,0,0,0,0,0,0,0,0,0,0,0,0,0,0,0,0]
[0,0,0,0,0,0,0,0,0,0,0,0,0,0,0,0,0,0,0,0]
[0,0,0,0,0,0,0,0,0,0,0,0,0,0,0,0,0,0,0,0]
[0,0,0,0,0,0,0,0,0,0,0,0,0,0,0,0,0,0,0,0]
[0,0,0,0,0,0,0,0,0,0,0,0,0,0,0,0,0,0,0,0]
[0,0,0,0,0,0,0,0,0,0,0,0,0,0,0,0,0,0,0,0]
[0,0,0,0,0,0,0,0,0,0,0,0,0,0,0,0,0,0,0,0]
[0,0,0,0,0,0,0,0,0,0,0,0,0,0,0,0,0,0,0,0]
[0,0,0,0,0,0,0,0,0,0,0,0,0,0,0,0,0,0,0,0]
[0,0,0,0,0,0,0,0,0,0,0,0,0,0,0,0,0,0,0,0]
[0,0,0,0,0,0,0,0,0,0,0,0,0,0,0,0,0,0,0,0]
[0,0,0,0,0,0,0,0,0,0,0,0,0,0,0,0,0,0,0,0]
[0,0,0,0,0,0,0,0,0,0,0,0,0,0,0,0,0,0,0,0]
[0,0,0,0,0,0,0,0,0,0,0,0,0,0,0,0,0,0,0,0]
[0,0,0,0,0,0,0,0,0,0,0,0,0,0,0,0,0,0,0,0]
[0,0,0,0,0,0,0,0,0,0,0,0,0,0,0,0,0,0,0,0]
[0,0,0,0,0,0,0,0,0,0,0,0,0,0,0,0,0,0,0,0]
[0,0,0,0,0,0,0,0,0,0,0,0,0,0,0,0,0,0,0,0]
[0,0,0,0,0,0,0,0,0,0,0,0,0,0,0,0,0,0,0,0]
[0,0,0,0,0,0,0,0,0,0,0,0,0,0,0,0,0,0,0,0]
[0,0,0,0,0,0,0,0,0,0,0,0,0,0,0,0,0,0,0,0]
[0,0,0,0,0,0,0,0,0,0,0,0,0,0,0,0,0,0,0,0]
[0,0,0,0,0,0,0,0,0,0,0,0,0,0,0,0,0,0,0,0]
[0,0,0,0,0,0,0,0,0,0,0,0,0,0,0,0,0,0,0,0]
[0,0,0,0,0,0,0,0,0,0,0,0,0,0,0,0,0,0,0,0]
[0,0,0,0,0,0,0,0,0,0,0,0,0,0,0,0,0,0,0,0]
[0,0,0,0,0,0,0,0,0,0,0,0,0,0,0,0,0,0,0,0]
[0,0,0,0,0,0,0,0,0,0,0,0,0,0,0,0,0,0,0,0]
[0,0,0,0,0,0,0,0,0,0,0,0,0,0,0,0,0,0,0,0]
[0,0,0,0,0,0,0,0,0,0,0,0,0,0,0,0,0,0,0,0]
[0,0,0,0,0,0,0,0,0,0,0,0,0,0,0,0,0,0,0,0]
[0,0,0,0,0,0,0,0,0,0,0,0,0,0,0,0,0,0,0,0]
[0,0,0,0,0,0,0,0,0,0,0,0,0,0,0,0,0,0,0,0]
[0,0,0,0,0,0,0,0,0,0,0,0,0,0,0,0,0,0,0,0]
[0,0,0,0,0,0,0,0,0,0,0,0,0,0,0,0,0,0,0,0]
[0,0,0,0,0,0,0,0,0,0,0,0,0,0,0,0,0,0,0,0]
[0,0,0,0,0,0,0,0,0,0,0,0,0,0,0,0,0,0,0,0]
[0,0,0,0,0,0,0,0,0,0,0,0,0,0,0,0,0,0,0,0]
[0,0,0,0,0,0,0,0,0,0,0,0,0,0,0,0,0,0,0,0]
[0,0,0,0,0,0,0,0,0,0,0,0,0,0,0,0,0,0,0,0]
[0,0,0,0,0,0,0,0,0,0,0,0,0,0,0,0,0,0,0,0]
[0,0,0,0,0,0,0,0,0,0,0,0,0,0,0,0,0,0,0,0]
[0,0,0,0,0,0,0,0,0,0,0,0,0,0,0,0,0,0,0,0]
[0,0,0,0,0,0,0,0,0,0,0,0,0,0,0,0,0,0,0,0]
[0,0,0,0,0,0,0,0,0,0,0,0,0,0,0,0,0,0,0,0]
[0,0,0,0,0,0,0,0,0,0,0,0,0,0,0,0,0,0,0,0]
[0,0,0,0,0,0,0,0,0,0,0,0,0,0,0,0,0,0,0,0]
[0,0,0,0,0,0,0,0,0,0,0,0,0,0,0,0,0,0,0,0]
[0,0,0,0,0,0,0,0,0,0,0,0,0,0,0,0,0,0,0,0]
[0,0,0,0,0,0,0,0,0,0,0,0,0,0,0,0,0,0,0,0]
[0,0,0,0,0,0,0,0,0,0,0,0,0,0,0,0,0,0,0,0]
[0,0,0,0,0,0,0,0,0,0,0,0,0,0,0,0,0,0,0,0]
[0,0,0,0,0,0,0,0,0,0,0,0,0,0,0,0,0,0,0,0]
[0,0,0,0,0,0,0,0,0,0,0,0,0,0,0,0,0,0,0,0]
[0,0,0,0,0,0,0,0,0,0,0,0,0,0,0,0,0,0,0,0]
[0,0,0,0,0,0,0,0,0,0,0,0,0,0,0,0,0,0,0,0]
[0,0,0,0,0,0,0,0,0,0,0,0,0,0,0,0,0,0,0,0]
[0,0,0,0,0,0,0,0,0,0,0,0,0,0,0,0,0,0,0,0]
[0,0,0,0,0,0,0,0,0,0,0,0,0,0,0,0,0,0,0,0]
[0,0,0,0,0,0,0,0,0,0,0,0,0,0,0,0,0,0,0,0]
[0,0,0,0,0,0,0,0,0,0,0,0,0,0,0,0,0,0,0,0]
[0,0,0,0,0,0,0,0,0,0,0,0,0,0,0,0,0,0,0,0]
[0,0,0,0,0,0,0,0,0,0,0,0,0,0,0,0,0,0,0,0]
[0,0,0,0,0,0,0,0,0,0,0,0,0,0,0,0,0,0,0,0]
[0,0,0,0,0,0,0,0,0,0,0,0,0,0,0,0,0,0,0,0]
[0,0,0,0,0,0,0,0,0,0,0,0,0,0,0,0,0,0,0,0]
[0,0,0,0,0,0,0,0,0,0,0,0,0,0,0,0,0,0,0,0]
[0,0,0,0,0,0,0,0,0,0,0,0,0,0,0,0,0,0,0,0]
[0,0,0,0,0,0,0,0,0,0,0,0,0,0,0,0,0,0,0,0]
[0,0,0,0,0,0,0,0,0,0,0,0,0,0,0,0,0,0,0,0]
[0,0,0,0,0,0,0,0,0,0,0,0,0,0,0,0,0,0,0,0]
[0,0,0,0,0,0,0,0,0,0,0,0,0,0,0,0,0,0,0,0]
[0,0,0,0,0,0,0,0,0,0,0,0,0,0,0,0,0,0,0,0]
[0,0,0,0,0,0,0,0,0,0,0,0,0,0,0,0,0,0,0,0]
[0,0,0,0,0,0,0,0,0,0,0,0,0,0,0,0,0,0,0,0]
[0,0,0,0,0,0,0,0,0,0,0,0,0,0,0,0,0,0,0,0]
[0,0,0,0,0,0,0,0,0,0,0,0,0,0,0,0,0,0,0,0]
[0,0,0,0,0,0,0,0,0,0,0,0,0,0,0,0,0,0,0,0]
[0,0,0,0,0,0,0,0,0,0,0,0,0,0,0,0,0,0,0,0]
[0,0,0,0,0,0,0,0,0,0,0,0,0,0,0,0,0,0,0,0]
[0,0,0,0,0,0,0,0,0,0,0,0,0,0,0,0,0,0,0,0]
[0,0,0,0,0,0,0,0,0,0,0,0,0,0,0,0,0,0,0,0]
[0,0,0,0,0,0,0,0,0,0,0,0,0,0,0,0,0,0,0,0]
[0,0,0,0,0,0,0,0,0,0,0,0,0,0,0,0,0,0,0,0]
[0,0,0,0,0,0,0,0,0,0,0,0,0,0,0,0,0,0,0,0]
[0,0,0,0,0,0,0,0,0,0,0,0,0,0,0,0,0,0,0,0]
[0,0,0,0,0,0,0,0,0,0,0,0,0,0,0,0,0,0,0,0]
[0,0,0,0,0,0,0,0,0,0,0,0,0,0,0,0,0,0,0,0]
[0,0,0,0,0,0,0,0,0,0,0,0,0,0,0,0,0,0,0,0]
[0,0,0,0,0,0,0,0,0,0,0,0,0,0,0,0,0,0,0,0]
[0,0,0,0,0,0,0,0,0,0,0,0,0,0,0,0,0,0,0,0]
[0,0,0,0,0,0,0,0,0,0,0,0,0,0,0,0,0,0,0,0]
[0,0,0,0,0,0,0,0,0,0,0,0,0,0,0,0,0,0,0,0]
[0,0,0,0,0,0,0,0,0,0,0,0,0,0,0,0,0,0,0,0]
[0,0,0,0,0,0,0,0,0,0,0,0,0,0,0,0,0,0,0,0]
[0,0,0,0,0,0,0,0,0,0,0,0,0,0,0,0,0,0,0,0]
[0,0,0,0,0,0,0,0,0,0,0,0,0,0,0,0,0,0,0,0]
[0,0,0,0,0,0,0,0,0,0,0,0,0,0,0,0,0,0,0,0]
[0,0,0,0,0,0,0,0,0,0,0,0,0,0,0,0,0,0,0,0]
[0,0,0,0,0,0,0,0,0,0,0,0,0,0,0,0,0,0,0,0]
[0,0,0,0,0,0,0,0,0,0,0,0,0,0,0,0,0,0,0,0]
[0,0,0,0,0,0,0,0,0,0,0,0,0,0,0,0,0,0,0,0]
[0,0,0,0,0,0,0,0,0,0,0,0,0,0,0,0,0,0,0,0]
[0,0,0,0,0,0,0,0,0,0,0,0,0,0,0,0,0,0,0,0]
[0,0,0,0,0,0,0,0,0,0,0,0,0,0,0,0,0,0,0,0]
[0,0,0,0,0,0,0,0,0,0,0,0,0,0,0,0,0,0,0,0]
[0,0,0,0,0,0,0,0,0,0,0,0,0,0,0,0,0,0,0,0]
[0,0,0,0,0,0,0,0,0,0,0,0,0,0,0,0,0,0,0,0]
[0,0,0,0,0,0,0,0,0,0,0,0,0,0,0,0,0,0,0,0]
[0,0,0,0,0,0,0,0,0,0,0,0,0,0,0,0,0,0,0,0]
[0,0,0,0,0,0,0,0,0,0,0,0,0,0,0,0,0,0,0,0]
[0,0,0,0,0,0,0,0,0,0,0,0,0,0,0,0,0,0,0,0]
[0,0,0,0,0,0,0,0,0,0,0,0,0,0,0,0,0,0,0,0]
[0,0,0,0,0,0,0,0,0,0,0,0,0,0,0,0,0,0,0,0]
[0,0,0,0,0,0,0,0,0,0,0,0,0,0,0,0,0,0,0,0]
[0,0,0,0,0,0,0,0,0,0,0,0,0,0,0,0,0,0,0,0]
[0,0,0,0,0,0,0,0,0,0,0,0,0,0,0,0,0,0,0,0]
[0,0,0,0,0,0,0,0,0,0,0,0,0,0,0,0,0,0,0,0]
[0,0,0,0,0,0,0,0,0,0,0,0,0,0,0,0,0,0,0,0]
[0,0,0,0,0,0,0,0,0,0,0,0,0,0,0,0,0,0,0,0]
[0,0,0,0,0,0,0,0,0,0,0,0,0,0,0,0,0,0,0,0]
[0,0,0,0,0,0,0,0,0,0,0,0,0,0,0,0,0,0,0,0]
[0,0,0,0,0,0,0,0,0,0,0,0,0,0,0,0,0,0,0,0]
[0,0,0,0,0,0,0,0,0,0,0,0,0,0,0,0,0,0,0,0]
[0,0,0,0,0,0,0,0,0,0,0,0,0,0,0,0,0,0,0,0]
[0,0,0,0,0,0,0,0,0,0,0,0,0,0,0,0,0,0,0,0]
[0,0,0,0,0,0,0,0,0,0,0,0,0,0,0,0,0,0,0,0]
[0,0,0,0,0,0,0,0,0,0,0,0,0,0,0,0,0,0,0,0]
[0,0,0,0,0,0,0,0,0,0,0,0,0,0,0,0,0,0,0,0]
[0,0,0,0,0,0,0,0,0,0,0,0,0,0,0,0,0,0,0,0]
[0,0,0,0,0,0,0,0,0,0,0,0,0,0,0,0,0,0,0,0]
[0,0,0,0,0,0,0,0,0,0,0,0,0,0,0,0,0,0,0,0]
[0,0,0,0,0,0,0,0,0,0,0,0,0,0,0,0,0,0,0,0]
[0,0,0,0,0,0,0,0,0,0,0,0,0,0,0,0,0,0,0,0]
[0,0,0,0,0,0,0,0,0,0,0,0,0,0,0,0,0,0,0,0]
[0,0,0,0,0,0,0,0,0,0,0,0,0,0,0,0,0,0,0,0]
[0,0,0,0,0,0,0,0,0,0,0,0,0,0,0,0,0,0,0,0]
[0,0,0,0,0,0,0,0,0,0,0,0,0,0,0,0,0,0,0,0]
[0,0,0,0,0,0,0,0,0,0,0,0,0,0,0,0,0,0,0,0]
[0,0,0,0,0,0,0,0,0,0,0,0,0,0,0,0,0,0,0,0]
[0,0,0,0,0,0,0,0,0,0,0,0,0,0,0,0,0,0,0,0]
[0,0,0,0,0,0,0,0,0,0,0,0,0,0,0,0,0,0,0,0]
[0,0,0,0,0,0,0,0,0,0,0,0,0,0,0,0,0,0,0,0]
[0,0,0,0,0,0,0,0,0,0,0,0,0,0,0,0,0,0,0,0]
[0,0,0,0,0,0,0,0,0,0,0,0,0,0,0,0,0,0,0,0]
[0,0,0,0,0,0,0,0,0,0,0,0,0,0,0,0,0,0,0,0]
[0,0,0,0,0,0,0,0,0,0,0,0,0,0,0,0,0,0,0,0]
[0,0,0,0,0,0,0,0,0,0,0,0,0,0,0,0,0,0,0,0]
[0,0,0,0,0,0,0,0,0,0,0,0,0,0,0,0,0,0,0,0]
[0,0,0,0,0,0,0,0,0,0,0,0,0,0,0,0,0,0,0,0]
[0,0,0,0,0,0,0,0,0,0,0,0,0,0,0,0,0,0,0,0]
[0,0,0,0,0,0,0,0,0,0,0,0,0,0,0,0,0,0,0,0]
[0,0,0,0,0,0,0,0,0,0,0,0,0,0,0,0,0,0,0,0]
[0,0,0,0,0,0,0,0,0,0,0,0,0,0,0,0,0,0,0,0]
[0,0,0,0,0,0,0,0,0,0,0,0,0,0,0,0,0,0,0,0]
[0,0,0,0,0,0,0,0,0,0,0,0,0,0,0,0,0,0,0,0]
[0,0,0,0,0,0,0,0,0,0,0,0,0,0,0,0,0,0,0,0]
[0,0,0,0,0,0,0,0,0,0,0,0,0,0,0,0,0,0,0,0]
[0,0,0,0,0,0,0,0,0,0,0,0,0,0,0,0,0,0,0,0]
[0,0,0,0,0,0,0,0,0,0,0,0,0,0,0,0,0,0,0,0]
[0,0,0,0,0,0,0,0,0,0,0,0,0,0,0,0,0,0,0,0]
[0,0,0,0,0,0,0,0,0,0,0,0,0,0,0,0,0,0,0,0]
[0,0,0,0,0,0,0,0,0,0,0,0,0,0,0,0,0,0,0,0]
[0,0,0,0,0,0,0,0,0,0,0,0,0,0,0,0,0,0,0,0]
[0,0,0,0,0,0,0,0,0,0,0,0,0,0,0,0,0,0,0,0]
[0,0,0,0,0,0,0,0,0,0,0,0,0,0,0,0,0,0,0,0]
[0,0,0,0,0,0,0,0,0,0,0,0,0,0,0,0,0,0,0,0]
[0,0,0,0,0,0,0,0,0,0,0,0,0,0,0,0,0,0,0,0]
[0,0,0,0,0,0,0,0,0,0,0,0,0,0,0,0,0,0,0,0]
[0,0,0,0,0,0,0,0,0,0,0,0,0,0,0,0,0,0,0,0]
[0,0,0,0,0,0,0,0,0,0,0,0,0,0,0,0,0,0,0,0]
[0,0,0,0,0,0,0,0,0,0,0,0,0,0,0,0,0,0,0,0]
[0,0,0,0,0,0,0,0,0,0,0,0,0,0,0,0,0,0,0,0]
[0,0,0,0,0,0,0,0,0,0,0,0,0,0,0,0,0,0,0,0]
[0,0,0,0,0,0,0,0,0,0,0,0,0,0,0,0,0,0,0,0]
[0,0,0,0,0,0,0,0,0,0,0,0,0,0,0,0,0,0,0,0]
[0,0,0,0,0,0,0,0,0,0,0,0,0,0,0,0,0,0,0,0]
[0,0,0,0,0,0,0,0,0,0,0,0,0,0,0,0,0,0,0,0]
[0,0,0,0,0,0,0,0,0,0,0,0,0,0,0,0,0,0,0,0]
[0,0,0,0,0,0,0,0,0,0,0,0,0,0,0,0,0,0,0,0]
[0,0,0,0,0,0,0,0,0,0,0,0,0,0,0,0,0,0,0,0]
[0,0,0,0,0,0,0,0,0,0,0,0,0,0,0,0,0,0,0,0]
[0,0,0,0,0,0,0,0,0,0,0,0,0,0,0,0,0,0,0,0]
[0,0,0,0,0,0,0,0,0,0,0,0,0,0,0,0,0,0,0,0]
[0,0,0,0,0,0,0,0,0,0,0,0,0,0,0,0,0,0,0,0]
[0,0,0,0,0,0,0,0,0,0,0,0,0,0,0,0,0,0,0,0]
[0,0,0,0,0,0,0,0,0,0,0,0,0,0,0,0,0,0,0,0]
[0,0,0,0,0,0,0,0,0,0,0,0,0,0,0,0,0,0,0,0]
[0,0,0,0,0,0,0,0,0,0,0,0,0,0,0,0,0,0,0,0]
[0,0,0,0,0,0,0,0,0,0,0,0,0,0,0,0,0,0,0,0]
[0,0,0,0,0,0,0,0,0,0,0,0,0,0,0,0,0,0,0,0]
[0,0,0,0,0,0,0,0,0,0,0,0,0,0,0,0,0,0,0,0]
[0,0,0,0,0,0,0,0,0,0,0,0,0,0,0,0,0,0,0,0]
[0,0,0,0,0,0,0,0,0,0,0,0,0,0,0,0,0,0,0,0]
[0,0,0,0,0,0,0,0,0,0,0,0,0,0,0,0,0,0,0,0]
[0,0,0,0,0,0,0,0,0,0,0,0,0,0,0,0,0,0,0,0]
[0,0,0,0,0,0,0,0,0,0,0,0,0,0,0,0,0,0,0,0]
[0,0,0,0,0,0,0,0,0,0,0,0,0,0,0,0,0,0,0,0]
[0,0,0,0,0,0,0,0,0,0,0,0,0,0,0,0,0,0,0,0]
[0,0,0,0,0,0,0,0,0,0,0,0,0,0,0,0,0,0,0,0]
[0,0,0,0,0,0,0,0,0,0,0,0,0,0,0,0,0,0,0,0]
[0,0,0,0,0,0,0,0,0,0,0,0,0,0,0,0,0,0,0,0]
[0,0,0,0,0,0,0,0,0,0,0,0,0,0,0,0,0,0,0,0]
[0,0,0,0,0,0,0,0,0,0,0,0,0,0,0,0,0,0,0,0]
[0,0,0,0,0,0,0,0,0,0,0,0,0,0,0,0,0,0,0,0]
[0,0,0,0,0,0,0,0,0,0,0,0,0,0,0,0,0,0,0,0]
[0,0,0,0,0,0,0,0,0,0,0,0,0,0,0,0,0,0,0,0]
[0,0,0,0,0,0,0,0,0,0,0,0,0,0,0,0,0,0,0,0]
[0,0,0,0,0,0,0,0,0,0,0,0,0,0,0,0,0,0,0,0]
[0,0,0,0,0,0,0,0,0,0,0,0,0,0,0,0,0,0,0,0]
[0,0,0,0,0,0,0,0,0,0,0,0,0,0,0,0,0,0,0,0]
[0,0,0,0,0,0,0,0,0,0,0,0,0,0,0,0,0,0,0,0]
[0,0,0,0,0,0,0,0,0,0,0,0,0,0,0,0,0,0,0,0]
[0,0,0,0,0,0,0,0,0,0,0,0,0,0,0,0,0,0,0,0]
[0,0,0,0,0,0,0,0,0,0,0,0,0,0,0,0,0,0,0,0]
[0,0,0,0,0,0,0,0,0,0,0,0,0,0,0,0,0,0,0,0]
[0,0,0,0,0,0,0,0,0,0,0,0,0,0,0,0,0,0,0,0]
[0,0,0,0,0,0,0,0,0,0,0,0,0,0,0,0,0,0,0,0]
[0,0,0,0,0,0,0,0,0,0,0,0,0,0,0,0,0,0,0,0]
[0,0,0,0,0,0,0,0,0,0,0,0,0,0,0,0,0,0,0,0]
[0,0,0,0,0,0,0,0,0,0,0,0,0,0,0,0,0,0,0,0]
[0,0,0,0,0,0,0,0,0,0,0,0,0,0,0,0,0,0,0,0]
[0,0,0,0,0,0,0,0,0,0,0,0,0,0,0,0,0,0,0,0]
[0,0,0,0,0,0,0,0,0,0,0,0,0,0,0,0,0,0,0,0]
[0,0,0,0,0,0,0,0,0,0,0,0,0,0,0,0,0,0,0,0]
[0,0,0,0,0,0,0,0,0,0,0,0,0,0,0,0,0,0,0,0]
[0,0,0,0,0,0,0,0,0,0,0,0,0,0,0,0,0,0,0,0]
[0,0,0,0,0,0,0,0,0,0,0,0,0,0,0,0,0,0,0,0]
[0,0,0,0,0,0,0,0,0,0,0,0,0,0,0,0,0,0,0,0]
[0,0,0,0,0,0,0,0,0,0,0,0,0,0,0,0,0,0,0,0]
[0,0,0,0,0,0,0,0,0,0,0,0,0,0,0,0,0,0,0,0]
[0,0,0,0,0,0,0,0,0,0,0,0,0,0,0,0,0,0,0,0]
[0,0,0,0,0,0,0,0,0,0,0,0,0,0,0,0,0,0,0,0]
[0,0,0,0,0,0,0,0,0,0,0,0,0,0,0,0,0,0,0,0]
[0,0,0,0,0,0,0,0,0,0,0,0,0,0,0,0,0,0,0,0]
[0,0,0,0,0,0,0,0,0,0,0,0,0,0,0,0,0,0,0,0]
[0,0,0,0,0,0,0,0,0,0,0,0,0,0,0,0,0,0,0,0]
[0,0,0,0,0,0,0,0,0,0,0,0,0,0,0,0,0,0,0,0]
[0,0,0,0,0,0,0,0,0,0,0,0,0,0,0,0,0,0,0,0]
[0,0,0,0,0,0,0,0,0,0,0,0,0,0,0,0,0,0,0,0]
[0,0,0,0,0,0,0,0,0,0,0,0,0,0,0,0,0,0,0,0]
[0,0,0,0,0,0,0,0,0,0,0,0,0,0,0,0,0,0,0,0]
[0,0,0,0,0,0,0,0,0,0,0,0,0,0,0,0,0,0,0,0]
[0,0,0,0,0,0,0,0,0,0,0,0,0,0,0,0,0,0,0,0]
[0,0,0,0,0,0,0,0,0,0,0,0,0,0,0,0,0,0,0,0]
[0,0,0,0,0,0,0,0,0,0,0,0,0,0,0,0,0,0,0,0]
[0,0,0,0,0,0,0,0,0,0,0,0,0,0,0,0,0,0,0,0]
[0,0,0,0,0,0,0,0,0,0,0,0,0,0,0,0,0,0,0,0]
[0,0,0,0,0,0,0,0,0,0,0,0,0,0,0,0,0,0,0,0]
[0,0,0,0,0,0,0,0,0,0,0,0,0,0,0,0,0,0,0,0]
[0,0,0,0,0,0,0,0,0,0,0,0,0,0,0,0,0,0,0,0]
[0,0,0,0,0,0,0,0,0,0,0,0,0,0,0,0,0,0,0,0]
[0,0,0,0,0,0,0,0,0,0,0,0,0,0,0,0,0,0,0,0]
[0,0,0,0,0,0,0,0,0,0,0,0,0,0,0,0,0,0,0,0]
[0,0,0,0,0,0,0,0,0,0,0,0,0,0,0,0,0,0,0,0]
[0,0,0,0,0,0,0,0,0,0,0,0,0,0,0,0,0,0,0,0]
[0,0,0,0,0,0,0,0,0,0,0,0,0,0,0,0,0,0,0,0]
[0,0,0,0,0,0,0,0,0,0,0,0,0,0,0,0,0,0,0,0]
[0,0,0,0,0,0,0,0,0,0,0,0,0,0,0,0,0,0,0,0]
[0,0,0,0,0,0,0,0,0,0,0,0,0,0,0,0,0,0,0,0]
[0,0,0,0,0,0,0,0,0,0,0,0,0,0,0,0,0,0,0,0]
[0,0,0,0,0,0,0,0,0,0,0,0,0,0,0,0,0,0,0,0]
[0,0,0,0,0,0,0,0,0,0,0,0,0,0,0,0,0,0,0,0]
[0,0,0,0,0,0,0,0,0,0,0,0,0,0,0,0,0,0,0,0]
[0,0,0,0,0,0,0,0,0,0,0,0,0,0,0,0,0,0,0,0]
[0,0,0,0,0,0,0,0,0,0,0,0,0,0,0,0,0,0,0,0]
[0,0,0,0,0,0,0,0,0,0,0,0,0,0,0,0,0,0,0,0]
[0,0,0,0,0,0,0,0,0,0,0,0,0,0,0,0,0,0,0,0]
[0,0,0,0,0,0,0,0,0,0,0,0,0,0,0,0,0,0,0,0]
[0,0,0,0,0,0,0,0,0,0,0,0,0,0,0,0,0,0,0,0]
[0,0,0,0,0,0,0,0,0,0,0,0,0,0,0,0,0,0,0,0]
[0,0,0,0,0,0,0,0,0,0,0,0,0,0,0,0,0,0,0,0]
[0,0,0,0,0,0,0,0,0,0,0,0,0,0,0,0,0,0,0,0]
[0,0,0,0,0,0,0,0,0,0,0,0,0,0,0,0,0,0,0,0]
[0,0,0,0,0,0,0,0,0,0,0,0,0,0,0,0,0,0,0,0]
[0,0,0,0,0,0,0,0,0,0,0,0,0,0,0,0,0,0,0,0]
[0,0,0,0,0,0,0,0,0,0,0,0,0,0,0,0,0,0,0,0]
[0,0,0,0,0,0,0,0,0,0,0,0,0,0,0,0,0,0,0,0]
[0,0,0,0,0,0,0,0,0,0,0,0,0,0,0,0,0,0,0,0]
[0,0,0,0,0,0,0,0,0,0,0,0,0,0,0,0,0,0,0,0]
[0,0,0,0,0,0,0,0,0,0,0,0,0,0,0,0,0,0,0,0]
[0,0,0,0,0,0,0,0,0,0,0,0,0,0,0,0,0,0,0,0]
[0,0,0,0,0,0,0,0,0,0,0,0,0,0,0,0,0,0,0,0]
[0,0,0,0,0,0,0,0,0,0,0,0,0,0,0,0,0,0,0,0]
[0,0,0,0,0,0,0,0,0,0,0,0,0,0,0,0,0,0,0,0]
[0,0,0,0,0,0,0,0,0,0,0,0,0,0,0,0,0,0,0,0]
[0,0,0,0,0,0,0,0,0,0,0,0,0,0,0,0,0,0,0,0]
[0,0,0,0,0,0,0,0,0,0,0,0,0,0,0,0,0,0,0,0]
[0,0,0,0,0,0,0,0,0,0,0,0,0,0,0,0,0,0,0,0]
[0,0,0,0,0,0,0,0,0,0,0,0,0,0,0,0,0,0,0,0]
[0,0,0,0,0,0,0,0,0,0,0,0,0,0,0,0,0,0,0,0]
[0,0,0,0,0,0,0,0,0,0,0,0,0,0,0,0,0,0,0,0]
[0,0,0,0,0,0,0,0,0,0,0,0,0,0,0,0,0,0,0,0]
[0,0,0,0,0,0,0,0,0,0,0,0,0,0,0,0,0,0,0,0]
[0,0,0,0,0,0,0,0,0,0,0,0,0,0,0,0,0,0,0,0]
[0,0,0,0,0,0,0,0,0,0,0,0,0,0,0,0,0,0,0,0]
[0,0,0,0,0,0,0,0,0,0,0,0,0,0,0,0,0,0,0,0]
[0,0,0,0,0,0,0,0,0,0,0,0,0,0,0,0,0,0,0,0]
[0,0,0,0,0,0,0,0,0,0,0,0,0,0,0,0,0,0,0,0]
[0,0,0,0,0,0,0,0,0,0,0,0,0,0,0,0,0,0,0,0]
[0,0,0,0,0,0,0,0,0,0,0,0,0,0,0,0,0,0,0,0]
[0,0,0,0,0,0,0,0,0,0,0,0,0,0,0,0,0,0,0,0]
[0,0,0,0,0,0,0,0,0,0,0,0,0,0,0,0,0,0,0,0]
[0,0,0,0,0,0,0,0,0,0,0,0,0,0,0,0,0,0,0,0]
[0,0,0,0,0,0,0,0,0,0,0,0,0,0,0,0,0,0,0,0]
[0,0,0,0,0,0,0,0,0,0,0,0,0,0,0,0,0,0,0,0]
[0,0,0,0,0,0,0,0,0,0,0,0,0,0,0,0,0,0,0,0]
[0,0,0,0,0,0,0,0,0,0,0,0,0,0,0,0,0,0,0,0]
[0,0,0,0,0,0,0,0,0,0,0,0,0,0,0,0,0,0,0,0]
[0,0,0,0,0,0,0,0,0,0,0,0,0,0,0,0,0,0,0,0]
[0,0,0,0,0,0,0,0,0,0,0,0,0,0,0,0,0,0,0,0]
[0,0,0,0,0,0,0,0,0,0,0,0,0,0,0,0,0,0,0,0]
[0,0,0,0,0,0,0,0,0,0,0,0,0,0,0,0,0,0,0,0]
[0,0,0,0,0,0,0,0,0,0,0,0,0,0,0,0,0,0,0,0]
[0,0,0,0,0,0,0,0,0,0,0,0,0,0,0,0,0,0,0,0]
[0,0,0,0,0,0,0,0,0,0,0,0,0,0,0,0,0,0,0,0]
[0,0,0,0,0,0,0,0,0,0,0,0,0,0,0,0,0,0,0,0]
[0,0,0,0,0,0,0,0,0,0,0,0,0,0,0,0,0,0,0,0]
[0,0,0,0,0,0,0,0,0,0,0,0,0,0,0,0,0,0,0,0]
[0,0,0,0,0,0,0,0,0,0,0,0,0,0,0,0,0,0,0,0]
[0,0,0,0,0,0,0,0,0,0,0,0,0,0,0,0,0,0,0,0]
[0,0,0,0,0,0,0,0,0,0,0,0,0,0,0,0,0,0,0,0]
[0,0,0,0,0,0,0,0,0,0,0,0,0,0,0,0,0,0,0,0]
[0,0,0,0,0,0,0,0,0,0,0,0,0,0,0,0,0,0,0,0]
[0,0,0,0,0,0,0,0,0,0,0,0,0,0,0,0,0,0,0,0]
[0,0,0,0,0,0,0,0,0,0,0,0,0,0,0,0,0,0,0,0]
[0,0,0,0,0,0,0,0,0,0,0,0,0,0,0,0,0,0,0,0]
[0,0,0,0,0,0,0,0,0,0,0,0,0,0,0,0,0,0,0,0]
[0,0,0,0,0,0,0,0,0,0,0,0,0,0,0,0,0,0,0,0]
[0,0,0,0,0,0,0,0,0,0,0,0,0,0,0,0,0,0,0,0]
[0,0,0,0,0,0,0,0,0,0,0,0,0,0,0,0,0,0,0,0]
[0,0,0,0,0,0,0,0,0,0,0,0,0,0,0,0,0,0,0,0]
[0,0,0,0,0,0,0,0,0,0,0,0,0,0,0,0,0,0,0,0]
[0,0,0,0,0,0,0,0,0,0,0,0,0,0,0,0,0,0,0,0]
[0,0,0,0,0,0,0,0,0,0,0,0,0,0,0,0,0,0,0,0]
[0,0,0,0,0,0,0,0,0,0,0,0,0,0,0,0,0,0,0,0]
[0,0,0,0,0,0,0,0,0,0,0,0,0,0,0,0,0,0,0,0]
[0,0,0,0,0,0,0,0,0,0,0,0,0,0,0,0,0,0,0,0]
[0,0,0,0,0,0,0,0,0,0,0,0,0,0,0,0,0,0,0,0]
[0,0,0,0,0,0,0,0,0,0,0,0,0,0,0,0,0,0,0,0]
[0,0,0,0,0,0,0,0,0,0,0,0,0,0,0,0,0,0,0,0]
[0,0,0,0,0,0,0,0,0,0,0,0,0,0,0,0,0,0,0,0]
[0,0,0,0,0,0,0,0,0,0,0,0,0,0,0,0,0,0,0,0]
[0,0,0,0,0,0,0,0,0,0,0,0,0,0,0,0,0,0,0,0]
[0,0,0,0,0,0,0,0,0,0,0,0,0,0,0,0,0,0,0,0]
[0,0,0,0,0,0,0,0,0,0,0,0,0,0,0,0,0,0,0,0]
[0,0,0,0,0,0,0,0,0,0,0,0,0,0,0,0,0,0,0,0]
[0,0,0,0,0,0,0,0,0,0,0,0,0,0,0,0,0,0,0,0]
[0,0,0,0,0,0,0,0,0,0,0,0,0,0,0,0,0,0,0,0]
[0,0,0,0,0,0,0,0,0,0,0,0,0,0,0,0,0,0,0,0]
[0,0,0,0,0,0,0,0,0,0,0,0,0,0,0,0,0,0,0,0]
[0,0,0,0,0,0,0,0,0,0,0,0,0,0,0,0,0,0,0,0]
[0,0,0,0,0,0,0,0,0,0,0,0,0,0,0,0,0,0,0,0]
[0,0,0,0,0,0,0,0,0,0,0,0,0,0,0,0,0,0,0,0]
[0,0,0,0,0,0,0,0,0,0,0,0,0,0,0,0,0,0,0,0]
[0,0,0,0,0,0,0,0,0,0,0,0,0,0,0,0,0,0,0,0]
[0,0,0,0,0,0,0,0,0,0,0,0,0,0,0,0,0,0,0,0]
[0,0,0,0,0,0,0,0,0,0,0,0,0,0,0,0,0,0,0,0]
[0,0,0,0,0,0,0,0,0,0,0,0,0,0,0,0,0,0,0,0]
[0,0,0,0,0,0,0,0,0,0,0,0,0,0,0,0,0,0,0,0]
[0,0,0,0,0,0,0,0,0,0,0,0,0,0,0,0,0,0,0,0]
[0,0,0,0,0,0,0,0,0,0,0,0,0,0,0,0,0,0,0,0]
[0,0,0,0,0,0,0,0,0,0,0,0,0,0,0,0,0,0,0,0]
[0,0,0,0,0,0,0,0,0,0,0,0,0,0,0,0,0,0,0,0]
[0,0,0,0,0,0,0,0,0,0,0,0,0,0,0,0,0,0,0,0]
[0,0,0,0,0,0,0,0,0,0,0,0,0,0,0,0,0,0,0,0]
[0,0,0,0,0,0,0,0,0,0,0,0,0,0,0,0,0,0,0,0]
[0,0,0,0,0,0,0,0,0,0,0,0,0,0,0,0,0,0,0,0]
[0,0,0,0,0,0,0,0,0,0,0,0,0,0,0,0,0,0,0,0]
[0,0,0,0,0,0,0,0,0,0,0,0,0,0,0,0,0,0,0,0]
[0,0,0,0,0,0,0,0,0,0,0,0,0,0,0,0,0,0,0,0]
[0,0,0,0,0,0,0,0,0,0,0,0,0,0,0,0,0,0,0,0]
[0,0,0,0,0,0,0,0,0,0,0,0,0,0,0,0,0,0,0,0]
[0,0,0,0,0,0,0,0,0,0,0,0,0,0,0,0,0,0,0,0]
[0,0,0,0,0,0,0,0,0,0,0,0,0,0,0,0,0,0,0,0]
[0,0,0,0,0,0,0,0,0,0,0,0,0,0,0,0,0,0,0,0]
[0,0,0,0,0,0,0,0,0,0,0,0,0,0,0,0,0,0,0,0]
[0,0,0,0,0,0,0,0,0,0,0,0,0,0,0,0,0,0,0,0]
[0,0,0,0,0,0,0,0,0,0,0,0,0,0,0,0,0,0,0,0]
[0,0,0,0,0,0,0,0,0,0,0,0,0,0,0,0,0,0,0,0]
[0,0,0,0,0,0,0,0,0,0,0,0,0,0,0,0,0,0,0,0]
[0,0,0,0,0,0,0,0,0,0,0,0,0,0,0,0,0,0,0,0]
[0,0,0,0,0,0,0,0,0,0,0,0,0,0,0,0,0,0,0,0]
[0,0,0,0,0,0,0,0,0,0,0,0,0,0,0,0,0,0,0,0]
[0,0,0,0,0,0,0,0,0,0,0,0,0,0,0,0,0,0,0,0]
[0,0,0,0,0,0,0,0,0,0,0,0,0,0,0,0,0,0,0,0]
[0,0,0,0,0,0,0,0,0,0,0,0,0,0,0,0,0,0,0,0]
[0,0,0,0,0,0,0,0,0,0,0,0,0,0,0,0,0,0,0,0]
[0,0,0,0,0,0,0,0,0,0,0,0,0,0,0,0,0,0,0,0]
[0,0,0,0,0,0,0,0,0,0,0,0,0,0,0,0,0,0,0,0]
[0,0,0,0,0,0,0,0,0,0,0,0,0,0,0,0,0,0,0,0]
[0,0,0,0,0,0,0,0,0,0,0,0,0,0,0,0,0,0,0,0]
[0,0,0,0,0,0,0,0,0,0,0,0,0,0,0,0,0,0,0,0]
[0,0,0,0,0,0,0,0,0,0,0,0,0,0,0,0,0,0,0,0]
[0,0,0,0,0,0,0,0,0,0,0,0,0,0,0,0,0,0,0,0]
[0,0,0,0,0,0,0,0,0,0,0,0,0,0,0,0,0,0,0,0]
[0,0,0,0,0,0,0,0,0,0,0,0,0,0,0,0,0,0,0,0]
[0,0,0,0,0,0,0,0,0,0,0,0,0,0,0,0,0,0,0,0]
[0,0,0,0,0,0,0,0,0,0,0,0,0,0,0,0,0,0,0,0]
[0,0,0,0,0,0,0,0,0,0,0,0,0,0,0,0,0,0,0,0]
[0,0,0,0,0,0,0,0,0,0,0,0,0,0,0,0,0,0,0,0]
[0,0,0,0,0,0,0,0,0,0,0,0,0,0,0,0,0,0,0,0]
[0,0,0,0,0,0,0,0,0,0,0,0,0,0,0,0,0,0,0,0]
[0,0,0,0,0,0,0,0,0,0,0,0,0,0,0,0,0,0,0,0]
[0,0,0,0,0,0,0,0,0,0,0,0,0,0,0,0,0,0,0,0]
[0,0,0,0,0,0,0,0,0,0,0,0,0,0,0,0,0,0,0,0]
[0,0,0,0,0,0,0,0,0,0,0,0,0,0,0,0,0,0,0,0]
[0,0,0,0,0,0,0,0,0,0,0,0,0,0,0,0,0,0,0,0]
[0,0,0,0,0,0,0,0,0,0,0,0,0,0,0,0,0,0,0,0]
[0,0,0,0,0,0,0,0,0,0,0,0,0,0,0,0,0,0,0,0]
[0,0,0,0,0,0,0,0,0,0,0,0,0,0,0,0,0,0,0,0]
[0,0,0,0,0,0,0,0,0,0,0,0,0,0,0,0,0,0,0,0]
[0,0,0,0,0,0,0,0,0,0,0,0,0,0,0,0,0,0,0,0]
[0,0,0,0,0,0,0,0,0,0,0,0,0,0,0,0,0,0,0,0]
[0,0,0,0,0,0,0,0,0,0,0,0,0,0,0,0,0,0,0,0]
[0,0,0,0,0,0,0,0,0,0,0,0,0,0,0,0,0,0,0,0]
[0,0,0,0,0,0,0,0,0,0,0,0,0,0,0,0,0,0,0,0]
[0,0,0,0,0,0,0,0,0,0,0,0,0,0,0,0,0,0,0,0]
[0,0,0,0,0,0,0,0,0,0,0,0,0,0,0,0,0,0,0,0]
[0,0,0,0,0,0,0,0,0,0,0,0,0,0,0,0,0,0,0,0]
[0,0,0,0,0,0,0,0,0,0,0,0,0,0,0,0,0,0,0,0]
[0,0,0,0,0,0,0,0,0,0,0,0,0,0,0,0,0,0,0,0]
[0,0,0,0,0,0,0,0,0,0,0,0,0,0,0,0,0,0,0,0]
[0,0,0,0,0,0,0,0,0,0,0,0,0,0,0,0,0,0,0,0]
[0,0,0,0,0,0,0,0,0,0,0,0,0,0,0,0,0,0,0,0]
[0,0,0,0,0,0,0,0,0,0,0,0,0,0,0,0,0,0,0,0]
[0,0,0,0,0,0,0,0,0,0,0,0,0,0,0,0,0,0,0,0]
[0,0,0,0,0,0,0,0,0,0,0,0,0,0,0,0,0,0,0,0]
[0,0,0,0,0,0,0,0,0,0,0,0,0,0,0,0,0,0,0,0]
[0,0,0,0,0,0,0,0,0,0,0,0,0,0,0,0,0,0,0,0]
[0,0,0,0,0,0,0,0,0,0,0,0,0,0,0,0,0,0,0,0]
[0,0,0,0,0,0,0,0,0,0,0,0,0,0,0,0,0,0,0,0]
[0,0,0,0,0,0,0,0,0,0,0,0,0,0,0,0,0,0,0,0]
[0,0,0,0,0,0,0,0,0,0,0,0,0,0,0,0,0,0,0,0]
[0,0,0,0,0,0,0,0,0,0,0,0,0,0,0,0,0,0,0,0]
[0,0,0,0,0,0,0,0,0,0,0,0,0,0,0,0,0,0,0,0]
[0,0,0,0,0,0,0,0,0,0,0,0,0,0,0,0,0,0,0,0]
[0,0,0,0,0,0,0,0,0,0,0,0,0,0,0,0,0,0,0,0]
[0,0,0,0,0,0,0,0,0,0,0,0,0,0,0,0,0,0,0,0]
[0,0,0,0,0,0,0,0,0,0,0,0,0,0,0,0,0,0,0,0]
[0,0,0,0,0,0,0,0,0,0,0,0,0,0,0,0,0,0,0,0]
[0,0,0,0,0,0,0,0,0,0,0,0,0,0,0,0,0,0,0,0]
[0,0,0,0,0,0,0,0,0,0,0,0,0,0,0,0,0,0,0,0]
[0,0,0,0,0,0,0,0,0,0,0,0,0,0,0,0,0,0,0,0]
[0,0,0,0,0,0,0,0,0,0,0,0,0,0,0,0,0,0,0,0]
[0,0,0,0,0,0,0,0,0,0,0,0,0,0,0,0,0,0,0,0]
[0,0,0,0,0,0,0,0,0,0,0,0,0,0,0,0,0,0,0,0]
[0,0,0,0,0,0,0,0,0,0,0,0,0,0,0,0,0,0,0,0]
[0,0,0,0,0,0,0,0,0,0,0,0,0,0,0,0,0,0,0,0]
[0,0,0,0,0,0,0,0,0,0,0,0,0,0,0,0,0,0,0,0]
[0,0,0,0,0,0,0,0,0,0,0,0,0,0,0,0,0,0,0,0]
[0,0,0,0,0,0,0,0,0,0,0,0,0,0,0,0,0,0,0,0]
[0,0,0,0,0,0,0,0,0,0,0,0,0,0,0,0,0,0,0,0]
[0,0,0,0,0,0,0,0,0,0,0,0,0,0,0,0,0,0,0,0]
[0,0,0,0,0,0,0,0,0,0,0,0,0,0,0,0,0,0,0,0]
[0,0,0,0,0,0,0,0,0,0,0,0,0,0,0,0,0,0,0,0]
[0,0,0,0,0,0,0,0,0,0,0,0,0,0,0,0,0,0,0,0]
[0,0,0,0,0,0,0,0,0,0,0,0,0,0,0,0,0,0,0,0]
[0,0,0,0,0,0,0,0,0,0,0,0,0,0,0,0,0,0,0,0]
[0,0,0,0,0,0,0,0,0,0,0,0,0,0,0,0,0,0,0,0]
[0,0,0,0,0,0,0,0,0,0,0,0,0,0,0,0,0,0,0,0]
[0,0,0,0,0,0,0,0,0,0,0,0,0,0,0,0,0,0,0,0]
[0,0,0,0,0,0,0,0,0,0,0,0,0,0,0,0,0,0,0,0]
[0,0,0,0,0,0,0,0,0,0,0,0,0,0,0,0,0,0,0,0]
[0,0,0,0,0,0,0,0,0,0,0,0,0,0,0,0,0,0,0,0]
[0,0,0,0,0,0,0,0,0,0,0,0,0,0,0,0,0,0,0,0]
[0,0,0,0,0,0,0,0,0,0,0,0,0,0,0,0,0,0,0,0]
[0,0,0,0,0,0,0,0,0,0,0,0,0,0,0,0,0,0,0,0]
[0,0,0,0,0,0,0,0,0,0,0,0,0,0,0,0,0,0,0,0]
[0,0,0,0,0,0,0,0,0,0,0,0,0,0,0,0,0,0,0,0]
[0,0,0,0,0,0,0,0,0,0,0,0,0,0,0,0,0,0,0,0]
[0,0,0,0,0,0,0,0,0,0,0,0,0,0,0,0,0,0,0,0]
[0,0,0,0,0,0,0,0,0,0,0,0,0,0,0,0,0,0,0,0]
[0,0,0,0,0,0,0,0,0,0,0,0,0,0,0,0,0,0,0,0]
[0,0,0,0,0,0,0,0,0,0,0,0,0,0,0,0,0,0,0,0]
[0,0,0,0,0,0,0,0,0,0,0,0,0,0,0,0,0,0,0,0]
[0,0,0,0,0,0,0,0,0,0,0,0,0,0,0,0,0,0,0,0]
[0,0,0,0,0,0,0,0,0,0,0,0,0,0,0,0,0,0,0,0]
[0,0,0,0,0,0,0,0,0,0,0,0,0,0,0,0,0,0,0,0]
[0,0,0,0,0,0,0,0,0,0,0,0,0,0,0,0,0,0,0,0]
[0,0,0,0,0,0,0,0,0,0,0,0,0,0,0,0,0,0,0,0]
[0,0,0,0,0,0,0,0,0,0,0,0,0,0,0,0,0,0,0,0]
[0,0,0,0,0,0,0,0,0,0,0,0,0,0,0,0,0,0,0,0]
[0,0,0,0,0,0,0,0,0,0,0,0,0,0,0,0,0,0,0,0]
[0,0,0,0,0,0,0,0,0,0,0,0,0,0,0,0,0,0,0,0]
[0,0,0,0,0,0,0,0,0,0,0,0,0,0,0,0,0,0,0,0]
[0,0,0,0,0,0,0,0,0,0,0,0,0,0,0,0,0,0,0,0]
[0,0,0,0,0,0,0,0,0,0,0,0,0,0,0,0,0,0,0,0]
[0,0,0,0,0,0,0,0,0,0,0,0,0,0,0,0,0,0,0,0]
[0,0,0,0,0,0,0,0,0,0,0,0,0,0,0,0,0,0,0,0]
[0,0,0,0,0,0,0,0,0,0,0,0,0,0,0,0,0,0,0,0]
[0,0,0,0,0,0,0,0,0,0,0,0,0,0,0,0,0,0,0,0]
[0,0,0,0,0,0,0,0,0,0,0,0,0,0,0,0,0,0,0,0]
[0,0,0,0,0,0,0,0,0,0,0,0,0,0,0,0,0,0,0,0]
[0,0,0,0,0,0,0,0,0,0,0,0,0,0,0,0,0,0,0,0]
[0,0,0,0,0,0,0,0,0,0,0,0,0,0,0,0,0,0,0,0]
[0,0,0,0,0,0,0,0,0,0,0,0,0,0,0,0,0,0,0,0]
[0,0,0,0,0,0,0,0,0,0,0,0,0,0,0,0,0,0,0,0]
[0,0,0,0,0,0,0,0,0,0,0,0,0,0,0,0,0,0,0,0]
[0,0,0,0,0,0,0,0,0,0,0,0,0,0,0,0,0,0,0,0]
[0,0,0,0,0,0,0,0,0,0,0,0,0,0,0,0,0,0,0,0]
[0,0,0,0,0,0,0,0,0,0,0,0,0,0,0,0,0,0,0,0]
[0,0,0,0,0,0,0,0,0,0,0,0,0,0,0,0,0,0,0,0]
[0,0,0,0,0,0,0,0,0,0,0,0,0,0,0,0,0,0,0,0]
[0,0,0,0,0,0,0,0,0,0,0,0,0,0,0,0,0,0,0,0]
[0,0,0,0,0,0,0,0,0,0,0,0,0,0,0,0,0,0,0,0]
[0,0,0,0,0,0,0,0,0,0,0,0,0,0,0,0,0,0,0,0]
[0,0,0,0,0,0,0,0,0,0,0,0,0,0,0,0,0,0,0,0]
[0,0,0,0,0,0,0,0,0,0,0,0,0,0,0,0,0,0,0,0]
[0,0,0,0,0,0,0,0,0,0,0,0,0,0,0,0,0,0,0,0]
[0,0,0,0,0,0,0,0,0,0,0,0,0,0,0,0,0,0,0,0]
[0,0,0,0,0,0,0,0,0,0,0,0,0,0,0,0,0,0,0,0]
[0,0,0,0,0,0,0,0,0,0,0,0,0,0,0,0,0,0,0,0]
[0,0,0,0,0,0,0,0,0,0,0,0,0,0,0,0,0,0,0,0]
[0,0,0,0,0,0,0,0,0,0,0,0,0,0,0,0,0,0,0,0]
[0,0,0,0,0,0,0,0,0,0,0,0,0,0,0,0,0,0,0,0]
[0,0,0,0,0,0,0,0,0,0,0,0,0,0,0,0,0,0,0,0]
[0,0,0,0,0,0,0,0,0,0,0,0,0,0,0,0,0,0,0,0]
[0,0,0,0,0,0,0,0,0,0,0,0,0,0,0,0,0,0,0,0]
[0,0,0,0,0,0,0,0,0,0,0,0,0,0,0,0,0,0,0,0]
[0,0,0,0,0,0,0,0,0,0,0,0,0,0,0,0,0,0,0,0]
[0,0,0,0,0,0,0,0,0,0,0,0,0,0,0,0,0,0,0,0]
[0,0,0,0,0,0,0,0,0,0,0,0,0,0,0,0,0,0,0,0]
[0,0,0,0,0,0,0,0,0,0,0,0,0,0,0,0,0,0,0,0]
[0,0,0,0,0,0,0,0,0,0,0,0,0,0,0,0,0,0,0,0]
[0,0,0,0,0,0,0,0,0,0,0,0,0,0,0,0,0,0,0,0]
[0,0,0,0,0,0,0,0,0,0,0,0,0,0,0,0,0,0,0,0]
[0,0,0,0,0,0,0,0,0,0,0,0,0,0,0,0,0,0,0,0]
[0,0,0,0,0,0,0,0,0,0,0,0,0,0,0,0,0,0,0,0]
[0,0,0,0,0,0,0,0,0,0,0,0,0,0,0,0,0,0,0,0]
[0,0,0,0,0,0,0,0,0,0,0,0,0,0,0,0,0,0,0,0]
[0,0,0,0,0,0,0,0,0,0,0,0,0,0,0,0,0,0,0,0]
[0,0,0,0,0,0,0,0,0,0,0,0,0,0,0,0,0,0,0,0]
[0,0,0,0,0,0,0,0,0,0,0,0,0,0,0,0,0,0,0,0]
[0,0,0,0,0,0,0,0,0,0,0,0,0,0,0,0,0,0,0,0]
[0,0,0,0,0,0,0,0,0,0,0,0,0,0,0,0,0,0,0,0]
[0,0,0,0,0,0,0,0,0,0,0,0,0,0,0,0,0,0,0,0]
[0,0,0,0,0,0,0,0,0,0,0,0,0,0,0,0,0,0,0,0]
[0,0,0,0,0,0,0,0,0,0,0,0,0,0,0,0,0,0,0,0]
[0,0,0,0,0,0,0,0,0,0,0,0,0,0,0,0,0,0,0,0]
[0,0,0,0,0,0,0,0,0,0,0,0,0,0,0,0,0,0,0,0]
[0,0,0,0,0,0,0,0,0,0,0,0,0,0,0,0,0,0,0,0]
[0,0,0,0,0,0,0,0,0,0,0,0,0,0,0,0,0,0,0,0]
[0,0,0,0,0,0,0,0,0,0,0,0,0,0,0,0,0,0,0,0]
[0,0,0,0,0,0,0,0,0,0,0,0,0,0,0,0,0,0,0,0]
[0,0,0,0,0,0,0,0,0,0,0,0,0,0,0,0,0,0,0,0]
[0,0,0,0,0,0,0,0,0,0,0,0,0,0,0,0,0,0,0,0]
[0,0,0,0,0,0,0,0,0,0,0,0,0,0,0,0,0,0,0,0]
[0,0,0,0,0,0,0,0,0,0,0,0,0,0,0,0,0,0,0,0]
[0,0,0,0,0,0,0,0,0,0,0,0,0,0,0,0,0,0,0,0]
[0,0,0,0,0,0,0,0,0,0,0,0,0,0,0,0,0,0,0,0]
[0,0,0,0,0,0,0,0,0,0,0,0,0,0,0,0,0,0,0,0]
[0,0,0,0,0,0,0,0,0,0,0,0,0,0,0,0,0,0,0,0]
[0,0,0,0,0,0,0,0,0,0,0,0,0,0,0,0,0,0,0,0]
[0,0,0,0,0,0,0,0,0,0,0,0,0,0,0,0,0,0,0,0]
[0,0,0,0,0,0,0,0,0,0,0,0,0,0,0,0,0,0,0,0]
[0,0,0,0,0,0,0,0,0,0,0,0,0,0,0,0,0,0,0,0]
[0,0,0,0,0,0,0,0,0,0,0,0,0,0,0,0,0,0,0,0]
[0,0,0,0,0,0,0,0,0,0,0,0,0,0,0,0,0,0,0,0]
[0,0,0,0,0,0,0,0,0,0,0,0,0,0,0,0,0,0,0,0]
[0,0,0,0,0,0,0,0,0,0,0,0,0,0,0,0,0,0,0,0]
[0,0,0,0,0,0,0,0,0,0,0,0,0,0,0,0,0,0,0,0]
[0,0,0,0,0,0,0,0,0,0,0,0,0,0,0,0,0,0,0,0]
[0,0,0,0,0,0,0,0,0,0,0,0,0,0,0,0,0,0,0,0]
[0,0,0,0,0,0,0,0,0,0,0,0,0,0,0,0,0,0,0,0]
[0,0,0,0,0,0,0,0,0,0,0,0,0,0,0,0,0,0,0,0]
[0,0,0,0,0,0,0,0,0,0,0,0,0,0,0,0,0,0,0,0]
[0,0,0,0,0,0,0,0,0,0,0,0,0,0,0,0,0,0,0,0]
[0,0,0,0,0,0,0,0,0,0,0,0,0,0,0,0,0,0,0,0]
[0,0,0,0,0,0,0,0,0,0,0,0,0,0,0,0,0,0,0,0]
[0,0,0,0,0,0,0,0,0,0,0,0,0,0,0,0,0,0,0,0]
[0,0,0,0,0,0,0,0,0,0,0,0,0,0,0,0,0,0,0,0]
[0,0,0,0,0,0,0,0,0,0,0,0,0,0,0,0,0,0,0,0]
[0,0,0,0,0,0,0,0,0,0,0,0,0,0,0,0,0,0,0,0]
[0,0,0,0,0,0,0,0,0,0,0,0,0,0,0,0,0,0,0,0]
[0,0,0,0,0,0,0,0,0,0,0,0,0,0,0,0,0,0,0,0]
[0,0,0,0,0,0,0,0,0,0,0,0,0,0,0,0,0,0,0,0]
[0,0,0,0,0,0,0,0,0,0,0,0,0,0,0,0,0,0,0,0]
[0,0,0,0,0,0,0,0,0,0,0,0,0,0,0,0,0,0,0,0]
[0,0,0,0,0,0,0,0,0,0,0,0,0,0,0,0,0,0,0,0]
[0,0,0,0,0,0,0,0,0,0,0,0,0,0,0,0,0,0,0,0]
[0,0,0,0,0,0,0,0,0,0,0,0,0,0,0,0,0,0,0,0]
[0,0,0,0,0,0,0,0,0,0,0,0,0,0,0,0,0,0,0,0]
[0,0,0,0,0,0,0,0,0,0,0,0,0,0,0,0,0,0,0,0]
[0,0,0,0,0,0,0,0,0,0,0,0,0,0,0,0,0,0,0,0]
[0,0,0,0,0,0,0,0,0,0,0,0,0,0,0,0,0,0,0,0]
[0,0,0,0,0,0,0,0,0,0,0,0,0,0,0,0,0,0,0,0]
[0,0,0,0,0,0,0,0,0,0,0,0,0,0,0,0,0,0,0,0]
[0,0,0,0,0,0,0,0,0,0,0,0,0,0,0,0,0,0,0,0]
[0,0,0,0,0,0,0,0,0,0,0,0,0,0,0,0,0,0,0,0]
[0,0,0,0,0,0,0,0,0,0,0,0,0,0,0,0,0,0,0,0]
[0,0,0,0,0,0,0,0,0,0,0,0,0,0,0,0,0,0,0,0]
[0,0,0,0,0,0,0,0,0,0,0,0,0,0,0,0,0,0,0,0]
[0,0,0,0,0,0,0,0,0,0,0,0,0,0,0,0,0,0,0,0]
[0,0,0,0,0,0,0,0,0,0,0,0,0,0,0,0,0,0,0,0]
[0,0,0,0,0,0,0,0,0,0,0,0,0,0,0,0,0,0,0,0]
[0,0,0,0,0,0,0,0,0,0,0,0,0,0,0,0,0,0,0,0]
[0,0,0,0,0,0,0,0,0,0,0,0,0,0,0,0,0,0,0,0]
[0,0,0,0,0,0,0,0,0,0,0,0,0,0,0,0,0,0,0,0]
[0,0,0,0,0,0,0,0,0,0,0,0,0,0,0,0,0,0,0,0]
[0,0,0,0,0,0,0,0,0,0,0,0,0,0,0,0,0,0,0,0]
[0,0,0,0,0,0,0,0,0,0,0,0,0,0,0,0,0,0,0,0]
[0,0,0,0,0,0,0,0,0,0,0,0,0,0,0,0,0,0,0,0]
[0,0,0,0,0,0,0,0,0,0,0,0,0,0,0,0,0,0,0,0]
[0,0,0,0,0,0,0,0,0,0,0,0,0,0,0,0,0,0,0,0]
[0,0,0,0,0,0,0,0,0,0,0,0,0,0,0,0,0,0,0,0]
[0,0,0,0,0,0,0,0,0,0,0,0,0,0,0,0,0,0,0,0]
[0,0,0,0,0,0,0,0,0,0,0,0,0,0,0,0,0,0,0,0]
[0,0,0,0,0,0,0,0,0,0,0,0,0,0,0,0,0,0,0,0]
[0,0,0,0,0,0,0,0,0,0,0,0,0,0,0,0,0,0,0,0]
[0,0,0,0,0,0,0,0,0,0,0,0,0,0,0,0,0,0,0,0]
[0,0,0,0,0,0,0,0,0,0,0,0,0,0,0,0,0,0,0,0]
[0,0,0,0,0,0,0,0,0,0,0,0,0,0,0,0,0,0,0,0]
[0,0,0,0,0,0,0,0,0,0,0,0,0,0,0,0,0,0,0,0]
[0,0,0,0,0,0,0,0,0,0,0,0,0,0,0,0,0,0,0,0]
[0,0,0,0,0,0,0,0,0,0,0,0,0,0,0,0,0,0,0,0]
[0,0,0,0,0,0,0,0,0,0,0,0,0,0,0,0,0,0,0,0]
[0,0,0,0,0,0,0,0,0,0,0,0,0,0,0,0,0,0,0,0]
[0,0,0,0,0,0,0,0,0,0,0,0,0,0,0,0,0,0,0,0]
[0,0,0,0,0,0,0,0,0,0,0,0,0,0,0,0,0,0,0,0]
[0,0,0,0,0,0,0,0,0,0,0,0,0,0,0,0,0,0,0,0]
[0,0,0,0,0,0,0,0,0,0,0,0,0,0,0,0,0,0,0,0]
[0,0,0,0,0,0,0,0,0,0,0,0,0,0,0,0,0,0,0,0]
[0,0,0,0,0,0,0,0,0,0,0,0,0,0,0,0,0,0,0,0]
[0,0,0,0,0,0,0,0,0,0,0,0,0,0,0,0,0,0,0,0]
[0,0,0,0,0,0,0,0,0,0,0,0,0,0,0,0,0,0,0,0]
[0,0,0,0,0,0,0,0,0,0,0,0,0,0,0,0,0,0,0,0]
[0,0,0,0,0,0,0,0,0,0,0,0,0,0,0,0,0,0,0,0]
[0,0,0,0,0,0,0,0,0,0,0,0,0,0,0,0,0,0,0,0]
[0,0,0,0,0,0,0,0,0,0,0,0,0,0,0,0,0,0,0,0]
[0,0,0,0,0,0,0,0,0,0,0,0,0,0,0,0,0,0,0,0]
[0,0,0,0,0,0,0,0,0,0,0,0,0,0,0,0,0,0,0,0]
[0,0,0,0,0,0,0,0,0,0,0,0,0,0,0,0,0,0,0,0]
[0,0,0,0,0,0,0,0,0,0,0,0,0,0,0,0,0,0,0,0]
[0,0,0,0,0,0,0,0,0,0,0,0,0,0,0,0,0,0,0,0]
[0,0,0,0,0,0,0,0,0,0,0,0,0,0,0,0,0,0,0,0]
[0,0,0,0,0,0,0,0,0,0,0,0,0,0,0,0,0,0,0,0]
[0,0,0,0,0,0,0,0,0,0,0,0,0,0,0,0,0,0,0,0]
[0,0,0,0,0,0,0,0,0,0,0,0,0,0,0,0,0,0,0,0]
[0,0,0,0,0,0,0,0,0,0,0,0,0,0,0,0,0,0,0,0]
[0,0,0,0,0,0,0,0,0,0,0,0,0,0,0,0,0,0,0,0]
[0,0,0,0,0,0,0,0,0,0,0,0,0,0,0,0,0,0,0,0]
[0,0,0,0,0,0,0,0,0,0,0,0,0,0,0,0,0,0,0,0]
[0,0,0,0,0,0,0,0,0,0,0,0,0,0,0,0,0,0,0,0]
[0,0,0,0,0,0,0,0,0,0,0,0,0,0,0,0,0,0,0,0]
[0,0,0,0,0,0,0,0,0,0,0,0,0,0,0,0,0,0,0,0]
[0,0,0,0,0,0,0,0,0,0,0,0,0,0,0,0,0,0,0,0]
[0,0,0,0,0,0,0,0,0,0,0,0,0,0,0,0,0,0,0,0]
[0,0,0,0,0,0,0,0,0,0,0,0,0,0,0,0,0,0,0,0]
[0,0,0,0,0,0,0,0,0,0,0,0,0,0,0,0,0,0,0,0]
[0,0,0,0,0,0,0,0,0,0,0,0,0,0,0,0,0,0,0,0]
[0,0,0,0,0,0,0,0,0,0,0,0,0,0,0,0,0,0,0,0]
[0,0,0,0,0,0,0,0,0,0,0,0,0,0,0,0,0,0,0,0]
[0,0,0,0,0,0,0,0,0,0,0,0,0,0,0,0,0,0,0,0]
[0,0,0,0,0,0,0,0,0,0,0,0,0,0,0,0,0,0,0,0]
[0,0,0,0,0,0,0,0,0,0,0,0,0,0,0,0,0,0,0,0]
[0,0,0,0,0,0,0,0,0,0,0,0,0,0,0,0,0,0,0,0]
[0,0,0,0,0,0,0,0,0,0,0,0,0,0,0,0,0,0,0,0]
[0,0,0,0,0,0,0,0,0,0,0,0,0,0,0,0,0,0,0,0]
[0,0,0,0,0,0,0,0,0,0,0,0,0,0,0,0,0,0,0,0]
[0,0,0,0,0,0,0,0,0,0,0,0,0,0,0,0,0,0,0,0]
[0,0,0,0,0,0,0,0,0,0,0,0,0,0,0,0,0,0,0,0]
[0,0,0,0,0,0,0,0,0,0,0,0,0,0,0,0,0,0,0,0]
[0,0,0,0,0,0,0,0,0,0,0,0,0,0,0,0,0,0,0,0]
[0,0,0,0,0,0,0,0,0,0,0,0,0,0,0,0,0,0,0,0]
[0,0,0,0,0,0,0,0,0,0,0,0,0,0,0,0,0,0,0,0]
[0,0,0,0,0,0,0,0,0,0,0,0,0,0,0,0,0,0,0,0]
[0,0,0,0,0,0,0,0,0,0,0,0,0,0,0,0,0,0,0,0]
[0,0,0,0,0,0,0,0,0,0,0,0,0,0,0,0,0,0,0,0]
[0,0,0,0,0,0,0,0,0,0,0,0,0,0,0,0,0,0,0,0]
[0,0,0,0,0,0,0,0,0,0,0,0,0,0,0,0,0,0,0,0]
[0,0,0,0,0,0,0,0,0,0,0,0,0,0,0,0,0,0,0,0]
[0,0,0,0,0,0,0,0,0,0,0,0,0,0,0,0,0,0,0,0]
[0,0,0,0,0,0,0,0,0,0,0,0,0,0,0,0,0,0,0,0]
[0,0,0,0,0,0,0,0,0,0,0,0,0,0,0,0,0,0,0,0]
[0,0,0,0,0,0,0,0,0,0,0,0,0,0,0,0,0,0,0,0]
[0,0,0,0,0,0,0,0,0,0,0,0,0,0,0,0,0,0,0,0]
[0,0,0,0,0,0,0,0,0,0,0,0,0,0,0,0,0,0,0,0]
[0,0,0,0,0,0,0,0,0,0,0,0,0,0,0,0,0,0,0,0]
[0,0,0,0,0,0,0,0,0,0,0,0,0,0,0,0,0,0,0,0]
[0,0,0,0,0,0,0,0,0,0,0,0,0,0,0,0,0,0,0,0]
[0,0,0,0,0,0,0,0,0,0,0,0,0,0,0,0,0,0,0,0]
[0,0,0,0,0,0,0,0,0,0,0,0,0,0,0,0,0,0,0,0]
[0,0,0,0,0,0,0,0,0,0,0,0,0,0,0,0,0,0,0,0]
[0,0,0,0,0,0,0,0,0,0,0,0,0,0,0,0,0,0,0,0]
[0,0,0,0,0,0,0,0,0,0,0,0,0,0,0,0,0,0,0,0]
[0,0,0,0,0,0,0,0,0,0,0,0,0,0,0,0,0,0,0,0]
[0,0,0,0,0,0,0,0,0,0,0,0,0,0,0,0,0,0,0,0]
[0,0,0,0,0,0,0,0,0,0,0,0,0,0,0,0,0,0,0,0]
[0,0,0,0,0,0,0,0,0,0,0,0,0,0,0,0,0,0,0,0]
[0,0,0,0,0,0,0,0,0,0,0,0,0,0,0,0,0,0,0,0]
[0,0,0,0,0,0,0,0,0,0,0,0,0,0,0,0,0,0,0,0]
[0,0,0,0,0,0,0,0,0,0,0,0,0,0,0,0,0,0,0,0]
[0,0,0,0,0,0,0,0,0,0,0,0,0,0,0,0,0,0,0,0]
[0,0,0,0,0,0,0,0,0,0,0,0,0,0,0,0,0,0,0,0]
[0,0,0,0,0,0,0,0,0,0,0,0,0,0,0,0,0,0,0,0]
[0,0,0,0,0,0,0,0,0,0,0,0,0,0,0,0,0,0,0,0]
[0,0,0,0,0,0,0,0,0,0,0,0,0,0,0,0,0,0,0,0]
[0,0,0,0,0,0,0,0,0,0,0,0,0,0,0,0,0,0,0,0]
[0,0,0,0,0,0,0,0,0,0,0,0,0,0,0,0,0,0,0,0]
[0,0,0,0,0,0,0,0,0,0,0,0,0,0,0,0,0,0,0,0]
[0,0,0,0,0,0,0,0,0,0,0,0,0,0,0,0,0,0,0,0]
[0,0,0,0,0,0,0,0,0,0,0,0,0,0,0,0,0,0,0,0]
[0,0,0,0,0,0,0,0,0,0,0,0,0,0,0,0,0,0,0,0]
[0,0,0,0,0,0,0,0,0,0,0,0,0,0,0,0,0,0,0,0]
[0,0,0,0,0,0,0,0,0,0,0,0,0,0,0,0,0,0,0,0]
[0,0,0,0,0,0,0,0,0,0,0,0,0,0,0,0,0,0,0,0]
[0,0,0,0,0,0,0,0,0,0,0,0,0,0,0,0,0,0,0,0]
[0,0,0,0,0,0,0,0,0,0,0,0,0,0,0,0,0,0,0,0]
[0,0,0,0,0,0,0,0,0,0,0,0,0,0,0,0,0,0,0,0]
[0,0,0,0,0,0,0,0,0,0,0,0,0,0,0,0,0,0,0,0]
[0,0,0,0,0,0,0,0,0,0,0,0,0,0,0,0,0,0,0,0]